{"text_format":"1","workbook":"xlsx","n_sheets":7,"sheets":["User Guide","Simulator","Data","Calculations","25C SPD","PPF calc","Sheet1"],"not_rendered":{"charts":0,"images":11,"macros":1,"external_links":2,"defined_names":28,"comments":1,"pivot_tables":0},"unopened":[],"bounds":{"document_bytes":16777216,"sheet_cells":100000,"rows_first":2000,"rows_last":500,"rows_between":2000,"halvings":0,"cell_chars":16384,"cell_head_chars":4096},"cells_cut":0,"cells_raw":0,"read":"whole","date_system":"1900"}

{"sheet":"User Guide","index":0,"n_rows":108,"n_cols":4,"rows_kept":108,"cut":false,"hidden":false,"merged":[[82,2,82,10],[89,2,89,10],[105,2,105,10],[107,2,107,10],[98,2,98,10],[60,2,60,9],[7,2,7,10],[23,2,23,10],[30,2,30,9],[52,2,52,10],[59,3,59,10]]}
[]
[]
[null,null,"Bridgelux® Product Simulator"]
[null,null,"User Guide"]
[]
[null,null,"What does it do?"]
[]
[null,null,"Use this tool to select the most suitable Bridgelux® LED Array for an application. You can choose the array based on either the DRIVE CURRENT you want to use or the LUMEN OUTPUT you require."]
[]
[null,null,"What products are supported?"]
[]
[null,null,"This tool will help you select Bridgelux® Gen. 7 Vero® Series, V Series™ and V Series™ HD arrays."]
[]
[null,null,"How do I use the Product Simulator?"]
[]
[null,null,"1.     Enter basic information about your application in Section 1 of the Simulator"]
[null,null,"·         Select the required CCT and CRI from the drop down menu:"]
[null,null,"·         Enter the operating Case Temperature in degrees Celsius:"]
[]
[]
[]
[]
[]
[null,null,"2.     If you are designing to a fixed DRIVE CURRENT go to Section 2 and enter the required drive"]
[null,null,null,"current"]
[]
[]
[]
[]
[]
[null,null,"·         The Simulator will show product options for Gen. 7 Vero, V Series "]
[null,null,null,"                and HD Series products."]
[]
[]
[]
[]
[]
[]
[]
[]
[]
[]
[]
[]
[]
[]
[]
[]
[]
[]
[]
[]
[null,null,"3.     If you are designing to meet a required LUMEN target, use Section 3 of the Simulator and "]
[null,null,null,"enter required lumen value:"]
[]
[]
[]
[]
[]
[null,null,"·         The Simulator will show product options and required drive currents for Gen. 7 Vero and V Series products"]
[null,null,"·         The Simulator will show product options for Gen. 7 Vero, V Series "]
[null,null,null,"             and V Series HD products."]
[]
[]
[]
[]
[]
[]
[]
[]
[]
[]
[]
[]
[]
[]
[]
[]
[]
[]
[]
[]
[null,null,"Note: typical lumen tested under pulsed condition (10ms pulse width) at nominal test current where Tj (junction temperature) = Tc (case temperature) = 25°C"]
[]
[]
[null,null,"How do I read the Part Number?"]
[]
[null,null,"For product nomenclature refer to product datasheets."]
[]
[null,null,"As an example, the part number designation for Bridgelux Gen. 7 Vero LED arrays is explained as follows:"]
[]
[null,null,"BXRC – AB C DEFG – H – IJ"]
[]
[null,null,"Where:"]
[]
[null,null,"BXRC – Designates product family"]
[null,null,"AB – Designates the nominal color temperature; 27 = 2700K, 30 = 3000K, etc."]
[null,null,"C – Designates minimum CRI; H = 97 typical"]
[null,null,"DEFG – Designates nominal flux; 2000 = 2,000lm, 4000 = 4,000 lm, 10K0 = 10,000 lm, etc."]
[null,null,"H – Designates array configuration"]
[null,null,"IJ – Designates CCT Bin options"]
[null,null,null,"72 = 2 SDCM"]
[null,null,null,"73 = 3 SDCM"]
[]
[null,null,"Disclaimer"]
[null,null,"Please note that the Product Simulator is solely intended to help ease your selection of Bridgelux LED array products based upon your selection of attribute options for each of the criteria provided in the Product Simulator. The Product Simulator is NOT intended as a design tool for luminaire or fixture products nor intended for the selection of LED array products to be used as a component in a particular luminaire or fixture application. Bridgelux disclaims all liability for the results of any product selection through the use of the Product Simulator."]
[]
[null,null,"1.       Calculated values in the Product Simulator are measured under stabilized direct current conditions to more accurately represent the COB performance in a typical fixture application. Please refer to the appropriate COB Datasheet and Product Selection Guide for pulsed measurement specifications."]

{"sheet":"Simulator","index":1,"n_rows":124,"n_cols":21,"rows_kept":124,"cut":false,"hidden":false,"merged":[[122,3,122,19],[0,3,2,13],[15,22,15,25],[69,22,69,25],[5,8,5,10],[7,8,7,10],[66,3,66,19]]}
[null,null,null,"Bridgelux Product Simulator"]
[null,null,null,null,null,null,null,null,null,null,null,null,null,null,null,null,null,null,null,null,"Rev 14"]
[null,null,null,null,null,null,null,null,null,null,null,null,null,null,null,null,null,null,null,null,44196]
[null,null,null,"Enter color and temperature values:",null,null,null,null,null,null,null,null,null,null,null,null,null,null,null,null,"Section 1"]
[]
[null,null,null,null,null,null,null,"Color Temperature and CRI:","3000K, 80 CRI",null,null,{"$f":"IFERROR(INDEX(CCT_CRI32354[],MATCH(I6,CCT_CRI32354[CCT/CRI],0),2),\"-\")","v":"30E"}]
[]
[null,null,null,null,null,null,null,"Case Temperature (°C):",25]
[]
[null,null,null,"Case"]
[]
[]
[null,null,null,"Lumen Output at Required Drive Current",null,null,null,null,null,null,null,null,null,"Section 2"]
[null,null,null,"Calculate lumens for selected drive current",null,null,null,null,null,null,null,null,"ENTER DRIVE CURRENT in mA:",240]
[null,null,null,"V Series HD, Gen 7 V Series, Gen 7 Vero Series"]
[null,null,null,"Product","Part Number","Config","Max Drive\nCurrent\n(mA)","Nominal\n Current\n (mA)","Drive\nCurrent\n(mA)","Voltage\n(V)","Power\n(W)",{"$f":"\"Lumen DC @ \n\"&$D$10&\" = \"&$I$8&\"°C\"","v":"Lumen DC @ \nCase = 25°C"},{"$f":"\"Min. Lumen DC @ \n\"&$D$10&\" = \"&$I$8&\"°C\"","v":"Min. Lumen DC @ \nCase = 25°C"},{"$f":"\"Efficacy DC @ \n\"&$D$10&\" = \"&$I$8&\"°C\"","v":"Efficacy DC @ \nCase = 25°C"},"Nominal Pulsed Lumens @ Case=25°C","Nominal Pulsed Efficacy @ Case=25°C",{"$f":"\"Tj\"&\"\n \"\n&\"(°C)\"","v":"Tj\n (°C)"},"umol/s/lm","PPF (umol/s)","Photon efficiency (umol/J)"]
[{"$f":"D17&\"-\"&F17&\"-\"&L$6","v":"V6-AF-30E"},null,null,"V6",{"$f":"IFERROR(INDEX(MasterTable[],MATCH(A17,MasterTable[PF+CR],0),7),\"-\")","v":"-"},"AF",{"$f":"IFERROR(INDEX(MasterTable[],MATCH(A17,MasterTable[PF+CR],0),COLUMN(MasterTable[Max Current])),\"-\")","v":"-"},{"$f":"IFERROR(INDEX(MasterTable[],MATCH(Simulator!E17,MasterTable[P/N],0),COLUMN(MasterTable[Typical Current])),\"-\")","v":"-"},{"$f":"IF(E17=\"-\",\"-\",(IF(G17<N$14,\"-\",N$14)))","v":"-"},{"$f":"IFERROR(IF(I17,Calculations!AX6,\"-\"),\"-\")","v":"-"},{"$f":"IFERROR(I17*J17/1000,\"-\")","v":"-"},{"$f":"IF(AND(Simulator!$I$8=25,Simulator!$N$14=Simulator!H17),O17,IFERROR(MROUND(IF(I17=$N$14,Calculations!AD6,\"-\"),1),\"-\"))","v":"-"},null,{"$f":"IFERROR(L17/K17,\"-\")","v":"-"},{"$f":"IFERROR(INDEX(MasterTable[],MATCH(Simulator!E17,MasterTable[P/N],0),COLUMN(MasterTable[Typical Lumens])),\"-\")","v":"-"},{"$f":"IFERROR(INDEX(MasterTable[],MATCH(Simulator!E17,MasterTable[P/N],0),COLUMN(MasterTable[Typical Efficacy])),\"-\")","v":"-"},{"$f":"IFERROR(IF(I17,Calculations!F6,\"-\"),\"-\")","v":"-"}]
["V6-BC-30E",null,null,"V6",{"$f":"IFERROR(INDEX(MasterTable[],MATCH(A18,MasterTable[PF+CR],0),7),\"-\")","v":"-"},"BC",{"$f":"IFERROR(INDEX(MasterTable[],MATCH(A18,MasterTable[PF+CR],0),COLUMN(MasterTable[Max Current])),\"-\")","v":"-"},{"$f":"IFERROR(INDEX(MasterTable[],MATCH(Simulator!E18,MasterTable[P/N],0),COLUMN(MasterTable[Typical Current])),\"-\")","v":"-"},"-",{"$f":"IFERROR(IF(I18,Calculations!AX7,\"-\"),\"-\")","v":"-"},"-",{"$f":"IF(AND(Simulator!$I$8=25,Simulator!$N$14=Simulator!H18),O18,IFERROR(MROUND(IF(I18=$N$14,Calculations!AD7,\"-\"),1),\"-\"))","v":"-"},null,"-",{"$f":"IFERROR(INDEX(MasterTable[],MATCH(Simulator!E18,MasterTable[P/N],0),COLUMN(MasterTable[Typical Lumens])),\"-\")","v":"-"},{"$f":"IFERROR(INDEX(MasterTable[],MATCH(Simulator!E18,MasterTable[P/N],0),COLUMN(MasterTable[Typical Efficacy])),\"-\")","v":"-"},{"$f":"IFERROR(IF(I18,Calculations!F7,\"-\"),\"-\")","v":"-"}]
["V8-AH-30E",null,null,"V8",{"$f":"IFERROR(INDEX(MasterTable[],MATCH(A19,MasterTable[PF+CR],0),7),\"-\")","v":"-"},"AH",{"$f":"IFERROR(INDEX(MasterTable[],MATCH(A19,MasterTable[PF+CR],0),COLUMN(MasterTable[Max Current])),\"-\")","v":"-"},{"$f":"IFERROR(INDEX(MasterTable[],MATCH(Simulator!E19,MasterTable[P/N],0),COLUMN(MasterTable[Typical Current])),\"-\")","v":"-"},"-",{"$f":"IFERROR(IF(I19,Calculations!AX8,\"-\"),\"-\")","v":"-"},"-",{"$f":"IF(AND(Simulator!$I$8=25,Simulator!$N$14=Simulator!H19),O19,IFERROR(MROUND(IF(I19=$N$14,Calculations!AD8,\"-\"),1),\"-\"))","v":"-"},null,"-",{"$f":"IFERROR(INDEX(MasterTable[],MATCH(Simulator!E19,MasterTable[P/N],0),COLUMN(MasterTable[Typical Lumens])),\"-\")","v":"-"},{"$f":"IFERROR(INDEX(MasterTable[],MATCH(Simulator!E19,MasterTable[P/N],0),COLUMN(MasterTable[Typical Efficacy])),\"-\")","v":"-"},{"$f":"IFERROR(IF(I19,Calculations!F8,\"-\"),\"-\")","v":"-"}]
["V8-AL-30E",null,null,"V8",{"$f":"IFERROR(INDEX(MasterTable[],MATCH(A20,MasterTable[PF+CR],0),7),\"-\")","v":"-"},"AL",{"$f":"IFERROR(INDEX(MasterTable[],MATCH(A20,MasterTable[PF+CR],0),COLUMN(MasterTable[Max Current])),\"-\")","v":"-"},{"$f":"IFERROR(INDEX(MasterTable[],MATCH(Simulator!E20,MasterTable[P/N],0),COLUMN(MasterTable[Typical Current])),\"-\")","v":"-"},"-",{"$f":"IFERROR(IF(I20,Calculations!AX9,\"-\"),\"-\")","v":"-"},"-",{"$f":"IF(AND(Simulator!$I$8=25,Simulator!$N$14=Simulator!H20),O20,IFERROR(MROUND(IF(I20=$N$14,Calculations!AD9,\"-\"),1),\"-\"))","v":"-"},null,"-",{"$f":"IFERROR(INDEX(MasterTable[],MATCH(Simulator!E20,MasterTable[P/N],0),COLUMN(MasterTable[Typical Lumens])),\"-\")","v":"-"},{"$f":"IFERROR(INDEX(MasterTable[],MATCH(Simulator!E20,MasterTable[P/N],0),COLUMN(MasterTable[Typical Efficacy])),\"-\")","v":"-"},{"$f":"IFERROR(IF(I20,Calculations!F9,\"-\"),\"-\")","v":"-"}]
["V8-BF-30E",null,null,"V8",{"$f":"IFERROR(INDEX(MasterTable[],MATCH(A21,MasterTable[PF+CR],0),7),\"-\")","v":"-"},"BF",{"$f":"IFERROR(INDEX(MasterTable[],MATCH(A21,MasterTable[PF+CR],0),COLUMN(MasterTable[Max Current])),\"-\")","v":"-"},{"$f":"IFERROR(INDEX(MasterTable[],MATCH(Simulator!E21,MasterTable[P/N],0),COLUMN(MasterTable[Typical Current])),\"-\")","v":"-"},"-",{"$f":"IFERROR(IF(I21,Calculations!AX10,\"-\"),\"-\")","v":"-"},"-",{"$f":"IF(AND(Simulator!$I$8=25,Simulator!$N$14=Simulator!H21),O21,IFERROR(MROUND(IF(I21=$N$14,Calculations!AD10,\"-\"),1),\"-\"))","v":"-"},null,"-",{"$f":"IFERROR(INDEX(MasterTable[],MATCH(Simulator!E21,MasterTable[P/N],0),COLUMN(MasterTable[Typical Lumens])),\"-\")","v":"-"},{"$f":"IFERROR(INDEX(MasterTable[],MATCH(Simulator!E21,MasterTable[P/N],0),COLUMN(MasterTable[Typical Efficacy])),\"-\")","v":"-"},{"$f":"IFERROR(IF(I21,Calculations!F10,\"-\"),\"-\")","v":"-"}]
["V10-BI-30E",null,null,"V10",{"$f":"IFERROR(INDEX(MasterTable[],MATCH(A22,MasterTable[PF+CR],0),7),\"-\")","v":"-"},"BI",{"$f":"IFERROR(INDEX(MasterTable[],MATCH(A22,MasterTable[PF+CR],0),COLUMN(MasterTable[Max Current])),\"-\")","v":"-"},{"$f":"IFERROR(INDEX(MasterTable[],MATCH(Simulator!E22,MasterTable[P/N],0),COLUMN(MasterTable[Typical Current])),\"-\")","v":"-"},"-",{"$f":"IFERROR(IF(I22,Calculations!AX11,\"-\"),\"-\")","v":"-"},"-",{"$f":"IF(AND(Simulator!$I$8=25,Simulator!$N$14=Simulator!H22),O22,IFERROR(MROUND(IF(I22=$N$14,Calculations!AD11,\"-\"),1),\"-\"))","v":"-"},null,"-",{"$f":"IFERROR(INDEX(MasterTable[],MATCH(Simulator!E22,MasterTable[P/N],0),COLUMN(MasterTable[Typical Lumens])),\"-\")","v":"-"},{"$f":"IFERROR(INDEX(MasterTable[],MATCH(Simulator!E22,MasterTable[P/N],0),COLUMN(MasterTable[Typical Efficacy])),\"-\")","v":"-"},{"$f":"IFERROR(IF(I22,Calculations!F11,\"-\"),\"-\")","v":"-"}]
["V13-C-30E",null,null,"V13",{"$f":"IFERROR(INDEX(MasterTable[],MATCH(A23,MasterTable[PF+CR],0),7),\"-\")","v":"-"},"C",{"$f":"IFERROR(INDEX(MasterTable[],MATCH(A23,MasterTable[PF+CR],0),COLUMN(MasterTable[Max Current])),\"-\")","v":"-"},{"$f":"IFERROR(INDEX(MasterTable[],MATCH(Simulator!E23,MasterTable[P/N],0),COLUMN(MasterTable[Typical Current])),\"-\")","v":"-"},"-",{"$f":"IFERROR(IF(I23,Calculations!AX12,\"-\"),\"-\")","v":"-"},"-",{"$f":"IF(AND(Simulator!$I$8=25,Simulator!$N$14=Simulator!H23),O23,IFERROR(MROUND(IF(I23=$N$14,Calculations!AD12,\"-\"),1),\"-\"))","v":"-"},null,"-",{"$f":"IFERROR(INDEX(MasterTable[],MATCH(Simulator!E23,MasterTable[P/N],0),COLUMN(MasterTable[Typical Lumens])),\"-\")","v":"-"},{"$f":"IFERROR(INDEX(MasterTable[],MATCH(Simulator!E23,MasterTable[P/N],0),COLUMN(MasterTable[Typical Efficacy])),\"-\")","v":"-"},{"$f":"IFERROR(IF(I23,Calculations!F12,\"-\"),\"-\")","v":"-"}]
["V15-DL-30E",null,null,"V15",{"$f":"IFERROR(INDEX(MasterTable[],MATCH(A24,MasterTable[PF+CR],0),7),\"-\")","v":"-"},"DL",{"$f":"IFERROR(INDEX(MasterTable[],MATCH(A24,MasterTable[PF+CR],0),COLUMN(MasterTable[Max Current])),\"-\")","v":"-"},{"$f":"IFERROR(INDEX(MasterTable[],MATCH(Simulator!E24,MasterTable[P/N],0),COLUMN(MasterTable[Typical Current])),\"-\")","v":"-"},"-",{"$f":"IFERROR(IF(I24,Calculations!AX13,\"-\"),\"-\")","v":"-"},"-",{"$f":"IF(AND(Simulator!$I$8=25,Simulator!$N$14=Simulator!H24),O24,IFERROR(MROUND(IF(I24=$N$14,Calculations!AD13,\"-\"),1),\"-\"))","v":"-"},null,"-",{"$f":"IFERROR(INDEX(MasterTable[],MATCH(Simulator!E24,MasterTable[P/N],0),COLUMN(MasterTable[Typical Lumens])),\"-\")","v":"-"},{"$f":"IFERROR(INDEX(MasterTable[],MATCH(Simulator!E24,MasterTable[P/N],0),COLUMN(MasterTable[Typical Efficacy])),\"-\")","v":"-"},{"$f":"IFERROR(IF(I24,Calculations!F13,\"-\"),\"-\")","v":"-"}]
["V18-F-30E",null,null,"V18",{"$f":"IFERROR(INDEX(MasterTable[],MATCH(A25,MasterTable[PF+CR],0),7),\"-\")","v":"-"},"F",{"$f":"IFERROR(INDEX(MasterTable[],MATCH(A25,MasterTable[PF+CR],0),COLUMN(MasterTable[Max Current])),\"-\")","v":"-"},{"$f":"IFERROR(INDEX(MasterTable[],MATCH(Simulator!E25,MasterTable[P/N],0),COLUMN(MasterTable[Typical Current])),\"-\")","v":"-"},"-",{"$f":"IFERROR(IF(I25,Calculations!AX14,\"-\"),\"-\")","v":"-"},"-",{"$f":"IF(AND(Simulator!$I$8=25,Simulator!$N$14=Simulator!H25),O25,IFERROR(MROUND(IF(I25=$N$14,Calculations!AD14,\"-\"),1),\"-\"))","v":"-"},null,"-",{"$f":"IFERROR(INDEX(MasterTable[],MATCH(Simulator!E25,MasterTable[P/N],0),COLUMN(MasterTable[Typical Lumens])),\"-\")","v":"-"},{"$f":"IFERROR(INDEX(MasterTable[],MATCH(Simulator!E25,MasterTable[P/N],0),COLUMN(MasterTable[Typical Efficacy])),\"-\")","v":"-"},{"$f":"IFERROR(IF(I25,Calculations!F14,\"-\"),\"-\")","v":"-"}]
["V22-G-30E",null,null,"V22",{"$f":"IFERROR(INDEX(MasterTable[],MATCH(A26,MasterTable[PF+CR],0),7),\"-\")","v":"-"},"G",{"$f":"IFERROR(INDEX(MasterTable[],MATCH(A26,MasterTable[PF+CR],0),COLUMN(MasterTable[Max Current])),\"-\")","v":"-"},{"$f":"IFERROR(INDEX(MasterTable[],MATCH(Simulator!E26,MasterTable[P/N],0),COLUMN(MasterTable[Typical Current])),\"-\")","v":"-"},"-",{"$f":"IFERROR(IF(I26,Calculations!AX15,\"-\"),\"-\")","v":"-"},"-",{"$f":"IF(AND(Simulator!$I$8=25,Simulator!$N$14=Simulator!H26),O26,IFERROR(MROUND(IF(I26=$N$14,Calculations!AD15,\"-\"),1),\"-\"))","v":"-"},null,"-",{"$f":"IFERROR(INDEX(MasterTable[],MATCH(Simulator!E26,MasterTable[P/N],0),COLUMN(MasterTable[Typical Lumens])),\"-\")","v":"-"},{"$f":"IFERROR(INDEX(MasterTable[],MATCH(Simulator!E26,MasterTable[P/N],0),COLUMN(MasterTable[Typical Efficacy])),\"-\")","v":"-"},{"$f":"IFERROR(IF(I26,Calculations!F15,\"-\"),\"-\")","v":"-"}]
[]
[{"$f":"D28&C28&\"-\"&L$6&F28","v":"Vero 10-30EB"},null,null,"Vero 10",{"$f":"IFERROR(INDEX(MasterTable[],MATCH(A28,MasterTable[PF+CR],0),7),\"-\")","v":"-"},"B",{"$f":"IFERROR(INDEX(MasterTable[],MATCH(A28,MasterTable[PF+CR],0),COLUMN(MasterTable[Max Current])),\"-\")","v":"-"},{"$f":"IFERROR(INDEX(MasterTable[],MATCH(Simulator!E28,MasterTable[P/N],0),COLUMN(MasterTable[Typical Current])),\"-\")","v":"-"},{"$f":"IF(E28=\"-\",\"-\",(IF(G28<N$14,\"-\",N$14)))","v":"-"},{"$f":"IFERROR(IF(I28,Calculations!AX20,\"-\"),\"-\")","v":"-"},{"$f":"IFERROR(I28*J28/1000,\"-\")","v":"-"},{"$f":"IF(AND(Simulator!$I$8=25,Simulator!$N$14=Simulator!H28),O28,IFERROR(MROUND(IF(I28=$N$14,Calculations!AD20,\"-\"),1),\"-\"))","v":"-"},null,{"$f":"IFERROR(L28/K28,\"-\")","v":"-"},{"$f":"IFERROR(INDEX(MasterTable[],MATCH(Simulator!E28,MasterTable[P/N],0),COLUMN(MasterTable[Typical Lumens])),\"-\")","v":"-"},{"$f":"IFERROR(INDEX(MasterTable[],MATCH(Simulator!E28,MasterTable[P/N],0),COLUMN(MasterTable[Typical Efficacy])),\"-\")","v":"-"},{"$f":"IFERROR(IF(I28,Calculations!F20,\"-\"),\"-\")","v":"-"}]
[{"$f":"D29&C29&\"-\"&L$6&F29","v":"Vero 13-30EC"},null,null,"Vero 13",{"$f":"IFERROR(INDEX(MasterTable[],MATCH(A29,MasterTable[PF+CR],0),7),\"-\")","v":"-"},"C",{"$f":"IFERROR(INDEX(MasterTable[],MATCH(A29,MasterTable[PF+CR],0),COLUMN(MasterTable[Max Current])),\"-\")","v":"-"},{"$f":"IFERROR(INDEX(MasterTable[],MATCH(Simulator!E29,MasterTable[P/N],0),COLUMN(MasterTable[Typical Current])),\"-\")","v":"-"},"-",{"$f":"IFERROR(IF(I29,Calculations!AX21,\"-\"),\"-\")","v":"-"},"-",{"$f":"IF(AND(Simulator!$I$8=25,Simulator!$N$14=Simulator!H29),O29,IFERROR(MROUND(IF(I29=$N$14,Calculations!AD21,\"-\"),1),\"-\"))","v":"-"},null,"-",{"$f":"IFERROR(INDEX(MasterTable[],MATCH(Simulator!E29,MasterTable[P/N],0),COLUMN(MasterTable[Typical Lumens])),\"-\")","v":"-"},{"$f":"IFERROR(INDEX(MasterTable[],MATCH(Simulator!E29,MasterTable[P/N],0),COLUMN(MasterTable[Typical Efficacy])),\"-\")","v":"-"},{"$f":"IFERROR(IF(I29,Calculations!F21,\"-\"),\"-\")","v":"-"}]
[{"$f":"D30&C30&\"-\"&L$6&F30","v":"Vero 18-30EF"},null,null,"Vero 18",{"$f":"IFERROR(INDEX(MasterTable[],MATCH(A30,MasterTable[PF+CR],0),7),\"-\")","v":"-"},"F",{"$f":"IFERROR(INDEX(MasterTable[],MATCH(A30,MasterTable[PF+CR],0),COLUMN(MasterTable[Max Current])),\"-\")","v":"-"},{"$f":"IFERROR(INDEX(MasterTable[],MATCH(Simulator!E30,MasterTable[P/N],0),COLUMN(MasterTable[Typical Current])),\"-\")","v":"-"},"-",{"$f":"IFERROR(IF(I30,Calculations!AX22,\"-\"),\"-\")","v":"-"},"-",{"$f":"IF(AND(Simulator!$I$8=25,Simulator!$N$14=Simulator!H30),O30,IFERROR(MROUND(IF(I30=$N$14,Calculations!AD22,\"-\"),1),\"-\"))","v":"-"},null,"-",{"$f":"IFERROR(INDEX(MasterTable[],MATCH(Simulator!E30,MasterTable[P/N],0),COLUMN(MasterTable[Typical Lumens])),\"-\")","v":"-"},{"$f":"IFERROR(INDEX(MasterTable[],MATCH(Simulator!E30,MasterTable[P/N],0),COLUMN(MasterTable[Typical Efficacy])),\"-\")","v":"-"},{"$f":"IFERROR(IF(I30,Calculations!F22,\"-\"),\"-\")","v":"-"}]
[{"$f":"D31&C31&\"-\"&L$6&F31","v":"Vero 29-30EL"},null,null,"Vero 29",{"$f":"IFERROR(INDEX(MasterTable[],MATCH(A31,MasterTable[PF+CR],0),7),\"-\")","v":"-"},"L",{"$f":"IFERROR(INDEX(MasterTable[],MATCH(A31,MasterTable[PF+CR],0),COLUMN(MasterTable[Max Current])),\"-\")","v":"-"},{"$f":"IFERROR(INDEX(MasterTable[],MATCH(Simulator!E31,MasterTable[P/N],0),COLUMN(MasterTable[Typical Current])),\"-\")","v":"-"},"-",{"$f":"IFERROR(IF(I31,Calculations!AX23,\"-\"),\"-\")","v":"-"},"-",{"$f":"IF(AND(Simulator!$I$8=25,Simulator!$N$14=Simulator!H31),O31,IFERROR(MROUND(IF(I31=$N$14,Calculations!AD23,\"-\"),1),\"-\"))","v":"-"},null,"-",{"$f":"IFERROR(INDEX(MasterTable[],MATCH(Simulator!E31,MasterTable[P/N],0),COLUMN(MasterTable[Typical Lumens])),\"-\")","v":"-"},{"$f":"IFERROR(INDEX(MasterTable[],MATCH(Simulator!E31,MasterTable[P/N],0),COLUMN(MasterTable[Typical Efficacy])),\"-\")","v":"-"},{"$f":"IFERROR(IF(I31,Calculations!F23,\"-\"),\"-\")","v":"-"}]
[null,null,null,null,{"$f":"IFERROR(INDEX([2]!MasterTable[#Data],MATCH(A32,[2]!MasterTable[PF+CR],0),7),\"-\")","v":"-"},null,{"$f":"IFERROR(INDEX([2]!MasterTable[#Data],MATCH(A32,[2]!MasterTable[PF+CR],0),COLUMN([2]!MasterTable[Max Current])),\"-\")","v":"-"},{"$f":"IFERROR(INDEX([2]!MasterTable[#Data],MATCH([2]Simulator!E30,[2]!MasterTable[P/N],0),COLUMN([2]!MasterTable[Typical Current])),\"-\")","v":"-"},"-",{"$f":"IFERROR(IF(I32,[2]Calculations!AX24,\"-\"),\"-\")","v":"-"},"-",{"$f":"IFERROR(MROUND(IF(I32=$N$14,[2]Calculations!AD24,\"-\"),5),\"-\")","v":"-"},null,"-",{"$f":"IFERROR(INDEX([2]!MasterTable[#Data],MATCH([2]Simulator!E30,[2]!MasterTable[P/N],0),COLUMN([2]!MasterTable[Typical Lumens])),\"-\")","v":"-"}]
[{"$f":"D33&C33&\"-\"&L$6&F33","v":"H6-30EC"},null,null,"H6",{"$f":"IFERROR(INDEX(MasterTable[],MATCH(A33,MasterTable[PF+CR],0),7),\"-\")","v":"-"},"C",{"$f":"IFERROR(INDEX(MasterTable[],MATCH(A33,MasterTable[PF+CR],0),COLUMN(MasterTable[Max Current])),\"-\")","v":"-"},{"$f":"IFERROR(INDEX(MasterTable[],MATCH(Simulator!E33,MasterTable[P/N],0),COLUMN(MasterTable[Typical Current])),\"-\")","v":"-"},"-",{"$f":"IFERROR(IF(I33,Calculations!AX28,\"-\"),\"-\")","v":"-"},"-",{"$f":"IF(AND(Simulator!$I$8=25,Simulator!$N$14=Simulator!H33),O33,IFERROR(MROUND(IF(I33=$N$14,Calculations!AD28,\"-\"),1),\"-\"))","v":"-"},{"$f":"IFERROR(MROUND(IF(I33=$N$14,L33*0.86,\"-\"),1),\"-\")","v":"-"},"-",{"$f":"IFERROR(INDEX(MasterTable[],MATCH(Simulator!E33,MasterTable[P/N],0),COLUMN(MasterTable[Typical Lumens])),\"-\")","v":"-"},{"$f":"IFERROR(INDEX(MasterTable[],MATCH(Simulator!E33,MasterTable[P/N],0),COLUMN(MasterTable[Typical Efficacy])),\"-\")","v":"-"},{"$f":"IFERROR(IF(I33,Calculations!F28,\"-\"),\"-\")","v":"-"},"-","-","-"]
[{"$f":"D34&C34&\"-\"&L$6&F34","v":"H9-30ED"},null,null,"H9",{"$f":"IFERROR(INDEX(MasterTable[],MATCH(A34,MasterTable[PF+CR],0),7),\"-\")","v":"-"},"D",{"$f":"IFERROR(INDEX(MasterTable[],MATCH(A34,MasterTable[PF+CR],0),COLUMN(MasterTable[Max Current])),\"-\")","v":"-"},{"$f":"IFERROR(INDEX(MasterTable[],MATCH(Simulator!E34,MasterTable[P/N],0),COLUMN(MasterTable[Typical Current])),\"-\")","v":"-"},"-",{"$f":"IFERROR(IF(I34,Calculations!AX29,\"-\"),\"-\")","v":"-"},"-",{"$f":"IF(AND(Simulator!$I$8=25,Simulator!$N$14=Simulator!H34),O34,IFERROR(MROUND(IF(I34=$N$14,Calculations!AD29,\"-\"),1),\"-\"))","v":"-"},{"$f":"IFERROR(MROUND(IF(I34=$N$14,L34*0.86,\"-\"),1),\"-\")","v":"-"},"-",{"$f":"IFERROR(INDEX(MasterTable[],MATCH(Simulator!E34,MasterTable[P/N],0),COLUMN(MasterTable[Typical Lumens])),\"-\")","v":"-"},{"$f":"IFERROR(INDEX(MasterTable[],MATCH(Simulator!E34,MasterTable[P/N],0),COLUMN(MasterTable[Typical Efficacy])),\"-\")","v":"-"},{"$f":"IFERROR(IF(I34,Calculations!F29,\"-\"),\"-\")","v":"-"},"-","-","-"]
[{"$f":"D35&C35&\"-\"&L$6&F35","v":"H12-30EG"},null,null,"H12",{"$f":"IFERROR(INDEX(MasterTable[],MATCH(A35,MasterTable[PF+CR],0),7),\"-\")","v":"-"},"G",{"$f":"IFERROR(INDEX(MasterTable[],MATCH(A35,MasterTable[PF+CR],0),COLUMN(MasterTable[Max Current])),\"-\")","v":"-"},{"$f":"IFERROR(INDEX(MasterTable[],MATCH(Simulator!E35,MasterTable[P/N],0),COLUMN(MasterTable[Typical Current])),\"-\")","v":"-"},"-",{"$f":"IFERROR(IF(I35,Calculations!AX30,\"-\"),\"-\")","v":"-"},"-",{"$f":"IF(AND(Simulator!$I$8=25,Simulator!$N$14=Simulator!H35),O35,IFERROR(MROUND(IF(I35=$N$14,Calculations!AD30,\"-\"),1),\"-\"))","v":"-"},{"$f":"IFERROR(MROUND(IF(I35=$N$14,L35*0.86,\"-\"),1),\"-\")","v":"-"},"-",{"$f":"IFERROR(INDEX(MasterTable[],MATCH(Simulator!E35,MasterTable[P/N],0),COLUMN(MasterTable[Typical Lumens])),\"-\")","v":"-"},{"$f":"IFERROR(INDEX(MasterTable[],MATCH(Simulator!E35,MasterTable[P/N],0),COLUMN(MasterTable[Typical Efficacy])),\"-\")","v":"-"},{"$f":"IFERROR(IF(I35,Calculations!F30,\"-\"),\"-\")","v":"-"},"-","-","-"]
[{"$f":"D36&C36&\"-\"&L$6&F36","v":"H15-30EJ"},null,null,"H15",{"$f":"IFERROR(INDEX(MasterTable[],MATCH(A36,MasterTable[PF+CR],0),7),\"-\")","v":"-"},"J",{"$f":"IFERROR(INDEX(MasterTable[],MATCH(A36,MasterTable[PF+CR],0),COLUMN(MasterTable[Max Current])),\"-\")","v":"-"},{"$f":"IFERROR(INDEX(MasterTable[],MATCH(Simulator!E36,MasterTable[P/N],0),COLUMN(MasterTable[Typical Current])),\"-\")","v":"-"},"-",{"$f":"IFERROR(IF(I36,Calculations!AX31,\"-\"),\"-\")","v":"-"},"-",{"$f":"IF(AND(Simulator!$I$8=25,Simulator!$N$14=Simulator!H36),O36,IFERROR(MROUND(IF(I36=$N$14,Calculations!AD31,\"-\"),1),\"-\"))","v":"-"},{"$f":"IFERROR(MROUND(IF(I36=$N$14,L36*0.86,\"-\"),1),\"-\")","v":"-"},"-",{"$f":"IFERROR(INDEX(MasterTable[],MATCH(Simulator!E36,MasterTable[P/N],0),COLUMN(MasterTable[Typical Lumens])),\"-\")","v":"-"},{"$f":"IFERROR(INDEX(MasterTable[],MATCH(Simulator!E36,MasterTable[P/N],0),COLUMN(MasterTable[Typical Efficacy])),\"-\")","v":"-"},{"$f":"IFERROR(IF(I36,Calculations!F31,\"-\"),\"-\")","v":"-"},"-","-","-"]
[]
[{"$f":"D38&C38&\"-\"&L$6&F38","v":"V4 HD-30EA"},null,null,"V4 HD",{"$f":"IFERROR(INDEX(MasterTable[],MATCH(A38,MasterTable[PF+CR],0),7),\"-\")","v":"BXRH-30E0600-A-xx"},"A",{"$f":"IFERROR(INDEX(MasterTable[],MATCH(A38,MasterTable[PF+CR],0),COLUMN(MasterTable[Max Current])),\"-\")","v":240},{"$f":"IFERROR(INDEX(MasterTable[],MATCH(Simulator!E38,MasterTable[P/N],0),COLUMN(MasterTable[Typical Current])),\"-\")","v":175},{"$f":"IF(E38=\"-\",\"-\",(IF(G38<N$14,\"-\",N$14)))","v":240},{"$f":"IFERROR(IF(I38,Calculations!AX36,\"-\"),\"-\")","v":37.567625350899995},{"$f":"IFERROR(I38*J38/1000,\"-\")","v":9.0162300842159979},{"$f":"IFERROR(MROUND(IF(I38=$N$14,Calculations!AD36,\"-\"),1),\"-\")","v":990},{"$f":"IFERROR(MROUND(IF(I38=$N$14,L38*0.88,\"-\"),1),\"-\")","v":871},{"$f":"IFERROR(L38/K38,\"-\")","v":109.80198938502188},{"$f":"IFERROR(INDEX(MasterTable[],MATCH(Simulator!E38,MasterTable[P/N],0),COLUMN(MasterTable[Typical Lumens])),\"-\")","v":765},{"$f":"IFERROR(INDEX(MasterTable[],MATCH(Simulator!E38,MasterTable[P/N],0),COLUMN(MasterTable[Typical Efficacy])),\"-\")","v":120.09419152276296},{"$f":"IFERROR(IF(I38,Calculations!F36,\"-\"),\"-\")","v":31.491685660635518},{"$f":"IFERROR('PPF calc'!$J$8,\"-\")","v":1.4265561937857494E-2},{"$f":"IFERROR(R38*L38,\"-\")","v":14.12290631847892},{"$f":"IFERROR(S38/K38,\"-\")","v":1.566387080472001}]
[{"$f":"D39&C39&\"-\"&L$6&F39","v":"V6 HD-30EB"},null,null,"V6 HD",{"$f":"IFERROR(INDEX(MasterTable[],MATCH(A39,MasterTable[PF+CR],0),7),\"-\")","v":"BXRH-30E1000-B-xx"},"B",{"$f":"IFERROR(INDEX(MasterTable[],MATCH(A39,MasterTable[PF+CR],0),COLUMN(MasterTable[Max Current])),\"-\")","v":480},{"$f":"IFERROR(INDEX(MasterTable[],MATCH(Simulator!E39,MasterTable[P/N],0),COLUMN(MasterTable[Typical Current])),\"-\")","v":350},{"$f":"IF(E39=\"-\",\"-\",(IF(G39<N$14,\"-\",N$14)))","v":240},{"$f":"IFERROR(IF(I39,Calculations!AX37,\"-\"),\"-\")","v":35.876103711900008},{"$f":"IFERROR(I39*J39/1000,\"-\")","v":8.6102648908560031},{"$f":"IFERROR(MROUND(IF(I39=$N$14,Calculations!AD37,\"-\"),1),\"-\")","v":1126},{"$f":"IFERROR(MROUND(IF(I39=$N$14,L39*0.88,\"-\"),1),\"-\")","v":991},{"$f":"IFERROR(L39/K39,\"-\")","v":130.77414159415679},{"$f":"IFERROR(INDEX(MasterTable[],MATCH(Simulator!E39,MasterTable[P/N],0),COLUMN(MasterTable[Typical Lumens])),\"-\")","v":1587},{"$f":"IFERROR(INDEX(MasterTable[],MATCH(Simulator!E39,MasterTable[P/N],0),COLUMN(MasterTable[Typical Efficacy])),\"-\")","v":124.56828885400314},{"$f":"IFERROR(IF(I39,Calculations!F37,\"-\"),\"-\")","v":28.099695360708161},{"$f":"IFERROR('PPF calc'!$J$8,\"-\")","v":1.4265561937857494E-2},{"$f":"IFERROR(R39*L39,\"-\")","v":16.063022742027538},{"$f":"IFERROR(S39/K39,\"-\")","v":1.8655666167815899}]
[{"$f":"D40&C40&\"-\"&L$6&F40","v":"V9 HD-30ED"},null,null,"V9 HD",{"$f":"IFERROR(INDEX(MasterTable[],MATCH(A40,MasterTable[PF+CR],0),7),\"-\")","v":"BXRH-30E3000-D-xx"},"D",{"$f":"IFERROR(INDEX(MasterTable[],MATCH(A40,MasterTable[PF+CR],0),COLUMN(MasterTable[Max Current])),\"-\")","v":960},{"$f":"IFERROR(INDEX(MasterTable[],MATCH(Simulator!E40,MasterTable[P/N],0),COLUMN(MasterTable[Typical Current])),\"-\")","v":700},{"$f":"IF(E40=\"-\",\"-\",(IF(G40<N$14,\"-\",N$14)))","v":240},{"$f":"IFERROR(IF(I40,Calculations!AX38,\"-\"),\"-\")","v":33.5741266944},{"$f":"IFERROR(I40*J40/1000,\"-\")","v":8.0577904066560002},{"$f":"IFERROR(MROUND(IF(I40=$N$14,Calculations!AD38,\"-\"),1),\"-\")","v":1255},{"$f":"IFERROR(MROUND(IF(I40=$N$14,L40*0.88,\"-\"),1),\"-\")","v":1104},{"$f":"IFERROR(L40/K40,\"-\")","v":155.7498937876727},{"$f":"IFERROR(INDEX(MasterTable[],MATCH(Simulator!E40,MasterTable[P/N],0),COLUMN(MasterTable[Typical Lumens])),\"-\")","v":3417},{"$f":"IFERROR(INDEX(MasterTable[],MATCH(Simulator!E40,MasterTable[P/N],0),COLUMN(MasterTable[Typical Efficacy])),\"-\")","v":134.10518053375196},{"$f":"IFERROR(IF(I40,Calculations!F38,\"-\"),\"-\")","v":26.45040227319808},{"$f":"IFERROR('PPF calc'!$J$8,\"-\")","v":1.4265561937857494E-2},{"$f":"IFERROR(R40*L40,\"-\")","v":17.903280232011156},{"$f":"IFERROR(S40/K40,\"-\")","v":2.2218597566427709}]
[]
[{"$f":"D42&C42&\"-\"&L$6&F42","v":"V8-D-30ED"},null,null,"V8-D",{"$f":"IFERROR(INDEX(MasterTable[],MATCH(A42,MasterTable[PF+CR],0),7),\"-\")","v":"BXRE-30E0800-D-xx"},"D",{"$f":"IFERROR(INDEX(MasterTable[],MATCH(A42,MasterTable[PF+CR],0),COLUMN(MasterTable[Max Current])),\"-\")","v":700},{"$f":"IFERROR(INDEX(MasterTable[],MATCH(Simulator!E42,MasterTable[P/N],0),COLUMN(MasterTable[Typical Current])),\"-\")","v":350},{"$f":"IF(E42=\"-\",\"-\",(IF(G42<N$14,\"-\",N$14)))","v":240},{"$f":"IFERROR(IF(I42,Calculations!AX44,\"-\"),\"-\")","v":16.887100479199997},{"$f":"IFERROR(I42*J42/1000,\"-\")","v":4.0529041150079994},{"$f":"IFERROR(MROUND(IF(I42=$N$14,Calculations!AD44,\"-\"),1),\"-\")","v":698},{"$f":"IFERROR(MROUND(IF(I42=$N$14,L42*0.88,\"-\"),1),\"-\")","v":614},{"$f":"IFERROR(L42/K42,\"-\")","v":172.22218443690528},{"$f":"IFERROR(INDEX(MasterTable[],MATCH(Simulator!E42,MasterTable[P/N],0),COLUMN(MasterTable[Typical Lumens])),\"-\")","v":999},{"$f":"IFERROR(INDEX(MasterTable[],MATCH(Simulator!E42,MasterTable[P/N],0),COLUMN(MasterTable[Typical Efficacy])),\"-\")","v":164.98761354252684},{"$f":"IFERROR(IF(I42,Calculations!F44,\"-\"),\"-\")","v":26.985923016353919},{"$f":"IFERROR('PPF calc'!$J$8,\"-\")","v":1.4265561937857494E-2},{"$f":"IFERROR(R42*L42,\"-\")","v":9.957362232624531},{"$f":"IFERROR(S42/K42,\"-\")","v":2.4568462391577892}]
["V8-E-30EE",null,null,"V8-E",{"$f":"IFERROR(INDEX(MasterTable[],MATCH(A43,MasterTable[PF+CR],0),7),\"-\")","v":"BXRE-30E0800-E-xx"},"E",{"$f":"IFERROR(INDEX(MasterTable[],MATCH(A43,MasterTable[PF+CR],0),COLUMN(MasterTable[Max Current])),\"-\")","v":350},{"$f":"IFERROR(INDEX(MasterTable[],MATCH(Simulator!E43,MasterTable[P/N],0),COLUMN(MasterTable[Typical Current])),\"-\")","v":175},240,{"$f":"IFERROR(IF(I43,Calculations!AX45,\"-\"),\"-\")","v":35.325099047899997},{"$f":"IFERROR(I43*J43/1000,\"-\")","v":8.4780237714959981},{"$f":"IFERROR(MROUND(IF(I43=$N$14,Calculations!AD45,\"-\"),1),\"-\")","v":1340},{"$f":"IFERROR(MROUND(IF(I43=$N$14,L43*0.88,\"-\"),1),\"-\")","v":1179},{"$f":"IFERROR(L43/K43,\"-\")","v":158.05570214431575},{"$f":"IFERROR(INDEX(MasterTable[],MATCH(Simulator!E43,MasterTable[P/N],0),COLUMN(MasterTable[Typical Lumens])),\"-\")","v":1002},{"$f":"IFERROR(INDEX(MasterTable[],MATCH(Simulator!E43,MasterTable[P/N],0),COLUMN(MasterTable[Typical Efficacy])),\"-\")","v":165.00617538081514},{"$f":"IFERROR(IF(I43,Calculations!F45,\"-\"),\"-\")","v":29.15423164803304},{"$f":"IFERROR('PPF calc'!$J$8,\"-\")","v":1.4265561937857494E-2},19.115852996729043,2.2547534085712919]
["V10-B-30EB",null,null,"V10-B",{"$f":"IFERROR(INDEX(MasterTable[],MATCH(A44,MasterTable[PF+CR],0),7),\"-\")","v":"BXRE-30E1000-B-xx"},"B",{"$f":"IFERROR(INDEX(MasterTable[],MATCH(A44,MasterTable[PF+CR],0),COLUMN(MasterTable[Max Current])),\"-\")","v":540},{"$f":"IFERROR(INDEX(MasterTable[],MATCH(Simulator!E44,MasterTable[P/N],0),COLUMN(MasterTable[Typical Current])),\"-\")","v":270},240,{"$f":"IFERROR(IF(I44,Calculations!AX46,\"-\"),\"-\")","v":34.572457370000009},{"$f":"IFERROR(I44*J44/1000,\"-\")","v":8.2973897688000022},{"$f":"IFERROR(MROUND(IF(I44=$N$14,Calculations!AD46,\"-\"),1),\"-\")","v":1402},{"$f":"IFERROR(MROUND(IF(I44=$N$14,L44*0.88,\"-\"),1),\"-\")","v":1234},{"$f":"IFERROR(L44/K44,\"-\")","v":168.9688009199985},{"$f":"IFERROR(INDEX(MasterTable[],MATCH(Simulator!E44,MasterTable[P/N],0),COLUMN(MasterTable[Typical Lumens])),\"-\")","v":1549},{"$f":"IFERROR(INDEX(MasterTable[],MATCH(Simulator!E44,MasterTable[P/N],0),COLUMN(MasterTable[Typical Efficacy])),\"-\")","v":164.85738612175393},{"$f":"IFERROR(IF(I44,Calculations!F46,\"-\"),\"-\")","v":29.071944029038601},{"$f":"IFERROR('PPF calc'!$J$8,\"-\")","v":1.4265561937857494E-2},20.000317836876206,2.4104348950897512]
["V10-C-30EC",null,null,"V10-C",{"$f":"IFERROR(INDEX(MasterTable[],MATCH(A45,MasterTable[PF+CR],0),7),\"-\")","v":"BXRE-30E1000-C-xx"},"C",{"$f":"IFERROR(INDEX(MasterTable[],MATCH(A45,MasterTable[PF+CR],0),COLUMN(MasterTable[Max Current])),\"-\")","v":720},{"$f":"IFERROR(INDEX(MasterTable[],MATCH(Simulator!E45,MasterTable[P/N],0),COLUMN(MasterTable[Typical Current])),\"-\")","v":360},240,{"$f":"IFERROR(IF(I45,Calculations!AX47,\"-\"),\"-\")","v":33.83120000000001},{"$f":"IFERROR(I45*J45/1000,\"-\")","v":8.1194880000000023},{"$f":"IFERROR(MROUND(IF(I45=$N$14,Calculations!AD47,\"-\"),1),\"-\")","v":1427},{"$f":"IFERROR(MROUND(IF(I45=$N$14,L45*0.88,\"-\"),1),\"-\")","v":1256},{"$f":"IFERROR(L45/K45,\"-\")","v":175.74999802943236},{"$f":"IFERROR(INDEX(MasterTable[],MATCH(Simulator!E45,MasterTable[P/N],0),COLUMN(MasterTable[Typical Lumens])),\"-\")","v":2066},{"$f":"IFERROR(INDEX(MasterTable[],MATCH(Simulator!E45,MasterTable[P/N],0),COLUMN(MasterTable[Typical Efficacy])),\"-\")","v":164.91060025542785},{"$f":"IFERROR(IF(I45,Calculations!F47,\"-\"),\"-\")","v":28.0071877056},{"$f":"IFERROR('PPF calc'!$J$8,\"-\")","v":1.4265561937857494E-2},20.356956885322646,2.5071724824671997]
["V13-B-30EB",null,null,"V13-B",{"$f":"IFERROR(INDEX(MasterTable[],MATCH(A46,MasterTable[PF+CR],0),7),\"-\")","v":"BXRE-30E2000-B-xx"},"B",{"$f":"IFERROR(INDEX(MasterTable[],MATCH(A46,MasterTable[PF+CR],0),COLUMN(MasterTable[Max Current])),\"-\")","v":900},{"$f":"IFERROR(INDEX(MasterTable[],MATCH(Simulator!E46,MasterTable[P/N],0),COLUMN(MasterTable[Typical Current])),\"-\")","v":450},240,{"$f":"IFERROR(IF(I46,Calculations!AX48,\"-\"),\"-\")","v":33.278800000000004},7.9869120000000011,{"$f":"IFERROR(MROUND(IF(I46=$N$14,Calculations!AD48,\"-\"),1),\"-\")","v":1485},{"$f":"IFERROR(MROUND(IF(I46=$N$14,L46*0.9,\"-\"),1),\"-\")","v":1337},185.9291801387069,{"$f":"IFERROR(INDEX(MasterTable[],MATCH(Simulator!E46,MasterTable[P/N],0),COLUMN(MasterTable[Typical Lumens])),\"-\")","v":2658.375},{"$f":"IFERROR(INDEX(MasterTable[],MATCH(Simulator!E46,MasterTable[P/N],0),COLUMN(MasterTable[Typical Efficacy])),\"-\")","v":169.7557471264368},{"$f":"IFERROR(IF(I46,Calculations!F48,\"-\"),\"-\")","v":27.239263894400001},{"$f":"IFERROR('PPF calc'!$J$8,\"-\")","v":1.4265561937857494E-2},21.184359477718377,2.6523842353237863]
["V13-C-30EC",null,null,"V13-C",{"$f":"IFERROR(INDEX(MasterTable[],MATCH(A47,MasterTable[PF+CR],0),7),\"-\")","v":"BXRE-30E2000-C-xx"},"C",{"$f":"IFERROR(INDEX(MasterTable[],MATCH(A47,MasterTable[PF+CR],0),COLUMN(MasterTable[Max Current])),\"-\")","v":1260},{"$f":"IFERROR(INDEX(MasterTable[],MATCH(Simulator!E47,MasterTable[P/N],0),COLUMN(MasterTable[Typical Current])),\"-\")","v":630},240,{"$f":"IFERROR(IF(I47,Calculations!AX49,\"-\"),\"-\")","v":32.766159999999999},7.8638783999999999,{"$f":"IFERROR(MROUND(IF(I47=$N$14,Calculations!AD49,\"-\"),1),\"-\")","v":1500},1350,190.74557409229521,{"$f":"IFERROR(INDEX(MasterTable[],MATCH(Simulator!E47,MasterTable[P/N],0),COLUMN(MasterTable[Typical Lumens])),\"-\")","v":3721.7249999999999},{"$f":"IFERROR(INDEX(MasterTable[],MATCH(Simulator!E47,MasterTable[P/N],0),COLUMN(MasterTable[Typical Efficacy])),\"-\")","v":169.75574712643677},{"$f":"IFERROR(IF(I47,Calculations!F49,\"-\"),\"-\")","v":26.562814767359999},{"$f":"IFERROR('PPF calc'!$J$8,\"-\")","v":1.4265561937857494E-2},21.39834290678624,2.7210928015858231]
["V18-B-30EB",null,null,"V18-B",{"$f":"IFERROR(INDEX(MasterTable[],MATCH(A48,MasterTable[PF+CR],0),7),\"-\")","v":"BXRE-30E4000-B-xx"},"B",{"$f":"IFERROR(INDEX(MasterTable[],MATCH(A48,MasterTable[PF+CR],0),COLUMN(MasterTable[Max Current])),\"-\")","v":1800},{"$f":"IFERROR(INDEX(MasterTable[],MATCH(Simulator!E48,MasterTable[P/N],0),COLUMN(MasterTable[Typical Current])),\"-\")","v":900},240,{"$f":"IFERROR(IF(I48,Calculations!AX50,\"-\"),\"-\")","v":32.557834534700007},7.8138802883280016,{"$f":"IFERROR(MROUND(IF(I48=$N$14,Calculations!AD50,\"-\"),1),\"-\")","v":1523},1371,194.90956398128907,{"$f":"IFERROR(INDEX(MasterTable[],MATCH(Simulator!E48,MasterTable[P/N],0),COLUMN(MasterTable[Typical Lumens])),\"-\")","v":5324.4},{"$f":"IFERROR(INDEX(MasterTable[],MATCH(Simulator!E48,MasterTable[P/N],0),COLUMN(MasterTable[Typical Efficacy])),\"-\")","v":170},{"$f":"IFERROR(IF(I48,Calculations!F50,\"-\"),\"-\")","v":26.207504967222953},{"$f":"IFERROR('PPF calc'!$J$8,\"-\")","v":1.4265561937857494E-2},21.726450831356964,2.7804944572558772]
["V18-C-30EC",null,null,"V18-C",{"$f":"IFERROR(INDEX(MasterTable[],MATCH(A49,MasterTable[PF+CR],0),7),\"-\")","v":"BXRE-30E4000-C-xx"},"C",{"$f":"IFERROR(INDEX(MasterTable[],MATCH(A49,MasterTable[PF+CR],0),COLUMN(MasterTable[Max Current])),\"-\")","v":2340},{"$f":"IFERROR(INDEX(MasterTable[],MATCH(Simulator!E49,MasterTable[P/N],0),COLUMN(MasterTable[Typical Current])),\"-\")","v":1170},240,{"$f":"IFERROR(IF(I49,Calculations!AX51,\"-\"),\"-\")","v":32.148719999999997},7.7156927999999985,{"$f":"IFERROR(MROUND(IF(I49=$N$14,Calculations!AD51,\"-\"),1),\"-\")","v":1503},1353,194.7978022142095,{"$f":"IFERROR(INDEX(MasterTable[],MATCH(Simulator!E49,MasterTable[P/N],0),COLUMN(MasterTable[Typical Lumens])),\"-\")","v":6921.72},{"$f":"IFERROR(INDEX(MasterTable[],MATCH(Simulator!E49,MasterTable[P/N],0),COLUMN(MasterTable[Typical Efficacy])),\"-\")","v":170},{"$f":"IFERROR(IF(I49,Calculations!F51,\"-\"),\"-\")","v":25.86467197312},{"$f":"IFERROR('PPF calc'!$J$8,\"-\")","v":1.4265561937857494E-2},21.441139592599814,2.7789001128453195]
["V22-B-30EB",null,null,"V22-B",{"$f":"IFERROR(INDEX(MasterTable[],MATCH(A50,MasterTable[PF+CR],0),7),\"-\")","v":"BXRE-30E6500-B-xx"},"B",{"$f":"IFERROR(INDEX(MasterTable[],MATCH(A50,MasterTable[PF+CR],0),COLUMN(MasterTable[Max Current])),\"-\")","v":2340},{"$f":"IFERROR(INDEX(MasterTable[],MATCH(Simulator!E50,MasterTable[P/N],0),COLUMN(MasterTable[Typical Current])),\"-\")","v":1170},240,{"$f":"IFERROR(IF(I50,Calculations!AX52,\"-\"),\"-\")","v":47.7769354351},11.466464504424,{"$f":"IFERROR(MROUND(IF(I50=$N$14,Calculations!AD52,\"-\"),1),\"-\")","v":2339},2105,203.9861545027733,{"$f":"IFERROR(INDEX(MasterTable[],MATCH(Simulator!E50,MasterTable[P/N],0),COLUMN(MasterTable[Typical Lumens])),\"-\")","v":10342.800000000001},{"$f":"IFERROR(INDEX(MasterTable[],MATCH(Simulator!E50,MasterTable[P/N],0),COLUMN(MasterTable[Typical Efficacy])),\"-\")","v":170},{"$f":"IFERROR(IF(I50,Calculations!F52,\"-\"),\"-\")","v":25.802652515309681},{"$f":"IFERROR('PPF calc'!$J$8,\"-\")","v":1.4265561937857494E-2},33.367149372648676,2.9099771215246806]
["V22-C-30EC",null,null,"V22-C",{"$f":"IFERROR(INDEX(MasterTable[],MATCH(A51,MasterTable[PF+CR],0),7),\"-\")","v":"BXRE-30E6500-C-xx"},"C",{"$f":"IFERROR(INDEX(MasterTable[],MATCH(A51,MasterTable[PF+CR],0),COLUMN(MasterTable[Max Current])),\"-\")","v":2880},{"$f":"IFERROR(INDEX(MasterTable[],MATCH(Simulator!E51,MasterTable[P/N],0),COLUMN(MasterTable[Typical Current])),\"-\")","v":1440},240,{"$f":"IFERROR(IF(I51,Calculations!AX53,\"-\"),\"-\")","v":47.855720000002691},11.485372800000645,{"$f":"IFERROR(MROUND(IF(I51=$N$14,Calculations!AD53,\"-\"),1),\"-\")","v":2501},2251,217.7552303743993,{"$f":"IFERROR(INDEX(MasterTable[],MATCH(Simulator!E51,MasterTable[P/N],0),COLUMN(MasterTable[Typical Lumens])),\"-\")","v":12729.599999999999},{"$f":"IFERROR(INDEX(MasterTable[],MATCH(Simulator!E51,MasterTable[P/N],0),COLUMN(MasterTable[Typical Efficacy])),\"-\")","v":170},{"$f":"IFERROR(IF(I51,Calculations!F53,\"-\"),\"-\")","v":25.734681013440042},{"$f":"IFERROR('PPF calc'!$J$8,\"-\")","v":1.4265561937857494E-2},35.678170406581593,3.1064007261984208]
["V22-D-30ED",null,null,"V22-D",{"$f":"IFERROR(INDEX(MasterTable[],MATCH(A52,MasterTable[PF+CR],0),7),\"-\")","v":"BXRE-30E6500-D-xx"},"D",{"$f":"IFERROR(INDEX(MasterTable[],MATCH(A52,MasterTable[PF+CR],0),COLUMN(MasterTable[Max Current])),\"-\")","v":2800},{"$f":"IFERROR(INDEX(MasterTable[],MATCH(Simulator!E52,MasterTable[P/N],0),COLUMN(MasterTable[Typical Current])),\"-\")","v":1400},240,{"$f":"IFERROR(IF(I52,Calculations!AX54,\"-\"),\"-\")","v":30.613767323999994},{"$f":"IFERROR(I52*J52/1000,\"-\")","v":7.3473041577599991},{"$f":"IFERROR(MROUND(IF(I52=$N$14,Calculations!AD54,\"-\"),1),\"-\")","v":1501},1351,{"$f":"IFERROR(L52/K52,\"-\")","v":204.29261777800357},{"$f":"IFERROR(INDEX(MasterTable[],MATCH(Simulator!E52,MasterTable[P/N],0),COLUMN(MasterTable[Typical Lumens])),\"-\")","v":8330},{"$f":"IFERROR(INDEX(MasterTable[],MATCH(Simulator!E52,MasterTable[P/N],0),COLUMN(MasterTable[Typical Efficacy])),\"-\")","v":170.97701149425291},{"$f":"IFERROR(IF(I52,Calculations!F54,\"-\"),\"-\")","v":25.5143112910432},{"$f":"IFERROR('PPF calc'!$J$8,\"-\")","v":1.4265561937857494E-2},21.412608468724098,2.914348992359157]
[]
[{"$f":"D54&C54&\"-\"&L$6&F54","v":"Vero 10-B-30EB"},null,null,"Vero 10-B",{"$f":"IFERROR(INDEX(MasterTable[],MATCH(A54,MasterTable[PF+CR],0),7),\"-\")","v":"BXRC-30E1000-B-xx"},"B",{"$f":"IFERROR(INDEX(MasterTable[],MATCH(A54,MasterTable[PF+CR],0),COLUMN(MasterTable[Max Current])),\"-\")","v":540},{"$f":"IFERROR(INDEX(MasterTable[],MATCH(Simulator!E54,MasterTable[P/N],0),COLUMN(MasterTable[Typical Current])),\"-\")","v":270},{"$f":"IF(E54=\"-\",\"-\",(IF(G54<N$14,\"-\",N$14)))","v":240},{"$f":"IFERROR(IF(I54,Calculations!AX55,\"-\"),\"-\")","v":34.58},{"$f":"IFERROR(I54*J54/1000,\"-\")","v":8.299199999999999},{"$f":"IFERROR(MROUND(IF(I54=$N$14,Calculations!AD55,\"-\"),1),\"-\")","v":1402},{"$f":"IFERROR(MROUND(IF(I54=$N$14,L54*0.88,\"-\"),1),\"-\")","v":1234},{"$f":"IFERROR(L54/K54,\"-\")","v":168.93194524773475},{"$f":"IFERROR(INDEX(MasterTable[],MATCH(Simulator!E54,MasterTable[P/N],0),COLUMN(MasterTable[Typical Lumens])),\"-\")","v":1549},{"$f":"IFERROR(INDEX(MasterTable[],MATCH(Simulator!E54,MasterTable[P/N],0),COLUMN(MasterTable[Typical Efficacy])),\"-\")","v":164.85738612175393},{"$f":"IFERROR(IF(I54,Calculations!F55,\"-\"),\"-\")","v":29.072832399999999},{"$f":"IFERROR('PPF calc'!$J$8,\"-\")","v":1.4265561937857494E-2},{"$f":"IFERROR(R54*L54,\"-\")","v":20.000317836876206},{"$f":"IFERROR(S54/K54,\"-\")","v":2.409909128214311}]
["Vero 10-C-30EC",null,null,"Vero 10-C",{"$f":"IFERROR(INDEX(MasterTable[],MATCH(A55,MasterTable[PF+CR],0),7),\"-\")","v":"BXRC-30E1000-C-xx"},"C",{"$f":"IFERROR(INDEX(MasterTable[],MATCH(A55,MasterTable[PF+CR],0),COLUMN(MasterTable[Max Current])),\"-\")","v":720},{"$f":"IFERROR(INDEX(MasterTable[],MATCH(Simulator!E55,MasterTable[P/N],0),COLUMN(MasterTable[Typical Current])),\"-\")","v":360},240,{"$f":"IFERROR(IF(I55,Calculations!AX56,\"-\"),\"-\")","v":33.83120000000001},{"$f":"IFERROR(I55*J55/1000,\"-\")","v":8.1194880000000023},{"$f":"IFERROR(MROUND(IF(I55=$N$14,Calculations!AD56,\"-\"),1),\"-\")","v":1427},{"$f":"IFERROR(MROUND(IF(I55=$N$14,L55*0.88,\"-\"),1),\"-\")","v":1256},{"$f":"IFERROR(L55/K55,\"-\")","v":175.74999802943236},{"$f":"IFERROR(INDEX(MasterTable[],MATCH(Simulator!E55,MasterTable[P/N],0),COLUMN(MasterTable[Typical Lumens])),\"-\")","v":2066},{"$f":"IFERROR(INDEX(MasterTable[],MATCH(Simulator!E55,MasterTable[P/N],0),COLUMN(MasterTable[Typical Efficacy])),\"-\")","v":164.91060025542785},{"$f":"IFERROR(IF(I55,Calculations!F56,\"-\"),\"-\")","v":28.0071877056},{"$f":"IFERROR('PPF calc'!$J$8,\"-\")","v":1.4265561937857494E-2},20.356956885322646,2.5071724824671997]
["Vero 10-D-30ED",null,null,"Vero 10-D",{"$f":"IFERROR(INDEX(MasterTable[],MATCH(A56,MasterTable[PF+CR],0),7),\"-\")","v":"BXRC-30E1000-D-xx"},"D",{"$f":"IFERROR(INDEX(MasterTable[],MATCH(A56,MasterTable[PF+CR],0),COLUMN(MasterTable[Max Current])),\"-\")","v":700},{"$f":"IFERROR(INDEX(MasterTable[],MATCH(Simulator!E56,MasterTable[P/N],0),COLUMN(MasterTable[Typical Current])),\"-\")","v":350},240,{"$f":"IFERROR(IF(I56,Calculations!AX57,\"-\"),\"-\")","v":25.283025867500001},{"$f":"IFERROR(I56*J56/1000,\"-\")","v":6.0679262082000003},{"$f":"IFERROR(MROUND(IF(I56=$N$14,Calculations!AD57,\"-\"),1),\"-\")","v":1068},{"$f":"IFERROR(MROUND(IF(I56=$N$14,L56*0.88,\"-\"),1),\"-\")","v":940},176.00741395911163,{"$f":"IFERROR(INDEX(MasterTable[],MATCH(Simulator!E56,MasterTable[P/N],0),COLUMN(MasterTable[Typical Lumens])),\"-\")","v":1501},{"$f":"IFERROR(INDEX(MasterTable[],MATCH(Simulator!E56,MasterTable[P/N],0),COLUMN(MasterTable[Typical Efficacy])),\"-\")","v":164.94505494505495},{"$f":"IFERROR(IF(I56,Calculations!F57,\"-\"),\"-\")","v":27.977834786674151},{"$f":"IFERROR('PPF calc'!$J$8,\"-\")","v":1.4265561937857494E-2},15.235620149631805,2.510844665355831]
["Vero 13-B-30EB",null,null,"Vero 13-B",{"$f":"IFERROR(INDEX(MasterTable[],MATCH(A57,MasterTable[PF+CR],0),7),\"-\")","v":"BXRC-30E2000-B-xx"},"B",{"$f":"IFERROR(INDEX(MasterTable[],MATCH(A57,MasterTable[PF+CR],0),COLUMN(MasterTable[Max Current])),\"-\")","v":900},{"$f":"IFERROR(INDEX(MasterTable[],MATCH(Simulator!E57,MasterTable[P/N],0),COLUMN(MasterTable[Typical Current])),\"-\")","v":450},240,{"$f":"IFERROR(IF(I57,Calculations!AX58,\"-\"),\"-\")","v":33.295037374199993},{"$f":"IFERROR(I57*J57/1000,\"-\")","v":7.9908089698079987},{"$f":"IFERROR(MROUND(IF(I57=$N$14,Calculations!AD58,\"-\"),1),\"-\")","v":1483},{"$f":"IFERROR(MROUND(IF(I57=$N$14,L57*0.9,\"-\"),1),\"-\")","v":1335},185.58821836478381,{"$f":"IFERROR(INDEX(MasterTable[],MATCH(Simulator!E57,MasterTable[P/N],0),COLUMN(MasterTable[Typical Lumens])),\"-\")","v":2662.2},{"$f":"IFERROR(INDEX(MasterTable[],MATCH(Simulator!E57,MasterTable[P/N],0),COLUMN(MasterTable[Typical Efficacy])),\"-\")","v":170},{"$f":"IFERROR(IF(I57,Calculations!F58,\"-\"),\"-\")","v":27.240356474835171},{"$f":"IFERROR('PPF calc'!$J$8,\"-\")","v":1.4265561937857494E-2},21.155828353842665,2.6475202240194453]
["Vero 13-C-30EC",null,null,"Vero 13-C",{"$f":"IFERROR(INDEX(MasterTable[],MATCH(A58,MasterTable[PF+CR],0),7),\"-\")","v":"BXRC-30E2000-C-xx"},"C",{"$f":"IFERROR(INDEX(MasterTable[],MATCH(A58,MasterTable[PF+CR],0),COLUMN(MasterTable[Max Current])),\"-\")","v":1260},{"$f":"IFERROR(INDEX(MasterTable[],MATCH(Simulator!E58,MasterTable[P/N],0),COLUMN(MasterTable[Typical Current])),\"-\")","v":630},240,{"$f":"IFERROR(IF(I58,Calculations!AX59,\"-\"),\"-\")","v":32.766159999999999},7.8638783999999999,{"$f":"IFERROR(MROUND(IF(I58=$N$14,Calculations!AD59,\"-\"),1),\"-\")","v":1498},1348,190.49124666017215,{"$f":"IFERROR(INDEX(MasterTable[],MATCH(Simulator!E58,MasterTable[P/N],0),COLUMN(MasterTable[Typical Lumens])),\"-\")","v":3727.08},{"$f":"IFERROR(INDEX(MasterTable[],MATCH(Simulator!E58,MasterTable[P/N],0),COLUMN(MasterTable[Typical Efficacy])),\"-\")","v":170},{"$f":"IFERROR(IF(I58,Calculations!F59,\"-\"),\"-\")","v":26.562814767359999},{"$f":"IFERROR('PPF calc'!$J$8,\"-\")","v":1.4265561937857494E-2},21.369811782910528,2.7174646778503759]
["Vero 13-D-30ED",null,null,"Vero 13-D",{"$f":"IFERROR(INDEX(MasterTable[],MATCH(A59,MasterTable[PF+CR],0),7),\"-\")","v":"BXRC-30E2000-D-xx"},"D",{"$f":"IFERROR(INDEX(MasterTable[],MATCH(A59,MasterTable[PF+CR],0),COLUMN(MasterTable[Max Current])),\"-\")","v":1000},{"$f":"IFERROR(INDEX(MasterTable[],MATCH(Simulator!E59,MasterTable[P/N],0),COLUMN(MasterTable[Typical Current])),\"-\")","v":500},240,{"$f":"IFERROR(IF(I59,Calculations!AX60,\"-\"),\"-\")","v":30.494827783499996},7.3187586680399992,{"$f":"IFERROR(MROUND(IF(I59=$N$14,Calculations!AD60,\"-\"),1),\"-\")","v":1343},1209,183.50106362499616,{"$f":"IFERROR(INDEX(MasterTable[],MATCH(Simulator!E59,MasterTable[P/N],0),COLUMN(MasterTable[Typical Lumens])),\"-\")","v":2703},{"$f":"IFERROR(INDEX(MasterTable[],MATCH(Simulator!E59,MasterTable[P/N],0),COLUMN(MasterTable[Typical Efficacy])),\"-\")","v":170},{"$f":"IFERROR(IF(I59,Calculations!F60,\"-\"),\"-\")","v":27.05193597189615},{"$f":"IFERROR('PPF calc'!$J$8,\"-\")","v":1.4265561937857494E-2},19.158649682542613,2.6177457888051112]
["Vero 18-B-30EB",null,null,"Vero 18-B",{"$f":"IFERROR(INDEX(MasterTable[],MATCH(A60,MasterTable[PF+CR],0),7),\"-\")","v":"BXRC-30E4000-B-xx"},"B",{"$f":"IFERROR(INDEX(MasterTable[],MATCH(A60,MasterTable[PF+CR],0),COLUMN(MasterTable[Max Current])),\"-\")","v":1800},{"$f":"IFERROR(INDEX(MasterTable[],MATCH(Simulator!E60,MasterTable[P/N],0),COLUMN(MasterTable[Typical Current])),\"-\")","v":900},240,{"$f":"IFERROR(IF(I60,Calculations!AX61,\"-\"),\"-\")","v":32.143866767900008},7.7145280242960013,{"$f":"IFERROR(MROUND(IF(I60=$N$14,Calculations!AD61,\"-\"),1),\"-\")","v":1535},1382,198.9752315586511,{"$f":"IFERROR(INDEX(MasterTable[],MATCH(Simulator!E60,MasterTable[P/N],0),COLUMN(MasterTable[Typical Lumens])),\"-\")","v":5324.4},{"$f":"IFERROR(INDEX(MasterTable[],MATCH(Simulator!E60,MasterTable[P/N],0),COLUMN(MasterTable[Typical Efficacy])),\"-\")","v":170},{"$f":"IFERROR(IF(I60,Calculations!F61,\"-\"),\"-\")","v":26.192151730687875},{"$f":"IFERROR('PPF calc'!$J$8,\"-\")","v":1.4265561937857494E-2},21.897637574611252,2.838493489899474]
["Vero 18-C-30EC",null,null,"Vero 18-C",{"$f":"IFERROR(INDEX(MasterTable[],MATCH(A61,MasterTable[PF+CR],0),7),\"-\")","v":"BXRC-30E4000-C-xx"},"C",{"$f":"IFERROR(INDEX(MasterTable[],MATCH(A61,MasterTable[PF+CR],0),COLUMN(MasterTable[Max Current])),\"-\")","v":2340},{"$f":"IFERROR(INDEX(MasterTable[],MATCH(Simulator!E61,MasterTable[P/N],0),COLUMN(MasterTable[Typical Current])),\"-\")","v":1170},240,{"$f":"IFERROR(IF(I61,Calculations!AX62,\"-\"),\"-\")","v":32.148719999999997},7.7156927999999985,{"$f":"IFERROR(MROUND(IF(I61=$N$14,Calculations!AD62,\"-\"),1),\"-\")","v":1515},1364,196.35307408817525,{"$f":"IFERROR(INDEX(MasterTable[],MATCH(Simulator!E61,MasterTable[P/N],0),COLUMN(MasterTable[Typical Lumens])),\"-\")","v":6922},{"$f":"IFERROR(INDEX(MasterTable[],MATCH(Simulator!E61,MasterTable[P/N],0),COLUMN(MasterTable[Typical Efficacy])),\"-\")","v":170.00687690342863},{"$f":"IFERROR(IF(I61,Calculations!F62,\"-\"),\"-\")","v":25.86467197312},{"$f":"IFERROR('PPF calc'!$J$8,\"-\")","v":1.4265561937857494E-2},21.612326335854103,2.8010869400935854]
["Vero 18-D-30ED",null,null,"Vero 18-D",{"$f":"IFERROR(INDEX(MasterTable[],MATCH(A62,MasterTable[PF+CR],0),7),\"-\")","v":"BXRC-30E4000-D-xx"},"D",{"$f":"IFERROR(INDEX(MasterTable[],MATCH(A62,MasterTable[PF+CR],0),COLUMN(MasterTable[Max Current])),\"-\")","v":2100},{"$f":"IFERROR(INDEX(MasterTable[],MATCH(Simulator!E62,MasterTable[P/N],0),COLUMN(MasterTable[Typical Current])),\"-\")","v":1050},240,{"$f":"IFERROR(IF(I62,Calculations!AX63,\"-\"),\"-\")","v":26.755394047099998},6.4212945713039993,{"$f":"IFERROR(MROUND(IF(I62=$N$14,Calculations!AD63,\"-\"),1),\"-\")","v":1293},1164,201.36126534021085,{"$f":"IFERROR(INDEX(MasterTable[],MATCH(Simulator!E62,MasterTable[P/N],0),COLUMN(MasterTable[Typical Lumens])),\"-\")","v":5176.5},{"$f":"IFERROR(INDEX(MasterTable[],MATCH(Simulator!E62,MasterTable[P/N],0),COLUMN(MasterTable[Typical Efficacy])),\"-\")","v":170},{"$f":"IFERROR(IF(I62,Calculations!F63,\"-\"),\"-\")","v":25.992304054418845},{"$f":"IFERROR('PPF calc'!$J$8,\"-\")","v":1.4265561937857494E-2},18.445371585649742,2.8725316025961356]
["Vero 29-B-30EB",null,null,"Vero 29-B",{"$f":"IFERROR(INDEX(MasterTable[],MATCH(A63,MasterTable[PF+CR],0),7),\"-\")","v":"BXRC-30E10K0-B-xx"},"B",{"$f":"IFERROR(INDEX(MasterTable[],MATCH(A63,MasterTable[PF+CR],0),COLUMN(MasterTable[Max Current])),\"-\")","v":3600},{"$f":"IFERROR(INDEX(MasterTable[],MATCH(Simulator!E63,MasterTable[P/N],0),COLUMN(MasterTable[Typical Current])),\"-\")","v":1800},240,{"$f":"IFERROR(IF(I63,Calculations!AX64,\"-\"),\"-\")","v":47.669479999999993},11.440675199999998,{"$f":"IFERROR(MROUND(IF(I63=$N$14,Calculations!AD64,\"-\"),1),\"-\")","v":2254},2029,197.01634393047016,{"$f":"IFERROR(INDEX(MasterTable[],MATCH(Simulator!E63,MasterTable[P/N],0),COLUMN(MasterTable[Typical Lumens])),\"-\")","v":15911.999999999998},{"$f":"IFERROR(INDEX(MasterTable[],MATCH(Simulator!E63,MasterTable[P/N],0),COLUMN(MasterTable[Typical Efficacy])),\"-\")","v":170},{"$f":"IFERROR(IF(I63,Calculations!F64,\"-\"),\"-\")","v":25.719046436319999},{"$f":"IFERROR('PPF calc'!$J$8,\"-\")","v":1.4265561937857494E-2},32.154576607930792,2.8105488571103563]
["Vero 29-C-30EC",null,null,"Vero 29-C",{"$f":"IFERROR(INDEX(MasterTable[],MATCH(A64,MasterTable[PF+CR],0),7),\"-\")","v":"BXRC-30E10K0-C-xx"},"C",{"$f":"IFERROR(INDEX(MasterTable[],MATCH(A64,MasterTable[PF+CR],0),COLUMN(MasterTable[Max Current])),\"-\")","v":3420},{"$f":"IFERROR(INDEX(MasterTable[],MATCH(Simulator!E64,MasterTable[P/N],0),COLUMN(MasterTable[Typical Current])),\"-\")","v":1710},240,{"$f":"IFERROR(IF(I64,Calculations!AX65,\"-\"),\"-\")","v":63.612720000000792},15.26705280000019,{"$f":"IFERROR(MROUND(IF(I64=$N$14,Calculations!AD65,\"-\"),1),\"-\")","v":3411},3070,223.42229667273813,{"$f":"IFERROR(INDEX(MasterTable[],MATCH(Simulator!E64,MasterTable[P/N],0),COLUMN(MasterTable[Typical Lumens])),\"-\")","v":20175},{"$f":"IFERROR(INDEX(MasterTable[],MATCH(Simulator!E64,MasterTable[P/N],0),COLUMN(MasterTable[Typical Efficacy])),\"-\")","v":170.0035391071338},{"$f":"IFERROR(IF(I64,Calculations!F65,\"-\"),\"-\")","v":25.630020378880008},{"$f":"IFERROR('PPF calc'!$J$8,\"-\")","v":1.4265561937857494E-2},48.659831770031914,3.1872446114833184]
["Vero 29-D-30ED",null,null,"Vero 29-D",{"$f":"IFERROR(INDEX(MasterTable[],MATCH(A65,MasterTable[PF+CR],0),7),\"-\")","v":"BXRC-30E10K0-D-xx"},"D",{"$f":"IFERROR(INDEX(MasterTable[],MATCH(A65,MasterTable[PF+CR],0),COLUMN(MasterTable[Max Current])),\"-\")","v":4200},{"$f":"IFERROR(INDEX(MasterTable[],MATCH(Simulator!E65,MasterTable[P/N],0),COLUMN(MasterTable[Typical Current])),\"-\")","v":2100},240,{"$f":"IFERROR(IF(I65,Calculations!AX66,\"-\"),\"-\")","v":34.5341220683},{"$f":"IFERROR(I65*J65/1000,\"-\")","v":8.2881892963919999},{"$f":"IFERROR(MROUND(IF(I65=$N$14,Calculations!AD66,\"-\"),1),\"-\")","v":1776},1598,{"$f":"IFERROR(L65/K65,\"-\")","v":214.28082015128749},{"$f":"IFERROR(INDEX(MasterTable[],MATCH(Simulator!E65,MasterTable[P/N],0),COLUMN(MasterTable[Typical Lumens])),\"-\")","v":13423.199999999999},{"$f":"IFERROR(INDEX(MasterTable[],MATCH(Simulator!E65,MasterTable[P/N],0),COLUMN(MasterTable[Typical Efficacy])),\"-\")","v":170},{"$f":"IFERROR(IF(I65,Calculations!F66,\"-\"),\"-\")","v":25.520912697278238},{"$f":"IFERROR('PPF calc'!$J$8,\"-\")","v":1.4265561937857494E-2},25.335638001634909,3.0568363119630937]
[]
[]
[null,null,null,"Drive Current Needed for Required Lumens",null,null,null,null,null,null,null,null,null,"Section 3"]
[null,null,null,"Calculate drive current required for chosen lumen output",null,null,null,null,null,null,null,null,"ENTER REQUIRED LUMENS:",1170]
[null,null,null,"V Series HD, Gen 7 V Series, Gen 7 Vero Series"]
[null,null,null,"Use this table for new projects"]
[null,null,null,{"$f":"D16","v":"Product"},{"$f":"E16","v":"Part Number"},"Config",{"$f":"H16","v":"Nominal\n Current\n (mA)"},{"$f":"O16","v":"Nominal Pulsed Lumens @ Case=25°C"},{"$f":"I16","v":"Drive\nCurrent\n(mA)"},{"$f":"J16","v":"Voltage\n(V)"},{"$f":"K16","v":"Power\n(W)"},{"$f":"L16","v":"Lumen DC @ \nCase = 25°C"},{"$f":"N16","v":"Efficacy DC @ \nCase = 25°C"},{"$f":"G16","v":"Max Drive\nCurrent\n(mA)"},"Minimum Pulsed Lumens @ Case=25°C",{"$f":"P16","v":"Nominal Pulsed Efficacy @ Case=25°C"},{"$f":"Q16","v":"Tj\n (°C)"},"umol/s/lm","PPF (umol/s)","Photon efficiency (umol/J)"]
[{"$f":"D73&\"-\"&F73&\"-\"&L$6","v":"V6-A-30E"},null,null,"V6",{"$f":"IFERROR(INDEX(MasterTable[],MATCH(A73,MasterTable[PF+CR],0),7),\"-\")","v":"-"},"A",{"$f":"IFERROR(INDEX(MasterTable[],MATCH(Simulator!E73,MasterTable[P/N],0),COLUMN(MasterTable[Typical Current])),\"-\")","v":"-"},{"$f":"IFERROR(INDEX(MasterTable[],MATCH(Simulator!E73,MasterTable[P/N],0),COLUMN(MasterTable[Typical Lumens])),\"-\")","v":"-"},{"$f":"IFERROR(MROUND(IF(OR(E73=\"-\",Calculations!V71>(N73+1)),\"-\",Calculations!V71),1),\"-\")","v":"-"},{"$f":"IFERROR(IF(I73,Calculations!AX71,\"-\"),\"-\")","v":"-"},{"$f":"IFERROR(I73*J73/1000,\"-\")","v":"-"},{"$f":"IFERROR(MROUND(IF(I73,Calculations!AC71*H73,\"-\"),1),\"-\")","v":"-"},{"$f":"IFERROR(L73/K73,\"-\")","v":"-"},{"$f":"IFERROR(INDEX(MasterTable[],MATCH(A73,MasterTable[PF+CR],0),COLUMN(MasterTable[Max Current])),\"-\")","v":"-"},null,{"$f":"IFERROR(INDEX(MasterTable[],MATCH(Simulator!E73,MasterTable[P/N],0),COLUMN(MasterTable[Typical Efficacy])),\"-\")","v":"-"},{"$f":"IFERROR(IF(I73,Calculations!F71,\"-\"),\"-\")","v":"-"}]
["V6-B-30E",null,null,"V6",{"$f":"IFERROR(INDEX(MasterTable[],MATCH(A74,MasterTable[PF+CR],0),7),\"-\")","v":"-"},"B",{"$f":"IFERROR(INDEX(MasterTable[],MATCH(Simulator!E74,MasterTable[P/N],0),COLUMN(MasterTable[Typical Current])),\"-\")","v":"-"},{"$f":"IFERROR(INDEX(MasterTable[],MATCH(Simulator!E74,MasterTable[P/N],0),COLUMN(MasterTable[Typical Lumens])),\"-\")","v":"-"},{"$f":"IFERROR(MROUND(IF(OR(E74=\"-\",Calculations!V72>(N74+1)),\"-\",Calculations!V72),1),\"-\")","v":"-"},{"$f":"IFERROR(IF(I74,Calculations!AX72,\"-\"),\"-\")","v":"-"},"-",{"$f":"IFERROR(MROUND(IF(I74,Calculations!AC72*H74,\"-\"),1),\"-\")","v":"-"},"-",{"$f":"IFERROR(INDEX(MasterTable[],MATCH(A74,MasterTable[PF+CR],0),COLUMN(MasterTable[Max Current])),\"-\")","v":"-"},null,{"$f":"IFERROR(INDEX(MasterTable[],MATCH(Simulator!E74,MasterTable[P/N],0),COLUMN(MasterTable[Typical Efficacy])),\"-\")","v":"-"},{"$f":"IFERROR(IF(I74,Calculations!F72,\"-\"),\"-\")","v":"-"}]
["V8-A-30E",null,null,"V8",{"$f":"IFERROR(INDEX(MasterTable[],MATCH(A75,MasterTable[PF+CR],0),7),\"-\")","v":"-"},"A",{"$f":"IFERROR(INDEX(MasterTable[],MATCH(Simulator!E75,MasterTable[P/N],0),COLUMN(MasterTable[Typical Current])),\"-\")","v":"-"},{"$f":"IFERROR(INDEX(MasterTable[],MATCH(Simulator!E75,MasterTable[P/N],0),COLUMN(MasterTable[Typical Lumens])),\"-\")","v":"-"},{"$f":"IFERROR(MROUND(IF(OR(E75=\"-\",Calculations!V73>(N75+1)),\"-\",Calculations!V73),1),\"-\")","v":"-"},{"$f":"IFERROR(IF(I75,Calculations!AX73,\"-\"),\"-\")","v":"-"},"-",{"$f":"IFERROR(MROUND(IF(I75,Calculations!AC73*H75,\"-\"),1),\"-\")","v":"-"},"-",{"$f":"IFERROR(INDEX(MasterTable[],MATCH(A75,MasterTable[PF+CR],0),COLUMN(MasterTable[Max Current])),\"-\")","v":"-"},null,{"$f":"IFERROR(INDEX(MasterTable[],MATCH(Simulator!E75,MasterTable[P/N],0),COLUMN(MasterTable[Typical Efficacy])),\"-\")","v":"-"},{"$f":"IFERROR(IF(I75,Calculations!F73,\"-\"),\"-\")","v":"-"}]
["V8-A-30E",null,null,"V8",{"$f":"IFERROR(INDEX(MasterTable[],MATCH(A76,MasterTable[PF+CR],0),7),\"-\")","v":"-"},"A",{"$f":"IFERROR(INDEX(MasterTable[],MATCH(Simulator!E76,MasterTable[P/N],0),COLUMN(MasterTable[Typical Current])),\"-\")","v":"-"},{"$f":"IFERROR(INDEX(MasterTable[],MATCH(Simulator!E76,MasterTable[P/N],0),COLUMN(MasterTable[Typical Lumens])),\"-\")","v":"-"},{"$f":"IFERROR(MROUND(IF(OR(E76=\"-\",Calculations!V74>(N76+1)),\"-\",Calculations!V74),1),\"-\")","v":"-"},{"$f":"IFERROR(IF(I76,Calculations!AX74,\"-\"),\"-\")","v":"-"},"-",{"$f":"IFERROR(MROUND(IF(I76,Calculations!AC74*H76,\"-\"),1),\"-\")","v":"-"},"-",{"$f":"IFERROR(INDEX(MasterTable[],MATCH(A76,MasterTable[PF+CR],0),COLUMN(MasterTable[Max Current])),\"-\")","v":"-"},null,{"$f":"IFERROR(INDEX(MasterTable[],MATCH(Simulator!E76,MasterTable[P/N],0),COLUMN(MasterTable[Typical Efficacy])),\"-\")","v":"-"},{"$f":"IFERROR(IF(I76,Calculations!F74,\"-\"),\"-\")","v":"-"}]
["V8-B-30E",null,null,"V8",{"$f":"IFERROR(INDEX(MasterTable[],MATCH(A77,MasterTable[PF+CR],0),7),\"-\")","v":"-"},"B",{"$f":"IFERROR(INDEX(MasterTable[],MATCH(Simulator!E77,MasterTable[P/N],0),COLUMN(MasterTable[Typical Current])),\"-\")","v":"-"},{"$f":"IFERROR(INDEX(MasterTable[],MATCH(Simulator!E77,MasterTable[P/N],0),COLUMN(MasterTable[Typical Lumens])),\"-\")","v":"-"},{"$f":"IFERROR(MROUND(IF(OR(E77=\"-\",Calculations!V75>(N77+1)),\"-\",Calculations!V75),1),\"-\")","v":"-"},{"$f":"IFERROR(IF(I77,Calculations!AX75,\"-\"),\"-\")","v":"-"},"-",{"$f":"IFERROR(MROUND(IF(I77,Calculations!AC75*H77,\"-\"),1),\"-\")","v":"-"},"-",{"$f":"IFERROR(INDEX(MasterTable[],MATCH(A77,MasterTable[PF+CR],0),COLUMN(MasterTable[Max Current])),\"-\")","v":"-"},null,{"$f":"IFERROR(INDEX(MasterTable[],MATCH(Simulator!E77,MasterTable[P/N],0),COLUMN(MasterTable[Typical Efficacy])),\"-\")","v":"-"},{"$f":"IFERROR(IF(I77,Calculations!F75,\"-\"),\"-\")","v":"-"}]
["V10-B-30E",null,null,"V10",{"$f":"IFERROR(INDEX(MasterTable[],MATCH(A78,MasterTable[PF+CR],0),7),\"-\")","v":"-"},"B",{"$f":"IFERROR(INDEX(MasterTable[],MATCH(Simulator!E78,MasterTable[P/N],0),COLUMN(MasterTable[Typical Current])),\"-\")","v":"-"},{"$f":"IFERROR(INDEX(MasterTable[],MATCH(Simulator!E78,MasterTable[P/N],0),COLUMN(MasterTable[Typical Lumens])),\"-\")","v":"-"},{"$f":"IFERROR(MROUND(IF(OR(E78=\"-\",Calculations!V76>(N78+1)),\"-\",Calculations!V76),1),\"-\")","v":"-"},{"$f":"IFERROR(IF(I78,Calculations!AX76,\"-\"),\"-\")","v":"-"},"-",{"$f":"IFERROR(MROUND(IF(I78,Calculations!AC76*H78,\"-\"),1),\"-\")","v":"-"},"-",{"$f":"IFERROR(INDEX(MasterTable[],MATCH(A78,MasterTable[PF+CR],0),COLUMN(MasterTable[Max Current])),\"-\")","v":"-"},null,{"$f":"IFERROR(INDEX(MasterTable[],MATCH(Simulator!E78,MasterTable[P/N],0),COLUMN(MasterTable[Typical Efficacy])),\"-\")","v":"-"},{"$f":"IFERROR(IF(I78,Calculations!F76,\"-\"),\"-\")","v":"-"}]
["V13-C-30E",null,null,"V13",{"$f":"IFERROR(INDEX(MasterTable[],MATCH(A79,MasterTable[PF+CR],0),7),\"-\")","v":"-"},"C",{"$f":"IFERROR(INDEX(MasterTable[],MATCH(Simulator!E79,MasterTable[P/N],0),COLUMN(MasterTable[Typical Current])),\"-\")","v":"-"},{"$f":"IFERROR(INDEX(MasterTable[],MATCH(Simulator!E79,MasterTable[P/N],0),COLUMN(MasterTable[Typical Lumens])),\"-\")","v":"-"},{"$f":"IFERROR(MROUND(IF(OR(E79=\"-\",Calculations!V77>(N79+1)),\"-\",Calculations!V77),1),\"-\")","v":"-"},{"$f":"IFERROR(IF(I79,Calculations!AX77,\"-\"),\"-\")","v":"-"},"-",{"$f":"IFERROR(MROUND(IF(I79,Calculations!AC77*H79,\"-\"),1),\"-\")","v":"-"},"-",{"$f":"IFERROR(INDEX(MasterTable[],MATCH(A79,MasterTable[PF+CR],0),COLUMN(MasterTable[Max Current])),\"-\")","v":"-"},null,{"$f":"IFERROR(INDEX(MasterTable[],MATCH(Simulator!E79,MasterTable[P/N],0),COLUMN(MasterTable[Typical Efficacy])),\"-\")","v":"-"},{"$f":"IFERROR(IF(I79,Calculations!F77,\"-\"),\"-\")","v":"-"}]
["V15-D-30E",null,null,"V15",{"$f":"IFERROR(INDEX(MasterTable[],MATCH(A80,MasterTable[PF+CR],0),7),\"-\")","v":"-"},"D",{"$f":"IFERROR(INDEX(MasterTable[],MATCH(Simulator!E80,MasterTable[P/N],0),COLUMN(MasterTable[Typical Current])),\"-\")","v":"-"},{"$f":"IFERROR(INDEX(MasterTable[],MATCH(Simulator!E80,MasterTable[P/N],0),COLUMN(MasterTable[Typical Lumens])),\"-\")","v":"-"},{"$f":"IFERROR(MROUND(IF(OR(E80=\"-\",Calculations!V78>(N80+1)),\"-\",Calculations!V78),1),\"-\")","v":"-"},{"$f":"IFERROR(IF(I80,Calculations!AX78,\"-\"),\"-\")","v":"-"},"-",{"$f":"IFERROR(MROUND(IF(I80,Calculations!AC78*H80,\"-\"),1),\"-\")","v":"-"},"-",{"$f":"IFERROR(INDEX(MasterTable[],MATCH(A80,MasterTable[PF+CR],0),COLUMN(MasterTable[Max Current])),\"-\")","v":"-"},null,{"$f":"IFERROR(INDEX(MasterTable[],MATCH(Simulator!E80,MasterTable[P/N],0),COLUMN(MasterTable[Typical Efficacy])),\"-\")","v":"-"},{"$f":"IFERROR(IF(I80,Calculations!F78,\"-\"),\"-\")","v":"-"}]
["V18-F-30E",null,null,"V18",{"$f":"IFERROR(INDEX(MasterTable[],MATCH(A81,MasterTable[PF+CR],0),7),\"-\")","v":"-"},"F",{"$f":"IFERROR(INDEX(MasterTable[],MATCH(Simulator!E81,MasterTable[P/N],0),COLUMN(MasterTable[Typical Current])),\"-\")","v":"-"},{"$f":"IFERROR(INDEX(MasterTable[],MATCH(Simulator!E81,MasterTable[P/N],0),COLUMN(MasterTable[Typical Lumens])),\"-\")","v":"-"},{"$f":"IFERROR(MROUND(IF(OR(E81=\"-\",Calculations!V79>(N81+1)),\"-\",Calculations!V79),1),\"-\")","v":"-"},{"$f":"IFERROR(IF(I81,Calculations!AX79,\"-\"),\"-\")","v":"-"},"-",{"$f":"IFERROR(MROUND(IF(I81,Calculations!AC79*H81,\"-\"),1),\"-\")","v":"-"},"-",{"$f":"IFERROR(INDEX(MasterTable[],MATCH(A81,MasterTable[PF+CR],0),COLUMN(MasterTable[Max Current])),\"-\")","v":"-"},null,{"$f":"IFERROR(INDEX(MasterTable[],MATCH(Simulator!E81,MasterTable[P/N],0),COLUMN(MasterTable[Typical Efficacy])),\"-\")","v":"-"},{"$f":"IFERROR(IF(I81,Calculations!F79,\"-\"),\"-\")","v":"-"}]
["V22-G-30E",null,null,"V22",{"$f":"IFERROR(INDEX(MasterTable[],MATCH(A82,MasterTable[PF+CR],0),7),\"-\")","v":"-"},"G",{"$f":"IFERROR(INDEX(MasterTable[],MATCH(Simulator!E82,MasterTable[P/N],0),COLUMN(MasterTable[Typical Current])),\"-\")","v":"-"},{"$f":"IFERROR(INDEX(MasterTable[],MATCH(Simulator!E82,MasterTable[P/N],0),COLUMN(MasterTable[Typical Lumens])),\"-\")","v":"-"},{"$f":"IFERROR(MROUND(IF(OR(E82=\"-\",Calculations!V80>(N82+1)),\"-\",Calculations!V80),1),\"-\")","v":"-"},{"$f":"IFERROR(IF(I82,Calculations!AX80,\"-\"),\"-\")","v":"-"},"-",{"$f":"IFERROR(MROUND(IF(I82,Calculations!AC80*H82,\"-\"),1),\"-\")","v":"-"},"-",{"$f":"IFERROR(INDEX(MasterTable[],MATCH(A82,MasterTable[PF+CR],0),COLUMN(MasterTable[Max Current])),\"-\")","v":"-"},null,{"$f":"IFERROR(INDEX(MasterTable[],MATCH(Simulator!E82,MasterTable[P/N],0),COLUMN(MasterTable[Typical Efficacy])),\"-\")","v":"-"},{"$f":"IFERROR(IF(I82,Calculations!F80,\"-\"),\"-\")","v":"-"}]
[]
[{"$f":"A28","v":"Vero 10-30EB"},null,null,"Vero 10",{"$f":"IFERROR(INDEX(MasterTable[],MATCH(A84,MasterTable[PF+CR],0),7),\"-\")","v":"-"},"B",{"$f":"IFERROR(INDEX(MasterTable[],MATCH(Simulator!E84,MasterTable[P/N],0),COLUMN(MasterTable[Typical Current])),\"-\")","v":"-"},{"$f":"IFERROR(INDEX(MasterTable[],MATCH(Simulator!E84,MasterTable[P/N],0),COLUMN(MasterTable[Typical Lumens])),\"-\")","v":"-"},{"$f":"IFERROR(MROUND(IF(OR(E84=\"-\",Calculations!V85>(N84+1)),\"-\",Calculations!V85),1),\"-\")","v":"-"},{"$f":"IFERROR(IF(I84,Calculations!AX85,\"-\"),\"-\")","v":"-"},{"$f":"IFERROR(I84*J84/1000,\"-\")","v":"-"},{"$f":"IFERROR(MROUND(IF(I84,Calculations!AC85*H84,\"-\"),1),\"-\")","v":"-"},{"$f":"IFERROR(L84/K84,\"-\")","v":"-"},{"$f":"IFERROR(INDEX(MasterTable[],MATCH(A84,MasterTable[PF+CR],0),COLUMN(MasterTable[Max Current])),\"-\")","v":"-"},null,{"$f":"IFERROR(INDEX(MasterTable[],MATCH(Simulator!E84,MasterTable[P/N],0),COLUMN(MasterTable[Typical Efficacy])),\"-\")","v":"-"},{"$f":"IFERROR(IF(I84,Calculations!F85,\"-\"),\"-\")","v":"-"}]
[{"$f":"A29","v":"Vero 13-30EC"},null,null,"Vero 13",{"$f":"IFERROR(INDEX(MasterTable[],MATCH(A85,MasterTable[PF+CR],0),7),\"-\")","v":"-"},"C",{"$f":"IFERROR(INDEX(MasterTable[],MATCH(Simulator!E85,MasterTable[P/N],0),COLUMN(MasterTable[Typical Current])),\"-\")","v":"-"},{"$f":"IFERROR(INDEX(MasterTable[],MATCH(Simulator!E85,MasterTable[P/N],0),COLUMN(MasterTable[Typical Lumens])),\"-\")","v":"-"},{"$f":"IFERROR(MROUND(IF(OR(E85=\"-\",Calculations!V86>(N85+1)),\"-\",Calculations!V86),1),\"-\")","v":"-"},{"$f":"IFERROR(IF(I85,Calculations!AX86,\"-\"),\"-\")","v":"-"},{"$f":"IFERROR(I85*J85/1000,\"-\")","v":"-"},{"$f":"IFERROR(MROUND(IF(I85,Calculations!AC86*H85,\"-\"),1),\"-\")","v":"-"},{"$f":"IFERROR(L85/K85,\"-\")","v":"-"},{"$f":"IFERROR(INDEX(MasterTable[],MATCH(A85,MasterTable[PF+CR],0),COLUMN(MasterTable[Max Current])),\"-\")","v":"-"},null,{"$f":"IFERROR(INDEX(MasterTable[],MATCH(Simulator!E85,MasterTable[P/N],0),COLUMN(MasterTable[Typical Efficacy])),\"-\")","v":"-"},{"$f":"IFERROR(IF(I85,Calculations!F86,\"-\"),\"-\")","v":"-"}]
[{"$f":"A30","v":"Vero 18-30EF"},null,null,"Vero 18",{"$f":"IFERROR(INDEX(MasterTable[],MATCH(A86,MasterTable[PF+CR],0),7),\"-\")","v":"-"},"F",{"$f":"IFERROR(INDEX(MasterTable[],MATCH(Simulator!E86,MasterTable[P/N],0),COLUMN(MasterTable[Typical Current])),\"-\")","v":"-"},{"$f":"IFERROR(INDEX(MasterTable[],MATCH(Simulator!E86,MasterTable[P/N],0),COLUMN(MasterTable[Typical Lumens])),\"-\")","v":"-"},{"$f":"IFERROR(MROUND(IF(OR(E86=\"-\",Calculations!V87>(N86+1)),\"-\",Calculations!V87),1),\"-\")","v":"-"},{"$f":"IFERROR(IF(I86,Calculations!AX87,\"-\"),\"-\")","v":"-"},{"$f":"IFERROR(I86*J86/1000,\"-\")","v":"-"},{"$f":"IFERROR(MROUND(IF(I86,Calculations!AC87*H86,\"-\"),1),\"-\")","v":"-"},{"$f":"IFERROR(L86/K86,\"-\")","v":"-"},{"$f":"IFERROR(INDEX(MasterTable[],MATCH(A86,MasterTable[PF+CR],0),COLUMN(MasterTable[Max Current])),\"-\")","v":"-"},null,{"$f":"IFERROR(INDEX(MasterTable[],MATCH(Simulator!E86,MasterTable[P/N],0),COLUMN(MasterTable[Typical Efficacy])),\"-\")","v":"-"},{"$f":"IFERROR(IF(I86,Calculations!F87,\"-\"),\"-\")","v":"-"}]
[{"$f":"A31","v":"Vero 29-30EL"},null,null,"Vero 29",{"$f":"IFERROR(INDEX(MasterTable[],MATCH(A87,MasterTable[PF+CR],0),7),\"-\")","v":"-"},"L",{"$f":"IFERROR(INDEX(MasterTable[],MATCH(Simulator!E87,MasterTable[P/N],0),COLUMN(MasterTable[Typical Current])),\"-\")","v":"-"},{"$f":"IFERROR(INDEX(MasterTable[],MATCH(Simulator!E87,MasterTable[P/N],0),COLUMN(MasterTable[Typical Lumens])),\"-\")","v":"-"},{"$f":"IFERROR(MROUND(IF(OR(E87=\"-\",Calculations!V88>(N87+1)),\"-\",Calculations!V88),1),\"-\")","v":"-"},{"$f":"IFERROR(IF(I87,Calculations!AX88,\"-\"),\"-\")","v":"-"},{"$f":"IFERROR(I87*J87/1000,\"-\")","v":"-"},{"$f":"IFERROR(MROUND(IF(I87,Calculations!AC88*H87,\"-\"),1),\"-\")","v":"-"},{"$f":"IFERROR(L87/K87,\"-\")","v":"-"},{"$f":"IFERROR(INDEX(MasterTable[],MATCH(A87,MasterTable[PF+CR],0),COLUMN(MasterTable[Max Current])),\"-\")","v":"-"},null,{"$f":"IFERROR(INDEX(MasterTable[],MATCH(Simulator!E87,MasterTable[P/N],0),COLUMN(MasterTable[Typical Efficacy])),\"-\")","v":"-"},{"$f":"IFERROR(IF(I87,Calculations!F88,\"-\"),\"-\")","v":"-"}]
[]
[{"$f":"A33","v":"H6-30EC"},null,null,"H6",{"$f":"IFERROR(INDEX(MasterTable[],MATCH(A89,MasterTable[PF+CR],0),7),\"-\")","v":"-"},"C",{"$f":"IFERROR(INDEX(MasterTable[],MATCH(Simulator!E89,MasterTable[P/N],0),COLUMN(MasterTable[Typical Current])),\"-\")","v":"-"},{"$f":"IFERROR(INDEX(MasterTable[],MATCH(Simulator!E89,MasterTable[P/N],0),COLUMN(MasterTable[Typical Lumens])),\"-\")","v":"-"},{"$f":"IFERROR(MROUND(IF(OR(E89=\"-\",Calculations!V93>(N89+1)),\"-\",Calculations!V93),1),\"-\")","v":"-"},{"$f":"IFERROR(IF(I89,Calculations!AX93,\"-\"),\"-\")","v":"-"},{"$f":"IFERROR(I89*J89/1000,\"-\")","v":"-"},{"$f":"IFERROR(MROUND(IF(I89,Calculations!AC93*H89,\"-\"),1),\"-\")","v":"-"},{"$f":"IFERROR(L89/K89,\"-\")","v":"-"},{"$f":"IFERROR(INDEX(MasterTable[],MATCH(A89,MasterTable[PF+CR],0),COLUMN(MasterTable[Max Current])),\"-\")","v":"-"},{"$f":"IF(L89=\"-\",\"-\",H89*0.86)","v":"-"},{"$f":"IFERROR(INDEX(MasterTable[],MATCH(Simulator!E89,MasterTable[P/N],0),COLUMN(MasterTable[Typical Efficacy])),\"-\")","v":"-"},{"$f":"IFERROR(IF(I89,Calculations!F93,\"-\"),\"-\")","v":"-"},"-","-","-"]
[{"$f":"A34","v":"H9-30ED"},null,null,"H9",{"$f":"IFERROR(INDEX(MasterTable[],MATCH(A90,MasterTable[PF+CR],0),7),\"-\")","v":"-"},"D",{"$f":"IFERROR(INDEX(MasterTable[],MATCH(Simulator!E90,MasterTable[P/N],0),COLUMN(MasterTable[Typical Current])),\"-\")","v":"-"},{"$f":"IFERROR(INDEX(MasterTable[],MATCH(Simulator!E90,MasterTable[P/N],0),COLUMN(MasterTable[Typical Lumens])),\"-\")","v":"-"},{"$f":"IFERROR(MROUND(IF(OR(E90=\"-\",Calculations!V94>(N90+1)),\"-\",Calculations!V94),1),\"-\")","v":"-"},{"$f":"IFERROR(IF(I90,Calculations!AX94,\"-\"),\"-\")","v":"-"},{"$f":"IFERROR(I90*J90/1000,\"-\")","v":"-"},{"$f":"IFERROR(MROUND(IF(I90,Calculations!AC94*H90,\"-\"),1),\"-\")","v":"-"},{"$f":"IFERROR(L90/K90,\"-\")","v":"-"},{"$f":"IFERROR(INDEX(MasterTable[],MATCH(A90,MasterTable[PF+CR],0),COLUMN(MasterTable[Max Current])),\"-\")","v":"-"},{"$f":"IF(L90=\"-\",\"-\",H90*0.86)","v":"-"},{"$f":"IFERROR(INDEX(MasterTable[],MATCH(Simulator!E90,MasterTable[P/N],0),COLUMN(MasterTable[Typical Efficacy])),\"-\")","v":"-"},{"$f":"IFERROR(IF(I90,Calculations!F94,\"-\"),\"-\")","v":"-"},"-","-","-"]
[{"$f":"A35","v":"H12-30EG"},null,null,"H12",{"$f":"IFERROR(INDEX(MasterTable[],MATCH(A91,MasterTable[PF+CR],0),7),\"-\")","v":"-"},"G",{"$f":"IFERROR(INDEX(MasterTable[],MATCH(Simulator!E91,MasterTable[P/N],0),COLUMN(MasterTable[Typical Current])),\"-\")","v":"-"},{"$f":"IFERROR(INDEX(MasterTable[],MATCH(Simulator!E91,MasterTable[P/N],0),COLUMN(MasterTable[Typical Lumens])),\"-\")","v":"-"},{"$f":"IFERROR(MROUND(IF(OR(E91=\"-\",Calculations!V95>(N91+1)),\"-\",Calculations!V95),1),\"-\")","v":"-"},{"$f":"IFERROR(IF(I91,Calculations!AX95,\"-\"),\"-\")","v":"-"},{"$f":"IFERROR(I91*J91/1000,\"-\")","v":"-"},{"$f":"IFERROR(MROUND(IF(I91,Calculations!AC95*H91,\"-\"),1),\"-\")","v":"-"},{"$f":"IFERROR(L91/K91,\"-\")","v":"-"},{"$f":"IFERROR(INDEX(MasterTable[],MATCH(A91,MasterTable[PF+CR],0),COLUMN(MasterTable[Max Current])),\"-\")","v":"-"},{"$f":"IF(L91=\"-\",\"-\",H91*0.86)","v":"-"},{"$f":"IFERROR(INDEX(MasterTable[],MATCH(Simulator!E91,MasterTable[P/N],0),COLUMN(MasterTable[Typical Efficacy])),\"-\")","v":"-"},{"$f":"IFERROR(IF(I91,Calculations!F95,\"-\"),\"-\")","v":"-"},"-","-","-"]
[{"$f":"A36","v":"H15-30EJ"},null,null,"H15",{"$f":"IFERROR(INDEX(MasterTable[],MATCH(A92,MasterTable[PF+CR],0),7),\"-\")","v":"-"},"J",{"$f":"IFERROR(INDEX(MasterTable[],MATCH(Simulator!E92,MasterTable[P/N],0),COLUMN(MasterTable[Typical Current])),\"-\")","v":"-"},{"$f":"IFERROR(INDEX(MasterTable[],MATCH(Simulator!E92,MasterTable[P/N],0),COLUMN(MasterTable[Typical Lumens])),\"-\")","v":"-"},{"$f":"IFERROR(MROUND(IF(OR(E92=\"-\",Calculations!V96>(N92+1)),\"-\",Calculations!V96),1),\"-\")","v":"-"},{"$f":"IFERROR(IF(I92,Calculations!AX96,\"-\"),\"-\")","v":"-"},{"$f":"IFERROR(I92*J92/1000,\"-\")","v":"-"},{"$f":"IFERROR(MROUND(IF(I92,Calculations!AC96*H92,\"-\"),1),\"-\")","v":"-"},{"$f":"IFERROR(L92/K92,\"-\")","v":"-"},{"$f":"IFERROR(INDEX(MasterTable[],MATCH(A92,MasterTable[PF+CR],0),COLUMN(MasterTable[Max Current])),\"-\")","v":"-"},{"$f":"IF(L92=\"-\",\"-\",H92*0.86)","v":"-"},{"$f":"IFERROR(INDEX(MasterTable[],MATCH(Simulator!E92,MasterTable[P/N],0),COLUMN(MasterTable[Typical Efficacy])),\"-\")","v":"-"},{"$f":"IFERROR(IF(I92,Calculations!F96,\"-\"),\"-\")","v":"-"},"-","-","-"]
[]
[{"$f":"D94&C94&\"-\"&L$6&F94","v":"V4 HD-30EA"},null,null,"V4 HD",{"$f":"IFERROR(INDEX(MasterTable[],MATCH(A94,MasterTable[PF+CR],0),7),\"-\")","v":"BXRH-30E0600-A-xx"},"A",{"$f":"IFERROR(INDEX(MasterTable[],MATCH(Simulator!E94,MasterTable[P/N],0),COLUMN(MasterTable[Typical Current])),\"-\")","v":175},{"$f":"IFERROR(INDEX(MasterTable[],MATCH(Simulator!E94,MasterTable[P/N],0),COLUMN(MasterTable[Typical Lumens])),\"-\")","v":765},{"$f":"IFERROR(MROUND(IF(OR(E94=\"-\",Calculations!V99>(N94+1)),\"-\",Calculations!V99),5),\"-\")","v":"-"},{"$f":"IFERROR(IF(I94,Calculations!AX99,\"-\"),\"-\")","v":"-"},{"$f":"IFERROR(I94*J94/1000,\"-\")","v":"-"},{"$f":"IFERROR(MROUND(IF(I94,Calculations!AC99*H94,\"-\"),1),\"-\")","v":"-"},{"$f":"IFERROR(L94/K94,\"-\")","v":"-"},{"$f":"IFERROR(INDEX(MasterTable[],MATCH(A94,MasterTable[PF+CR],0),COLUMN(MasterTable[Max Current])),\"-\")","v":240},{"$f":"IF(L94=\"-\",\"-\",H94*0.88)","v":"-"},{"$f":"IFERROR(INDEX(MasterTable[],MATCH(Simulator!E94,MasterTable[P/N],0),COLUMN(MasterTable[Typical Efficacy])),\"-\")","v":120.09419152276296},{"$f":"IFERROR(IF(I94,Calculations!F99,\"-\"),\"-\")","v":"-"},{"$f":"IFERROR('PPF calc'!$J$8,\"-\")","v":1.4265561937857494E-2},{"$f":"IFERROR(R94*L94,\"-\")","v":"-"},{"$f":"IFERROR(S94/K94,\"-\")","v":"-"}]
[{"$f":"D95&C95&\"-\"&L$6&F95","v":"V6 HD-30EB"},null,null,"V6 HD",{"$f":"IFERROR(INDEX(MasterTable[],MATCH(A95,MasterTable[PF+CR],0),7),\"-\")","v":"BXRH-30E1000-B-xx"},"B",{"$f":"IFERROR(INDEX(MasterTable[],MATCH(Simulator!E95,MasterTable[P/N],0),COLUMN(MasterTable[Typical Current])),\"-\")","v":350},{"$f":"IFERROR(INDEX(MasterTable[],MATCH(Simulator!E95,MasterTable[P/N],0),COLUMN(MasterTable[Typical Lumens])),\"-\")","v":1587},{"$f":"IFERROR(MROUND(IF(OR(E95=\"-\",Calculations!V100>(N95+1)),\"-\",Calculations!V100),5),\"-\")","v":250},{"$f":"IFERROR(IF(I95,Calculations!AX100,\"-\"),\"-\")","v":36.035285919165553},{"$f":"IFERROR(I95*J95/1000,\"-\")","v":9.0088214797913881},{"$f":"IFERROR(MROUND(IF(I95,Calculations!AC100*H95,\"-\"),1),\"-\")","v":1170},{"$f":"IFERROR(L95/K95,\"-\")","v":129.87270339683687},{"$f":"IFERROR(INDEX(MasterTable[],MATCH(A95,MasterTable[PF+CR],0),COLUMN(MasterTable[Max Current])),\"-\")","v":480},{"$f":"IF(L95=\"-\",\"-\",H95*0.88)","v":1396.56},{"$f":"IFERROR(INDEX(MasterTable[],MATCH(Simulator!E95,MasterTable[P/N],0),COLUMN(MasterTable[Typical Efficacy])),\"-\")","v":124.56828885400314},{"$f":"IFERROR(IF(I95,Calculations!F100,\"-\"),\"-\")","v":28.2431757327249},{"$f":"IFERROR('PPF calc'!$J$8,\"-\")","v":1.4265561937857494E-2},{"$f":"IFERROR(R95*L95,\"-\")","v":16.690707467293269},{"$f":"IFERROR(S95/K95,\"-\")","v":1.8527070943445718}]
[{"$f":"D96&C96&\"-\"&L$6&F96","v":"V9 HD-30ED"},null,null,"V9 HD",{"$f":"IFERROR(INDEX(MasterTable[],MATCH(A96,MasterTable[PF+CR],0),7),\"-\")","v":"BXRH-30E3000-D-xx"},"D",{"$f":"IFERROR(INDEX(MasterTable[],MATCH(Simulator!E96,MasterTable[P/N],0),COLUMN(MasterTable[Typical Current])),\"-\")","v":700},{"$f":"IFERROR(INDEX(MasterTable[],MATCH(Simulator!E96,MasterTable[P/N],0),COLUMN(MasterTable[Typical Lumens])),\"-\")","v":3417},{"$f":"IFERROR(MROUND(IF(OR(E96=\"-\",Calculations!V101>(N96+1)),\"-\",Calculations!V101),5),\"-\")","v":225},{"$f":"IFERROR(IF(I96,Calculations!AX101,\"-\"),\"-\")","v":33.432291140059569},{"$f":"IFERROR(I96*J96/1000,\"-\")","v":7.5222655065134028},{"$f":"IFERROR(MROUND(IF(I96,Calculations!AC101*H96,\"-\"),1),\"-\")","v":1170},{"$f":"IFERROR(L96/K96,\"-\")","v":155.53824828263728},{"$f":"IFERROR(INDEX(MasterTable[],MATCH(A96,MasterTable[PF+CR],0),COLUMN(MasterTable[Max Current])),\"-\")","v":960},{"$f":"IF(L96=\"-\",\"-\",H96*0.88)","v":3006.96},{"$f":"IFERROR(INDEX(MasterTable[],MATCH(Simulator!E96,MasterTable[P/N],0),COLUMN(MasterTable[Typical Efficacy])),\"-\")","v":134.10518053375196},{"$f":"IFERROR(IF(I96,Calculations!F101,\"-\"),\"-\")","v":26.354007791172414},{"$f":"IFERROR('PPF calc'!$J$8,\"-\")","v":1.4265561937857494E-2},{"$f":"IFERROR(R96*L96,\"-\")","v":16.690707467293269},{"$f":"IFERROR(S96/K96,\"-\")","v":2.2188405145818195}]
[]
[{"$f":"D98&C98&\"-\"&L$6&F98","v":"V8-D-30ED"},null,null,"V8-D",{"$f":"IFERROR(INDEX(MasterTable[],MATCH(A98,MasterTable[PF+CR],0),7),\"-\")","v":"BXRE-30E0800-D-xx"},"D",{"$f":"IFERROR(INDEX(MasterTable[],MATCH(Simulator!E98,MasterTable[P/N],0),COLUMN(MasterTable[Typical Current])),\"-\")","v":350},{"$f":"IFERROR(INDEX(MasterTable[],MATCH(Simulator!E98,MasterTable[P/N],0),COLUMN(MasterTable[Typical Lumens])),\"-\")","v":999},{"$f":"IFERROR(MROUND(IF(OR(E98=\"-\",Calculations!V106>(N98+1)),\"-\",Calculations!V106),5),\"-\")","v":415},{"$f":"IFERROR(IF(I98,Calculations!AX106,\"-\"),\"-\")","v":17.530511242644213},{"$f":"IFERROR(I98*J98/1000,\"-\")","v":7.2751621656973482},{"$f":"IFERROR(MROUND(IF(I98,Calculations!AC106*H98,\"-\"),1),\"-\")","v":1170},{"$f":"IFERROR(L98/K98,\"-\")","v":160.82115743296998},{"$f":"IFERROR(INDEX(MasterTable[],MATCH(A98,MasterTable[PF+CR],0),COLUMN(MasterTable[Max Current])),\"-\")","v":700},{"$f":"IF(L98=\"-\",\"-\",H98*0.88)","v":879.12},{"$f":"IFERROR(INDEX(MasterTable[],MATCH(Simulator!E98,MasterTable[P/N],0),COLUMN(MasterTable[Typical Efficacy])),\"-\")","v":164.98761354252684},{"$f":"IFERROR(IF(I98,Calculations!F106,\"-\"),\"-\")","v":28.5648294611917},{"$f":"IFERROR('PPF calc'!$J$8,\"-\")","v":1.4265561937857494E-2},{"$f":"IFERROR(R98*L98,\"-\")","v":16.690707467293269},{"$f":"IFERROR(S98/K98,\"-\")","v":2.2942041822779644}]
["V8-E-30EE",null,null,"V8-E",{"$f":"IFERROR(INDEX(MasterTable[],MATCH(A99,MasterTable[PF+CR],0),7),\"-\")","v":"BXRE-30E0800-E-xx"},"E",{"$f":"IFERROR(INDEX(MasterTable[],MATCH(Simulator!E99,MasterTable[P/N],0),COLUMN(MasterTable[Typical Current])),\"-\")","v":175},{"$f":"IFERROR(INDEX(MasterTable[],MATCH(Simulator!E99,MasterTable[P/N],0),COLUMN(MasterTable[Typical Lumens])),\"-\")","v":1002},{"$f":"IFERROR(MROUND(IF(OR(E99=\"-\",Calculations!V107>(N99+1)),\"-\",Calculations!V107),5),\"-\")","v":205},{"$f":"IFERROR(IF(I99,Calculations!AX107,\"-\"),\"-\")","v":34.878083819393296},{"$f":"IFERROR(I99*J99/1000,\"-\")","v":7.1500071829756262},{"$f":"IFERROR(MROUND(IF(I99,Calculations!AC107*H99,\"-\"),1),\"-\")","v":1170},{"$f":"IFERROR(L99/K99,\"-\")","v":163.63619924547822},{"$f":"IFERROR(INDEX(MasterTable[],MATCH(A99,MasterTable[PF+CR],0),COLUMN(MasterTable[Max Current])),\"-\")","v":350},{"$f":"IF(L99=\"-\",\"-\",H99*0.88)","v":881.76},{"$f":"IFERROR(INDEX(MasterTable[],MATCH(Simulator!E99,MasterTable[P/N],0),COLUMN(MasterTable[Typical Efficacy])),\"-\")","v":165.00617538081514},{"$f":"IFERROR(IF(I99,Calculations!F107,\"-\"),\"-\")","v":28.503503519658057},{"$f":"IFERROR('PPF calc'!$J$8,\"-\")","v":1.4265561937857494E-2},16.690707467293269,2.3343623356119592]
["V10-B-30EB",null,null,"V10-B",{"$f":"IFERROR(INDEX(MasterTable[],MATCH(A100,MasterTable[PF+CR],0),7),\"-\")","v":"BXRE-30E1000-B-xx"},"B",{"$f":"IFERROR(INDEX(MasterTable[],MATCH(Simulator!E100,MasterTable[P/N],0),COLUMN(MasterTable[Typical Current])),\"-\")","v":270},{"$f":"IFERROR(INDEX(MasterTable[],MATCH(Simulator!E100,MasterTable[P/N],0),COLUMN(MasterTable[Typical Lumens])),\"-\")","v":1549},{"$f":"IFERROR(MROUND(IF(OR(E100=\"-\",Calculations!V108>(N100+1)),\"-\",Calculations!V108),5),\"-\")","v":200},{"$f":"IFERROR(IF(I100,Calculations!AX108,\"-\"),\"-\")","v":34.079203817438469},{"$f":"IFERROR(I100*J100/1000,\"-\")","v":6.8158407634876941},{"$f":"IFERROR(MROUND(IF(I100,Calculations!AC108*H100,\"-\"),1),\"-\")","v":1170},{"$f":"IFERROR(L100/K100,\"-\")","v":171.65893990183335},{"$f":"IFERROR(INDEX(MasterTable[],MATCH(A100,MasterTable[PF+CR],0),COLUMN(MasterTable[Max Current])),\"-\")","v":540},{"$f":"IF(L100=\"-\",\"-\",H100*0.88)","v":1363.1200000000001},{"$f":"IFERROR(INDEX(MasterTable[],MATCH(Simulator!E100,MasterTable[P/N],0),COLUMN(MasterTable[Typical Efficacy])),\"-\")","v":164.85738612175393},{"$f":"IFERROR(IF(I100,Calculations!F108,\"-\"),\"-\")","v":28.344873854681587},{"$f":"IFERROR('PPF calc'!$J$8,\"-\")","v":1.4265561937857494E-2},16.690707467293269,2.4488112393565609]
["V10-C-30EC",null,null,"V10-C",{"$f":"IFERROR(INDEX(MasterTable[],MATCH(A101,MasterTable[PF+CR],0),7),\"-\")","v":"BXRE-30E1000-C-xx"},"C",{"$f":"IFERROR(INDEX(MasterTable[],MATCH(Simulator!E101,MasterTable[P/N],0),COLUMN(MasterTable[Typical Current])),\"-\")","v":360},{"$f":"IFERROR(INDEX(MasterTable[],MATCH(Simulator!E101,MasterTable[P/N],0),COLUMN(MasterTable[Typical Lumens])),\"-\")","v":2066},{"$f":"IFERROR(MROUND(IF(OR(E101=\"-\",Calculations!V109>(N101+1)),\"-\",Calculations!V109),5),\"-\")","v":195},{"$f":"IFERROR(IF(I101,Calculations!AX109,\"-\"),\"-\")","v":33.393278621325791},{"$f":"IFERROR(I101*J101/1000,\"-\")","v":6.5116893311585287},{"$f":"IFERROR(MROUND(IF(I101,Calculations!AC109*H101,\"-\"),1),\"-\")","v":1170},179.67687653671265,{"$f":"IFERROR(INDEX(MasterTable[],MATCH(A101,MasterTable[PF+CR],0),COLUMN(MasterTable[Max Current])),\"-\")","v":720},{"$f":"IF(L101=\"-\",\"-\",H101*0.88)","v":1818.08},{"$f":"IFERROR(INDEX(MasterTable[],MATCH(Simulator!E101,MasterTable[P/N],0),COLUMN(MasterTable[Typical Efficacy])),\"-\")","v":164.91060025542785},{"$f":"IFERROR(IF(I101,Calculations!F109,\"-\"),\"-\")","v":27.411712671950081},{"$f":"IFERROR('PPF calc'!$J$8,\"-\")","v":1.4265561937857494E-2},16.690707467293269,2.5631916110352484]
["V13-B-30EB",null,null,"V13-B",{"$f":"IFERROR(INDEX(MasterTable[],MATCH(A102,MasterTable[PF+CR],0),7),\"-\")","v":"BXRE-30E2000-B-xx"},"B",{"$f":"IFERROR(INDEX(MasterTable[],MATCH(Simulator!E102,MasterTable[P/N],0),COLUMN(MasterTable[Typical Current])),\"-\")","v":450},{"$f":"IFERROR(INDEX(MasterTable[],MATCH(Simulator!E102,MasterTable[P/N],0),COLUMN(MasterTable[Typical Lumens])),\"-\")","v":2658.375},{"$f":"IFERROR(MROUND(IF(OR(E102=\"-\",Calculations!V110>(N102+1)),\"-\",Calculations!V110),5),\"-\")","v":185},{"$f":"IFERROR(IF(I102,Calculations!AX110,\"-\"),\"-\")","v":32.887771682480931},{"$f":"IFERROR(I102*J102/1000,\"-\")","v":6.0842377612589722},{"$f":"IFERROR(MROUND(IF(I102,Calculations!AC110*H102,\"-\"),1),\"-\")","v":1170},192.30017726294435,{"$f":"IFERROR(INDEX(MasterTable[],MATCH(A102,MasterTable[PF+CR],0),COLUMN(MasterTable[Max Current])),\"-\")","v":900},{"$f":"IF(L102=\"-\",\"-\",H102*0.9)","v":2392.5374999999999},{"$f":"IFERROR(INDEX(MasterTable[],MATCH(Simulator!E102,MasterTable[P/N],0),COLUMN(MasterTable[Typical Efficacy])),\"-\")","v":169.7557471264368},{"$f":"IFERROR(IF(I102,Calculations!F110,\"-\"),\"-\")","v":26.705817460331641},{"$f":"IFERROR('PPF calc'!$J$8,\"-\")","v":1.4265561937857494E-2},16.690707467293269,2.7432700894055082]
["V13-C-30EC",null,null,"V13-C",{"$f":"IFERROR(INDEX(MasterTable[],MATCH(A103,MasterTable[PF+CR],0),7),\"-\")","v":"BXRE-30E2000-C-xx"},"C",{"$f":"IFERROR(INDEX(MasterTable[],MATCH(Simulator!E103,MasterTable[P/N],0),COLUMN(MasterTable[Typical Current])),\"-\")","v":630},{"$f":"IFERROR(INDEX(MasterTable[],MATCH(Simulator!E103,MasterTable[P/N],0),COLUMN(MasterTable[Typical Lumens])),\"-\")","v":3721.7249999999999},{"$f":"IFERROR(MROUND(IF(OR(E103=\"-\",Calculations!V111>(N103+1)),\"-\",Calculations!V111),5),\"-\")","v":185},{"$f":"IFERROR(IF(I103,Calculations!AX111,\"-\"),\"-\")","v":32.471009304929851},6.0071367214120226,{"$f":"IFERROR(MROUND(IF(I103,Calculations!AC111*H103,\"-\"),1),\"-\")","v":1170},194.76833211230502,{"$f":"IFERROR(INDEX(MasterTable[],MATCH(A103,MasterTable[PF+CR],0),COLUMN(MasterTable[Max Current])),\"-\")","v":1260},3349.5524999999998,{"$f":"IFERROR(INDEX(MasterTable[],MATCH(Simulator!E103,MasterTable[P/N],0),COLUMN(MasterTable[Typical Efficacy])),\"-\")","v":169.75574712643677},{"$f":"IFERROR(IF(I103,Calculations!F111,\"-\"),\"-\")","v":26.193818304435283},{"$f":"IFERROR('PPF calc'!$J$8,\"-\")","v":1.4265561937857494E-2},16.690707467293269,2.7784797052812862]
["V18-B-30EB",null,null,"V18-B",{"$f":"IFERROR(INDEX(MasterTable[],MATCH(A104,MasterTable[PF+CR],0),7),\"-\")","v":"BXRE-30E4000-B-xx"},"B",{"$f":"IFERROR(INDEX(MasterTable[],MATCH(Simulator!E104,MasterTable[P/N],0),COLUMN(MasterTable[Typical Current])),\"-\")","v":900},{"$f":"IFERROR(INDEX(MasterTable[],MATCH(Simulator!E104,MasterTable[P/N],0),COLUMN(MasterTable[Typical Lumens])),\"-\")","v":5324.4},{"$f":"IFERROR(MROUND(IF(OR(E104=\"-\",Calculations!V112>(N104+1)),\"-\",Calculations!V112),5),\"-\")","v":185},{"$f":"IFERROR(IF(I104,Calculations!AX112,\"-\"),\"-\")","v":32.330706315685802},5.9811806684018736,{"$f":"IFERROR(MROUND(IF(I104,Calculations!AC112*H104,\"-\"),1),\"-\")","v":1170},195.61355271895093,{"$f":"IFERROR(INDEX(MasterTable[],MATCH(A104,MasterTable[PF+CR],0),COLUMN(MasterTable[Max Current])),\"-\")","v":1800},4791.96,{"$f":"IFERROR(INDEX(MasterTable[],MATCH(Simulator!E104,MasterTable[P/N],0),COLUMN(MasterTable[Typical Efficacy])),\"-\")","v":170},{"$f":"IFERROR(IF(I104,Calculations!F112,\"-\"),\"-\")","v":25.924291785957035},{"$f":"IFERROR('PPF calc'!$J$8,\"-\")","v":1.4265561937857494E-2},16.690707467293269,2.7905372521965468]
["V18-C-30EC",null,null,"V18-C",{"$f":"IFERROR(INDEX(MasterTable[],MATCH(A105,MasterTable[PF+CR],0),7),\"-\")","v":"BXRE-30E4000-C-xx"},"C",{"$f":"IFERROR(INDEX(MasterTable[],MATCH(Simulator!E105,MasterTable[P/N],0),COLUMN(MasterTable[Typical Current])),\"-\")","v":1170},{"$f":"IFERROR(INDEX(MasterTable[],MATCH(Simulator!E105,MasterTable[P/N],0),COLUMN(MasterTable[Typical Lumens])),\"-\")","v":6921.72},{"$f":"IFERROR(MROUND(IF(OR(E105=\"-\",Calculations!V113>(N105+1)),\"-\",Calculations!V113),5),\"-\")","v":190},{"$f":"IFERROR(IF(I105,Calculations!AX113,\"-\"),\"-\")","v":31.983287152385472},6.0768245589532395,{"$f":"IFERROR(MROUND(IF(I105,Calculations!AC113*H105,\"-\"),1),\"-\")","v":1170},192.53476690818565,{"$f":"IFERROR(INDEX(MasterTable[],MATCH(A105,MasterTable[PF+CR],0),COLUMN(MasterTable[Max Current])),\"-\")","v":2340},6229.5480000000007,{"$f":"IFERROR(INDEX(MasterTable[],MATCH(Simulator!E105,MasterTable[P/N],0),COLUMN(MasterTable[Typical Efficacy])),\"-\")","v":170},{"$f":"IFERROR(IF(I105,Calculations!F113,\"-\"),\"-\")","v":25.681009472240028},{"$f":"IFERROR('PPF calc'!$J$8,\"-\")","v":1.4265561937857494E-2},16.690707467293269,2.7466166425196779]
["V22-B-30EB",null,null,"V22-B",{"$f":"IFERROR(INDEX(MasterTable[],MATCH(A106,MasterTable[PF+CR],0),7),\"-\")","v":"BXRE-30E6500-B-xx"},"B",{"$f":"IFERROR(INDEX(MasterTable[],MATCH(Simulator!E106,MasterTable[P/N],0),COLUMN(MasterTable[Typical Current])),\"-\")","v":1170},{"$f":"IFERROR(INDEX(MasterTable[],MATCH(Simulator!E106,MasterTable[P/N],0),COLUMN(MasterTable[Typical Lumens])),\"-\")","v":10342.800000000001},{"$f":"IFERROR(MROUND(IF(OR(E106=\"-\",Calculations!V114>(N106+1)),\"-\",Calculations!V114),5),\"-\")","v":120},{"$f":"IFERROR(IF(I106,Calculations!AX114,\"-\"),\"-\")","v":47.111587778183377},5.653390533382006,{"$f":"IFERROR(MROUND(IF(I106,Calculations!AC114*H106,\"-\"),1),\"-\")","v":1170},206.95545320837326,{"$f":"IFERROR(INDEX(MasterTable[],MATCH(A106,MasterTable[PF+CR],0),COLUMN(MasterTable[Max Current])),\"-\")","v":2340},9308.52,{"$f":"IFERROR(INDEX(MasterTable[],MATCH(Simulator!E106,MasterTable[P/N],0),COLUMN(MasterTable[Typical Efficacy])),\"-\")","v":170},{"$f":"IFERROR(IF(I106,Calculations!F114,\"-\"),\"-\")","v":25.39573733733674},{"$f":"IFERROR('PPF calc'!$J$8,\"-\")","v":1.4265561937857494E-2},16.690707467293269,2.9523358361214171]
["V22-C-30EC",null,null,"V22-C",{"$f":"IFERROR(INDEX(MasterTable[],MATCH(A107,MasterTable[PF+CR],0),7),\"-\")","v":"BXRE-30E6500-C-xx"},"C",{"$f":"IFERROR(INDEX(MasterTable[],MATCH(Simulator!E107,MasterTable[P/N],0),COLUMN(MasterTable[Typical Current])),\"-\")","v":1440},{"$f":"IFERROR(INDEX(MasterTable[],MATCH(Simulator!E107,MasterTable[P/N],0),COLUMN(MasterTable[Typical Lumens])),\"-\")","v":12729.599999999999},{"$f":"IFERROR(MROUND(IF(OR(E107=\"-\",Calculations!V115>(N107+1)),\"-\",Calculations!V115),5),\"-\")","v":105},{"$f":"IFERROR(IF(I107,Calculations!AX115,\"-\"),\"-\")","v":47.331500692631451},4.9698075727263022,{"$f":"IFERROR(MROUND(IF(I107,Calculations!AC115*H107,\"-\"),1),\"-\")","v":1170},235.42158984601684,{"$f":"IFERROR(INDEX(MasterTable[],MATCH(A107,MasterTable[PF+CR],0),COLUMN(MasterTable[Max Current])),\"-\")","v":2880},11456.64,{"$f":"IFERROR(INDEX(MasterTable[],MATCH(Simulator!E107,MasterTable[P/N],0),COLUMN(MasterTable[Typical Efficacy])),\"-\")","v":170},{"$f":"IFERROR(IF(I107,Calculations!F115,\"-\"),\"-\")","v":25.317902024402059},{"$f":"IFERROR('PPF calc'!$J$8,\"-\")","v":1.4265561937857494E-2},16.690707467293269,3.3584212714572361]
["V22-D-30ED",null,null,"V22-D",{"$f":"IFERROR(INDEX(MasterTable[],MATCH(A108,MasterTable[PF+CR],0),7),\"-\")","v":"BXRE-30E6500-D-xx"},"D",{"$f":"IFERROR(INDEX(MasterTable[],MATCH(Simulator!E108,MasterTable[P/N],0),COLUMN(MasterTable[Typical Current])),\"-\")","v":1400},{"$f":"IFERROR(INDEX(MasterTable[],MATCH(Simulator!E108,MasterTable[P/N],0),COLUMN(MasterTable[Typical Lumens])),\"-\")","v":8330},{"$f":"IFERROR(MROUND(IF(OR(E108=\"-\",Calculations!V116>(N108+1)),\"-\",Calculations!V116),5),\"-\")","v":185},{"$f":"IFERROR(IF(I108,Calculations!AX116,\"-\"),\"-\")","v":30.428791287612043},{"$f":"IFERROR(I108*J108/1000,\"-\")","v":5.6293263882082281},{"$f":"IFERROR(MROUND(IF(I108,Calculations!AC116*H108,\"-\"),1),\"-\")","v":1170},207.8401427301859,{"$f":"IFERROR(INDEX(MasterTable[],MATCH(A108,MasterTable[PF+CR],0),COLUMN(MasterTable[Max Current])),\"-\")","v":2800},7497,{"$f":"IFERROR(INDEX(MasterTable[],MATCH(Simulator!E108,MasterTable[P/N],0),COLUMN(MasterTable[Typical Efficacy])),\"-\")","v":170.97701149425291},{"$f":"IFERROR(IF(I108,Calculations!F116,\"-\"),\"-\")","v":25.394052847174574},{"$f":"IFERROR('PPF calc'!$J$8,\"-\")","v":1.4265561937857494E-2},16.690707467293269,2.9649564292906092]
[null,null,null,null,null,null,null,null,null,null,null,null,null,null,null,null,null,null,null,"-"]
[{"$f":"D110&C110&\"-\"&L$6&F110","v":"Vero 10-B-30EB"},null,null,"Vero 10-B",{"$f":"IFERROR(INDEX(MasterTable[],MATCH(A110,MasterTable[PF+CR],0),7),\"-\")","v":"BXRC-30E1000-B-xx"},"B",{"$f":"IFERROR(INDEX(MasterTable[],MATCH(Simulator!E110,MasterTable[P/N],0),COLUMN(MasterTable[Typical Current])),\"-\")","v":270},{"$f":"IFERROR(INDEX(MasterTable[],MATCH(Simulator!E110,MasterTable[P/N],0),COLUMN(MasterTable[Typical Lumens])),\"-\")","v":1549},{"$f":"IFERROR(MROUND(IF(OR(E110=\"-\",Calculations!V117>(N110+1)),\"-\",Calculations!V117),5),\"-\")","v":200},{"$f":"IFERROR(IF(I110,Calculations!AX117,\"-\"),\"-\")","v":34.058789408657461},{"$f":"IFERROR(I110*J110/1000,\"-\")","v":6.8117578817314923},{"$f":"IFERROR(MROUND(IF(I110,Calculations!AC117*H110,\"-\"),1),\"-\")","v":1170},{"$f":"IFERROR(L110/K110,\"-\")","v":171.76183010524088},{"$f":"IFERROR(INDEX(MasterTable[],MATCH(A110,MasterTable[PF+CR],0),COLUMN(MasterTable[Max Current])),\"-\")","v":540},{"$f":"IF(L110=\"-\",\"-\",H110*0.88)","v":1363.1200000000001},{"$f":"IFERROR(INDEX(MasterTable[],MATCH(Simulator!E110,MasterTable[P/N],0),COLUMN(MasterTable[Typical Efficacy])),\"-\")","v":164.85738612175393},{"$f":"IFERROR(IF(I110,Calculations!F117,\"-\"),\"-\")","v":28.34287018045973},{"$f":"IFERROR('PPF calc'!$J$8,\"-\")","v":1.4265561937857494E-2},{"$f":"IFERROR(R110*L110,\"-\")","v":16.690707467293269},2.4502790259260698]
["Vero 10-C-30EC",null,null,"Vero 10-C",{"$f":"IFERROR(INDEX(MasterTable[],MATCH(A111,MasterTable[PF+CR],0),7),\"-\")","v":"BXRC-30E1000-C-xx"},"C",{"$f":"IFERROR(INDEX(MasterTable[],MATCH(Simulator!E111,MasterTable[P/N],0),COLUMN(MasterTable[Typical Current])),\"-\")","v":360},{"$f":"IFERROR(INDEX(MasterTable[],MATCH(Simulator!E111,MasterTable[P/N],0),COLUMN(MasterTable[Typical Lumens])),\"-\")","v":2066},{"$f":"IFERROR(MROUND(IF(OR(E111=\"-\",Calculations!V118>(N111+1)),\"-\",Calculations!V118),5),\"-\")","v":195},{"$f":"IFERROR(IF(I111,Calculations!AX118,\"-\"),\"-\")","v":33.393278621325791},6.5116893311585287,{"$f":"IFERROR(MROUND(IF(I111,Calculations!AC118*H111,\"-\"),1),\"-\")","v":1170},179.67687653671265,{"$f":"IFERROR(INDEX(MasterTable[],MATCH(A111,MasterTable[PF+CR],0),COLUMN(MasterTable[Max Current])),\"-\")","v":720},{"$f":"IF(L111=\"-\",\"-\",H111*0.88)","v":1818.08},{"$f":"IFERROR(INDEX(MasterTable[],MATCH(Simulator!E111,MasterTable[P/N],0),COLUMN(MasterTable[Typical Efficacy])),\"-\")","v":164.91060025542785},{"$f":"IFERROR(IF(I111,Calculations!F118,\"-\"),\"-\")","v":27.411712671950081},{"$f":"IFERROR('PPF calc'!$J$8,\"-\")","v":1.4265561937857494E-2},16.690707467293269,2.5631916110352484]
["Vero 10-D-30ED",null,null,"Vero 10-D",{"$f":"IFERROR(INDEX(MasterTable[],MATCH(A112,MasterTable[PF+CR],0),7),\"-\")","v":"BXRC-30E1000-D-xx"},"D",{"$f":"IFERROR(INDEX(MasterTable[],MATCH(Simulator!E112,MasterTable[P/N],0),COLUMN(MasterTable[Typical Current])),\"-\")","v":350},{"$f":"IFERROR(INDEX(MasterTable[],MATCH(Simulator!E112,MasterTable[P/N],0),COLUMN(MasterTable[Typical Lumens])),\"-\")","v":1501},{"$f":"IFERROR(MROUND(IF(OR(E112=\"-\",Calculations!V119>(N112+1)),\"-\",Calculations!V119),5),\"-\")","v":265},{"$f":"IFERROR(IF(I112,Calculations!AX119,\"-\"),\"-\")","v":25.452488488264201},6.744909449390013,{"$f":"IFERROR(MROUND(IF(I112,Calculations!AC119*H112,\"-\"),1),\"-\")","v":1170},173.46415230315819,{"$f":"IFERROR(INDEX(MasterTable[],MATCH(A112,MasterTable[PF+CR],0),COLUMN(MasterTable[Max Current])),\"-\")","v":700},{"$f":"IF(L112=\"-\",\"-\",H112*0.88)","v":1320.88},{"$f":"IFERROR(INDEX(MasterTable[],MATCH(Simulator!E112,MasterTable[P/N],0),COLUMN(MasterTable[Typical Efficacy])),\"-\")","v":164.94505494505495},{"$f":"IFERROR(IF(I112,Calculations!F119,\"-\"),\"-\")","v":28.310064312288148},{"$f":"IFERROR('PPF calc'!$J$8,\"-\")","v":1.4265561937857494E-2},16.690707467293269,2.4745636086786487]
["Vero 13-B-30EB",null,null,"Vero 13-B",{"$f":"IFERROR(INDEX(MasterTable[],MATCH(A113,MasterTable[PF+CR],0),7),\"-\")","v":"BXRC-30E2000-B-xx"},"B",{"$f":"IFERROR(INDEX(MasterTable[],MATCH(Simulator!E113,MasterTable[P/N],0),COLUMN(MasterTable[Typical Current])),\"-\")","v":450},{"$f":"IFERROR(INDEX(MasterTable[],MATCH(Simulator!E113,MasterTable[P/N],0),COLUMN(MasterTable[Typical Lumens])),\"-\")","v":2662.2},{"$f":"IFERROR(MROUND(IF(OR(E113=\"-\",Calculations!V120>(N113+1)),\"-\",Calculations!V120),5),\"-\")","v":185},{"$f":"IFERROR(IF(I113,Calculations!AX120,\"-\"),\"-\")","v":32.889520614335609},6.0845613136520882,{"$f":"IFERROR(MROUND(IF(I113,Calculations!AC120*H113,\"-\"),1),\"-\")","v":1170},192.28995151628115,{"$f":"IFERROR(INDEX(MasterTable[],MATCH(A113,MasterTable[PF+CR],0),COLUMN(MasterTable[Max Current])),\"-\")","v":900},{"$f":"IF(L113=\"-\",\"-\",H113*0.9)","v":2395.98},{"$f":"IFERROR(INDEX(MasterTable[],MATCH(Simulator!E113,MasterTable[P/N],0),COLUMN(MasterTable[Typical Efficacy])),\"-\")","v":170},{"$f":"IFERROR(IF(I113,Calculations!F120,\"-\"),\"-\")","v":26.705908173637589},{"$f":"IFERROR('PPF calc'!$J$8,\"-\")","v":1.4265561937857494E-2},16.690707467293269,2.7431242133831235]
["Vero 13-C-30EC",null,null,"Vero 13-C",{"$f":"IFERROR(INDEX(MasterTable[],MATCH(A114,MasterTable[PF+CR],0),7),\"-\")","v":"BXRC-30E2000-C-xx"},"C",{"$f":"IFERROR(INDEX(MasterTable[],MATCH(Simulator!E114,MasterTable[P/N],0),COLUMN(MasterTable[Typical Current])),\"-\")","v":630},{"$f":"IFERROR(INDEX(MasterTable[],MATCH(Simulator!E114,MasterTable[P/N],0),COLUMN(MasterTable[Typical Lumens])),\"-\")","v":3727.08},{"$f":"IFERROR(MROUND(IF(OR(E114=\"-\",Calculations!V121>(N114+1)),\"-\",Calculations!V121),5),\"-\")","v":185},{"$f":"IFERROR(IF(I114,Calculations!AX121,\"-\"),\"-\")","v":32.473792201788328},6.0076515573308402,{"$f":"IFERROR(MROUND(IF(I114,Calculations!AC121*H114,\"-\"),1),\"-\")","v":1170},194.7516411087968,{"$f":"IFERROR(INDEX(MasterTable[],MATCH(A114,MasterTable[PF+CR],0),COLUMN(MasterTable[Max Current])),\"-\")","v":1260},3354.3719999999998,{"$f":"IFERROR(INDEX(MasterTable[],MATCH(Simulator!E114,MasterTable[P/N],0),COLUMN(MasterTable[Typical Efficacy])),\"-\")","v":170},{"$f":"IFERROR(IF(I114,Calculations!F121,\"-\"),\"-\")","v":26.19392061949355},{"$f":"IFERROR('PPF calc'!$J$8,\"-\")","v":1.4265561937857494E-2},16.690707467293269,2.7782415987369347]
["Vero 13-D-30ED",null,null,"Vero 13-D",{"$f":"IFERROR(INDEX(MasterTable[],MATCH(A115,MasterTable[PF+CR],0),7),\"-\")","v":"BXRC-30E2000-D-xx"},"D",{"$f":"IFERROR(INDEX(MasterTable[],MATCH(Simulator!E115,MasterTable[P/N],0),COLUMN(MasterTable[Typical Current])),\"-\")","v":500},{"$f":"IFERROR(INDEX(MasterTable[],MATCH(Simulator!E115,MasterTable[P/N],0),COLUMN(MasterTable[Typical Lumens])),\"-\")","v":2703},{"$f":"IFERROR(MROUND(IF(OR(E115=\"-\",Calculations!V122>(N115+1)),\"-\",Calculations!V122),5),\"-\")","v":210},{"$f":"IFERROR(IF(I115,Calculations!AX122,\"-\"),\"-\")","v":30.285944343603294},6.3600483121566924,{"$f":"IFERROR(MROUND(IF(I115,Calculations!AC122*H115,\"-\"),1),\"-\")","v":1170},183.96086673801585,{"$f":"IFERROR(INDEX(MasterTable[],MATCH(A115,MasterTable[PF+CR],0),COLUMN(MasterTable[Max Current])),\"-\")","v":1000},2432.7000000000003,{"$f":"IFERROR(INDEX(MasterTable[],MATCH(Simulator!E115,MasterTable[P/N],0),COLUMN(MasterTable[Typical Efficacy])),\"-\")","v":170},{"$f":"IFERROR(IF(I115,Calculations!F122,\"-\"),\"-\")","v":26.78314554511833},{"$f":"IFERROR('PPF calc'!$J$8,\"-\")","v":1.4265561937857494E-2},16.690707467293269,2.624305138593114]
["Vero 18-B-30EB",null,null,"Vero 18-B",{"$f":"IFERROR(INDEX(MasterTable[],MATCH(A116,MasterTable[PF+CR],0),7),\"-\")","v":"BXRC-30E4000-B-xx"},"B",{"$f":"IFERROR(INDEX(MasterTable[],MATCH(Simulator!E116,MasterTable[P/N],0),COLUMN(MasterTable[Typical Current])),\"-\")","v":900},{"$f":"IFERROR(INDEX(MasterTable[],MATCH(Simulator!E116,MasterTable[P/N],0),COLUMN(MasterTable[Typical Lumens])),\"-\")","v":5324.4},{"$f":"IFERROR(MROUND(IF(OR(E116=\"-\",Calculations!V123>(N116+1)),\"-\",Calculations!V123),5),\"-\")","v":180},{"$f":"IFERROR(IF(I116,Calculations!AX123,\"-\"),\"-\")","v":31.859813552406962},5.7347664394332529,{"$f":"IFERROR(MROUND(IF(I116,Calculations!AC123*H116,\"-\"),1),\"-\")","v":1170},204.01877083517755,{"$f":"IFERROR(INDEX(MasterTable[],MATCH(A116,MasterTable[PF+CR],0),COLUMN(MasterTable[Max Current])),\"-\")","v":1800},4791.96,{"$f":"IFERROR(INDEX(MasterTable[],MATCH(Simulator!E116,MasterTable[P/N],0),COLUMN(MasterTable[Typical Efficacy])),\"-\")","v":170},{"$f":"IFERROR(IF(I116,Calculations!F123,\"-\"),\"-\")","v":25.886212573773751},{"$f":"IFERROR('PPF calc'!$J$8,\"-\")","v":1.4265561937857494E-2},16.690707467293269,2.9104424118347798]
["Vero 18-C-30EC",null,null,"Vero 18-C",{"$f":"IFERROR(INDEX(MasterTable[],MATCH(A117,MasterTable[PF+CR],0),7),\"-\")","v":"BXRC-30E4000-C-xx"},"C",{"$f":"IFERROR(INDEX(MasterTable[],MATCH(Simulator!E117,MasterTable[P/N],0),COLUMN(MasterTable[Typical Current])),\"-\")","v":1170},{"$f":"IFERROR(INDEX(MasterTable[],MATCH(Simulator!E117,MasterTable[P/N],0),COLUMN(MasterTable[Typical Lumens])),\"-\")","v":6922},{"$f":"IFERROR(MROUND(IF(OR(E117=\"-\",Calculations!V124>(N117+1)),\"-\",Calculations!V124),5),\"-\")","v":185},{"$f":"IFERROR(IF(I117,Calculations!AX124,\"-\"),\"-\")","v":31.972432403959175},5.9148999947324477,{"$f":"IFERROR(MROUND(IF(I117,Calculations!AC124*H117,\"-\"),1),\"-\")","v":1170},197.80554211262253,{"$f":"IFERROR(INDEX(MasterTable[],MATCH(A117,MasterTable[PF+CR],0),COLUMN(MasterTable[Max Current])),\"-\")","v":2340},6229.8,{"$f":"IFERROR(INDEX(MasterTable[],MATCH(Simulator!E117,MasterTable[P/N],0),COLUMN(MasterTable[Typical Efficacy])),\"-\")","v":170.00687690342863},{"$f":"IFERROR(IF(I117,Calculations!F124,\"-\"),\"-\")","v":25.662863126076349},{"$f":"IFERROR('PPF calc'!$J$8,\"-\")","v":1.4265561937857494E-2},16.690707467293269,2.8218072126590958]
["Vero 18-D-30ED",null,null,"Vero 18-D",{"$f":"IFERROR(INDEX(MasterTable[],MATCH(A118,MasterTable[PF+CR],0),7),\"-\")","v":"BXRC-30E4000-D-xx"},"D",{"$f":"IFERROR(INDEX(MasterTable[],MATCH(Simulator!E118,MasterTable[P/N],0),COLUMN(MasterTable[Typical Current])),\"-\")","v":1050},{"$f":"IFERROR(INDEX(MasterTable[],MATCH(Simulator!E118,MasterTable[P/N],0),COLUMN(MasterTable[Typical Lumens])),\"-\")","v":5176.5},{"$f":"IFERROR(MROUND(IF(OR(E118=\"-\",Calculations!V125>(N118+1)),\"-\",Calculations!V125),5),\"-\")","v":215},{"$f":"IFERROR(IF(I118,Calculations!AX125,\"-\"),\"-\")","v":26.676770187404287},5.7355055902919219,{"$f":"IFERROR(MROUND(IF(I118,Calculations!AC125*H118,\"-\"),1),\"-\")","v":1170},203.99247835803263,{"$f":"IFERROR(INDEX(MasterTable[],MATCH(A118,MasterTable[PF+CR],0),COLUMN(MasterTable[Max Current])),\"-\")","v":2100},4658.8500000000004,{"$f":"IFERROR(INDEX(MasterTable[],MATCH(Simulator!E118,MasterTable[P/N],0),COLUMN(MasterTable[Typical Efficacy])),\"-\")","v":170},{"$f":"IFERROR(IF(I118,Calculations!F125,\"-\"),\"-\")","v":25.886326797219777},{"$f":"IFERROR('PPF calc'!$J$8,\"-\")","v":1.4265561937857494E-2},16.690707467293269,2.9100673348735691]
["Vero 29-B-30EB",null,null,"Vero 29-B",{"$f":"IFERROR(INDEX(MasterTable[],MATCH(A119,MasterTable[PF+CR],0),7),\"-\")","v":"BXRC-30E10K0-B-xx"},"B",{"$f":"IFERROR(INDEX(MasterTable[],MATCH(Simulator!E119,MasterTable[P/N],0),COLUMN(MasterTable[Typical Current])),\"-\")","v":1800},{"$f":"IFERROR(INDEX(MasterTable[],MATCH(Simulator!E119,MasterTable[P/N],0),COLUMN(MasterTable[Typical Lumens])),\"-\")","v":15911.999999999998},{"$f":"IFERROR(MROUND(IF(OR(E119=\"-\",Calculations!V126>(N119+1)),\"-\",Calculations!V126),5),\"-\")","v":125},{"$f":"IFERROR(IF(I119,Calculations!AX126,\"-\"),\"-\")","v":47.308541207984476},5.9135676509980595,{"$f":"IFERROR(MROUND(IF(I119,Calculations!AC126*H119,\"-\"),1),\"-\")","v":1170},197.85010826798165,{"$f":"IFERROR(INDEX(MasterTable[],MATCH(A119,MasterTable[PF+CR],0),COLUMN(MasterTable[Max Current])),\"-\")","v":3600},14320.8,{"$f":"IFERROR(INDEX(MasterTable[],MATCH(Simulator!E119,MasterTable[P/N],0),COLUMN(MasterTable[Typical Efficacy])),\"-\")","v":170},{"$f":"IFERROR(IF(I119,Calculations!F126,\"-\"),\"-\")","v":25.371667726865226},{"$f":"IFERROR('PPF calc'!$J$8,\"-\")","v":1.4265561937857494E-2},16.690707467293269,2.8224429739087036]
["Vero 29-C-30EC",null,null,"Vero 29-C",{"$f":"IFERROR(INDEX(MasterTable[],MATCH(A120,MasterTable[PF+CR],0),7),\"-\")","v":"BXRC-30E10K0-C-xx"},"C",{"$f":"IFERROR(INDEX(MasterTable[],MATCH(Simulator!E120,MasterTable[P/N],0),COLUMN(MasterTable[Typical Current])),\"-\")","v":1710},{"$f":"IFERROR(INDEX(MasterTable[],MATCH(Simulator!E120,MasterTable[P/N],0),COLUMN(MasterTable[Typical Lumens])),\"-\")","v":20175},{"$f":"IFERROR(MROUND(IF(OR(E120=\"-\",Calculations!V127>(N120+1)),\"-\",Calculations!V127),5),\"-\")","v":75},{"$f":"IFERROR(IF(I120,Calculations!AX127,\"-\"),\"-\")","v":62.889856048719793},4.7167392036539839,{"$f":"IFERROR(MROUND(IF(I120,Calculations!AC127*H120,\"-\"),1),\"-\")","v":1170},{"$f":"IFERROR(L120/K120,\"-\")","v":248.05272233275466},{"$f":"IFERROR(INDEX(MasterTable[],MATCH(A120,MasterTable[PF+CR],0),COLUMN(MasterTable[Max Current])),\"-\")","v":3420},18157.5,{"$f":"IFERROR(INDEX(MasterTable[],MATCH(Simulator!E120,MasterTable[P/N],0),COLUMN(MasterTable[Typical Efficacy])),\"-\")","v":170.0035391071338},{"$f":"IFERROR(IF(I120,Calculations!F127,\"-\"),\"-\")","v":25.194644104470786},{"$f":"IFERROR('PPF calc'!$J$8,\"-\")","v":1.4265561937857494E-2},16.690707467293269,3.5386114742920785]
["Vero 29-D-30ED",null,null,"Vero 29-D",{"$f":"IFERROR(INDEX(MasterTable[],MATCH(A121,MasterTable[PF+CR],0),7),\"-\")","v":"BXRC-30E10K0-D-xx"},"D",{"$f":"IFERROR(INDEX(MasterTable[],MATCH(Simulator!E121,MasterTable[P/N],0),COLUMN(MasterTable[Typical Current])),\"-\")","v":2100},{"$f":"IFERROR(INDEX(MasterTable[],MATCH(Simulator!E121,MasterTable[P/N],0),COLUMN(MasterTable[Typical Lumens])),\"-\")","v":13423.199999999999},{"$f":"IFERROR(MROUND(IF(OR(E121=\"-\",Calculations!V128>(N121+1)),\"-\",Calculations!V128),5),\"-\")","v":155},{"$f":"IFERROR(IF(I121,Calculations!AX128,\"-\"),\"-\")","v":34.315583538276762},5.3189154484328984,{"$f":"IFERROR(MROUND(IF(I121,Calculations!AC128*H121,\"-\"),1),\"-\")","v":1170},{"$f":"IFERROR(L121/K121,\"-\")","v":219.96965572083212},{"$f":"IFERROR(INDEX(MasterTable[],MATCH(A121,MasterTable[PF+CR],0),COLUMN(MasterTable[Max Current])),\"-\")","v":4200},12080.88,{"$f":"IFERROR(INDEX(MasterTable[],MATCH(Simulator!E121,MasterTable[P/N],0),COLUMN(MasterTable[Typical Efficacy])),\"-\")","v":170},{"$f":"IFERROR(IF(I121,Calculations!F128,\"-\"),\"-\")","v":25.334293835934009},{"$f":"IFERROR('PPF calc'!$J$8,\"-\")","v":1.4265561937857494E-2},16.690707467293269,3.1379907481347198]
[]
[]
[null,null,"\n© 2014 Bridgelux, Inc."]

{"sheet":"Data","index":2,"n_rows":786,"n_cols":43,"rows_kept":786,"cut":false,"hidden":true,"merged":[[178,36,178,39],[177,15,177,17],[178,15,178,17],[178,23,178,26],[178,19,178,22],[178,27,178,31],[178,32,178,35]]}
["Thermal Resistance at max drive current",null,null,null,null,null,null,null,null,null,null,null,1,null,null,2,3,4,5,null,6,7,8]
["Form Factor","Max Current","Rth",null,null,null,"V10-B","Gen 7",null,null,"V13-B","Gen 7",null,"V18-B","Gen 7",null,"V22-B","Gen 7",null,"V8-D","Gen 7",null,null,null,null,null,null,"Vero 10",null,null,null,"Vero 13","Data from 130 LPW Mass Production and Engineering Recommended DS Value_01042015_V2",null,"Vero 18","Data from 130 LPW Mass Production and Engineering Recommended DS Value_01042015_V2",null,"Vero 29","Data from 130 LPW Mass Production and Engineering Recommended DS Value_01042015_V2",null,"V22","Data from: DS43 V Series V15 130lm-W Data Sheet Tables"]
["Vero 10",700,1.49,null,null,null,"Code","85 DC Factor",null,null,"Code","85 DC Factor",null,"Code","85 DC Factor",null,"Code","85 DC Factor",null,"Code","85 DC Factor",null,null,null,"CCT/ CRI PN Creator",null,null,"Code","85 DC Factor",null,null,"Code","85 DC Factor",null,"Code","85 DC Factor",null,"Code","85 DC Factor",null,"Code","85 DC Factor"]
["Vero 13",1050,0.87,null,null,null,"30E",0.9,null,null,"30E",0.9,null,"30E",0.9,null,"30E",0.9,null,"27E",0.9,null,null,null,"CCT/CRI","Code",null,"17E","-",null,null,"17E","-",null,"17E",0.88,null,"17E",0.88,null,"27E",0.89991578660000004]
["Vero 18",2100,0.55000000000000004,null,null,null,"20B",0.9,null,null,"20B",0.9,null,"17E",0.9,null,"27E",0.9,null,"27G",0.9,null,null,null,"1750K, 80 CRI","17E",null,"25E","-",null,null,"25E","-",null,"25E",0.88,null,"25E",0.88,null,"30E",0.89831908820000006]
["Vero 29",3150,0.26,null,null,null,"27E",0.9,null,null,"27E",0.9,null,"25E",0.9,null,"27G",0.9,null,"30E",0.9,null,null,null,"2000K, 65 CRI","20B",null,"27E",0.88898999999999995,null,null,"27E",0.91579999999999995,null,"27E",0.90691252449670401,null,"27E",0.90539926611916821,null,"40E",0.89016532060000009]
["BXRA3-Star-AF",500,2.6,null,null,null,"27G",0.9,null,null,"27G",0.9,null,"27E",0.9,null,"30G",0.9,null,"30G",0.9,null,null,null,"2500K, 80 CRI","25E",null,"27G",0.88898999999999995,null,null,"27G",0.88,null,"27G",0.88,null,"27G",0.88,null,"50C",0.88338153930000007]
["BXRA3-Star-AI",500,1.75,null,null,null,"27H",0.9,null,null,"27H",0.9,null,"27G",0.9,null,"35E",0.9,null,"40E",0.9,null,null,null,"2700K, 80 CRI","27E",null,"27H",0.82,null,null,"27H",0.82,null,"27H",0.82,null,"27H",0.82]
["BXRA3-Rect-BG",1000,0.95,null,null,null,"30G",0.9,null,null,"30G",0.9,null,"27H",0.9,null,"35G",0.9,null,"40G",0.9,null,null,null,"2700K, 90 CRI – High Efficacy","27G-H",null,"30A",0.88812461440000001,null,null,"30A",0.88812461440000001,null,"30A",0.87769747119999997,null,"30A",0.89107579370000001]
["BXRA3-Rect-BJ",1000,0.8,null,null,null,"30G-C",0.9,null,null,"30G-C",0.9,null,"30G",0.9,null,"40E",0.9,null,"50C",0.9,null,null,null,"2700K, 90 CRI","27G",null,"30E",0.88932599999999995,null,null,"30E",0.90076212096643438,null,"30E",0.90421201296003983,null,"30E",0.90774086378737495]
["BXRA3-Rect-BL",1000,0.65,null,null,null,"30H",0.9,null,null,"30H",0.9,null,"30G-C",0.9,null,"40G",0.9,null,"27G-H",0.9,null,null,null,"2700K, 97 CRI","27H",null,"30G",0.88932599999999995,null,null,"30G",0.88,null,"30G",0.88,null,"30G",0.88]
["BXRA3-Mega-FF",2250,0.46,null,null,null,"30A",0.9,null,null,"30A",0.9,null,"30H",0.9,null,"50C",0.9,null,"30G-H",0.9,null,null,null,"2700K, Thrive","27S",null,"30H",0.82,null,null,"30H",0.82,null,"30H",0.82,null,"30H",0.82]
["BXRA3-Mega-HH",3000,0.31,null,null,null,"35E",0.9,null,null,"35E",0.9,null,"35E",0.9,null,"50E",0.9,null,"30C",0.9,null,null,null,"3000K, 70 CRI","30C",null,"35E",0.88932599999999995,null,null,"35E",0.90566335384129992,null,"35E",0.90843612881861069,null,"35E",0.89750486066105006]
["BXRA3-Mega-JJ",3750,0.26,null,null,null,"35G",0.9,null,null,"35G",0.9,null,"35G",0.9,null,"50G",0.9,null,"40C",0.9,null,null,null,"3000K, 80 CRI","30E",null,"35G",0.89,null,null,"35G",0.89,null,"35G",0.89,null,"35G",0.89]
["V Series V15",2000,0.4,null,null,null,"35A",0.9,null,null,"35A",0.9,null,"35A",0.9,null,"57C",0.9,null,null,null,null,null,null,"3000K, 90 CRI – High Efficacy","30G-H",null,"35H","-",null,null,"35H","-",null,"35H",null,null,"35H"]
["V Series V6",null,1.5,null,null,null,"40E",0.9,null,null,"40E",0.9,null,"40E",0.9,null,"57E",0.9,null,null,null,null,null,null,"3000K 90 CRI","30G",null,"40A",0.88787044189999997,null,null,"40A",0.88787044189999997,null,"40A",0.89355050089999999,null,"40A",0.8906497457]
["H Series H9",2450,2450,null,null,null,"40G",0.9,null,null,"40G",0.9,null,"40G",0.9,null,"65C",0.9,null,null,null,null,null,null,"3000K, 97 CRI","30H",null,"40E",0.88565000000000005,null,null,"40E",0.9019637925744094,null,"40E",0.90312681429874753,null,"40E",0.89817667400188606]
[null,null,null,null,null,null,"50C",0.9,null,null,"50C",0.9,null,"50C",0.9,null,"65E",0.9,null,null,null,null,null,null,"3000K, Class A","30A",null,"40G",0.88565000000000005,null,null,"40G",0.88,null,"40G",0.88,null,"40G",0.88]
["Tj","Vf",null,null,null,null,"50E",0.9,null,null,"50E",0.9,null,"50E",0.9,null,"27G-H",0.9,null,null,null,null,null,null,"Décor Series Showcase","30G-C",null,"50C",0.87918499999999999,null,null,"50C",0.88,null,"50C",0.88,null,"50C",0.88]
[-40,0.26,null,null,null,null,"50G",0.9,null,null,"50G",0.9,null,"50G",0.9,null,"30G-H",0.9,null,null,null,null,null,null,"3000K, Thrive","30S",null,"50E",0.87918499999999999,null,null,"50E",0.88,null,"50E",0.88,null,"50E",0.88]
[-35,0.24,null,null,null,null,"57C",0.9,null,null,"57C",0.9,null,"57C",0.9,null,"30C",0.9,null,null,null,null,null,null,"3500K, 80 CRI","35E",null,"50G",0.87918499999999999,null,null,"50G",0.88,null,"50G",0.88,null,"50G",0.88]
[-30,0.22,null,null,null,null,"57E",0.9,null,null,"57E",0.9,null,"57E",0.9,null,"40C",0.9,null,null,null,null,null,null,"3500K, 90 CRI","35G",null,"56G",0.86,null,null,"56G",0.86,null,"56G",0.88,null,"56G",0.88]
[-25,0.19999999999999998,null,null,null,null,"65C",0.9,null,null,"65C",0.9,null,"65C",0.9,null,null,null,null,null,null,null,null,null,"3500K, Class A","35A"]
[-20,0.18000000000000002,null,null,null,null,"65E",0.9,null,null,"65E",0.9,null,"65E",0.9,null,null,null,null,null,null,null,null,null,"3500K, Thrive","35S"]
[-15,0.16,null,null,null,null,"27S",0.9,null,null,"27G-H",0.9,null,"27G-H",0.9,null,null,null,null,null,null,null,null,null,"4000K, 70 CRI","40C",null,"V6","Vseries Mass Production and Engineering Recommended DS Value Current DS Comparison 11-18-14",null,null,"V8","Data from 130 LPW Mass Production and Engineering Recommended DS Value_01042015_V2",null,"V10","Data from: DS42 V Series V10 130lm-W Data Sheet Tables",null,"V15","Data from: DS43 V Series V15 130lm-W Data Sheet Tables"]
[-10,0.13999999999999999,null,null,null,null,"30S",0.9,null,null,"30G-H",0.9,null,"30G-H",0.9,null,null,null,null,null,null,null,null,null,"4000K, 80 CRI","40E",null,"Code","85 DC Factor",null,null,"Code","85 DC Factor",null,"Code","85 DC Factor",null,"Code","85 DC Factor"]
[-5,0.12,null,null,null,null,"35S",0.9,null,null,"30C",0.9,null,"30C",0.9,null,null,null,null,null,null,null,null,null,"4000K, 90 CRI","40G",null,"27E",0.9,null,null,"27E",0.89800000000000002,null,"27E",0.88873228900000001,null,"27E",0.892060046]
[0,9.9999999999999992E-2,null,null,null,null,"40S",0.9,null,null,"40C",0.9,null,"40C",0.9,null,null,null,null,null,null,null,null,null,"4000K, Class A","40A",null,"27G",0.9,null,null,"27G",0.88,null,"27G",0.88873228900000001,null,"27G",0.892060046]
[5,0.08,null,null,null,null,"50S",0.9,null,null,null,null,null,null,null,null,null,null,null,null,null,null,null,null,"4000K, Thrive","40S",null,"30E",0.9,null,null,"30E",0.89600000000000002,null,"30E",0.89565275099999997,null,"30E",0.89370903300000004]
[10,0.06,null,null,null,null,"57S",0.9,null,null,null,null,null,null,null,null,null,null,null,null,null,null,null,null,"5000K, 70 CRI","50C",null,"30G",0.9,null,null,"30G",0.88,null,"30G",0.89565275099999997,null,"30G",0.89370903300000004]
[15,0.04,null,null,null,null,"65S",0.9,null,null,null,null,null,null,null,null,null,null,null,null,null,null,null,null,"5000K, 80 CRI","50E",null,"40E",0.9,null,null,"40E",0.90100000000000002,null,"40E",0.896027095,null,"40E",0.89357501399999995]
[20,0.02,null,null,null,null,"27G-H",0.9,null,null,null,null,null,null,null,null,null,null,null,null,null,null,null,null,"5000K, 90 CRI","50G",null,"40G",null,null,null,"40G",0.88,null,"40G",0.896027095,null,"40G",0.89357501399999995]
[25,0,null,null,null,null,"30G-H",0.9,null,null,null,null,null,null,null,null,null,null,null,null,null,null,null,null,"5000K, Thrive","50S",null,"50C",0.9,null,null,"50C",0.88,null,"50C",0.86730394499999997,null,"50C",0.86730394499999997]
[30,-0.02,null,null,null,null,"30C",0.9,null,null,null,null,null,null,null,null,null,null,null,null,null,null,null,null,"5600K, 90 CRI","56G",null,"50E",0.9,null,null,"50E",0.88,null,"50E",0.86730394499999997,null,"50E",0.86730394499999997]
[35,-0.04,null,null,null,null,"40C",0.9,null,null,null,null,null,null,null,null,null,null,null,null,null,null,null,null,"5600K, 97 CRI","56H",null,"50G",0.9,null,null,"50G",0.88,null,"50G",0.86730394499999997,null,"50G",0.86730394499999997]
[40,-0.06,null,null,null,null,null,null,null,null,null,null,null,null,null,null,null,null,null,null,null,null,null,null,"5700K, 70 CRI","57C"]
[45,-0.08,null,null,null,null,"V10-C","Gen 7",null,null,"V13-C",null,null,"V18-C","Gen 7",null,"V22-C","Gen 7",null,"V8-E","Gen 7",null,null,null,"5700K, 80 CRI","57E"]
[50,-9.9999999999999992E-2,null,null,null,null,"Code","85 DC Factor",null,null,"Code","85 DC Factor",null,"Code","85 DC Factor",null,"Code","85 DC Factor",null,"Code","85 DC Factor",null,null,null,"5700K, Thrive","57S",null,"V4 HD",null,null,null,"V6 HD",null,null,"V9 HD",null,null,"H15"]
[55,-0.12,null,null,null,null,"30E",0.9,null,null,"30E",0.9,null,"30E",0.9,null,"30E",0.9,null,"27E",0.9,null,null,null,"6500K, 70 CRI","65C",null,"Code","85 DC Factor",null,null,"Code","85 DC Factor",null,"Code","85 DC Factor",null,"Code","85 DC Factor"]
[60,-0.13999999999999999,null,null,null,null,"27E",0.9,null,null,"20B",0.9,null,"20B",0.9,null,"20B",0.9,null,"27G",0.9,null,null,null,"6500K, 80 CRI","65E",null,"27E",0.88,null,null,"27E",0.88,null,"27E",0.88,null,"27E",0.86878556238864302]
[65,-0.16,null,null,null,null,"27G",0.9,null,null,"27E",0.9,null,"27E",0.9,null,"27E",0.9,null,"30E",0.9,null,null,null,"6500K, Thrive","65S",null,"27G",0.88,null,null,"27G",0.88,null,"27G",0.88,null,"27G",0.86878556238864302]
[70,-0.18000000000000002,null,null,null,null,"30G",0.9,null,null,"27G",0.9,null,"27G",0.9,null,"27G",0.9,null,"30G",0.9,null,null,null,null,null,null,"27H",0.88,null,null,"27H",0.88,null,"27H",0.88,null,"27H",0.86878556238864302]
[75,-0.19999999999999998,null,null,null,null,"30A",0.9,null,null,"30G",0.9,null,"30G",0.9,null,"30G",0.9,null,"40E",0.9,null,null,null,null,null,null,"30E",0.88,null,null,"30E",0.88,null,"30E",0.88,null,"30E",0.86878556238864302]
[80,-0.22,null,null,null,null,"35E",0.9,null,null,"30A",0.9,null,"35E",0.9,null,"35E",0.9,null,"40G",0.9,null,null,null,null,null,null,"30G-C",0.88,null,null,"30G-C",0.88,null,"30G-C",0.88]
[85,-0.24,null,null,null,null,"35G",0.9,null,null,"35E",0.9,null,"35G",0.9,null,"35G",0.9,null,"50C",0.9,null,null,null,null,null,null,"30G",0.88,null,null,"30G",0.88,null,"30G",0.88,null,"30G",0.86878556238864302]
[90,-0.26,null,null,null,null,"40E",0.9,null,null,"35G",0.9,null,"40E",0.9,null,"40E",0.9,null,"27G-H",0.9,null,null,null,null,null,null,"30H",0.88,null,null,"30H",0.88,null,"30H",0.88,null,"30H",0.86878556238864302]
[95,-0.27999999999999997,null,null,null,null,"40G",0.9,null,null,"35A",0.9,null,"40G",0.9,null,"40G",0.9,null,"30G-H",0.9,null,null,null,null,null,null,"35A",0.88,null,null,"35A",0.88,null,"35A",0.88,null,"35A",0.86878556238864302]
[100,-0.3,null,null,null,null,"50C",0.9,null,null,"40E",0.9,null,"50C",0.9,null,"50C",0.9,null,"30C",0.9,null,null,null,null,null,null,"35G",0.88,null,null,"35G",0.88,null,"35G",0.88,null,"35G",0.86878556238864302]
[105,-0.32,null,null,null,null,"50E",0.9,null,null,"40G",0.9,null,"50E",0.9,null,"50E",0.9,null,"40C",0.9,null,null,null,null,null,null,"40E",0.88,null,null,"40E",0.88,null,"40E",0.88,null,"40E",0.86878556238864302]
[110,-0.34,null,null,null,null,"50G",0.9,null,null,"50C",0.9,null,"50G",0.9,null,"50G",0.9,null,null,null,null,null,null,null,null,null,"40G",0.88,null,null,"40G",0.88,null,"40G",0.88,null,"40G",0.86878556238864302]
[115,-0.36000000000000004,null,null,null,null,"57C",0.9,null,null,"50E",0.9,null,"57C",0.9,null,"57C",0.9]
[120,-0.38000000000000006,null,null,null,null,"57E",0.9,null,null,"50G",0.9,null,"57E",0.9,null,"57E",0.9]
[125,-0.39999999999999997,null,null,null,null,"65C",0.9,null,null,"57C",0.9,null,"65C",0.9,null,"65C",0.9]
[130,-0.42,null,null,null,null,"65E",0.9,null,null,"57E",0.9,null,"65E",0.9,null,"65E",0.9]
[135,-0.44,null,null,null,null,"27S",0.9,null,null,"65C",0.9,null,"27S",0.9,null,"27G-H",0.9]
[140,-0.46,null,null,null,null,"30S",0.9,null,null,"65E",0.9,null,"30S",0.9,null,"30G-H",0.9]
[145,-0.48,null,null,null,null,"35S",0.9,null,null,"27S",0.9,null,"35S",0.9,null,"30C",0.9]
[150,-0.5,null,null,null,null,"40S",0.9,null,null,"30S",0.9,null,"40S",0.9,null,"40C",0.9]
[null,null,null,null,null,null,"50S",0.9,null,null,"35S",0.9,null,"50S",0.9]
[null,null,null,null,null,null,"57S",0.9,null,null,"40S",0.9,null,"57S",0.9]
[null,null,null,null,null,null,"65S",0.9,null,null,"50S",0.9,null,"65S",0.9]
[null,null,null,null,null,null,"27G-H",0.9,null,null,"57S",0.9,null,"27G-H",0.9]
[null,null,null,null,null,null,"30G-H",0.9,null,null,"65S",0.9,null,"30G-H",0.9]
[null,null,null,null,null,null,"30C",0.9,null,null,"27G-H",0.9,null,"30C",0.9]
[null,null,null,null,null,null,"40C",0.9,null,null,"30G-H",0.9,null,"40C",0.9]
[null,null,null,null,null,null,null,null,null,null,"30C",0.9]
[null,null,null,null,null,null,null,null,null,null,"40C",0.9]
[]
[]
[]
[]
[]
[null,null,null,null,null,null,"Vero 10-B",null,null,null,"Vero 13-B",null,null,"Vero 18-B",null,null,"Vero 29-B",null,null,"V22-D","Gen 7"]
[null,null,null,null,null,null,"Code","85 DC Factor",null,null,"Code","85 DC Factor",null,"Code","85 DC Factor",null,"Code","85 DC Factor",null,"Code","85 DC Factor"]
[null,null,null,null,null,null,"30E",0.9,null,null,"30E",0.9,null,"30E",0.9,null,"30E",0.9,null,"30E",0.9]
[null,null,null,null,null,null,"20B",0.9,null,null,"27E",0.9,null,"17E",0.9,null,"17E",0.9,null,"17E",0.9]
[null,null,null,null,null,null,"27E",0.9,null,null,"27G",0.9,null,"25E",0.9,null,"25E",0.9,null,"20B",0.9]
[null,null,null,null,null,null,"27G",0.9,null,null,"27H",0.9,null,"27E",0.9,null,"27E",0.9,null,"25E",0.9]
[null,null,null,null,null,null,"27H",0.9,null,null,"30G",0.9,null,"27G",0.9,null,"27G",0.9,null,"27E",0.9]
[null,null,null,null,null,null,"30G",0.9,null,null,"30G",0.9,null,"27H",0.9,null,"30G",0.9,null,"27G",0.9]
[null,null,null,null,null,null,"30G-C",0.9,null,null,"30H",0.9,null,"30A",0.9,null,"30A",0.9,null,"27H",0.9]
[null,null,null,null,null,null,"30H",0.9,null,null,"30A",0.9,null,"30G",0.9,null,"35E",0.9,null,"30G",0.9]
[null,null,null,null,null,null,"30A",0.9,null,null,"35E",0.9,null,"30G",0.9,null,"35G",0.9,null,"30G",0.9]
[null,null,null,null,null,null,"35E",0.9,null,null,"35G",0.9,null,"30H",0.9,null,"35A",0.9,null,"30H",0.9]
[null,null,null,null,null,null,"35G",0.9,null,null,"35A",0.9,null,"35A",0.9,null,"40E",0.9,null,"35E",0.9]
[null,null,null,null,null,null,"35A",0.9,null,null,"40E",0.9,null,"35E",0.9,null,"40G",0.9,null,"35G",0.9]
[null,null,null,null,null,null,"40E",0.9,null,null,"40G",0.9,null,"35G",0.9,null,"40A",0.9,null,"35A",0.9]
[null,null,null,null,null,null,"40G",0.9,null,null,"40A",0.9,null,"40A",0.9,null,"50C",0.9,null,"40E",0.9]
[null,null,null,null,null,null,"40A",0.9,null,null,"50C",0.9,null,"40E",0.9,null,"50E",0.9,null,"40G",0.9]
[null,null,null,null,null,null,"50C",0.9,null,null,"50E",0.9,null,"40G",0.9,null,"50G",0.9,null,"50C",0.9]
[null,null,null,null,null,null,"50E",0.9,null,null,"50G",0.9,null,"50C",0.9,null,"56G",0.9,null,"50E",0.9]
[null,null,null,null,null,null,"50G",0.9,null,null,"57C",0.9,null,"50E",0.9,null,"57C",0.9,null,"50G",0.9]
[null,null,null,null,null,null,"57C",0.9,null,null,"57E",0.9,null,"50G",0.9,null,"57E",0.9,null,"27G-H",0.9]
[null,null,null,null,null,null,"57E",0.9,null,null,"65C",0.9,null,"56G",0.9,null,"65C",0.9,null,"30G-H",0.9]
[null,null,null,null,null,null,"65C",0.9,null,null,"65E",0.9,null,"57C",0.9,null,"65E",0.9,null,"30C",0.9]
[null,null,null,null,null,null,"65E",0.9,null,null,"27G-H",0.9,null,"57E",0.9,null,"27G-H",0.9,null,"40C",0.9]
[null,null,null,null,null,null,"27G-H",0.9,null,null,"30G-H",0.9,null,"65C",0.9,null,"30G-H",0.9]
[null,null,null,null,null,null,"30G-H",0.9,null,null,"30C",0.9,null,"65E",0.9,null,"30C",0.9]
[null,null,null,null,null,null,"30C",0.9,null,null,"40C",0.9,null,"27G-H",0.9,null,"40C",0.9]
[null,null,null,null,null,null,"40C",0.9,null,null,null,null,null,"30G-H",0.9,null,null,null,null,"56G",0.9]
[null,null,null,null,null,null,null,null,null,null,null,null,null,"30C",0.9,null,null,null,null,"57C",0.9]
[null,null,null,null,null,null,null,null,null,null,null,null,null,"40C",0.9,null,null,null,null,"57E",0.9]
[null,null,null,null,null,null,null,null,null,null,null,null,null,null,null,null,null,null,null,"65C",0.9]
[null,null,null,null,null,null,null,null,null,null,null,null,null,null,null,null,null,null,null,"65E",0.9]
[]
[]
[]
[]
[null,null,null,null,null,null,"Vero 10-C",null,null,null,"Vero 13-C",null,null,"Vero 18-C",null,null,"Vero 29-C"]
[null,null,null,null,null,null,"Code","85 DC Factor",null,null,"Code","85 DC Factor",null,"Code","85 DC Factor",null,"Code","85 DC Factor"]
[null,null,null,null,null,null,"30E",0.9,null,null,"30E",0.9,null,"30E",0.9,null,"30E",0.9]
[null,null,null,null,null,null,"27E",0.9,null,null,"27E",0.9,null,"17E",0.9,null,"17E",0.9]
[null,null,null,null,null,null,"27G",0.9,null,null,"27G",0.9,null,"20B",0.9,null,"20B",0.9]
[null,null,null,null,null,null,"27H",0.9,null,null,"27H",0.9,null,"25E",0.9,null,"25E",0.9]
[null,null,null,null,null,null,"30G",0.9,null,null,"30G",0.9,null,"27E",0.9,null,"27E",0.9]
[null,null,null,null,null,null,"30H",0.9,null,null,"30H",0.9,null,"27G",0.9,null,"27G",0.9]
[null,null,null,null,null,null,"30A",0.9,null,null,"30A",0.9,null,"27H",0.9,null,"30G",0.9]
[null,null,null,null,null,null,"35E",0.9,null,null,"35E",0.9,null,"30A",0.9,null,"30A",0.9]
[null,null,null,null,null,null,"35G",0.9,null,null,"35G",0.9,null,"30G",0.9,null,"35E",0.9]
[null,null,null,null,null,null,"35A",0.9,null,null,"35A",0.9,null,"30H",0.9,null,"35G",0.9]
[null,null,null,null,null,null,"40E",0.9,null,null,"40E",0.9,null,"35A",0.9,null,"35A",0.9]
[null,null,null,null,null,null,"40G",0.9,null,null,"40G",0.9,null,"35E",0.9,null,"40E",0.9]
[null,null,null,null,null,null,"40A",0.9,null,null,"40A",0.9,null,"35G",0.9,null,"40G",0.9]
[null,null,null,null,null,null,"50C",0.9,null,null,"50C",0.9,null,"40A",0.9,null,"40A",0.9]
[null,null,null,null,null,null,"50E",0.9,null,null,"50E",0.9,null,"40E",0.9,null,"50C",0.9]
[null,null,null,null,null,null,"50G",0.9,null,null,"50G",0.9,null,"40G",0.9,null,"50E",0.9]
[null,null,null,null,null,null,"57C",0.9,null,null,"57C",0.9,null,"50C",0.9,null,"50G",0.9]
[null,null,null,null,null,null,"57E",0.9,null,null,"57E",0.9,null,"50E",0.9,null,"56G",0.9]
[null,null,null,null,null,null,"65C",0.9,null,null,"65C",0.9,null,"50G",0.9,null,"57C",0.9]
[null,null,null,null,null,null,"65E",0.9,null,null,"65E",0.9,null,"56G",0.9,null,"57E",0.9]
[null,null,null,null,null,null,"27G-H",0.9,null,null,"27G-H",0.9,null,"57C",0.9,null,"65C",0.9]
[null,null,null,null,null,null,"30G-H",0.9,null,null,"30G-H",0.9,null,"57E",0.9,null,"65E",0.9]
[null,null,null,null,null,null,"30C",0.9,null,null,"30C",0.9,null,"65C",0.9,null,"27G-H",0.9]
[null,null,null,null,null,null,"40C",0.9,null,null,"40C",0.9,null,"65E",0.9,null,"30G-H",0.9]
[null,null,null,null,null,null,null,null,null,null,null,null,null,"27G-H",0.9,null,"30C",0.9]
[null,null,null,null,null,null,null,null,null,null,null,null,null,"30G-H",0.9,null,"40C",0.9]
[null,null,null,null,null,null,null,null,null,null,null,null,null,"30C",0.9]
[null,null,null,null,null,null,null,null,null,null,null,null,null,"40C",0.9]
[]
[]
[]
[]
[]
[]
[null,null,null,null,null,null,"Vero 10-D",null,null,null,"Vero 13-D",null,null,"Vero 18-D",null,null,"Vero 29-D"]
[null,null,null,null,null,null,"Code","85 DC Factor",null,null,"Code","85 DC Factor",null,"Code","85 DC Factor",null,"Code","85 DC Factor"]
[null,null,null,null,null,null,"30E",0.9,null,null,"30E",0.9,null,"30E",0.9,null,"30E",0.9]
[null,null,null,null,null,null,"20B",0.9,null,null,"27E",0.9,null,"17E",0.9,null,"17E",0.9]
[null,null,null,null,null,null,"27E",0.9,null,null,"27G",0.9,null,"20B",0.9,null,"20B",0.9]
[null,null,null,null,null,null,"27G",0.9,null,null,"27H",0.9,null,"25E",0.9,null,"25E",0.9]
[null,null,null,null,null,null,"27H",0.9,null,null,"30G",0.9,null,"27E",0.9,null,"27E",0.9]
[null,null,null,null,null,null,"30G",0.9,null,null,"30G",0.9,null,"27G",0.9,null,"27G",0.9]
[null,null,null,null,null,null,"30G-C",0.9,null,null,"30H",0.9,null,"27H",0.9,null,"27H",0.9]
[null,null,null,null,null,null,"30H",0.9,null,null,"30A",0.9,null,"30A",0.9,null,"30G",0.9]
[null,null,null,null,null,null,"30A",0.9,null,null,"35E",0.9,null,"30G",0.9,null,"30H",0.9]
[null,null,null,null,null,null,"35E",0.9,null,null,"35G",0.9,null,"30G-C",0.9,null,"30A",0.9]
[null,null,null,null,null,null,"35G",0.9,null,null,"35A",0.9,null,"30H",0.9,null,"35E",0.9]
[null,null,null,null,null,null,"35A",0.9,null,null,"40E",0.9,null,"35A",0.9,null,"35G",0.9]
[null,null,null,null,null,null,"40E",0.9,null,null,"40G",0.9,null,"35E",0.9,null,"35A",0.9]
[null,null,null,null,null,null,"40G",0.9,null,null,"40A",0.9,null,"35G",0.9,null,"40E",0.9]
[null,null,null,null,null,null,"40A",0.9,null,null,"50C",0.9,null,"40A",0.9,null,"40G",0.9]
[null,null,null,null,null,null,"50C",0.9,null,null,"50E",0.9,null,"40E",0.9,null,"40A",0.9]
[null,null,null,null,null,null,"50E",0.9,null,null,"50G",0.9,null,"40G",0.9,null,"50C",0.9]
[null,null,null,null,null,null,"50G",0.9,null,null,"57C",0.9,null,"50C",0.9,null,"50E",0.9]
[null,null,null,null,null,null,"57C",0.9,null,null,"57E",0.9,null,"50E",0.9,null,"50G",0.9]
[null,null,null,null,null,null,"57E",0.9,null,null,"65C",0.9,null,"50G",0.9,null,"56G",0.9]
[null,null,null,null,null,null,"65C",0.9,null,null,"65E",0.9,null,"56G",0.9,null,"56H",0.9]
[null,null,null,null,null,null,"65E",0.9,null,null,"27G-H",0.9,null,"56H",0.9,null,"57C",0.9]
[null,null,null,null,null,null,"27G-H",0.9,null,null,"30G-H",0.9,null,"57C",0.9,null,"57E",0.9]
[null,null,null,null,null,null,"30G-H",0.9,null,null,"30C",0.9,null,"57E",0.9,null,"65C",0.9]
[null,null,null,null,null,null,"30C",0.9,null,null,"40C",0.9,null,"65C",0.9,null,"65E",0.9]
[null,null,null,null,null,null,"40C",0.9,null,null,null,null,null,"65E",0.9,null,"27G-H",0.9]
[null,null,null,null,null,null,null,null,null,null,null,null,null,"27G-H",0.9,null,"30G-H",0.9]
[null,null,null,null,null,null,null,null,null,null,null,null,null,"30G-H",0.9,null,"30C",0.9]
[null,null,null,null,null,null,null,null,null,null,null,null,null,"30C",0.9,null,"40C",0.9]
[null,null,null,null,null,null,null,null,null,null,null,null,null,"40C",0.9]
[]
["Master Table",null,null,null,null,null,null,null,null,null,null,null,null,null,null,"x=dc",null,null,null,"x=dc"]
[null,null,null,null,null,null,null,null,null,null,null,null,null,null,null,"Voltage",null,null,null,"Current vs Relative Flux",null,null,null,"Current vs Relative Flux @ 85DC",null,null,null,"Flux vs Temperature",null,null,null,null,"Voltage vs Temperature",null,null,null,"Current vs Relative Flux"]
["Product Family","CCT/CRI","Arrangement","Lumen Family","Generation","PF+CR","P/N","Typical Lumens","Typical Efficacy","Thermal Resistance","Typical Voltage","Typical Current","Max Current","# of Die","V^4","V^3","V^2","V","V0","I^3","I^2","I","I0","I^32","I^23","I4","I05","F^4","F^3","F^2","F","F0","T^3","T^2","T","T0","R^3","R^2","R","R0","R1"]
["V8-D","27E","D","0800","BXRE",{"$f":"MasterTable[[#This Row],[Product Family]]&\"-\"&MasterTable[[#This Row],[CCT/CRI]]&MasterTable[[#This Row],[Arrangement]]","v":"V8-D-27ED"},{"$f":"MasterTable[[#This Row],[Generation]]&\"-\"&MasterTable[[#This Row],[CCT/CRI]]&IF(MasterTable[[#This Row],[Lumen Family]]<999,\"0\"&MasterTable[[#This Row],[Lumen Family]],MasterTable[[#This Row],[Lumen Family]])&\"-\"&MasterTable[[#This Row],[Arrangement]]&\"-xx\"","v":"BXRE-27E0800-D-xx"},939,{"$f":"MasterTable[[#This Row],[Typical Lumens]]/(MasterTable[[#This Row],[Typical Voltage]]*MasterTable[[#This Row],[Typical Current]]/1000)","v":155.07844756399672},0.49,17.3,350,700,24,null,3.6E-9,-5.9801999999999999E-6,6.4073706000000001E-3,15.644024655200001,-5.9147999999999998E-12,-5.1676999999999999E-7,3.0371999999999999E-3,-9.9999999999999995E-8,null,null,null,null,null,null,-3.9999999999999998E-6,-1E-3,1.0275000000000001,null,null,null,null,4.1257000000000001,15.747999999999999,330.26,-9.9999999999999995E-8]
["V8-D","27G","D","0800","BXRE",{"$f":"MasterTable[[#This Row],[Product Family]]&\"-\"&MasterTable[[#This Row],[CCT/CRI]]&MasterTable[[#This Row],[Arrangement]]","v":"V8-D-27GD"},{"$f":"MasterTable[[#This Row],[Generation]]&\"-\"&MasterTable[[#This Row],[CCT/CRI]]&IF(MasterTable[[#This Row],[Lumen Family]]<999,\"0\"&MasterTable[[#This Row],[Lumen Family]],MasterTable[[#This Row],[Lumen Family]])&\"-\"&MasterTable[[#This Row],[Arrangement]]&\"-xx\"","v":"BXRE-27G0800-D-xx"},775,{"$f":"MasterTable[[#This Row],[Typical Lumens]]/(MasterTable[[#This Row],[Typical Voltage]]*MasterTable[[#This Row],[Typical Current]]/1000)","v":127.99339388934766},0.49,17.3,350,700,24,null,3.6E-9,-5.9801999999999999E-6,6.4073706000000001E-3,15.644024655200001,-5.9147999999999998E-12,-5.1676999999999999E-7,3.0371999999999999E-3,-9.9999999999999995E-8,null,null,null,null,null,null,-3.9999999999999998E-6,-1E-3,1.0275000000000001,null,null,null,null,4.1257000000000001,15.747999999999999,330.26,-9.9999999999999995E-8]
["V8-D","27G-H","D","08H0","BXRE",{"$f":"MasterTable[[#This Row],[Product Family]]&\"-\"&MasterTable[[#This Row],[CCT/CRI]]&MasterTable[[#This Row],[Arrangement]]","v":"V8-D-27G-HD"},"BXRE-27G-08H0-D-xx",805,{"$f":"MasterTable[[#This Row],[Typical Lumens]]/(MasterTable[[#This Row],[Typical Voltage]]*MasterTable[[#This Row],[Typical Current]]/1000)","v":132.94797687861274},0.49,17.3,350,700,24,null,3.6E-9,-5.9801999999999999E-6,6.4073706000000001E-3,15.644024655200001,-5.9147999999999998E-12,-5.1676999999999999E-7,3.0371999999999999E-3,-9.9999999999999995E-8,null,null,null,null,null,null,-3.9999999999999998E-6,-1E-3,1.0275000000000001,null,null,null,null,4.1257000000000001,15.747999999999999,330.26,-9.9999999999999995E-8]
["V8-D","30G-H","D","08H0","BXRE",{"$f":"MasterTable[[#This Row],[Product Family]]&\"-\"&MasterTable[[#This Row],[CCT/CRI]]&MasterTable[[#This Row],[Arrangement]]","v":"V8-D-30G-HD"},"BXRE-30G-08H0-D-xx",848,{"$f":"MasterTable[[#This Row],[Typical Lumens]]/(MasterTable[[#This Row],[Typical Voltage]]*MasterTable[[#This Row],[Typical Current]]/1000)","v":140.04954582989265},0.49,17.3,350,700,24,null,3.6E-9,-5.9801999999999999E-6,6.4073706000000001E-3,15.644024655200001,-5.9147999999999998E-12,-5.1676999999999999E-7,3.0371999999999999E-3,-9.9999999999999995E-8,null,null,null,null,null,null,-3.9999999999999998E-6,-1E-3,1.0275000000000001,null,null,null,null,4.1257000000000001,15.747999999999999,330.26,-9.9999999999999995E-8]
["V8-D","30C","D",800,"BXRE",{"$f":"MasterTable[[#This Row],[Product Family]]&\"-\"&MasterTable[[#This Row],[CCT/CRI]]&MasterTable[[#This Row],[Arrangement]]","v":"V8-D-30CD"},{"$f":"MasterTable[[#This Row],[Generation]]&\"-\"&MasterTable[[#This Row],[CCT/CRI]]&IF(MasterTable[[#This Row],[Lumen Family]]<999,\"0\"&MasterTable[[#This Row],[Lumen Family]],MasterTable[[#This Row],[Lumen Family]])&\"-\"&MasterTable[[#This Row],[Arrangement]]&\"-xx\"","v":"BXRE-30C0800-D-xx"},1048,{"$f":"MasterTable[[#This Row],[Typical Lumens]]/(MasterTable[[#This Row],[Typical Voltage]]*MasterTable[[#This Row],[Typical Current]]/1000)","v":173.0800990916598},0.49,17.3,350,700,24,null,3.6E-9,-5.9801999999999999E-6,6.4073706000000001E-3,15.644024655200001,-5.9147999999999998E-12,-5.1676999999999999E-7,3.0371999999999999E-3,-9.9999999999999995E-8,null,null,null,null,null,null,-3.9999999999999998E-6,-1E-3,1.0275000000000001,null,null,null,null,4.1257000000000001,15.747999999999999,330.26,-9.9999999999999995E-8]
["V8-D","30E","D","0800","BXRE",{"$f":"MasterTable[[#This Row],[Product Family]]&\"-\"&MasterTable[[#This Row],[CCT/CRI]]&MasterTable[[#This Row],[Arrangement]]","v":"V8-D-30ED"},{"$f":"MasterTable[[#This Row],[Generation]]&\"-\"&MasterTable[[#This Row],[CCT/CRI]]&IF(MasterTable[[#This Row],[Lumen Family]]<999,\"0\"&MasterTable[[#This Row],[Lumen Family]],MasterTable[[#This Row],[Lumen Family]])&\"-\"&MasterTable[[#This Row],[Arrangement]]&\"-xx\"","v":"BXRE-30E0800-D-xx"},999,{"$f":"MasterTable[[#This Row],[Typical Lumens]]/(MasterTable[[#This Row],[Typical Voltage]]*MasterTable[[#This Row],[Typical Current]]/1000)","v":164.98761354252684},0.49,17.3,350,700,24,null,3.6E-9,-5.9801999999999999E-6,6.4073706000000001E-3,15.644024655200001,-5.9147999999999998E-12,-5.1676999999999999E-7,3.0371999999999999E-3,-9.9999999999999995E-8,null,null,null,null,null,null,-3.9999999999999998E-6,-1E-3,1.0275000000000001,null,null,null,null,4.1257000000000001,15.747999999999999,330.26,-9.9999999999999995E-8]
["V8-D","30G","D","0800","BXRE",{"$f":"MasterTable[[#This Row],[Product Family]]&\"-\"&MasterTable[[#This Row],[CCT/CRI]]&MasterTable[[#This Row],[Arrangement]]","v":"V8-D-30GD"},{"$f":"MasterTable[[#This Row],[Generation]]&\"-\"&MasterTable[[#This Row],[CCT/CRI]]&IF(MasterTable[[#This Row],[Lumen Family]]<999,\"0\"&MasterTable[[#This Row],[Lumen Family]],MasterTable[[#This Row],[Lumen Family]])&\"-\"&MasterTable[[#This Row],[Arrangement]]&\"-xx\"","v":"BXRE-30G0800-D-xx"},811,{"$f":"MasterTable[[#This Row],[Typical Lumens]]/(MasterTable[[#This Row],[Typical Voltage]]*MasterTable[[#This Row],[Typical Current]]/1000)","v":133.93889347646575},0.49,17.3,350,700,24,null,3.6E-9,-5.9801999999999999E-6,6.4073706000000001E-3,15.644024655200001,-5.9147999999999998E-12,-5.1676999999999999E-7,3.0371999999999999E-3,-9.9999999999999995E-8,null,null,null,null,null,null,-3.9999999999999998E-6,-1E-3,1.0275000000000001,null,null,null,null,4.1257000000000001,15.747999999999999,330.26,-9.9999999999999995E-8]
["V8-D","40C","D",800,"BXRE",{"$f":"MasterTable[[#This Row],[Product Family]]&\"-\"&MasterTable[[#This Row],[CCT/CRI]]&MasterTable[[#This Row],[Arrangement]]","v":"V8-D-40CD"},{"$f":"MasterTable[[#This Row],[Generation]]&\"-\"&MasterTable[[#This Row],[CCT/CRI]]&IF(MasterTable[[#This Row],[Lumen Family]]<999,\"0\"&MasterTable[[#This Row],[Lumen Family]],MasterTable[[#This Row],[Lumen Family]])&\"-\"&MasterTable[[#This Row],[Arrangement]]&\"-xx\"","v":"BXRE-40C0800-D-xx"},1078,{"$f":"MasterTable[[#This Row],[Typical Lumens]]/(MasterTable[[#This Row],[Typical Voltage]]*MasterTable[[#This Row],[Typical Current]]/1000)","v":178.03468208092485},0.49,17.3,350,700,24,null,3.6E-9,-5.9801999999999999E-6,6.4073706000000001E-3,15.644024655200001,-5.9147999999999998E-12,-5.1676999999999999E-7,3.0371999999999999E-3,-9.9999999999999995E-8,null,null,null,null,null,null,-3.9999999999999998E-6,-1E-3,1.0275000000000001,null,null,null,null,4.1257000000000001,15.747999999999999,330.26,-9.9999999999999995E-8]
["V8-D","40E","D","0800","BXRE",{"$f":"MasterTable[[#This Row],[Product Family]]&\"-\"&MasterTable[[#This Row],[CCT/CRI]]&MasterTable[[#This Row],[Arrangement]]","v":"V8-D-40ED"},{"$f":"MasterTable[[#This Row],[Generation]]&\"-\"&MasterTable[[#This Row],[CCT/CRI]]&IF(MasterTable[[#This Row],[Lumen Family]]<999,\"0\"&MasterTable[[#This Row],[Lumen Family]],MasterTable[[#This Row],[Lumen Family]])&\"-\"&MasterTable[[#This Row],[Arrangement]]&\"-xx\"","v":"BXRE-40E0800-D-xx"},1029,{"$f":"MasterTable[[#This Row],[Typical Lumens]]/(MasterTable[[#This Row],[Typical Voltage]]*MasterTable[[#This Row],[Typical Current]]/1000)","v":169.94219653179192},0.49,17.3,350,700,24,null,3.6E-9,-5.9801999999999999E-6,6.4073706000000001E-3,15.644024655200001,-5.9147999999999998E-12,-5.1676999999999999E-7,3.0371999999999999E-3,-9.9999999999999995E-8,null,null,null,null,null,null,-3.9999999999999998E-6,-1E-3,1.0275000000000001,null,null,null,null,4.1257000000000001,15.747999999999999,330.26,-9.9999999999999995E-8]
["V8-D","40G","D","0800","BXRE",{"$f":"MasterTable[[#This Row],[Product Family]]&\"-\"&MasterTable[[#This Row],[CCT/CRI]]&MasterTable[[#This Row],[Arrangement]]","v":"V8-D-40GD"},{"$f":"MasterTable[[#This Row],[Generation]]&\"-\"&MasterTable[[#This Row],[CCT/CRI]]&IF(MasterTable[[#This Row],[Lumen Family]]<999,\"0\"&MasterTable[[#This Row],[Lumen Family]],MasterTable[[#This Row],[Lumen Family]])&\"-\"&MasterTable[[#This Row],[Arrangement]]&\"-xx\"","v":"BXRE-40G0800-D-xx"},860,{"$f":"MasterTable[[#This Row],[Typical Lumens]]/(MasterTable[[#This Row],[Typical Voltage]]*MasterTable[[#This Row],[Typical Current]]/1000)","v":142.03137902559868},0.49,17.3,350,700,24,null,3.6E-9,-5.9801999999999999E-6,6.4073706000000001E-3,15.644024655200001,-5.9147999999999998E-12,-5.1676999999999999E-7,3.0371999999999999E-3,-9.9999999999999995E-8,null,null,null,null,null,null,-3.9999999999999998E-6,-1E-3,1.0275000000000001,null,null,null,null,4.1257000000000001,15.747999999999999,330.26,-9.9999999999999995E-8]
["V8-D","50C","D","0801","BXRE",{"$f":"MasterTable[[#This Row],[Product Family]]&\"-\"&MasterTable[[#This Row],[CCT/CRI]]&MasterTable[[#This Row],[Arrangement]]","v":"V8-D-50CD"},{"$f":"MasterTable[[#This Row],[Generation]]&\"-\"&MasterTable[[#This Row],[CCT/CRI]]&IF(MasterTable[[#This Row],[Lumen Family]]<999,\"0\"&MasterTable[[#This Row],[Lumen Family]],MasterTable[[#This Row],[Lumen Family]])&\"-\"&MasterTable[[#This Row],[Arrangement]]&\"-xx\"","v":"BXRE-50C0801-D-xx"},1078,{"$f":"MasterTable[[#This Row],[Typical Lumens]]/(MasterTable[[#This Row],[Typical Voltage]]*MasterTable[[#This Row],[Typical Current]]/1000)","v":178.03468208092485},0.49,17.3,350,700,24,null,3.6E-9,-5.9801999999999999E-6,6.4073706000000001E-3,15.644024655200001,-5.9147999999999998E-12,-5.1676999999999999E-7,3.0371999999999999E-3,-9.9999999999999995E-8,null,null,null,null,null,null,-3.9999999999999998E-6,-1E-3,1.0275000000000001,null,null,null,null,4.1257000000000001,15.747999999999999,330.26,-9.9999999999999995E-8]
["V8-E","27E","E","0800","BXRE",{"$f":"MasterTable[[#This Row],[Product Family]]&\"-\"&MasterTable[[#This Row],[CCT/CRI]]&MasterTable[[#This Row],[Arrangement]]","v":"V8-E-27EE"},{"$f":"MasterTable[[#This Row],[Generation]]&\"-\"&MasterTable[[#This Row],[CCT/CRI]]&IF(MasterTable[[#This Row],[Lumen Family]]<999,\"0\"&MasterTable[[#This Row],[Lumen Family]],MasterTable[[#This Row],[Lumen Family]])&\"-\"&MasterTable[[#This Row],[Arrangement]]&\"-xx\"","v":"BXRE-27E0800-E-xx"},941,{"$f":"MasterTable[[#This Row],[Typical Lumens]]/(MasterTable[[#This Row],[Typical Voltage]]*MasterTable[[#This Row],[Typical Current]]/1000)","v":154.96088925483735},0.49,34.700000000000003,175,350,24,null,5.8000000000000003E-8,-4.7954200000000002E-5,2.6223106900000001E-2,30.991923311899999,5.1207999999999995E-10,-2.3356999999999999E-6,6.1035999999999998E-3,-9.9999999999999995E-8,null,null,null,null,null,-2.2799999999999999E-8,1.829E-7,-1.1936561E-3,1.0303814841000001,null,null,null,null,1.3463000000000001,9.7157,164.05,-9.9999999999999995E-8]
["V8-E","27G","E","0800","BXRE",{"$f":"MasterTable[[#This Row],[Product Family]]&\"-\"&MasterTable[[#This Row],[CCT/CRI]]&MasterTable[[#This Row],[Arrangement]]","v":"V8-E-27GE"},{"$f":"MasterTable[[#This Row],[Generation]]&\"-\"&MasterTable[[#This Row],[CCT/CRI]]&IF(MasterTable[[#This Row],[Lumen Family]]<999,\"0\"&MasterTable[[#This Row],[Lumen Family]],MasterTable[[#This Row],[Lumen Family]])&\"-\"&MasterTable[[#This Row],[Arrangement]]&\"-xx\"","v":"BXRE-27G0800-E-xx"},777,{"$f":"MasterTable[[#This Row],[Typical Lumens]]/(MasterTable[[#This Row],[Typical Voltage]]*MasterTable[[#This Row],[Typical Current]]/1000)","v":127.95389048991353},0.49,34.700000000000003,175,350,24,null,5.8000000000000003E-8,-4.7954200000000002E-5,2.6223106900000001E-2,30.991923311899999,5.1207999999999995E-10,-2.3356999999999999E-6,6.1035999999999998E-3,-9.9999999999999995E-8,null,null,null,null,null,-2.2799999999999999E-8,1.829E-7,-1.1936561E-3,1.0303814841000001,null,null,null,null,1.3463000000000001,9.7157,164.05,-9.9999999999999995E-8]
["V8-E","27G-H","E","08H0","BXRE",{"$f":"MasterTable[[#This Row],[Product Family]]&\"-\"&MasterTable[[#This Row],[CCT/CRI]]&MasterTable[[#This Row],[Arrangement]]","v":"V8-E-27G-HE"},"BXRE-27G-08H0-E-xx",808,{"$f":"MasterTable[[#This Row],[Typical Lumens]]/(MasterTable[[#This Row],[Typical Voltage]]*MasterTable[[#This Row],[Typical Current]]/1000)","v":133.05887196377108},0.49,34.700000000000003,175,350,24,null,5.8000000000000003E-8,-4.7954200000000002E-5,2.6223106900000001E-2,30.991923311899999,5.1207999999999995E-10,-2.3356999999999999E-6,6.1035999999999998E-3,-9.9999999999999995E-8,null,null,null,null,null,-2.2799999999999999E-8,1.829E-7,-1.1936561E-3,1.0303814841000001,null,null,null,null,1.3463000000000001,9.7157,164.05,-9.9999999999999995E-8]
["V8-E","30G-H","E","08H0","BXRE",{"$f":"MasterTable[[#This Row],[Product Family]]&\"-\"&MasterTable[[#This Row],[CCT/CRI]]&MasterTable[[#This Row],[Arrangement]]","v":"V8-E-30G-HE"},"BXRE-30G-08H0-E-xx",850,{"$f":"MasterTable[[#This Row],[Typical Lumens]]/(MasterTable[[#This Row],[Typical Voltage]]*MasterTable[[#This Row],[Typical Current]]/1000)","v":139.9752984767394},0.49,34.700000000000003,175,350,24,null,5.8000000000000003E-8,-4.7954200000000002E-5,2.6223106900000001E-2,30.991923311899999,5.1207999999999995E-10,-2.3356999999999999E-6,6.1035999999999998E-3,-9.9999999999999995E-8,null,null,null,null,null,-2.2799999999999999E-8,1.829E-7,-1.1936561E-3,1.0303814841000001,null,null,null,null,1.3463000000000001,9.7157,164.05,-9.9999999999999995E-8]
["V8-E","30C","E","0800","BXRE",{"$f":"MasterTable[[#This Row],[Product Family]]&\"-\"&MasterTable[[#This Row],[CCT/CRI]]&MasterTable[[#This Row],[Arrangement]]","v":"V8-E-30CE"},{"$f":"MasterTable[[#This Row],[Generation]]&\"-\"&MasterTable[[#This Row],[CCT/CRI]]&IF(MasterTable[[#This Row],[Lumen Family]]<999,\"0\"&MasterTable[[#This Row],[Lumen Family]],MasterTable[[#This Row],[Lumen Family]])&\"-\"&MasterTable[[#This Row],[Arrangement]]&\"-xx\"","v":"BXRE-30C0800-E-xx"},1051,{"$f":"MasterTable[[#This Row],[Typical Lumens]]/(MasterTable[[#This Row],[Typical Voltage]]*MasterTable[[#This Row],[Typical Current]]/1000)","v":173.07533964594481},0.49,34.700000000000003,175,350,24,null,5.8000000000000003E-8,-4.7954200000000002E-5,2.6223106900000001E-2,30.991923311899999,5.1207999999999995E-10,-2.3356999999999999E-6,6.1035999999999998E-3,-9.9999999999999995E-8,null,null,null,null,null,-2.2799999999999999E-8,1.829E-7,-1.1936561E-3,1.0303814841000001,null,null,null,null,1.3463000000000001,9.7157,164.05,-9.9999999999999995E-8]
["V8-E","30E","E","0800","BXRE",{"$f":"MasterTable[[#This Row],[Product Family]]&\"-\"&MasterTable[[#This Row],[CCT/CRI]]&MasterTable[[#This Row],[Arrangement]]","v":"V8-E-30EE"},{"$f":"MasterTable[[#This Row],[Generation]]&\"-\"&MasterTable[[#This Row],[CCT/CRI]]&IF(MasterTable[[#This Row],[Lumen Family]]<999,\"0\"&MasterTable[[#This Row],[Lumen Family]],MasterTable[[#This Row],[Lumen Family]])&\"-\"&MasterTable[[#This Row],[Arrangement]]&\"-xx\"","v":"BXRE-30E0800-E-xx"},1002,{"$f":"MasterTable[[#This Row],[Typical Lumens]]/(MasterTable[[#This Row],[Typical Voltage]]*MasterTable[[#This Row],[Typical Current]]/1000)","v":165.00617538081514},0.49,34.700000000000003,175,350,24,null,5.8000000000000003E-8,-4.7954200000000002E-5,2.6223106900000001E-2,30.991923311899999,5.1207999999999995E-10,-2.3356999999999999E-6,6.1035999999999998E-3,-9.9999999999999995E-8,null,null,null,null,null,-2.2799999999999999E-8,1.829E-7,-1.1936561E-3,1.0303814841000001,null,null,null,null,1.3463000000000001,9.7157,164.05,-9.9999999999999995E-8]
["V8-E","30G","E","0800","BXRE",{"$f":"MasterTable[[#This Row],[Product Family]]&\"-\"&MasterTable[[#This Row],[CCT/CRI]]&MasterTable[[#This Row],[Arrangement]]","v":"V8-E-30GE"},{"$f":"MasterTable[[#This Row],[Generation]]&\"-\"&MasterTable[[#This Row],[CCT/CRI]]&IF(MasterTable[[#This Row],[Lumen Family]]<999,\"0\"&MasterTable[[#This Row],[Lumen Family]],MasterTable[[#This Row],[Lumen Family]])&\"-\"&MasterTable[[#This Row],[Arrangement]]&\"-xx\"","v":"BXRE-30G0800-E-xx"},814,{"$f":"MasterTable[[#This Row],[Typical Lumens]]/(MasterTable[[#This Row],[Typical Voltage]]*MasterTable[[#This Row],[Typical Current]]/1000)","v":134.04693289419512},0.49,34.700000000000003,175,350,24,null,5.8000000000000003E-8,-4.7954200000000002E-5,2.6223106900000001E-2,30.991923311899999,5.1207999999999995E-10,-2.3356999999999999E-6,6.1035999999999998E-3,-9.9999999999999995E-8,null,null,null,null,null,-2.2799999999999999E-8,1.829E-7,-1.1936561E-3,1.0303814841000001,null,null,null,null,1.3463000000000001,9.7157,164.05,-9.9999999999999995E-8]
["V8-E","40C","E","0800","BXRE",{"$f":"MasterTable[[#This Row],[Product Family]]&\"-\"&MasterTable[[#This Row],[CCT/CRI]]&MasterTable[[#This Row],[Arrangement]]","v":"V8-E-40CE"},{"$f":"MasterTable[[#This Row],[Generation]]&\"-\"&MasterTable[[#This Row],[CCT/CRI]]&IF(MasterTable[[#This Row],[Lumen Family]]<999,\"0\"&MasterTable[[#This Row],[Lumen Family]],MasterTable[[#This Row],[Lumen Family]])&\"-\"&MasterTable[[#This Row],[Arrangement]]&\"-xx\"","v":"BXRE-40C0800-E-xx"},1081,{"$f":"MasterTable[[#This Row],[Typical Lumens]]/(MasterTable[[#This Row],[Typical Voltage]]*MasterTable[[#This Row],[Typical Current]]/1000)","v":178.01564429806504},0.49,34.700000000000003,175,350,24,null,5.8000000000000003E-8,-4.7954200000000002E-5,2.6223106900000001E-2,30.991923311899999,5.1207999999999995E-10,-2.3356999999999999E-6,6.1035999999999998E-3,-9.9999999999999995E-8,null,null,null,null,null,-2.2799999999999999E-8,1.829E-7,-1.1936561E-3,1.0303814841000001,null,null,null,null,1.3463000000000001,9.7157,164.05,-9.9999999999999995E-8]
["V8-E","40E","E","0800","BXRE",{"$f":"MasterTable[[#This Row],[Product Family]]&\"-\"&MasterTable[[#This Row],[CCT/CRI]]&MasterTable[[#This Row],[Arrangement]]","v":"V8-E-40EE"},{"$f":"MasterTable[[#This Row],[Generation]]&\"-\"&MasterTable[[#This Row],[CCT/CRI]]&IF(MasterTable[[#This Row],[Lumen Family]]<999,\"0\"&MasterTable[[#This Row],[Lumen Family]],MasterTable[[#This Row],[Lumen Family]])&\"-\"&MasterTable[[#This Row],[Arrangement]]&\"-xx\"","v":"BXRE-40E0800-E-xx"},1032,{"$f":"MasterTable[[#This Row],[Typical Lumens]]/(MasterTable[[#This Row],[Typical Voltage]]*MasterTable[[#This Row],[Typical Current]]/1000)","v":169.94648003293534},0.49,34.700000000000003,175,350,24,null,5.8000000000000003E-8,-4.7954200000000002E-5,2.6223106900000001E-2,30.991923311899999,5.1207999999999995E-10,-2.3356999999999999E-6,6.1035999999999998E-3,-9.9999999999999995E-8,null,null,null,null,null,-2.2799999999999999E-8,1.829E-7,-1.1936561E-3,1.0303814841000001,null,null,null,null,1.3463000000000001,9.7157,164.05,-9.9999999999999995E-8]
["V8-E","40G","E","0800","BXRE",{"$f":"MasterTable[[#This Row],[Product Family]]&\"-\"&MasterTable[[#This Row],[CCT/CRI]]&MasterTable[[#This Row],[Arrangement]]","v":"V8-E-40GE"},{"$f":"MasterTable[[#This Row],[Generation]]&\"-\"&MasterTable[[#This Row],[CCT/CRI]]&IF(MasterTable[[#This Row],[Lumen Family]]<999,\"0\"&MasterTable[[#This Row],[Lumen Family]],MasterTable[[#This Row],[Lumen Family]])&\"-\"&MasterTable[[#This Row],[Arrangement]]&\"-xx\"","v":"BXRE-40G0800-E-xx"},862,{"$f":"MasterTable[[#This Row],[Typical Lumens]]/(MasterTable[[#This Row],[Typical Voltage]]*MasterTable[[#This Row],[Typical Current]]/1000)","v":141.95142033758748},0.49,34.700000000000003,175,350,24,null,5.8000000000000003E-8,-4.7954200000000002E-5,2.6223106900000001E-2,30.991923311899999,5.1207999999999995E-10,-2.3356999999999999E-6,6.1035999999999998E-3,-9.9999999999999995E-8,null,null,null,null,null,-2.2799999999999999E-8,1.829E-7,-1.1936561E-3,1.0303814841000001,null,null,null,null,1.3463000000000001,9.7157,164.05,-9.9999999999999995E-8]
["V8-E","50C","E","0801","BXRE",{"$f":"MasterTable[[#This Row],[Product Family]]&\"-\"&MasterTable[[#This Row],[CCT/CRI]]&MasterTable[[#This Row],[Arrangement]]","v":"V8-E-50CE"},{"$f":"MasterTable[[#This Row],[Generation]]&\"-\"&MasterTable[[#This Row],[CCT/CRI]]&IF(MasterTable[[#This Row],[Lumen Family]]<999,\"0\"&MasterTable[[#This Row],[Lumen Family]],MasterTable[[#This Row],[Lumen Family]])&\"-\"&MasterTable[[#This Row],[Arrangement]]&\"-xx\"","v":"BXRE-50C0801-E-xx"},1081,{"$f":"MasterTable[[#This Row],[Typical Lumens]]/(MasterTable[[#This Row],[Typical Voltage]]*MasterTable[[#This Row],[Typical Current]]/1000)","v":178.01564429806504},0.49,34.700000000000003,175,350,24,null,5.8000000000000003E-8,-4.7954200000000002E-5,2.6223106900000001E-2,30.991923311899999,5.1207999999999995E-10,-2.3356999999999999E-6,6.1035999999999998E-3,-9.9999999999999995E-8,null,null,null,null,null,-2.2799999999999999E-8,1.829E-7,-1.1936561E-3,1.0303814841000001,null,null,null,null,1.3463000000000001,9.7157,164.05,-9.9999999999999995E-8]
["V10-B","30E","B",1000,"BXRE",{"$f":"MasterTable[[#This Row],[Product Family]]&\"-\"&MasterTable[[#This Row],[CCT/CRI]]&MasterTable[[#This Row],[Arrangement]]","v":"V10-B-30EB"},{"$f":"MasterTable[[#This Row],[Generation]]&\"-\"&MasterTable[[#This Row],[CCT/CRI]]&IF(MasterTable[[#This Row],[Lumen Family]]<999,\"0\"&MasterTable[[#This Row],[Lumen Family]],MasterTable[[#This Row],[Lumen Family]])&\"-\"&MasterTable[[#This Row],[Arrangement]]&\"-xx\"","v":"BXRE-30E1000-B-xx"},1549,{"$f":"MasterTable[[#This Row],[Typical Lumens]]/(MasterTable[[#This Row],[Typical Voltage]]*MasterTable[[#This Row],[Typical Current]]/1000)","v":164.85738612175393},0.49075000000000002,34.799999999999997,270,{"$f":"L203*2","v":540},36,null,9.8000000000000001E-9,-1.42836E-5,1.6490447700000001E-2,31.302010081999999,6.8448E-10,-1.5365E-6,4.1148000000000001E-3,-9.9999999999999995E-8,null,null,null,null,null,null,-3.6592E-6,-1.0345506E-3,1.0240956264000001,null,null,null,null,-0.98309999999999997,26.027999999999999,241.46,-9.9999999999999995E-8]
["V10-B","20B","B",1001,"BXRE",{"$f":"MasterTable[[#This Row],[Product Family]]&\"-\"&MasterTable[[#This Row],[CCT/CRI]]&MasterTable[[#This Row],[Arrangement]]","v":"V10-B-20BB"},{"$f":"MasterTable[[#This Row],[Generation]]&\"-\"&MasterTable[[#This Row],[CCT/CRI]]&IF(MasterTable[[#This Row],[Lumen Family]]<999,\"0\"&MasterTable[[#This Row],[Lumen Family]],MasterTable[[#This Row],[Lumen Family]])&\"-\"&MasterTable[[#This Row],[Arrangement]]&\"-xx\"","v":"BXRE-20B1001-B-xx"},1439,{"$f":"MasterTable[[#This Row],[Typical Lumens]]/(MasterTable[[#This Row],[Typical Voltage]]*MasterTable[[#This Row],[Typical Current]]/1000)","v":153.15027671349509},0.49075000000000002,34.799999999999997,270,540,36,null,9.8000000000000001E-9,-1.42836E-5,1.6490447700000001E-2,31.302010081999999,6.8448E-10,-1.5365E-6,4.1148000000000001E-3,-9.9999999999999995E-8,null,null,null,null,null,null,-3.6592E-6,-1.0345506E-3,1.0240956264000001,null,null,null,null,-0.98309999999999997,26.027999999999999,241.46,-9.9999999999999995E-8]
["V10-B","27E","B",1000,"BXRE",{"$f":"MasterTable[[#This Row],[Product Family]]&\"-\"&MasterTable[[#This Row],[CCT/CRI]]&MasterTable[[#This Row],[Arrangement]]","v":"V10-B-27EB"},{"$f":"MasterTable[[#This Row],[Generation]]&\"-\"&MasterTable[[#This Row],[CCT/CRI]]&IF(MasterTable[[#This Row],[Lumen Family]]<999,\"0\"&MasterTable[[#This Row],[Lumen Family]],MasterTable[[#This Row],[Lumen Family]])&\"-\"&MasterTable[[#This Row],[Arrangement]]&\"-xx\"","v":"BXRE-27E1000-B-xx"},1458,{"$f":"MasterTable[[#This Row],[Typical Lumens]]/(MasterTable[[#This Row],[Typical Voltage]]*MasterTable[[#This Row],[Typical Current]]/1000)","v":155.17241379310343},0.49075000000000002,34.799999999999997,270,540,36,null,9.8000000000000001E-9,-1.42836E-5,1.6490447700000001E-2,31.302010081999999,6.8448E-10,-1.5365E-6,4.1148000000000001E-3,-9.9999999999999995E-8,null,null,null,null,null,null,-3.6592E-6,-1.0345506E-3,1.0240956264000001,null,null,null,null,-0.98309999999999997,26.027999999999999,241.46,-9.9999999999999995E-8,null,null,"y = 27.1960x2 + 234.8197x + 2.4136"]
["V10-B","27G","B",1000,"BXRE",{"$f":"MasterTable[[#This Row],[Product Family]]&\"-\"&MasterTable[[#This Row],[CCT/CRI]]&MasterTable[[#This Row],[Arrangement]]","v":"V10-B-27GB"},{"$f":"MasterTable[[#This Row],[Generation]]&\"-\"&MasterTable[[#This Row],[CCT/CRI]]&IF(MasterTable[[#This Row],[Lumen Family]]<999,\"0\"&MasterTable[[#This Row],[Lumen Family]],MasterTable[[#This Row],[Lumen Family]])&\"-\"&MasterTable[[#This Row],[Arrangement]]&\"-xx\"","v":"BXRE-27G1000-B-xx"},1249,{"$f":"MasterTable[[#This Row],[Typical Lumens]]/(MasterTable[[#This Row],[Typical Voltage]]*MasterTable[[#This Row],[Typical Current]]/1000)","v":132.92890591741164},0.49075000000000002,34.799999999999997,270,540,36,null,9.8000000000000001E-9,-1.42836E-5,1.6490447700000001E-2,31.302010081999999,6.8448E-10,-1.5365E-6,4.1148000000000001E-3,-9.9999999999999995E-8,null,null,null,null,null,null,-3.6592E-6,-1.0345506E-3,1.0240956264000001,null,null,null,null,-0.98309999999999997,26.027999999999999,241.46,-9.9999999999999995E-8]
["V10-B","27H","B",1000,"BXRE",{"$f":"MasterTable[[#This Row],[Product Family]]&\"-\"&MasterTable[[#This Row],[CCT/CRI]]&MasterTable[[#This Row],[Arrangement]]","v":"V10-B-27HB"},{"$f":"MasterTable[[#This Row],[Generation]]&\"-\"&MasterTable[[#This Row],[CCT/CRI]]&IF(MasterTable[[#This Row],[Lumen Family]]<999,\"0\"&MasterTable[[#This Row],[Lumen Family]],MasterTable[[#This Row],[Lumen Family]])&\"-\"&MasterTable[[#This Row],[Arrangement]]&\"-xx\"","v":"BXRE-27H1000-B-xx"},1066,{"$f":"MasterTable[[#This Row],[Typical Lumens]]/(MasterTable[[#This Row],[Typical Voltage]]*MasterTable[[#This Row],[Typical Current]]/1000)","v":113.45253299276287},0.49075000000000002,34.799999999999997,270,540,36,null,9.8000000000000001E-9,-1.42836E-5,1.6490447700000001E-2,31.302010081999999,6.8448E-10,-1.5365E-6,4.1148000000000001E-3,-9.9999999999999995E-8,null,null,null,null,null,null,-3.6592E-6,-1.0345506E-3,1.0240956264000001,null,null,null,null,-0.98309999999999997,26.027999999999999,241.46,-9.9999999999999995E-8]
["V10-B","27G-H","B","10H0","BXRE",{"$f":"MasterTable[[#This Row],[Product Family]]&\"-\"&MasterTable[[#This Row],[CCT/CRI]]&MasterTable[[#This Row],[Arrangement]]","v":"V10-B-27G-HB"},"BXRE-27G-10H0-B-xx",1249,{"$f":"MasterTable[[#This Row],[Typical Lumens]]/(MasterTable[[#This Row],[Typical Voltage]]*MasterTable[[#This Row],[Typical Current]]/1000)","v":132.92890591741164},0.49075000000000002,34.799999999999997,270,{"$f":"L208*2","v":540},36,null,9.8000000000000001E-9,-1.42836E-5,1.6490447700000001E-2,31.302010081999999,6.8448E-10,-1.5365E-6,4.1148000000000001E-3,-9.9999999999999995E-8,null,null,null,null,null,null,-3.6592E-6,-1.0345506E-3,1.0240956264000001,null,null,null,null,-0.98309999999999997,26.027999999999999,241.46,-9.9999999999999995E-8]
["V10-B","30G-H","B","10H0","BXRE",{"$f":"MasterTable[[#This Row],[Product Family]]&\"-\"&MasterTable[[#This Row],[CCT/CRI]]&MasterTable[[#This Row],[Arrangement]]","v":"V10-B-30G-HB"},"BXRE-30G-10H0-B-xx",1312,{"$f":"MasterTable[[#This Row],[Typical Lumens]]/(MasterTable[[#This Row],[Typical Voltage]]*MasterTable[[#This Row],[Typical Current]]/1000)","v":139.63388676032352},0.49075000000000002,34.799999999999997,270,540,38,null,9.8000000000000001E-9,-1.42836E-5,1.6490447700000001E-2,31.302010081999999,6.8448E-10,-1.5365E-6,4.1148000000000001E-3,-9.9999999999999995E-8,null,null,null,null,null,null,-3.6592E-6,-1.0345506E-3,1.0240956264000001,null,null,null,null,-0.98309999999999997,26.027999999999999,241.46,-9.9999999999999995E-8]
["V10-B","30G","B",1000,"BXRE",{"$f":"MasterTable[[#This Row],[Product Family]]&\"-\"&MasterTable[[#This Row],[CCT/CRI]]&MasterTable[[#This Row],[Arrangement]]","v":"V10-B-30GB"},{"$f":"MasterTable[[#This Row],[Generation]]&\"-\"&MasterTable[[#This Row],[CCT/CRI]]&IF(MasterTable[[#This Row],[Lumen Family]]<999,\"0\"&MasterTable[[#This Row],[Lumen Family]],MasterTable[[#This Row],[Lumen Family]])&\"-\"&MasterTable[[#This Row],[Arrangement]]&\"-xx\"","v":"BXRE-30G1000-B-xx"},1325.9635200000002,{"$f":"MasterTable[[#This Row],[Typical Lumens]]/(MasterTable[[#This Row],[Typical Voltage]]*MasterTable[[#This Row],[Typical Current]]/1000)","v":141.12},0.49075000000000002,34.799999999999997,270,540,36,null,9.8000000000000001E-9,-1.42836E-5,1.6490447700000001E-2,31.302010081999999,6.8448E-10,-1.5365E-6,4.1148000000000001E-3,-9.9999999999999995E-8,null,null,null,null,null,null,-3.6592E-6,-1.0345506E-3,1.0240956264000001,null,null,null,null,-0.98309999999999997,26.027999999999999,241.46,-9.9999999999999995E-8]
["V10-B","27S","B",1001,"BXRE",{"$f":"MasterTable[[#This Row],[Product Family]]&\"-\"&MasterTable[[#This Row],[CCT/CRI]]&MasterTable[[#This Row],[Arrangement]]","v":"V10-B-27SB"},{"$f":"MasterTable[[#This Row],[Generation]]&\"-\"&MasterTable[[#This Row],[CCT/CRI]]&IF(MasterTable[[#This Row],[Lumen Family]]<999,\"0\"&MasterTable[[#This Row],[Lumen Family]],MasterTable[[#This Row],[Lumen Family]])&\"-\"&MasterTable[[#This Row],[Arrangement]]&\"-xx\"","v":"BXRE-27S1001-B-xx"},1003,{"$f":"MasterTable[[#This Row],[Typical Lumens]]/(MasterTable[[#This Row],[Typical Voltage]]*MasterTable[[#This Row],[Typical Current]]/1000)","v":107.98880275624461},0.49075000000000002,34.4,270,540,36,null,1.3429000000000001E-8,-2.4572000000000001E-5,1.7867000000000001E-2,31.102,6.5229000000000003E-10,-1.5151999999999999E-6,4.1117000000000003E-3,-9.9999999999999995E-8,null,null,null,null,null,null,-3.6592E-6,-1.0345506E-3,1.0240956264000001,null,null,null,null,-0.72845000000000004,25.434000000000001,241.76,-9.9999999999999995E-8]
["V10-B","30C","B",1001,"BXRE",{"$f":"MasterTable[[#This Row],[Product Family]]&\"-\"&MasterTable[[#This Row],[CCT/CRI]]&MasterTable[[#This Row],[Arrangement]]","v":"V10-B-30CB"},{"$f":"MasterTable[[#This Row],[Generation]]&\"-\"&MasterTable[[#This Row],[CCT/CRI]]&IF(MasterTable[[#This Row],[Lumen Family]]<999,\"0\"&MasterTable[[#This Row],[Lumen Family]],MasterTable[[#This Row],[Lumen Family]])&\"-\"&MasterTable[[#This Row],[Arrangement]]&\"-xx\"","v":"BXRE-30C1001-B-xx"},1622,{"$f":"MasterTable[[#This Row],[Typical Lumens]]/(MasterTable[[#This Row],[Typical Voltage]]*MasterTable[[#This Row],[Typical Current]]/1000)","v":172.62664963814387},1.49075,34.799999999999997,270,540,36,null,9.8000000000000001E-9,-1.42836E-5,1.6490447700000001E-2,31.302010081999999,6.8448E-10,-1.5365E-6,4.1148000000000001E-3,-9.9999999999999995E-8,null,null,null,null,null,null,-3.6592E-6,-1.0345506E-3,1.0240956264000001,null,null,null,null,-0.98309999999999997,26.027999999999999,241.46,-9.9999999999999995E-8]
["V10-B","30S","B",1001,"BXRE",{"$f":"MasterTable[[#This Row],[Product Family]]&\"-\"&MasterTable[[#This Row],[CCT/CRI]]&MasterTable[[#This Row],[Arrangement]]","v":"V10-B-30SB"},{"$f":"MasterTable[[#This Row],[Generation]]&\"-\"&MasterTable[[#This Row],[CCT/CRI]]&IF(MasterTable[[#This Row],[Lumen Family]]<999,\"0\"&MasterTable[[#This Row],[Lumen Family]],MasterTable[[#This Row],[Lumen Family]])&\"-\"&MasterTable[[#This Row],[Arrangement]]&\"-xx\"","v":"BXRE-30S1001-B-xx"},1077,{"$f":"MasterTable[[#This Row],[Typical Lumens]]/(MasterTable[[#This Row],[Typical Voltage]]*MasterTable[[#This Row],[Typical Current]]/1000)","v":115.95607235142118},0.49075000000000002,34.4,270,540,36,null,1.3429000000000001E-8,-2.4572000000000001E-5,1.7867000000000001E-2,31.102,6.5229000000000003E-10,-1.5151999999999999E-6,4.1117000000000003E-3,-9.9999999999999995E-8,null,null,null,null,null,null,-3.6592E-6,-1.0345506E-3,1.0240956264000001,null,null,null,null,-0.72845000000000004,25.434000000000001,241.76,-9.9999999999999995E-8]
["V10-B","30G-C","B","100C","BXRE",{"$f":"MasterTable[[#This Row],[Product Family]]&\"-\"&MasterTable[[#This Row],[CCT/CRI]]&MasterTable[[#This Row],[Arrangement]]","v":"V10-B-30G-CB"},"BXRE-30G100C-B-xx",1212,{"$f":"MasterTable[[#This Row],[Typical Lumens]]/(MasterTable[[#This Row],[Typical Voltage]]*MasterTable[[#This Row],[Typical Current]]/1000)","v":128.99106002554277},0.49075000000000002,34.799999999999997,270,{"$f":"L214*2","v":540},36,null,9.8000000000000001E-9,-1.42836E-5,1.6490447700000001E-2,31.302010081999999,6.8448E-10,-1.5365E-6,4.1148000000000001E-3,-9.9999999999999995E-8,null,null,null,null,null,null,-3.6592E-6,-1.0345506E-3,1.0240956264000001,null,null,null,null,-0.98309999999999997,26.027999999999999,241.46,-9.9999999999999995E-8]
["V10-B","30H","B",1000,"BXRE",{"$f":"MasterTable[[#This Row],[Product Family]]&\"-\"&MasterTable[[#This Row],[CCT/CRI]]&MasterTable[[#This Row],[Arrangement]]","v":"V10-B-30HB"},{"$f":"MasterTable[[#This Row],[Generation]]&\"-\"&MasterTable[[#This Row],[CCT/CRI]]&IF(MasterTable[[#This Row],[Lumen Family]]<999,\"0\"&MasterTable[[#This Row],[Lumen Family]],MasterTable[[#This Row],[Lumen Family]])&\"-\"&MasterTable[[#This Row],[Arrangement]]&\"-xx\"","v":"BXRE-30H1000-B-xx"},1139,{"$f":"MasterTable[[#This Row],[Typical Lumens]]/(MasterTable[[#This Row],[Typical Voltage]]*MasterTable[[#This Row],[Typical Current]]/1000)","v":121.22179650915282},0.49075000000000002,34.799999999999997,270,540,36,null,9.8000000000000001E-9,-1.42836E-5,1.6490447700000001E-2,31.302010081999999,6.8448E-10,-1.5365E-6,4.1148000000000001E-3,-9.9999999999999995E-8,null,null,null,null,null,null,-3.6592E-6,-1.0345506E-3,1.0240956264000001,null,null,null,null,-0.98309999999999997,26.027999999999999,241.46,-9.9999999999999995E-8]
["V10-B","30A","B",1001,"BXRE",{"$f":"MasterTable[[#This Row],[Product Family]]&\"-\"&MasterTable[[#This Row],[CCT/CRI]]&MasterTable[[#This Row],[Arrangement]]","v":"V10-B-30AB"},"BXRE-30A1001-B-xx",1130,{"$f":"MasterTable[[#This Row],[Typical Lumens]]/(MasterTable[[#This Row],[Typical Voltage]]*MasterTable[[#This Row],[Typical Current]]/1000)","v":120.26394210302256},0.49075000000000002,34.799999999999997,270,{"$f":"L216*2","v":540},36,null,9.8000000000000001E-9,-1.42836E-5,1.6490447700000001E-2,31.302010081999999,6.8448E-10,-1.5365E-6,4.1148000000000001E-3,-9.9999999999999995E-8,null,null,null,null,null,null,-3.6592E-6,-1.0345506E-3,1.0240956264000001,null,null,null,null,-0.98309999999999997,26.027999999999999,241.46,-9.9999999999999995E-8]
["V10-B","35E","B",1000,"BXRE",{"$f":"MasterTable[[#This Row],[Product Family]]&\"-\"&MasterTable[[#This Row],[CCT/CRI]]&MasterTable[[#This Row],[Arrangement]]","v":"V10-B-35EB"},{"$f":"MasterTable[[#This Row],[Generation]]&\"-\"&MasterTable[[#This Row],[CCT/CRI]]&IF(MasterTable[[#This Row],[Lumen Family]]<999,\"0\"&MasterTable[[#This Row],[Lumen Family]],MasterTable[[#This Row],[Lumen Family]])&\"-\"&MasterTable[[#This Row],[Arrangement]]&\"-xx\"","v":"BXRE-35E1000-B-xx"},1586,{"$f":"MasterTable[[#This Row],[Typical Lumens]]/(MasterTable[[#This Row],[Typical Voltage]]*MasterTable[[#This Row],[Typical Current]]/1000)","v":168.79523201362281},0.49075000000000002,34.799999999999997,270,540,36,null,9.8000000000000001E-9,-1.42836E-5,1.6490447700000001E-2,31.302010081999999,6.8448E-10,-1.5365E-6,4.1148000000000001E-3,-9.9999999999999995E-8,null,null,null,null,null,null,-3.6592E-6,-1.0345506E-3,1.0240956264000001,null,null,null,null,-0.98309999999999997,26.027999999999999,241.46,-9.9999999999999995E-8]
["V10-B","35G","B",1000,"BXRE",{"$f":"MasterTable[[#This Row],[Product Family]]&\"-\"&MasterTable[[#This Row],[CCT/CRI]]&MasterTable[[#This Row],[Arrangement]]","v":"V10-B-35GB"},{"$f":"MasterTable[[#This Row],[Generation]]&\"-\"&MasterTable[[#This Row],[CCT/CRI]]&IF(MasterTable[[#This Row],[Lumen Family]]<999,\"0\"&MasterTable[[#This Row],[Lumen Family]],MasterTable[[#This Row],[Lumen Family]])&\"-\"&MasterTable[[#This Row],[Arrangement]]&\"-xx\"","v":"BXRE-35G1000-B-xx"},1303,{"$f":"MasterTable[[#This Row],[Typical Lumens]]/(MasterTable[[#This Row],[Typical Voltage]]*MasterTable[[#This Row],[Typical Current]]/1000)","v":138.67603235419327},0.49075000000000002,34.799999999999997,270,540,36,null,9.8000000000000001E-9,-1.42836E-5,1.6490447700000001E-2,31.302010081999999,6.8448E-10,-1.5365E-6,4.1148000000000001E-3,-9.9999999999999995E-8,null,null,null,null,null,null,-3.6592E-6,-1.0345506E-3,1.0240956264000001,null,null,null,null,-0.98309999999999997,26.027999999999999,241.46,-9.9999999999999995E-8]
["V10-B","35A","B",1001,"BXRE",{"$f":"MasterTable[[#This Row],[Product Family]]&\"-\"&MasterTable[[#This Row],[CCT/CRI]]&MasterTable[[#This Row],[Arrangement]]","v":"V10-B-35AB"},{"$f":"MasterTable[[#This Row],[Generation]]&\"-\"&MasterTable[[#This Row],[CCT/CRI]]&IF(MasterTable[[#This Row],[Lumen Family]]<999,\"0\"&MasterTable[[#This Row],[Lumen Family]],MasterTable[[#This Row],[Lumen Family]])&\"-\"&MasterTable[[#This Row],[Arrangement]]&\"-xx\"","v":"BXRE-35A1001-B-xx"},1203,{"$f":"MasterTable[[#This Row],[Typical Lumens]]/(MasterTable[[#This Row],[Typical Voltage]]*MasterTable[[#This Row],[Typical Current]]/1000)","v":128.03320561941251},0.49075000000000002,34.799999999999997,270,540,36,null,9.8000000000000001E-9,-1.42836E-5,1.6490447700000001E-2,31.302010081999999,6.8448E-10,-1.5365E-6,4.1148000000000001E-3,-9.9999999999999995E-8,null,null,null,null,null,null,-3.6592E-6,-1.0345506E-3,1.0240956264000001,null,null,null,null,-0.98309999999999997,26.027999999999999,241.46,-9.9999999999999995E-8]
["V10-B","35S","B",1001,"BXRE",{"$f":"MasterTable[[#This Row],[Product Family]]&\"-\"&MasterTable[[#This Row],[CCT/CRI]]&MasterTable[[#This Row],[Arrangement]]","v":"V10-B-35SB"},{"$f":"MasterTable[[#This Row],[Generation]]&\"-\"&MasterTable[[#This Row],[CCT/CRI]]&IF(MasterTable[[#This Row],[Lumen Family]]<999,\"0\"&MasterTable[[#This Row],[Lumen Family]],MasterTable[[#This Row],[Lumen Family]])&\"-\"&MasterTable[[#This Row],[Arrangement]]&\"-xx\"","v":"BXRE-35S1001-B-xx"},1124,{"$f":"MasterTable[[#This Row],[Typical Lumens]]/(MasterTable[[#This Row],[Typical Voltage]]*MasterTable[[#This Row],[Typical Current]]/1000)","v":121.01636520241171},0.49075000000000002,34.4,270,540,36,null,1.3429000000000001E-8,-2.4572000000000001E-5,1.7867000000000001E-2,31.102,6.5229000000000003E-10,-1.5151999999999999E-6,4.1117000000000003E-3,-9.9999999999999995E-8,null,null,null,null,null,null,-3.6592E-6,-1.0345506E-3,1.0240956264000001,null,null,null,null,-0.72845000000000004,25.434000000000001,241.76,-9.9999999999999995E-8]
["V10-B","40C","B",1001,"BXRE",{"$f":"MasterTable[[#This Row],[Product Family]]&\"-\"&MasterTable[[#This Row],[CCT/CRI]]&MasterTable[[#This Row],[Arrangement]]","v":"V10-B-40CB"},{"$f":"MasterTable[[#This Row],[Generation]]&\"-\"&MasterTable[[#This Row],[CCT/CRI]]&IF(MasterTable[[#This Row],[Lumen Family]]<999,\"0\"&MasterTable[[#This Row],[Lumen Family]],MasterTable[[#This Row],[Lumen Family]])&\"-\"&MasterTable[[#This Row],[Arrangement]]&\"-xx\"","v":"BXRE-40C1001-B-xx"},1668,{"$f":"MasterTable[[#This Row],[Typical Lumens]]/(MasterTable[[#This Row],[Typical Voltage]]*MasterTable[[#This Row],[Typical Current]]/1000)","v":177.52234993614303},1.49075,34.799999999999997,270,540,36,null,9.8000000000000001E-9,-1.42836E-5,1.6490447700000001E-2,31.302010081999999,6.8448E-10,-1.5365E-6,4.1148000000000001E-3,-9.9999999999999995E-8,null,null,null,null,null,null,-3.6592E-6,-1.0345506E-3,1.0240956264000001,null,null,null,null,-0.98309999999999997,26.027999999999999,241.46,-9.9999999999999995E-8]
["V10-B","40S","B",1001,"BXRE",{"$f":"MasterTable[[#This Row],[Product Family]]&\"-\"&MasterTable[[#This Row],[CCT/CRI]]&MasterTable[[#This Row],[Arrangement]]","v":"V10-B-40SB"},{"$f":"MasterTable[[#This Row],[Generation]]&\"-\"&MasterTable[[#This Row],[CCT/CRI]]&IF(MasterTable[[#This Row],[Lumen Family]]<999,\"0\"&MasterTable[[#This Row],[Lumen Family]],MasterTable[[#This Row],[Lumen Family]])&\"-\"&MasterTable[[#This Row],[Arrangement]]&\"-xx\"","v":"BXRE-40S1001-B-xx"},1142,{"$f":"MasterTable[[#This Row],[Typical Lumens]]/(MasterTable[[#This Row],[Typical Voltage]]*MasterTable[[#This Row],[Typical Current]]/1000)","v":122.95434969853574},0.49075000000000002,34.4,270,540,36,null,1.3429000000000001E-8,-2.4572000000000001E-5,1.7867000000000001E-2,31.102,6.5229000000000003E-10,-1.5151999999999999E-6,4.1117000000000003E-3,-9.9999999999999995E-8,null,null,null,null,null,null,-3.6592E-6,-1.0345506E-3,1.0240956264000001,null,null,null,null,-0.72845000000000004,25.434000000000001,241.76,-9.9999999999999995E-8]
["V10-B","40E","B",1000,"BXRE",{"$f":"MasterTable[[#This Row],[Product Family]]&\"-\"&MasterTable[[#This Row],[CCT/CRI]]&MasterTable[[#This Row],[Arrangement]]","v":"V10-B-40EB"},{"$f":"MasterTable[[#This Row],[Generation]]&\"-\"&MasterTable[[#This Row],[CCT/CRI]]&IF(MasterTable[[#This Row],[Lumen Family]]<999,\"0\"&MasterTable[[#This Row],[Lumen Family]],MasterTable[[#This Row],[Lumen Family]])&\"-\"&MasterTable[[#This Row],[Arrangement]]&\"-xx\"","v":"BXRE-40E1000-B-xx"},1595,{"$f":"MasterTable[[#This Row],[Typical Lumens]]/(MasterTable[[#This Row],[Typical Voltage]]*MasterTable[[#This Row],[Typical Current]]/1000)","v":169.75308641975306},0.49075000000000002,34.799999999999997,270,540,36,null,9.8000000000000001E-9,-1.42836E-5,1.6490447700000001E-2,31.302010081999999,6.8448E-10,-1.5365E-6,4.1148000000000001E-3,-9.9999999999999995E-8,null,null,null,null,null,null,-3.5848E-6,-1.1148865E-3,1.0260294071,null,null,null,null,-0.98309999999999997,26.027999999999999,241.46,-9.9999999999999995E-8]
["V10-B","40G","B",1001,"BXRE",{"$f":"MasterTable[[#This Row],[Product Family]]&\"-\"&MasterTable[[#This Row],[CCT/CRI]]&MasterTable[[#This Row],[Arrangement]]","v":"V10-B-40GB"},{"$f":"MasterTable[[#This Row],[Generation]]&\"-\"&MasterTable[[#This Row],[CCT/CRI]]&IF(MasterTable[[#This Row],[Lumen Family]]<999,\"0\"&MasterTable[[#This Row],[Lumen Family]],MasterTable[[#This Row],[Lumen Family]])&\"-\"&MasterTable[[#This Row],[Arrangement]]&\"-xx\"","v":"BXRE-40G1001-B-xx"},1331,{"$f":"MasterTable[[#This Row],[Typical Lumens]]/(MasterTable[[#This Row],[Typical Voltage]]*MasterTable[[#This Row],[Typical Current]]/1000)","v":141.65602383993186},0.49075000000000002,34.799999999999997,270,540,36,null,9.8000000000000001E-9,-1.42836E-5,1.6490447700000001E-2,31.302010081999999,6.8448E-10,-1.5365E-6,4.1148000000000001E-3,-9.9999999999999995E-8,null,null,null,null,null,null,-3.5848E-6,-1.1148865E-3,1.0260294071,null,null,null,null,-0.98309999999999997,26.027999999999999,241.46,-9.9999999999999995E-8]
["V10-B","50C","B",1001,"BXRE",{"$f":"MasterTable[[#This Row],[Product Family]]&\"-\"&MasterTable[[#This Row],[CCT/CRI]]&MasterTable[[#This Row],[Arrangement]]","v":"V10-B-50CB"},{"$f":"MasterTable[[#This Row],[Generation]]&\"-\"&MasterTable[[#This Row],[CCT/CRI]]&IF(MasterTable[[#This Row],[Lumen Family]]<999,\"0\"&MasterTable[[#This Row],[Lumen Family]],MasterTable[[#This Row],[Lumen Family]])&\"-\"&MasterTable[[#This Row],[Arrangement]]&\"-xx\"","v":"BXRE-50C1001-B-xx"},1677,{"$f":"MasterTable[[#This Row],[Typical Lumens]]/(MasterTable[[#This Row],[Typical Voltage]]*MasterTable[[#This Row],[Typical Current]]/1000)","v":178.48020434227328},0.49075000000000002,34.799999999999997,270,540,36,null,9.8000000000000001E-9,-1.42836E-5,1.6490447700000001E-2,31.302010081999999,6.8448E-10,-1.5365E-6,4.1148000000000001E-3,-9.9999999999999995E-8,null,null,null,null,null,null,-3.5848E-6,-1.1148865E-3,1.0260294071,null,null,null,null,-0.98309999999999997,26.027999999999999,241.46,-9.9999999999999995E-8]
["V10-B","50E","B",1001,"BXRE",{"$f":"MasterTable[[#This Row],[Product Family]]&\"-\"&MasterTable[[#This Row],[CCT/CRI]]&MasterTable[[#This Row],[Arrangement]]","v":"V10-B-50EB"},{"$f":"MasterTable[[#This Row],[Generation]]&\"-\"&MasterTable[[#This Row],[CCT/CRI]]&IF(MasterTable[[#This Row],[Lumen Family]]<999,\"0\"&MasterTable[[#This Row],[Lumen Family]],MasterTable[[#This Row],[Lumen Family]])&\"-\"&MasterTable[[#This Row],[Arrangement]]&\"-xx\"","v":"BXRE-50E1001-B-xx"},1613,{"$f":"MasterTable[[#This Row],[Typical Lumens]]/(MasterTable[[#This Row],[Typical Voltage]]*MasterTable[[#This Row],[Typical Current]]/1000)","v":171.66879523201362},0.49075000000000002,34.799999999999997,270,540,36,null,9.8000000000000001E-9,-1.42836E-5,1.6490447700000001E-2,31.302010081999999,6.8448E-10,-1.5365E-6,4.1148000000000001E-3,-9.9999999999999995E-8,null,null,null,null,null,null,-3.5848E-6,-1.1148865E-3,1.0260294071,null,null,null,null,-0.98309999999999997,26.027999999999999,241.46,-9.9999999999999995E-8]
["V10-B","50G","B",1001,"BXRE",{"$f":"MasterTable[[#This Row],[Product Family]]&\"-\"&MasterTable[[#This Row],[CCT/CRI]]&MasterTable[[#This Row],[Arrangement]]","v":"V10-B-50GB"},{"$f":"MasterTable[[#This Row],[Generation]]&\"-\"&MasterTable[[#This Row],[CCT/CRI]]&IF(MasterTable[[#This Row],[Lumen Family]]<999,\"0\"&MasterTable[[#This Row],[Lumen Family]],MasterTable[[#This Row],[Lumen Family]])&\"-\"&MasterTable[[#This Row],[Arrangement]]&\"-xx\"","v":"BXRE-50G1001-B-xx"},1394,{"$f":"MasterTable[[#This Row],[Typical Lumens]]/(MasterTable[[#This Row],[Typical Voltage]]*MasterTable[[#This Row],[Typical Current]]/1000)","v":148.36100468284374},0.49075000000000002,34.799999999999997,270,540,36,null,9.8000000000000001E-9,-1.42836E-5,1.6490447700000001E-2,31.302010081999999,6.8448E-10,-1.5365E-6,4.1148000000000001E-3,-9.9999999999999995E-8,null,null,null,null,null,null,-3.5848E-6,-1.1148865E-3,1.0260294071,null,null,null,null,-0.98309999999999997,26.027999999999999,241.46,-9.9999999999999995E-8]
["V10-B","50S","B",1001,"BXRE",{"$f":"MasterTable[[#This Row],[Product Family]]&\"-\"&MasterTable[[#This Row],[CCT/CRI]]&MasterTable[[#This Row],[Arrangement]]","v":"V10-B-50SB"},{"$f":"MasterTable[[#This Row],[Generation]]&\"-\"&MasterTable[[#This Row],[CCT/CRI]]&IF(MasterTable[[#This Row],[Lumen Family]]<999,\"0\"&MasterTable[[#This Row],[Lumen Family]],MasterTable[[#This Row],[Lumen Family]])&\"-\"&MasterTable[[#This Row],[Arrangement]]&\"-xx\"","v":"BXRE-50S1001-B-xx"},1198,{"$f":"MasterTable[[#This Row],[Typical Lumens]]/(MasterTable[[#This Row],[Typical Voltage]]*MasterTable[[#This Row],[Typical Current]]/1000)","v":128.98363479758828},0.49075000000000002,34.4,270,540,36,null,1.3429000000000001E-8,-2.4572000000000001E-5,1.7867000000000001E-2,31.102,6.5229000000000003E-10,-1.5151999999999999E-6,4.1117000000000003E-3,-9.9999999999999995E-8,null,null,null,null,null,null,-3.5848E-6,-1.1148865E-3,1.0260294071,null,null,null,null,-0.72845000000000004,25.434000000000001,241.76,-9.9999999999999995E-8]
["V10-B","57S","B",1001,"BXRE",{"$f":"MasterTable[[#This Row],[Product Family]]&\"-\"&MasterTable[[#This Row],[CCT/CRI]]&MasterTable[[#This Row],[Arrangement]]","v":"V10-B-57SB"},{"$f":"MasterTable[[#This Row],[Generation]]&\"-\"&MasterTable[[#This Row],[CCT/CRI]]&IF(MasterTable[[#This Row],[Lumen Family]]<999,\"0\"&MasterTable[[#This Row],[Lumen Family]],MasterTable[[#This Row],[Lumen Family]])&\"-\"&MasterTable[[#This Row],[Arrangement]]&\"-xx\"","v":"BXRE-57S1001-B-xx"},1226,{"$f":"MasterTable[[#This Row],[Typical Lumens]]/(MasterTable[[#This Row],[Typical Voltage]]*MasterTable[[#This Row],[Typical Current]]/1000)","v":131.99827734711457},0.49075000000000002,34.4,270,540,36,null,1.3429000000000001E-8,-2.4572000000000001E-5,1.7867000000000001E-2,31.102,6.5229000000000003E-10,-1.5151999999999999E-6,4.1117000000000003E-3,-9.9999999999999995E-8,null,null,null,null,null,null,-3.5848E-6,-1.1148865E-3,1.0260294071,null,null,null,null,-0.72845000000000004,25.434000000000001,241.76,-9.9999999999999995E-8]
["V10-B","57C","B",1001,"BXRE",{"$f":"MasterTable[[#This Row],[Product Family]]&\"-\"&MasterTable[[#This Row],[CCT/CRI]]&MasterTable[[#This Row],[Arrangement]]","v":"V10-B-57CB"},{"$f":"MasterTable[[#This Row],[Generation]]&\"-\"&MasterTable[[#This Row],[CCT/CRI]]&IF(MasterTable[[#This Row],[Lumen Family]]<999,\"0\"&MasterTable[[#This Row],[Lumen Family]],MasterTable[[#This Row],[Lumen Family]])&\"-\"&MasterTable[[#This Row],[Arrangement]]&\"-xx\"","v":"BXRE-57C1001-B-xx"},1631,{"$f":"MasterTable[[#This Row],[Typical Lumens]]/(MasterTable[[#This Row],[Typical Voltage]]*MasterTable[[#This Row],[Typical Current]]/1000)","v":173.58450404427415},0.49075000000000002,34.799999999999997,270,540,36,null,9.8000000000000001E-9,-1.42836E-5,1.6490447700000001E-2,31.302010081999999,6.8448E-10,-1.5365E-6,4.1148000000000001E-3,-9.9999999999999995E-8,null,null,null,null,null,null,-3.5848E-6,-1.1148865E-3,1.0260294071,null,null,null,null,-0.98309999999999997,26.027999999999999,241.46,-9.9999999999999995E-8]
["V10-B","57E","B",1001,"BXRE",{"$f":"MasterTable[[#This Row],[Product Family]]&\"-\"&MasterTable[[#This Row],[CCT/CRI]]&MasterTable[[#This Row],[Arrangement]]","v":"V10-B-57EB"},{"$f":"MasterTable[[#This Row],[Generation]]&\"-\"&MasterTable[[#This Row],[CCT/CRI]]&IF(MasterTable[[#This Row],[Lumen Family]]<999,\"0\"&MasterTable[[#This Row],[Lumen Family]],MasterTable[[#This Row],[Lumen Family]])&\"-\"&MasterTable[[#This Row],[Arrangement]]&\"-xx\"","v":"BXRE-57E1001-B-xx"},1549,{"$f":"MasterTable[[#This Row],[Typical Lumens]]/(MasterTable[[#This Row],[Typical Voltage]]*MasterTable[[#This Row],[Typical Current]]/1000)","v":164.85738612175393},0.49075000000000002,34.799999999999997,270,540,36,null,9.8000000000000001E-9,-1.42836E-5,1.6490447700000001E-2,31.302010081999999,6.8448E-10,-1.5365E-6,4.1148000000000001E-3,-9.9999999999999995E-8,null,null,null,null,null,null,-3.5848E-6,-1.1148865E-3,1.0260294071,null,null,null,null,-0.98309999999999997,26.027999999999999,241.46,-9.9999999999999995E-8]
["V10-B","65S","B",1001,"BXRE",{"$f":"MasterTable[[#This Row],[Product Family]]&\"-\"&MasterTable[[#This Row],[CCT/CRI]]&MasterTable[[#This Row],[Arrangement]]","v":"V10-B-65SB"},{"$f":"MasterTable[[#This Row],[Generation]]&\"-\"&MasterTable[[#This Row],[CCT/CRI]]&IF(MasterTable[[#This Row],[Lumen Family]]<999,\"0\"&MasterTable[[#This Row],[Lumen Family]],MasterTable[[#This Row],[Lumen Family]])&\"-\"&MasterTable[[#This Row],[Arrangement]]&\"-xx\"","v":"BXRE-65S1001-B-xx"},1207,{"$f":"MasterTable[[#This Row],[Typical Lumens]]/(MasterTable[[#This Row],[Typical Voltage]]*MasterTable[[#This Row],[Typical Current]]/1000)","v":129.9526270456503},0.49075000000000002,34.4,270,540,36,null,1.3429000000000001E-8,-2.4572000000000001E-5,1.7867000000000001E-2,31.102,6.5229000000000003E-10,-1.5151999999999999E-6,4.1117000000000003E-3,-9.9999999999999995E-8,null,null,null,null,null,null,-3.5848E-6,-1.1148865E-3,1.0260294071,null,null,null,null,-0.72845000000000004,25.434000000000001,241.76,-9.9999999999999995E-8]
["V10-B","65C","B",1001,"BXRE",{"$f":"MasterTable[[#This Row],[Product Family]]&\"-\"&MasterTable[[#This Row],[CCT/CRI]]&MasterTable[[#This Row],[Arrangement]]","v":"V10-B-65CB"},{"$f":"MasterTable[[#This Row],[Generation]]&\"-\"&MasterTable[[#This Row],[CCT/CRI]]&IF(MasterTable[[#This Row],[Lumen Family]]<999,\"0\"&MasterTable[[#This Row],[Lumen Family]],MasterTable[[#This Row],[Lumen Family]])&\"-\"&MasterTable[[#This Row],[Arrangement]]&\"-xx\"","v":"BXRE-65C1001-B-xx"},1631,{"$f":"MasterTable[[#This Row],[Typical Lumens]]/(MasterTable[[#This Row],[Typical Voltage]]*MasterTable[[#This Row],[Typical Current]]/1000)","v":173.58450404427415},0.49075000000000002,34.799999999999997,270,540,36,null,9.8000000000000001E-9,-1.42836E-5,1.6490447700000001E-2,31.302010081999999,6.8448E-10,-1.5365E-6,4.1148000000000001E-3,-9.9999999999999995E-8,null,null,null,null,null,null,-3.5848E-6,-1.1148865E-3,1.0260294071,null,null,null,null,-0.98309999999999997,26.027999999999999,241.46,-9.9999999999999995E-8]
["V10-B","65E","B",1001,"BXRE",{"$f":"MasterTable[[#This Row],[Product Family]]&\"-\"&MasterTable[[#This Row],[CCT/CRI]]&MasterTable[[#This Row],[Arrangement]]","v":"V10-B-65EB"},{"$f":"MasterTable[[#This Row],[Generation]]&\"-\"&MasterTable[[#This Row],[CCT/CRI]]&IF(MasterTable[[#This Row],[Lumen Family]]<999,\"0\"&MasterTable[[#This Row],[Lumen Family]],MasterTable[[#This Row],[Lumen Family]])&\"-\"&MasterTable[[#This Row],[Arrangement]]&\"-xx\"","v":"BXRE-65E1001-B-xx"},1568,{"$f":"MasterTable[[#This Row],[Typical Lumens]]/(MasterTable[[#This Row],[Typical Voltage]]*MasterTable[[#This Row],[Typical Current]]/1000)","v":166.87952320136228},0.49075000000000002,34.799999999999997,270,540,36,null,9.8000000000000001E-9,-1.42836E-5,1.6490447700000001E-2,31.302010081999999,6.8448E-10,-1.5365E-6,4.1148000000000001E-3,-9.9999999999999995E-8,null,null,null,null,null,null,-3.5848E-6,-1.1148865E-3,1.0260294071,null,null,null,null,-0.98309999999999997,26.027999999999999,241.46,-9.9999999999999995E-8]
["V10-C","30E","C",1000,"BXRE",{"$f":"MasterTable[[#This Row],[Product Family]]&\"-\"&MasterTable[[#This Row],[CCT/CRI]]&MasterTable[[#This Row],[Arrangement]]","v":"V10-C-30EC"},{"$f":"MasterTable[[#This Row],[Generation]]&\"-\"&MasterTable[[#This Row],[CCT/CRI]]&IF(MasterTable[[#This Row],[Lumen Family]]<999,\"0\"&MasterTable[[#This Row],[Lumen Family]],MasterTable[[#This Row],[Lumen Family]])&\"-\"&MasterTable[[#This Row],[Arrangement]]&\"-xx\"","v":"BXRE-30E1000-C-xx"},2066,{"$f":"MasterTable[[#This Row],[Typical Lumens]]/(MasterTable[[#This Row],[Typical Voltage]]*MasterTable[[#This Row],[Typical Current]]/1000)","v":164.91060025542785},0.37036666666666668,34.799999999999997,360,720,48,null,null,-3.0000000000000001E-6,1.09E-2,31.388000000000002,2.4598000000000001E-10,-8.7001999999999995E-7,3.0842E-3,-9.9999999999999995E-8,null,null,null,null,null,null,-3.6592E-6,-1.0345506E-3,1.0240956264000001,null,null,null,null,0.66473000000000004,33.152999999999999,322.76,-9.9999999999999995E-8]
["V10-C","27E","C",1000,"BXRE",{"$f":"MasterTable[[#This Row],[Product Family]]&\"-\"&MasterTable[[#This Row],[CCT/CRI]]&MasterTable[[#This Row],[Arrangement]]","v":"V10-C-27EC"},{"$f":"MasterTable[[#This Row],[Generation]]&\"-\"&MasterTable[[#This Row],[CCT/CRI]]&IF(MasterTable[[#This Row],[Lumen Family]]<999,\"0\"&MasterTable[[#This Row],[Lumen Family]],MasterTable[[#This Row],[Lumen Family]])&\"-\"&MasterTable[[#This Row],[Arrangement]]&\"-xx\"","v":"BXRE-27E1000-C-xx"},1944,{"$f":"MasterTable[[#This Row],[Typical Lumens]]/(MasterTable[[#This Row],[Typical Voltage]]*MasterTable[[#This Row],[Typical Current]]/1000)","v":155.17241379310346},0.37036666666666668,34.799999999999997,360,720,48,null,null,-3.0000000000000001E-6,1.09E-2,31.388000000000002,2.4598000000000001E-10,-8.7001999999999995E-7,3.0842E-3,-9.9999999999999995E-8,null,null,null,null,null,null,-3.6592E-6,-1.0345506E-3,1.0240956264000001,null,null,null,null,0.66473000000000004,33.152999999999999,322.76,-9.9999999999999995E-8]
["V10-C","27G","C",1000,"BXRE",{"$f":"MasterTable[[#This Row],[Product Family]]&\"-\"&MasterTable[[#This Row],[CCT/CRI]]&MasterTable[[#This Row],[Arrangement]]","v":"V10-C-27GC"},{"$f":"MasterTable[[#This Row],[Generation]]&\"-\"&MasterTable[[#This Row],[CCT/CRI]]&IF(MasterTable[[#This Row],[Lumen Family]]<999,\"0\"&MasterTable[[#This Row],[Lumen Family]],MasterTable[[#This Row],[Lumen Family]])&\"-\"&MasterTable[[#This Row],[Arrangement]]&\"-xx\"","v":"BXRE-27G1000-C-xx"},1665,{"$f":"MasterTable[[#This Row],[Typical Lumens]]/(MasterTable[[#This Row],[Typical Voltage]]*MasterTable[[#This Row],[Typical Current]]/1000)","v":132.90229885057474},0.37036666666666668,34.799999999999997,360,720,48,null,null,-3.0000000000000001E-6,1.09E-2,31.388000000000002,2.4598000000000001E-10,-8.7001999999999995E-7,3.0842E-3,-9.9999999999999995E-8,null,null,null,null,null,null,-3.6592E-6,-1.0345506E-3,1.0240956264000001,null,null,null,null,0.66473000000000004,33.152999999999999,322.76,-9.9999999999999995E-8]
["V10-C","27S","C",1001,"BXRE",{"$f":"MasterTable[[#This Row],[Product Family]]&\"-\"&MasterTable[[#This Row],[CCT/CRI]]&MasterTable[[#This Row],[Arrangement]]","v":"V10-C-27SC"},{"$f":"MasterTable[[#This Row],[Generation]]&\"-\"&MasterTable[[#This Row],[CCT/CRI]]&IF(MasterTable[[#This Row],[Lumen Family]]<999,\"0\"&MasterTable[[#This Row],[Lumen Family]],MasterTable[[#This Row],[Lumen Family]])&\"-\"&MasterTable[[#This Row],[Arrangement]]&\"-xx\"","v":"BXRE-27S1001-C-xx"},1337,{"$f":"MasterTable[[#This Row],[Typical Lumens]]/(MasterTable[[#This Row],[Typical Voltage]]*MasterTable[[#This Row],[Typical Current]]/1000)","v":107.96188630490956},0.37036666666666668,34.4,360,{"$f":"L238*2","v":720},48,null,5.6653999999999999E-9,-1.3822000000000001E-5,1.34E-2,31.102,2.4561999999999997E-10,-8.7118999999999995E-7,3.0853999999999999E-3,-9.9999999999999995E-8,null,null,null,null,null,null,-3.6592E-6,-1.0345506E-3,1.0240956264000001,null,null,null,null,0.70074000000000003,33.136000000000003,322.64999999999998,-9.9999999999999995E-8]
["V10-C","27G-H","C","10H0","BXRE",{"$f":"MasterTable[[#This Row],[Product Family]]&\"-\"&MasterTable[[#This Row],[CCT/CRI]]&MasterTable[[#This Row],[Arrangement]]","v":"V10-C-27G-HC"},"BXRE-27G-10H0-C-xx",1665,{"$f":"MasterTable[[#This Row],[Typical Lumens]]/(MasterTable[[#This Row],[Typical Voltage]]*MasterTable[[#This Row],[Typical Current]]/1000)","v":132.90229885057474},0.37036666666666668,34.799999999999997,360,{"$f":"L239*2","v":720},48,null,null,-3.0000000000000001E-6,1.09E-2,31.388000000000002,2.4598000000000001E-10,-8.7001999999999995E-7,3.0842E-3,-9.9999999999999995E-8,null,null,null,null,null,null,-3.6592E-6,-1.0345506E-3,1.0240956264000001,null,null,null,null,0.66473000000000004,33.152999999999999,322.76,-9.9999999999999995E-8]
["V10-C","30C","C",1001,"BXRE",{"$f":"MasterTable[[#This Row],[Product Family]]&\"-\"&MasterTable[[#This Row],[CCT/CRI]]&MasterTable[[#This Row],[Arrangement]]","v":"V10-C-30CC"},"BXRE-27G-10H0-C-xx",2163,{"$f":"MasterTable[[#This Row],[Typical Lumens]]/(MasterTable[[#This Row],[Typical Voltage]]*MasterTable[[#This Row],[Typical Current]]/1000)","v":172.65325670498086},0.37036666666666668,34.799999999999997,360,{"$f":"L240*2","v":720},49,null,null,-3.0000000000000001E-6,1.09E-2,31.388000000000002,2.4598000000000001E-10,-8.7001999999999995E-7,3.0842E-3,-9.9999999999999995E-8,null,null,null,null,null,null,-3.6592E-6,-1.0345506E-3,1.0240956264000001,null,null,null,null,0.66473000000000004,33.152999999999999,322.76,-9.9999999999999995E-8]
["V10-C","30G-H","C","10H0","BXRE",{"$f":"MasterTable[[#This Row],[Product Family]]&\"-\"&MasterTable[[#This Row],[CCT/CRI]]&MasterTable[[#This Row],[Arrangement]]","v":"V10-C-30G-HC"},"BXRE-30G-10H0-C-xx",1750,{"$f":"MasterTable[[#This Row],[Typical Lumens]]/(MasterTable[[#This Row],[Typical Voltage]]*MasterTable[[#This Row],[Typical Current]]/1000)","v":139.68710089399747},0.37036666666666668,34.799999999999997,360,720,48,null,null,-3.0000000000000001E-6,1.09E-2,31.388000000000002,2.4598000000000001E-10,-8.7001999999999995E-7,3.0842E-3,-9.9999999999999995E-8,null,null,null,null,null,null,-3.6592E-6,-1.0345506E-3,1.0240956264000001,null,null,null,null,0.66473000000000004,33.152999999999999,322.76,-9.9999999999999995E-8]
["V10-C","30G","C",1000,"BXRE",{"$f":"MasterTable[[#This Row],[Product Family]]&\"-\"&MasterTable[[#This Row],[CCT/CRI]]&MasterTable[[#This Row],[Arrangement]]","v":"V10-C-30GC"},{"$f":"MasterTable[[#This Row],[Generation]]&\"-\"&MasterTable[[#This Row],[CCT/CRI]]&IF(MasterTable[[#This Row],[Lumen Family]]<999,\"0\"&MasterTable[[#This Row],[Lumen Family]],MasterTable[[#This Row],[Lumen Family]])&\"-\"&MasterTable[[#This Row],[Arrangement]]&\"-xx\"","v":"BXRE-30G1000-C-xx"},1677,{"$f":"MasterTable[[#This Row],[Typical Lumens]]/(MasterTable[[#This Row],[Typical Voltage]]*MasterTable[[#This Row],[Typical Current]]/1000)","v":133.86015325670499},0.37036666666666668,34.799999999999997,360,720,48,null,null,-3.0000000000000001E-6,1.09E-2,31.388000000000002,2.4598000000000001E-10,-8.7001999999999995E-7,3.0842E-3,-9.9999999999999995E-8,null,null,null,null,null,null,-3.6592E-6,-1.0345506E-3,1.0240956264000001,null,null,null,null,0.66473000000000004,33.152999999999999,322.76,-9.9999999999999995E-8]
["V10-C","30G-C","C","100C","BXRE",{"$f":"MasterTable[[#This Row],[Product Family]]&\"-\"&MasterTable[[#This Row],[CCT/CRI]]&MasterTable[[#This Row],[Arrangement]]","v":"V10-C-30G-CC"},"BXRE-30G100C-C-xx",1616,{"$f":"MasterTable[[#This Row],[Typical Lumens]]/(MasterTable[[#This Row],[Typical Voltage]]*MasterTable[[#This Row],[Typical Current]]/1000)","v":128.99106002554279},0.37036666666666668,34.799999999999997,360,{"$f":"L243*2","v":720},48,null,null,-3.0000000000000001E-6,1.09E-2,31.388000000000002,2.4598000000000001E-10,-8.7001999999999995E-7,3.0842E-3,-9.9999999999999995E-8,null,null,null,null,null,null,-3.6592E-6,-1.0345506E-3,1.0240956264000001,null,null,null,null,0.66473000000000004,33.152999999999999,322.76,-9.9999999999999995E-8]
["V10-C","30A","C",1001,"BXRE",{"$f":"MasterTable[[#This Row],[Product Family]]&\"-\"&MasterTable[[#This Row],[CCT/CRI]]&MasterTable[[#This Row],[Arrangement]]","v":"V10-C-30AC"},{"$f":"MasterTable[[#This Row],[Generation]]&\"-\"&MasterTable[[#This Row],[CCT/CRI]]&IF(MasterTable[[#This Row],[Lumen Family]]<999,\"0\"&MasterTable[[#This Row],[Lumen Family]],MasterTable[[#This Row],[Lumen Family]])&\"-\"&MasterTable[[#This Row],[Arrangement]]&\"-xx\"","v":"BXRE-30A1001-C-xx"},1507,{"$f":"MasterTable[[#This Row],[Typical Lumens]]/(MasterTable[[#This Row],[Typical Voltage]]*MasterTable[[#This Row],[Typical Current]]/1000)","v":120.29054916985953},0.37036666666666668,34.799999999999997,360,{"$f":"L244*2","v":720},48,null,null,-3.0000000000000001E-6,1.09E-2,31.388000000000002,2.4598000000000001E-10,-8.7001999999999995E-7,3.0842E-3,-9.9999999999999995E-8,null,null,null,null,null,null,-3.6592E-6,-1.0345506E-3,1.0240956264000001,null,null,null,null,0.66473000000000004,33.152999999999999,322.76,-9.9999999999999995E-8]
["V10-C","30S","C",1001,"BXRE",{"$f":"MasterTable[[#This Row],[Product Family]]&\"-\"&MasterTable[[#This Row],[CCT/CRI]]&MasterTable[[#This Row],[Arrangement]]","v":"V10-C-30SC"},{"$f":"MasterTable[[#This Row],[Generation]]&\"-\"&MasterTable[[#This Row],[CCT/CRI]]&IF(MasterTable[[#This Row],[Lumen Family]]<999,\"0\"&MasterTable[[#This Row],[Lumen Family]],MasterTable[[#This Row],[Lumen Family]])&\"-\"&MasterTable[[#This Row],[Arrangement]]&\"-xx\"","v":"BXRE-30S1001-C-xx"},1437,{"$f":"MasterTable[[#This Row],[Typical Lumens]]/(MasterTable[[#This Row],[Typical Voltage]]*MasterTable[[#This Row],[Typical Current]]/1000)","v":116.03682170542635},0.37036666666666668,34.4,360,720,48,null,5.6653999999999999E-9,-1.3822000000000001E-5,1.34E-2,31.102,2.4561999999999997E-10,-8.7118999999999995E-7,3.0853999999999999E-3,-9.9999999999999995E-8,null,null,null,null,null,null,-3.6592E-6,-1.0345506E-3,1.0240956264000001,null,null,null,null,0.70074000000000003,33.136000000000003,322.64999999999998,-9.9999999999999995E-8]
["V10-C","35E","C",1000,"BXRE",{"$f":"MasterTable[[#This Row],[Product Family]]&\"-\"&MasterTable[[#This Row],[CCT/CRI]]&MasterTable[[#This Row],[Arrangement]]","v":"V10-C-35EC"},{"$f":"MasterTable[[#This Row],[Generation]]&\"-\"&MasterTable[[#This Row],[CCT/CRI]]&IF(MasterTable[[#This Row],[Lumen Family]]<999,\"0\"&MasterTable[[#This Row],[Lumen Family]],MasterTable[[#This Row],[Lumen Family]])&\"-\"&MasterTable[[#This Row],[Arrangement]]&\"-xx\"","v":"BXRE-35E1000-C-xx"},2114,{"$f":"MasterTable[[#This Row],[Typical Lumens]]/(MasterTable[[#This Row],[Typical Voltage]]*MasterTable[[#This Row],[Typical Current]]/1000)","v":168.74201787994892},0.37036666666666668,34.799999999999997,360,720,48,null,null,-3.0000000000000001E-6,1.09E-2,31.388000000000002,2.4598000000000001E-10,-8.7001999999999995E-7,3.0842E-3,-9.9999999999999995E-8,null,null,null,null,null,null,-3.6592E-6,-1.0345506E-3,1.0240956264000001,null,null,null,null,0.66473000000000004,33.152999999999999,322.76,-9.9999999999999995E-8]
["V10-C","35G","C",1000,"BXRE",{"$f":"MasterTable[[#This Row],[Product Family]]&\"-\"&MasterTable[[#This Row],[CCT/CRI]]&MasterTable[[#This Row],[Arrangement]]","v":"V10-C-35GC"},{"$f":"MasterTable[[#This Row],[Generation]]&\"-\"&MasterTable[[#This Row],[CCT/CRI]]&IF(MasterTable[[#This Row],[Lumen Family]]<999,\"0\"&MasterTable[[#This Row],[Lumen Family]],MasterTable[[#This Row],[Lumen Family]])&\"-\"&MasterTable[[#This Row],[Arrangement]]&\"-xx\"","v":"BXRE-35G1000-C-xx"},1738,{"$f":"MasterTable[[#This Row],[Typical Lumens]]/(MasterTable[[#This Row],[Typical Voltage]]*MasterTable[[#This Row],[Typical Current]]/1000)","v":138.72924648786719},0.37036666666666668,34.799999999999997,360,720,48,null,null,-3.0000000000000001E-6,1.09E-2,31.388000000000002,2.4598000000000001E-10,-8.7001999999999995E-7,3.0842E-3,-9.9999999999999995E-8,null,null,null,null,null,null,-3.6592E-6,-1.0345506E-3,1.0240956264000001,null,null,null,null,0.66473000000000004,33.152999999999999,322.76,-9.9999999999999995E-8]
["V10-C","35A","C",1001,"BXRE",{"$f":"MasterTable[[#This Row],[Product Family]]&\"-\"&MasterTable[[#This Row],[CCT/CRI]]&MasterTable[[#This Row],[Arrangement]]","v":"V10-C-35AC"},{"$f":"MasterTable[[#This Row],[Generation]]&\"-\"&MasterTable[[#This Row],[CCT/CRI]]&IF(MasterTable[[#This Row],[Lumen Family]]<999,\"0\"&MasterTable[[#This Row],[Lumen Family]],MasterTable[[#This Row],[Lumen Family]])&\"-\"&MasterTable[[#This Row],[Arrangement]]&\"-xx\"","v":"BXRE-35A1001-C-xx"},1604,{"$f":"MasterTable[[#This Row],[Typical Lumens]]/(MasterTable[[#This Row],[Typical Voltage]]*MasterTable[[#This Row],[Typical Current]]/1000)","v":128.03320561941254},0.37036666666666668,34.799999999999997,360,720,48,null,null,-3.0000000000000001E-6,1.09E-2,31.388000000000002,2.4598000000000001E-10,-8.7001999999999995E-7,3.0842E-3,-9.9999999999999995E-8,null,null,null,null,null,null,-3.6592E-6,-1.0345506E-3,1.0240956264000001,null,null,null,null,0.66473000000000004,33.152999999999999,322.76,-9.9999999999999995E-8]
["V10-C","35S","C",1001,"BXRE",{"$f":"MasterTable[[#This Row],[Product Family]]&\"-\"&MasterTable[[#This Row],[CCT/CRI]]&MasterTable[[#This Row],[Arrangement]]","v":"V10-C-35SC"},{"$f":"MasterTable[[#This Row],[Generation]]&\"-\"&MasterTable[[#This Row],[CCT/CRI]]&IF(MasterTable[[#This Row],[Lumen Family]]<999,\"0\"&MasterTable[[#This Row],[Lumen Family]],MasterTable[[#This Row],[Lumen Family]])&\"-\"&MasterTable[[#This Row],[Arrangement]]&\"-xx\"","v":"BXRE-35S1001-C-xx"},1498,{"$f":"MasterTable[[#This Row],[Typical Lumens]]/(MasterTable[[#This Row],[Typical Voltage]]*MasterTable[[#This Row],[Typical Current]]/1000)","v":120.9625322997416},0.37036666666666668,34.4,360,720,48,null,5.6653999999999999E-9,-1.3822000000000001E-5,1.34E-2,31.102,2.4561999999999997E-10,-8.7118999999999995E-7,3.0853999999999999E-3,-9.9999999999999995E-8,null,null,null,null,null,null,-3.6592E-6,-1.0345506E-3,1.0240956264000001,null,null,null,null,0.70074000000000003,33.136000000000003,322.64999999999998,-9.9999999999999995E-8]
["V10-C","40C","C",1001,"BXRE",{"$f":"MasterTable[[#This Row],[Product Family]]&\"-\"&MasterTable[[#This Row],[CCT/CRI]]&MasterTable[[#This Row],[Arrangement]]","v":"V10-C-40CC"},{"$f":"MasterTable[[#This Row],[Generation]]&\"-\"&MasterTable[[#This Row],[CCT/CRI]]&IF(MasterTable[[#This Row],[Lumen Family]]<999,\"0\"&MasterTable[[#This Row],[Lumen Family]],MasterTable[[#This Row],[Lumen Family]])&\"-\"&MasterTable[[#This Row],[Arrangement]]&\"-xx\"","v":"BXRE-40C1001-C-xx"},2224,{"$f":"MasterTable[[#This Row],[Typical Lumens]]/(MasterTable[[#This Row],[Typical Voltage]]*MasterTable[[#This Row],[Typical Current]]/1000)","v":177.52234993614306},0.37036666666666668,34.799999999999997,360,{"$f":"L250*2","v":720},47,null,null,-3.0000000000000001E-6,1.09E-2,31.388000000000002,2.4598000000000001E-10,-8.7001999999999995E-7,3.0842E-3,-9.9999999999999995E-8,null,null,null,null,null,null,-3.6592E-6,-1.0345506E-3,1.0240956264000001,null,null,null,null,0.66473000000000004,33.152999999999999,322.76,-9.9999999999999995E-8]
["V10-C","40E","C",1000,"BXRE",{"$f":"MasterTable[[#This Row],[Product Family]]&\"-\"&MasterTable[[#This Row],[CCT/CRI]]&MasterTable[[#This Row],[Arrangement]]","v":"V10-C-40EC"},{"$f":"MasterTable[[#This Row],[Generation]]&\"-\"&MasterTable[[#This Row],[CCT/CRI]]&IF(MasterTable[[#This Row],[Lumen Family]]<999,\"0\"&MasterTable[[#This Row],[Lumen Family]],MasterTable[[#This Row],[Lumen Family]])&\"-\"&MasterTable[[#This Row],[Arrangement]]&\"-xx\"","v":"BXRE-40E1000-C-xx"},2127,{"$f":"MasterTable[[#This Row],[Typical Lumens]]/(MasterTable[[#This Row],[Typical Voltage]]*MasterTable[[#This Row],[Typical Current]]/1000)","v":169.77969348659005},0.37036666666666668,34.799999999999997,360,720,48,null,null,-3.0000000000000001E-6,1.09E-2,31.388000000000002,2.4598000000000001E-10,-8.7001999999999995E-7,3.0842E-3,-9.9999999999999995E-8,null,null,null,null,null,null,-3.6592E-6,-1.0345506E-3,1.0240956264000001,null,null,null,null,0.66473000000000004,33.152999999999999,322.76,-9.9999999999999995E-8]
["V10-C","40G","C",1000,"BXRE",{"$f":"MasterTable[[#This Row],[Product Family]]&\"-\"&MasterTable[[#This Row],[CCT/CRI]]&MasterTable[[#This Row],[Arrangement]]","v":"V10-C-40GC"},{"$f":"MasterTable[[#This Row],[Generation]]&\"-\"&MasterTable[[#This Row],[CCT/CRI]]&IF(MasterTable[[#This Row],[Lumen Family]]<999,\"0\"&MasterTable[[#This Row],[Lumen Family]],MasterTable[[#This Row],[Lumen Family]])&\"-\"&MasterTable[[#This Row],[Arrangement]]&\"-xx\"","v":"BXRE-40G1000-C-xx"},1774,{"$f":"MasterTable[[#This Row],[Typical Lumens]]/(MasterTable[[#This Row],[Typical Voltage]]*MasterTable[[#This Row],[Typical Current]]/1000)","v":141.602809706258},0.37036666666666668,34.799999999999997,360,720,48,null,null,-3.0000000000000001E-6,1.09E-2,31.388000000000002,2.4598000000000001E-10,-8.7001999999999995E-7,3.0842E-3,-9.9999999999999995E-8,null,null,null,null,null,null,-3.6592E-6,-1.0345506E-3,1.0240956264000001,null,null,null,null,0.66473000000000004,33.152999999999999,322.76,-9.9999999999999995E-8]
["V10-C","40S","C",1001,"BXRE",{"$f":"MasterTable[[#This Row],[Product Family]]&\"-\"&MasterTable[[#This Row],[CCT/CRI]]&MasterTable[[#This Row],[Arrangement]]","v":"V10-C-40SC"},{"$f":"MasterTable[[#This Row],[Generation]]&\"-\"&MasterTable[[#This Row],[CCT/CRI]]&IF(MasterTable[[#This Row],[Lumen Family]]<999,\"0\"&MasterTable[[#This Row],[Lumen Family]],MasterTable[[#This Row],[Lumen Family]])&\"-\"&MasterTable[[#This Row],[Arrangement]]&\"-xx\"","v":"BXRE-40S1001-C-xx"},1523,{"$f":"MasterTable[[#This Row],[Typical Lumens]]/(MasterTable[[#This Row],[Typical Voltage]]*MasterTable[[#This Row],[Typical Current]]/1000)","v":122.98126614987079},0.37036666666666668,34.4,360,720,48,null,5.6653999999999999E-9,-1.3822000000000001E-5,1.34E-2,31.102,2.4561999999999997E-10,-8.7118999999999995E-7,3.0853999999999999E-3,-9.9999999999999995E-8,null,null,null,null,null,null,-3.6592E-6,-1.0345506E-3,1.0240956264000001,null,null,null,null,0.70074000000000003,33.136000000000003,322.64999999999998,-9.9999999999999995E-8]
["V10-C","50C","C",1001,"BXRE",{"$f":"MasterTable[[#This Row],[Product Family]]&\"-\"&MasterTable[[#This Row],[CCT/CRI]]&MasterTable[[#This Row],[Arrangement]]","v":"V10-C-50CC"},{"$f":"MasterTable[[#This Row],[Generation]]&\"-\"&MasterTable[[#This Row],[CCT/CRI]]&IF(MasterTable[[#This Row],[Lumen Family]]<999,\"0\"&MasterTable[[#This Row],[Lumen Family]],MasterTable[[#This Row],[Lumen Family]])&\"-\"&MasterTable[[#This Row],[Arrangement]]&\"-xx\"","v":"BXRE-50C1001-C-xx"},2236,{"$f":"MasterTable[[#This Row],[Typical Lumens]]/(MasterTable[[#This Row],[Typical Voltage]]*MasterTable[[#This Row],[Typical Current]]/1000)","v":178.48020434227334},0.37036666666666668,34.799999999999997,360,720,48,null,null,-3.0000000000000001E-6,1.09E-2,31.388000000000002,2.4598000000000001E-10,-8.7001999999999995E-7,3.0842E-3,-9.9999999999999995E-8,null,null,null,null,null,null,-3.6592E-6,-1.0345506E-3,1.0240956264000001,null,null,null,null,0.66473000000000004,33.152999999999999,322.76,-9.9999999999999995E-8]
["V10-C","50E","C",1001,"BXRE",{"$f":"MasterTable[[#This Row],[Product Family]]&\"-\"&MasterTable[[#This Row],[CCT/CRI]]&MasterTable[[#This Row],[Arrangement]]","v":"V10-C-50EC"},{"$f":"MasterTable[[#This Row],[Generation]]&\"-\"&MasterTable[[#This Row],[CCT/CRI]]&IF(MasterTable[[#This Row],[Lumen Family]]<999,\"0\"&MasterTable[[#This Row],[Lumen Family]],MasterTable[[#This Row],[Lumen Family]])&\"-\"&MasterTable[[#This Row],[Arrangement]]&\"-xx\"","v":"BXRE-50E1001-C-xx"},2151,{"$f":"MasterTable[[#This Row],[Typical Lumens]]/(MasterTable[[#This Row],[Typical Voltage]]*MasterTable[[#This Row],[Typical Current]]/1000)","v":171.69540229885058},0.37036666666666668,34.799999999999997,360,720,48,null,null,-3.0000000000000001E-6,1.09E-2,31.388000000000002,2.4598000000000001E-10,-8.7001999999999995E-7,3.0842E-3,-9.9999999999999995E-8,null,null,null,null,null,null,-3.6592E-6,-1.0345506E-3,1.0240956264000001,null,null,null,null,0.66473000000000004,33.152999999999999,322.76,-9.9999999999999995E-8]
["V10-C","50G","C",1001,"BXRE",{"$f":"MasterTable[[#This Row],[Product Family]]&\"-\"&MasterTable[[#This Row],[CCT/CRI]]&MasterTable[[#This Row],[Arrangement]]","v":"V10-C-50GC"},{"$f":"MasterTable[[#This Row],[Generation]]&\"-\"&MasterTable[[#This Row],[CCT/CRI]]&IF(MasterTable[[#This Row],[Lumen Family]]<999,\"0\"&MasterTable[[#This Row],[Lumen Family]],MasterTable[[#This Row],[Lumen Family]])&\"-\"&MasterTable[[#This Row],[Arrangement]]&\"-xx\"","v":"BXRE-50G1001-C-xx"},1859,{"$f":"MasterTable[[#This Row],[Typical Lumens]]/(MasterTable[[#This Row],[Typical Voltage]]*MasterTable[[#This Row],[Typical Current]]/1000)","v":148.38761174968073},0.37036666666666668,34.799999999999997,360,720,48,null,null,-3.0000000000000001E-6,1.09E-2,31.388000000000002,2.4598000000000001E-10,-8.7001999999999995E-7,3.0842E-3,-9.9999999999999995E-8,null,null,null,null,null,null,-3.6592E-6,-1.0345506E-3,1.0240956264000001,null,null,null,null,0.66473000000000004,33.152999999999999,322.76,-9.9999999999999995E-8]
["V10-C","50S","C",1001,"BXRE",{"$f":"MasterTable[[#This Row],[Product Family]]&\"-\"&MasterTable[[#This Row],[CCT/CRI]]&MasterTable[[#This Row],[Arrangement]]","v":"V10-C-50SC"},{"$f":"MasterTable[[#This Row],[Generation]]&\"-\"&MasterTable[[#This Row],[CCT/CRI]]&IF(MasterTable[[#This Row],[Lumen Family]]<999,\"0\"&MasterTable[[#This Row],[Lumen Family]],MasterTable[[#This Row],[Lumen Family]])&\"-\"&MasterTable[[#This Row],[Arrangement]]&\"-xx\"","v":"BXRE-50S1001-C-xx"},1598,{"$f":"MasterTable[[#This Row],[Typical Lumens]]/(MasterTable[[#This Row],[Typical Voltage]]*MasterTable[[#This Row],[Typical Current]]/1000)","v":129.03746770025839},0.37036666666666668,34.4,360,720,48,null,5.6653999999999999E-9,-1.3822000000000001E-5,1.34E-2,31.102,2.4561999999999997E-10,-8.7118999999999995E-7,3.0853999999999999E-3,-9.9999999999999995E-8,null,null,null,null,null,null,-3.6592E-6,-1.0345506E-3,1.0240956264000001,null,null,null,null,0.70074000000000003,33.136000000000003,322.64999999999998,-9.9999999999999995E-8]
["V10-C","57C","C",1001,"BXRE",{"$f":"MasterTable[[#This Row],[Product Family]]&\"-\"&MasterTable[[#This Row],[CCT/CRI]]&MasterTable[[#This Row],[Arrangement]]","v":"V10-C-57CC"},{"$f":"MasterTable[[#This Row],[Generation]]&\"-\"&MasterTable[[#This Row],[CCT/CRI]]&IF(MasterTable[[#This Row],[Lumen Family]]<999,\"0\"&MasterTable[[#This Row],[Lumen Family]],MasterTable[[#This Row],[Lumen Family]])&\"-\"&MasterTable[[#This Row],[Arrangement]]&\"-xx\"","v":"BXRE-57C1001-C-xx"},2175,{"$f":"MasterTable[[#This Row],[Typical Lumens]]/(MasterTable[[#This Row],[Typical Voltage]]*MasterTable[[#This Row],[Typical Current]]/1000)","v":173.61111111111114},0.37036666666666668,34.799999999999997,360,720,48,null,null,-3.0000000000000001E-6,1.09E-2,31.388000000000002,2.4598000000000001E-10,-8.7001999999999995E-7,3.0842E-3,-9.9999999999999995E-8,null,null,null,null,null,null,-3.6592E-6,-1.0345506E-3,1.0240956264000001,null,null,null,null,0.66473000000000004,33.152999999999999,322.76,-9.9999999999999995E-8]
["V10-C","57E","C",1001,"BXRE",{"$f":"MasterTable[[#This Row],[Product Family]]&\"-\"&MasterTable[[#This Row],[CCT/CRI]]&MasterTable[[#This Row],[Arrangement]]","v":"V10-C-57EC"},{"$f":"MasterTable[[#This Row],[Generation]]&\"-\"&MasterTable[[#This Row],[CCT/CRI]]&IF(MasterTable[[#This Row],[Lumen Family]]<999,\"0\"&MasterTable[[#This Row],[Lumen Family]],MasterTable[[#This Row],[Lumen Family]])&\"-\"&MasterTable[[#This Row],[Arrangement]]&\"-xx\"","v":"BXRE-57E1001-C-xx"},2066,{"$f":"MasterTable[[#This Row],[Typical Lumens]]/(MasterTable[[#This Row],[Typical Voltage]]*MasterTable[[#This Row],[Typical Current]]/1000)","v":164.91060025542785},0.37036666666666668,34.799999999999997,360,720,48,null,null,-3.0000000000000001E-6,1.09E-2,31.388000000000002,2.4598000000000001E-10,-8.7001999999999995E-7,3.0842E-3,-9.9999999999999995E-8,null,null,null,null,null,null,-3.6592E-6,-1.0345506E-3,1.0240956264000001,null,null,null,null,0.66473000000000004,33.152999999999999,322.76,-9.9999999999999995E-8]
["V10-C","57S","C",1001,"BXRE",{"$f":"MasterTable[[#This Row],[Product Family]]&\"-\"&MasterTable[[#This Row],[CCT/CRI]]&MasterTable[[#This Row],[Arrangement]]","v":"V10-C-57SC"},{"$f":"MasterTable[[#This Row],[Generation]]&\"-\"&MasterTable[[#This Row],[CCT/CRI]]&IF(MasterTable[[#This Row],[Lumen Family]]<999,\"0\"&MasterTable[[#This Row],[Lumen Family]],MasterTable[[#This Row],[Lumen Family]])&\"-\"&MasterTable[[#This Row],[Arrangement]]&\"-xx\"","v":"BXRE-57S1001-C-xx"},1635,{"$f":"MasterTable[[#This Row],[Typical Lumens]]/(MasterTable[[#This Row],[Typical Voltage]]*MasterTable[[#This Row],[Typical Current]]/1000)","v":132.02519379844961},0.37036666666666668,34.4,360,720,48,null,5.6653999999999999E-9,-1.3822000000000001E-5,1.34E-2,31.102,2.4561999999999997E-10,-8.7118999999999995E-7,3.0853999999999999E-3,-9.9999999999999995E-8,null,null,null,null,null,null,-3.6592E-6,-1.0345506E-3,1.0240956264000001,null,null,null,null,0.70074000000000003,33.136000000000003,322.64999999999998,-9.9999999999999995E-8]
["V10-C","65S","C",1001,"BXRE",{"$f":"MasterTable[[#This Row],[Product Family]]&\"-\"&MasterTable[[#This Row],[CCT/CRI]]&MasterTable[[#This Row],[Arrangement]]","v":"V10-C-65SC"},{"$f":"MasterTable[[#This Row],[Generation]]&\"-\"&MasterTable[[#This Row],[CCT/CRI]]&IF(MasterTable[[#This Row],[Lumen Family]]<999,\"0\"&MasterTable[[#This Row],[Lumen Family]],MasterTable[[#This Row],[Lumen Family]])&\"-\"&MasterTable[[#This Row],[Arrangement]]&\"-xx\"","v":"BXRE-65S1001-C-xx"},1610,{"$f":"MasterTable[[#This Row],[Typical Lumens]]/(MasterTable[[#This Row],[Typical Voltage]]*MasterTable[[#This Row],[Typical Current]]/1000)","v":130.00645994832041},0.37036666666666668,34.4,360,720,48,null,5.6653999999999999E-9,-1.3822000000000001E-5,1.34E-2,31.102,2.4561999999999997E-10,-8.7118999999999995E-7,3.0853999999999999E-3,-9.9999999999999995E-8,null,null,null,null,null,null,-3.6592E-6,-1.0345506E-3,1.0240956264000001,null,null,null,null,0.70074000000000003,33.136000000000003,322.64999999999998,-9.9999999999999995E-8]
["V10-C","65C","C",1001,"BXRE",{"$f":"MasterTable[[#This Row],[Product Family]]&\"-\"&MasterTable[[#This Row],[CCT/CRI]]&MasterTable[[#This Row],[Arrangement]]","v":"V10-C-65CC"},{"$f":"MasterTable[[#This Row],[Generation]]&\"-\"&MasterTable[[#This Row],[CCT/CRI]]&IF(MasterTable[[#This Row],[Lumen Family]]<999,\"0\"&MasterTable[[#This Row],[Lumen Family]],MasterTable[[#This Row],[Lumen Family]])&\"-\"&MasterTable[[#This Row],[Arrangement]]&\"-xx\"","v":"BXRE-65C1001-C-xx"},2175,{"$f":"MasterTable[[#This Row],[Typical Lumens]]/(MasterTable[[#This Row],[Typical Voltage]]*MasterTable[[#This Row],[Typical Current]]/1000)","v":173.61111111111114},0.37036666666666668,34.799999999999997,360,720,48,null,null,-3.0000000000000001E-6,1.09E-2,31.388000000000002,2.4598000000000001E-10,-8.7001999999999995E-7,3.0842E-3,-9.9999999999999995E-8,null,null,null,null,null,null,-3.6592E-6,-1.0345506E-3,1.0240956264000001,null,null,null,null,0.66473000000000004,33.152999999999999,322.76,-9.9999999999999995E-8]
["V10-C","65E","C",1001,"BXRE",{"$f":"MasterTable[[#This Row],[Product Family]]&\"-\"&MasterTable[[#This Row],[CCT/CRI]]&MasterTable[[#This Row],[Arrangement]]","v":"V10-C-65EC"},{"$f":"MasterTable[[#This Row],[Generation]]&\"-\"&MasterTable[[#This Row],[CCT/CRI]]&IF(MasterTable[[#This Row],[Lumen Family]]<999,\"0\"&MasterTable[[#This Row],[Lumen Family]],MasterTable[[#This Row],[Lumen Family]])&\"-\"&MasterTable[[#This Row],[Arrangement]]&\"-xx\"","v":"BXRE-65E1001-C-xx"},2090,{"$f":"MasterTable[[#This Row],[Typical Lumens]]/(MasterTable[[#This Row],[Typical Voltage]]*MasterTable[[#This Row],[Typical Current]]/1000)","v":166.82630906768838},0.37036666666666668,34.799999999999997,360,720,48,null,null,-3.0000000000000001E-6,1.09E-2,31.388000000000002,2.4598000000000001E-10,-8.7001999999999995E-7,3.0842E-3,-9.9999999999999995E-8,null,null,null,null,null,null,-3.6592E-6,-1.0345506E-3,1.0240956264000001,null,null,null,null,0.66473000000000004,33.152999999999999,322.76,-9.9999999999999995E-8]
["V13-B","30E","B",2000,"BXRE",{"$f":"MasterTable[[#This Row],[Product Family]]&\"-\"&MasterTable[[#This Row],[CCT/CRI]]&MasterTable[[#This Row],[Arrangement]]","v":"V13-B-30EB"},{"$f":"MasterTable[[#This Row],[Generation]]&\"-\"&MasterTable[[#This Row],[CCT/CRI]]&IF(MasterTable[[#This Row],[Lumen Family]]<999,\"0\"&MasterTable[[#This Row],[Lumen Family]],MasterTable[[#This Row],[Lumen Family]])&\"-\"&MasterTable[[#This Row],[Arrangement]]&\"-xx\"","v":"BXRE-30E2000-B-xx"},2658.375,{"$f":"MasterTable[[#This Row],[Typical Lumens]]/(MasterTable[[#This Row],[Typical Voltage]]*MasterTable[[#This Row],[Typical Current]]/1000)","v":169.7557471264368},0.28036666666666665,34.799999999999997,450,900,60,null,null,-1.9999999999999999E-6,8.2000000000000007E-3,31.425999999999998,1.2045000000000001E-10,-5.6996999999999996E-7,2.4670999999999998E-3,-9.9999999999999995E-8,null,null,null,null,null,null,-3.6592E-6,-1.0345506E-3,1.0240956264000001,null,null,null,null,2.2275,40.991,404.1,-9.9999999999999995E-8,null,null,"y = 50.57495x2 + 393.10873x + 1.82017"]
["V13-B","20B","B",2001,"BXRE",{"$f":"MasterTable[[#This Row],[Product Family]]&\"-\"&MasterTable[[#This Row],[CCT/CRI]]&MasterTable[[#This Row],[Arrangement]]","v":"V13-B-20BB"},{"$f":"MasterTable[[#This Row],[Generation]]&\"-\"&MasterTable[[#This Row],[CCT/CRI]]&IF(MasterTable[[#This Row],[Lumen Family]]<999,\"0\"&MasterTable[[#This Row],[Lumen Family]],MasterTable[[#This Row],[Lumen Family]])&\"-\"&MasterTable[[#This Row],[Arrangement]]&\"-xx\"","v":"BXRE-20B2001-B-xx"},2455.0875000000001,{"$f":"MasterTable[[#This Row],[Typical Lumens]]/(MasterTable[[#This Row],[Typical Voltage]]*MasterTable[[#This Row],[Typical Current]]/1000)","v":156.77442528735634},0.28036666700000001,34.799999999999997,450,900,60,null,null,-1.9999999999999999E-6,8.2000000000000007E-3,31.425999999999998,1.2045000000000001E-10,-5.6996999999999996E-7,2.4670999999999998E-3,-9.9999999999999995E-8,null,null,null,null,null,null,-3.6592E-6,-1.0345506E-3,1.0240956264000001,null,null,null,null,2.2275,40.991,404.1,-9.9999999999999995E-8]
["V13-B","27E","B",2000,"BXRE",{"$f":"MasterTable[[#This Row],[Product Family]]&\"-\"&MasterTable[[#This Row],[CCT/CRI]]&MasterTable[[#This Row],[Arrangement]]","v":"V13-B-27EB"},{"$f":"MasterTable[[#This Row],[Generation]]&\"-\"&MasterTable[[#This Row],[CCT/CRI]]&IF(MasterTable[[#This Row],[Lumen Family]]<999,\"0\"&MasterTable[[#This Row],[Lumen Family]],MasterTable[[#This Row],[Lumen Family]])&\"-\"&MasterTable[[#This Row],[Arrangement]]&\"-xx\"","v":"BXRE-27E2000-B-xx"},2502,{"$f":"MasterTable[[#This Row],[Typical Lumens]]/(MasterTable[[#This Row],[Typical Voltage]]*MasterTable[[#This Row],[Typical Current]]/1000)","v":159.77011494252875},0.28036666666666665,34.799999999999997,450,900,60,null,null,-1.9999999999999999E-6,8.2000000000000007E-3,31.425999999999998,1.2045000000000001E-10,-5.6996999999999996E-7,2.4670999999999998E-3,-9.9999999999999995E-8,null,null,null,null,null,null,-3.6592E-6,-1.0345506E-3,1.0240956264000001,null,null,null,null,2.2275,40.991,404.1,-9.9999999999999995E-8]
["V13-B","27G","B",2000,"BXRE",{"$f":"MasterTable[[#This Row],[Product Family]]&\"-\"&MasterTable[[#This Row],[CCT/CRI]]&MasterTable[[#This Row],[Arrangement]]","v":"V13-B-27GB"},{"$f":"MasterTable[[#This Row],[Generation]]&\"-\"&MasterTable[[#This Row],[CCT/CRI]]&IF(MasterTable[[#This Row],[Lumen Family]]<999,\"0\"&MasterTable[[#This Row],[Lumen Family]],MasterTable[[#This Row],[Lumen Family]])&\"-\"&MasterTable[[#This Row],[Arrangement]]&\"-xx\"","v":"BXRE-27G2000-B-xx"},2064,{"$f":"MasterTable[[#This Row],[Typical Lumens]]/(MasterTable[[#This Row],[Typical Voltage]]*MasterTable[[#This Row],[Typical Current]]/1000)","v":131.80076628352492},0.28036666666666665,34.799999999999997,450,900,60,null,null,-1.9999999999999999E-6,8.2000000000000007E-3,31.425999999999998,1.2045000000000001E-10,-5.6996999999999996E-7,2.4670999999999998E-3,-9.9999999999999995E-8,null,null,null,null,null,null,-3.6592E-6,-1.0345506E-3,1.0240956264000001,null,null,null,null,2.2275,40.991,404.1,-9.9999999999999995E-8]
["V13-B","27H","B",2000,"BXRE",{"$f":"MasterTable[[#This Row],[Product Family]]&\"-\"&MasterTable[[#This Row],[CCT/CRI]]&MasterTable[[#This Row],[Arrangement]]","v":"V13-B-27HB"},{"$f":"MasterTable[[#This Row],[Generation]]&\"-\"&MasterTable[[#This Row],[CCT/CRI]]&IF(MasterTable[[#This Row],[Lumen Family]]<999,\"0\"&MasterTable[[#This Row],[Lumen Family]],MasterTable[[#This Row],[Lumen Family]])&\"-\"&MasterTable[[#This Row],[Arrangement]]&\"-xx\"","v":"BXRE-27H2000-B-xx"},1829.5874999999999,{"$f":"MasterTable[[#This Row],[Typical Lumens]]/(MasterTable[[#This Row],[Typical Voltage]]*MasterTable[[#This Row],[Typical Current]]/1000)","v":116.83189655172414},0.28036666666666665,34.799999999999997,450,{"$f":"L268*2","v":900},60,null,null,-1.9999999999999999E-6,8.2000000000000007E-3,31.425999999999998,1.2045000000000001E-10,-5.6996999999999996E-7,2.4670999999999998E-3,-9.9999999999999995E-8,null,null,null,null,null,null,-3.6592E-6,-1.0345506E-3,1.0240956264000001,null,null,null,null,2.2275,40.991,404.1,-9.9999999999999995E-8]
["V13-B","27G-H","B","20H0","BXRE",{"$f":"MasterTable[[#This Row],[Product Family]]&\"-\"&MasterTable[[#This Row],[CCT/CRI]]&MasterTable[[#This Row],[Arrangement]]","v":"V13-B-27G-HB"},"BXRE-27G-20H0-B-xx",2142,{"$f":"MasterTable[[#This Row],[Typical Lumens]]/(MasterTable[[#This Row],[Typical Voltage]]*MasterTable[[#This Row],[Typical Current]]/1000)","v":136.78160919540232},0.28036666666666665,34.799999999999997,450,{"$f":"L269*2","v":900},60,null,null,-1.9999999999999999E-6,8.2000000000000007E-3,31.425999999999998,1.2045000000000001E-10,-5.6996999999999996E-7,2.4670999999999998E-3,-9.9999999999999995E-8,null,null,null,null,null,null,-3.6592E-6,-1.0345506E-3,1.0240956264000001,null,null,null,null,2.2275,40.991,404.1,-9.9999999999999995E-8]
["V13-B","30G-H","B","20H0","BXRE",{"$f":"MasterTable[[#This Row],[Product Family]]&\"-\"&MasterTable[[#This Row],[CCT/CRI]]&MasterTable[[#This Row],[Arrangement]]","v":"V13-B-30G-HB"},"BXRE-30G-20H0-B-xx",2252,{"$f":"MasterTable[[#This Row],[Typical Lumens]]/(MasterTable[[#This Row],[Typical Voltage]]*MasterTable[[#This Row],[Typical Current]]/1000)","v":143.8058748403576},0.28036666666666665,34.799999999999997,450,900,60,null,null,-1.9999999999999999E-6,8.2000000000000007E-3,31.425999999999998,1.2045000000000001E-10,-5.6996999999999996E-7,2.4670999999999998E-3,-9.9999999999999995E-8,null,null,null,null,null,null,-3.6592E-6,-1.0345506E-3,1.0240956264000001,null,null,null,null,2.2275,40.991,404.1,-9.9999999999999995E-8]
["V13-B","30C","B",2001,"BXRE",{"$f":"MasterTable[[#This Row],[Product Family]]&\"-\"&MasterTable[[#This Row],[CCT/CRI]]&MasterTable[[#This Row],[Arrangement]]","v":"V13-B-30CB"},{"$f":"MasterTable[[#This Row],[Generation]]&\"-\"&MasterTable[[#This Row],[CCT/CRI]]&IF(MasterTable[[#This Row],[Lumen Family]]<999,\"0\"&MasterTable[[#This Row],[Lumen Family]],MasterTable[[#This Row],[Lumen Family]])&\"-\"&MasterTable[[#This Row],[Arrangement]]&\"-xx\"","v":"BXRE-30C2001-B-xx"},2783,{"$f":"MasterTable[[#This Row],[Typical Lumens]]/(MasterTable[[#This Row],[Typical Voltage]]*MasterTable[[#This Row],[Typical Current]]/1000)","v":177.71392081736911},0.28036666666666665,34.799999999999997,450,{"$f":"L271*2","v":900},60,null,null,-1.9999999999999999E-6,8.2000000000000007E-3,31.425999999999998,1.2045000000000001E-10,-5.6996999999999996E-7,2.4670999999999998E-3,-9.9999999999999995E-8,null,null,null,null,null,null,-3.6592E-6,-1.0345506E-3,1.0240956264000001,null,null,null,null,2.2275,40.991,404.1,-9.9999999999999995E-8]
["V13-B","30G","B",2000,"BXRE",{"$f":"MasterTable[[#This Row],[Product Family]]&\"-\"&MasterTable[[#This Row],[CCT/CRI]]&MasterTable[[#This Row],[Arrangement]]","v":"V13-B-30GB"},{"$f":"MasterTable[[#This Row],[Generation]]&\"-\"&MasterTable[[#This Row],[CCT/CRI]]&IF(MasterTable[[#This Row],[Lumen Family]]<999,\"0\"&MasterTable[[#This Row],[Lumen Family]],MasterTable[[#This Row],[Lumen Family]])&\"-\"&MasterTable[[#This Row],[Arrangement]]&\"-xx\"","v":"BXRE-30G2000-B-xx"},2158,{"$f":"MasterTable[[#This Row],[Typical Lumens]]/(MasterTable[[#This Row],[Typical Voltage]]*MasterTable[[#This Row],[Typical Current]]/1000)","v":137.80332056194126},0.28036666666666665,34.799999999999997,450,900,60,null,null,-1.9999999999999999E-6,8.2000000000000007E-3,31.425999999999998,1.2045000000000001E-10,-5.6996999999999996E-7,2.4670999999999998E-3,-9.9999999999999995E-8,null,null,null,null,null,null,-3.6592E-6,-1.0345506E-3,1.0240956264000001,null,null,null,null,2.2275,40.991,404.1,-9.9999999999999995E-8]
["V13-B","30G-C","B","200C","BXRE",{"$f":"MasterTable[[#This Row],[Product Family]]&\"-\"&MasterTable[[#This Row],[CCT/CRI]]&MasterTable[[#This Row],[Arrangement]]","v":"V13-B-30G-CB"},"BXRE-30G200C-B-xx",2079.7874999999999,{"$f":"MasterTable[[#This Row],[Typical Lumens]]/(MasterTable[[#This Row],[Typical Voltage]]*MasterTable[[#This Row],[Typical Current]]/1000)","v":132.80890804597701},0.28036666666666665,34.799999999999997,450,{"$f":"L273*2","v":900},60,null,null,-1.9999999999999999E-6,8.2000000000000007E-3,31.425999999999998,1.2045000000000001E-10,-5.6996999999999996E-7,2.4670999999999998E-3,-9.9999999999999995E-8,null,null,null,null,null,null,-3.6592E-6,-1.0345506E-3,1.0240956264000001,null,null,null,null,2.2275,40.991,404.1,-9.9999999999999995E-8]
["V13-B","30H","B",2000,"BXRE",{"$f":"MasterTable[[#This Row],[Product Family]]&\"-\"&MasterTable[[#This Row],[CCT/CRI]]&MasterTable[[#This Row],[Arrangement]]","v":"V13-B-30HB"},{"$f":"MasterTable[[#This Row],[Generation]]&\"-\"&MasterTable[[#This Row],[CCT/CRI]]&IF(MasterTable[[#This Row],[Lumen Family]]<999,\"0\"&MasterTable[[#This Row],[Lumen Family]],MasterTable[[#This Row],[Lumen Family]])&\"-\"&MasterTable[[#This Row],[Arrangement]]&\"-xx\"","v":"BXRE-30H2000-B-xx"},1954.6875,{"$f":"MasterTable[[#This Row],[Typical Lumens]]/(MasterTable[[#This Row],[Typical Voltage]]*MasterTable[[#This Row],[Typical Current]]/1000)","v":124.82040229885058},0.28036666666666665,34.799999999999997,450,900,60,null,null,-1.9999999999999999E-6,8.2000000000000007E-3,31.425999999999998,1.2045000000000001E-10,-5.6996999999999996E-7,2.4670999999999998E-3,-9.9999999999999995E-8,null,null,null,null,null,null,-3.6592E-6,-1.0345506E-3,1.0240956264000001,null,null,null,null,2.2275,40.991,404.1,-9.9999999999999995E-8]
["V13-B","30A","B",2001,"BXRE",{"$f":"MasterTable[[#This Row],[Product Family]]&\"-\"&MasterTable[[#This Row],[CCT/CRI]]&MasterTable[[#This Row],[Arrangement]]","v":"V13-B-30AB"},{"$f":"MasterTable[[#This Row],[Generation]]&\"-\"&MasterTable[[#This Row],[CCT/CRI]]&IF(MasterTable[[#This Row],[Lumen Family]]<999,\"0\"&MasterTable[[#This Row],[Lumen Family]],MasterTable[[#This Row],[Lumen Family]])&\"-\"&MasterTable[[#This Row],[Arrangement]]&\"-xx\"","v":"BXRE-30A2001-B-xx"},1939.05,{"$f":"MasterTable[[#This Row],[Typical Lumens]]/(MasterTable[[#This Row],[Typical Voltage]]*MasterTable[[#This Row],[Typical Current]]/1000)","v":123.82183908045978},0.28036666666666665,34.799999999999997,450,{"$f":"L275*2","v":900},60,null,null,-1.9999999999999999E-6,8.2000000000000007E-3,31.425999999999998,1.2045000000000001E-10,-5.6996999999999996E-7,2.4670999999999998E-3,-9.9999999999999995E-8,null,null,null,null,null,null,-3.6592E-6,-1.0345506E-3,1.0240956264000001,null,null,null,null,2.2275,40.991,404.1,-9.9999999999999995E-8]
["V13-B","35E","B",2000,"BXRE",{"$f":"MasterTable[[#This Row],[Product Family]]&\"-\"&MasterTable[[#This Row],[CCT/CRI]]&MasterTable[[#This Row],[Arrangement]]","v":"V13-B-35EB"},{"$f":"MasterTable[[#This Row],[Generation]]&\"-\"&MasterTable[[#This Row],[CCT/CRI]]&IF(MasterTable[[#This Row],[Lumen Family]]<999,\"0\"&MasterTable[[#This Row],[Lumen Family]],MasterTable[[#This Row],[Lumen Family]])&\"-\"&MasterTable[[#This Row],[Arrangement]]&\"-xx\"","v":"BXRE-35E2000-B-xx"},2720.9249999999997,{"$f":"MasterTable[[#This Row],[Typical Lumens]]/(MasterTable[[#This Row],[Typical Voltage]]*MasterTable[[#This Row],[Typical Current]]/1000)","v":173.75},0.28036666666666665,34.799999999999997,450,900,60,null,null,-1.9999999999999999E-6,8.2000000000000007E-3,31.425999999999998,1.2045000000000001E-10,-5.6996999999999996E-7,2.4670999999999998E-3,-9.9999999999999995E-8,null,null,null,null,null,null,-3.6592E-6,-1.0345506E-3,1.0240956264000001,null,null,null,null,2.2275,40.991,404.1,-9.9999999999999995E-8]
["V13-B","35G","B",2000,"BXRE",{"$f":"MasterTable[[#This Row],[Product Family]]&\"-\"&MasterTable[[#This Row],[CCT/CRI]]&MasterTable[[#This Row],[Arrangement]]","v":"V13-B-35GB"},{"$f":"MasterTable[[#This Row],[Generation]]&\"-\"&MasterTable[[#This Row],[CCT/CRI]]&IF(MasterTable[[#This Row],[Lumen Family]]<999,\"0\"&MasterTable[[#This Row],[Lumen Family]],MasterTable[[#This Row],[Lumen Family]])&\"-\"&MasterTable[[#This Row],[Arrangement]]&\"-xx\"","v":"BXRE-35G2000-B-xx"},2236.1624999999999,{"$f":"MasterTable[[#This Row],[Typical Lumens]]/(MasterTable[[#This Row],[Typical Voltage]]*MasterTable[[#This Row],[Typical Current]]/1000)","v":142.79454022988506},0.28036666666666665,34.799999999999997,450,900,60,null,null,-1.9999999999999999E-6,8.2000000000000007E-3,31.425999999999998,1.2045000000000001E-10,-5.6996999999999996E-7,2.4670999999999998E-3,-9.9999999999999995E-8,null,null,null,null,null,null,-3.6592E-6,-1.0345506E-3,1.0240956264000001,null,null,null,null,2.2275,40.991,404.1,-9.9999999999999995E-8]
["V13-B","35A","B",2001,"BXRE",{"$f":"MasterTable[[#This Row],[Product Family]]&\"-\"&MasterTable[[#This Row],[CCT/CRI]]&MasterTable[[#This Row],[Arrangement]]","v":"V13-B-35AB"},{"$f":"MasterTable[[#This Row],[Generation]]&\"-\"&MasterTable[[#This Row],[CCT/CRI]]&IF(MasterTable[[#This Row],[Lumen Family]]<999,\"0\"&MasterTable[[#This Row],[Lumen Family]],MasterTable[[#This Row],[Lumen Family]])&\"-\"&MasterTable[[#This Row],[Arrangement]]&\"-xx\"","v":"BXRE-35A2001-B-xx"},2064.15,{"$f":"MasterTable[[#This Row],[Typical Lumens]]/(MasterTable[[#This Row],[Typical Voltage]]*MasterTable[[#This Row],[Typical Current]]/1000)","v":131.81034482758622},0.28036666666666665,34.799999999999997,450,900,60,null,null,-1.9999999999999999E-6,8.2000000000000007E-3,31.425999999999998,1.2045000000000001E-10,-5.6996999999999996E-7,2.4670999999999998E-3,-9.9999999999999995E-8,null,null,null,null,null,null,-3.6592E-6,-1.0345506E-3,1.0240956264000001,null,null,null,null,2.2275,40.991,404.1,-9.9999999999999995E-8]
["V13-B","40C","B",2001,"BXRE",{"$f":"MasterTable[[#This Row],[Product Family]]&\"-\"&MasterTable[[#This Row],[CCT/CRI]]&MasterTable[[#This Row],[Arrangement]]","v":"V13-B-40CB"},{"$f":"MasterTable[[#This Row],[Generation]]&\"-\"&MasterTable[[#This Row],[CCT/CRI]]&IF(MasterTable[[#This Row],[Lumen Family]]<999,\"0\"&MasterTable[[#This Row],[Lumen Family]],MasterTable[[#This Row],[Lumen Family]])&\"-\"&MasterTable[[#This Row],[Arrangement]]&\"-xx\"","v":"BXRE-40C2001-B-xx"},2862,{"$f":"MasterTable[[#This Row],[Typical Lumens]]/(MasterTable[[#This Row],[Typical Voltage]]*MasterTable[[#This Row],[Typical Current]]/1000)","v":182.7586206896552},0.28036666666666665,34.799999999999997,450,900,60,null,null,-1.9999999999999999E-6,8.2000000000000007E-3,31.425999999999998,1.2045000000000001E-10,-5.6996999999999996E-7,2.4670999999999998E-3,-9.9999999999999995E-8,null,null,null,null,null,null,-3.6592E-6,-1.0345506E-3,1.0240956264000001,null,null,null,null,2.2275,40.991,404.1,-9.9999999999999995E-8]
["V13-B","40E","B",2000,"BXRE",{"$f":"MasterTable[[#This Row],[Product Family]]&\"-\"&MasterTable[[#This Row],[CCT/CRI]]&MasterTable[[#This Row],[Arrangement]]","v":"V13-B-40EB"},{"$f":"MasterTable[[#This Row],[Generation]]&\"-\"&MasterTable[[#This Row],[CCT/CRI]]&IF(MasterTable[[#This Row],[Lumen Family]]<999,\"0\"&MasterTable[[#This Row],[Lumen Family]],MasterTable[[#This Row],[Lumen Family]])&\"-\"&MasterTable[[#This Row],[Arrangement]]&\"-xx\"","v":"BXRE-40E2000-B-xx"},2736.5625,{"$f":"MasterTable[[#This Row],[Typical Lumens]]/(MasterTable[[#This Row],[Typical Voltage]]*MasterTable[[#This Row],[Typical Current]]/1000)","v":174.74856321839081},0.28036666666666665,34.799999999999997,450,900,60,null,null,-1.9999999999999999E-6,8.2000000000000007E-3,31.425999999999998,1.2045000000000001E-10,-5.6996999999999996E-7,2.4670999999999998E-3,-9.9999999999999995E-8,null,null,null,null,null,null,-3.6592E-6,-1.0345506E-3,1.0240956264000001,null,null,null,null,2.2275,40.991,404.1,-9.9999999999999995E-8]
["V13-B","40G","B",2001,"BXRE",{"$f":"MasterTable[[#This Row],[Product Family]]&\"-\"&MasterTable[[#This Row],[CCT/CRI]]&MasterTable[[#This Row],[Arrangement]]","v":"V13-B-40GB"},{"$f":"MasterTable[[#This Row],[Generation]]&\"-\"&MasterTable[[#This Row],[CCT/CRI]]&IF(MasterTable[[#This Row],[Lumen Family]]<999,\"0\"&MasterTable[[#This Row],[Lumen Family]],MasterTable[[#This Row],[Lumen Family]])&\"-\"&MasterTable[[#This Row],[Arrangement]]&\"-xx\"","v":"BXRE-40G2001-B-xx"},2283.0749999999998,{"$f":"MasterTable[[#This Row],[Typical Lumens]]/(MasterTable[[#This Row],[Typical Voltage]]*MasterTable[[#This Row],[Typical Current]]/1000)","v":145.79022988505747},0.28036666666666665,34.799999999999997,450,900,60,null,null,-1.9999999999999999E-6,8.2000000000000007E-3,31.425999999999998,1.2045000000000001E-10,-5.6996999999999996E-7,2.4670999999999998E-3,-9.9999999999999995E-8,null,null,null,null,null,null,-3.6592E-6,-1.0345506E-3,1.0240956264000001,null,null,null,null,2.2275,40.991,404.1,-9.9999999999999995E-8]
["V13-B","50C","B",2001,"BXRE",{"$f":"MasterTable[[#This Row],[Product Family]]&\"-\"&MasterTable[[#This Row],[CCT/CRI]]&MasterTable[[#This Row],[Arrangement]]","v":"V13-B-50CB"},{"$f":"MasterTable[[#This Row],[Generation]]&\"-\"&MasterTable[[#This Row],[CCT/CRI]]&IF(MasterTable[[#This Row],[Lumen Family]]<999,\"0\"&MasterTable[[#This Row],[Lumen Family]],MasterTable[[#This Row],[Lumen Family]])&\"-\"&MasterTable[[#This Row],[Arrangement]]&\"-xx\"","v":"BXRE-50C2001-B-xx"},2877.2999999999997,{"$f":"MasterTable[[#This Row],[Typical Lumens]]/(MasterTable[[#This Row],[Typical Voltage]]*MasterTable[[#This Row],[Typical Current]]/1000)","v":183.73563218390805},0.28036666666666665,34.799999999999997,450,900,60,null,null,-1.9999999999999999E-6,8.2000000000000007E-3,31.425999999999998,1.2045000000000001E-10,-5.6996999999999996E-7,2.4670999999999998E-3,-9.9999999999999995E-8,null,null,null,null,null,null,-3.6592E-6,-1.0345506E-3,1.0240956264000001,null,null,null,null,2.2275,40.991,404.1,-9.9999999999999995E-8]
["V13-B","50E","B",2001,"BXRE",{"$f":"MasterTable[[#This Row],[Product Family]]&\"-\"&MasterTable[[#This Row],[CCT/CRI]]&MasterTable[[#This Row],[Arrangement]]","v":"V13-B-50EB"},{"$f":"MasterTable[[#This Row],[Generation]]&\"-\"&MasterTable[[#This Row],[CCT/CRI]]&IF(MasterTable[[#This Row],[Lumen Family]]<999,\"0\"&MasterTable[[#This Row],[Lumen Family]],MasterTable[[#This Row],[Lumen Family]])&\"-\"&MasterTable[[#This Row],[Arrangement]]&\"-xx\"","v":"BXRE-50E2001-B-xx"},2767.8375000000001,{"$f":"MasterTable[[#This Row],[Typical Lumens]]/(MasterTable[[#This Row],[Typical Voltage]]*MasterTable[[#This Row],[Typical Current]]/1000)","v":176.74568965517244},0.28036666666666665,34.799999999999997,450,900,60,null,null,-1.9999999999999999E-6,8.2000000000000007E-3,31.425999999999998,1.2045000000000001E-10,-5.6996999999999996E-7,2.4670999999999998E-3,-9.9999999999999995E-8,null,null,null,null,null,null,-3.6592E-6,-1.0345506E-3,1.0240956264000001,null,null,null,null,2.2275,40.991,404.1,-9.9999999999999995E-8]
["V13-B","50G","B",2001,"BXRE",{"$f":"MasterTable[[#This Row],[Product Family]]&\"-\"&MasterTable[[#This Row],[CCT/CRI]]&MasterTable[[#This Row],[Arrangement]]","v":"V13-B-50GB"},{"$f":"MasterTable[[#This Row],[Generation]]&\"-\"&MasterTable[[#This Row],[CCT/CRI]]&IF(MasterTable[[#This Row],[Lumen Family]]<999,\"0\"&MasterTable[[#This Row],[Lumen Family]],MasterTable[[#This Row],[Lumen Family]])&\"-\"&MasterTable[[#This Row],[Arrangement]]&\"-xx\"","v":"BXRE-50G2001-B-xx"},2392.5374999999999,{"$f":"MasterTable[[#This Row],[Typical Lumens]]/(MasterTable[[#This Row],[Typical Voltage]]*MasterTable[[#This Row],[Typical Current]]/1000)","v":152.78017241379311},0.28036666666666665,34.799999999999997,450,900,60,null,null,-1.9999999999999999E-6,8.2000000000000007E-3,31.425999999999998,1.2045000000000001E-10,-5.6996999999999996E-7,2.4670999999999998E-3,-9.9999999999999995E-8,null,null,null,null,null,null,-3.6592E-6,-1.0345506E-3,1.0240956264000001,null,null,null,null,2.2275,40.991,404.1,-9.9999999999999995E-8]
["V13-B","57C","B",2001,"BXRE",{"$f":"MasterTable[[#This Row],[Product Family]]&\"-\"&MasterTable[[#This Row],[CCT/CRI]]&MasterTable[[#This Row],[Arrangement]]","v":"V13-B-57CB"},{"$f":"MasterTable[[#This Row],[Generation]]&\"-\"&MasterTable[[#This Row],[CCT/CRI]]&IF(MasterTable[[#This Row],[Lumen Family]]<999,\"0\"&MasterTable[[#This Row],[Lumen Family]],MasterTable[[#This Row],[Lumen Family]])&\"-\"&MasterTable[[#This Row],[Arrangement]]&\"-xx\"","v":"BXRE-57C2001-B-xx"},2799.1124999999997,{"$f":"MasterTable[[#This Row],[Typical Lumens]]/(MasterTable[[#This Row],[Typical Voltage]]*MasterTable[[#This Row],[Typical Current]]/1000)","v":178.74281609195401},0.28036666666666665,34.799999999999997,450,900,60,null,null,-1.9999999999999999E-6,8.2000000000000007E-3,31.425999999999998,1.2045000000000001E-10,-5.6996999999999996E-7,2.4670999999999998E-3,-9.9999999999999995E-8,null,null,null,null,null,null,-3.6592E-6,-1.0345506E-3,1.0240956264000001,null,null,null,null,2.2275,40.991,404.1,-9.9999999999999995E-8]
["V13-B","57E","B",2001,"BXRE",{"$f":"MasterTable[[#This Row],[Product Family]]&\"-\"&MasterTable[[#This Row],[CCT/CRI]]&MasterTable[[#This Row],[Arrangement]]","v":"V13-B-57EB"},{"$f":"MasterTable[[#This Row],[Generation]]&\"-\"&MasterTable[[#This Row],[CCT/CRI]]&IF(MasterTable[[#This Row],[Lumen Family]]<999,\"0\"&MasterTable[[#This Row],[Lumen Family]],MasterTable[[#This Row],[Lumen Family]])&\"-\"&MasterTable[[#This Row],[Arrangement]]&\"-xx\"","v":"BXRE-57E2001-B-xx"},2658.375,{"$f":"MasterTable[[#This Row],[Typical Lumens]]/(MasterTable[[#This Row],[Typical Voltage]]*MasterTable[[#This Row],[Typical Current]]/1000)","v":169.7557471264368},0.28036666666666665,34.799999999999997,450,900,60,null,null,-1.9999999999999999E-6,8.2000000000000007E-3,31.425999999999998,1.2045000000000001E-10,-5.6996999999999996E-7,2.4670999999999998E-3,-9.9999999999999995E-8,null,null,null,null,null,null,-3.6592E-6,-1.0345506E-3,1.0240956264000001,null,null,null,null,2.2275,40.991,404.1,-9.9999999999999995E-8]
["V13-B","65C","B",2001,"BXRE",{"$f":"MasterTable[[#This Row],[Product Family]]&\"-\"&MasterTable[[#This Row],[CCT/CRI]]&MasterTable[[#This Row],[Arrangement]]","v":"V13-B-65CB"},{"$f":"MasterTable[[#This Row],[Generation]]&\"-\"&MasterTable[[#This Row],[CCT/CRI]]&IF(MasterTable[[#This Row],[Lumen Family]]<999,\"0\"&MasterTable[[#This Row],[Lumen Family]],MasterTable[[#This Row],[Lumen Family]])&\"-\"&MasterTable[[#This Row],[Arrangement]]&\"-xx\"","v":"BXRE-65C2001-B-xx"},2799.1124999999997,{"$f":"MasterTable[[#This Row],[Typical Lumens]]/(MasterTable[[#This Row],[Typical Voltage]]*MasterTable[[#This Row],[Typical Current]]/1000)","v":178.74281609195401},0.28036666666666665,34.799999999999997,450,900,60,null,null,-1.9999999999999999E-6,8.2000000000000007E-3,31.425999999999998,1.2045000000000001E-10,-5.6996999999999996E-7,2.4670999999999998E-3,-9.9999999999999995E-8,null,null,null,null,null,null,-3.6592E-6,-1.0345506E-3,1.0240956264000001,null,null,null,null,2.2275,40.991,404.1,-9.9999999999999995E-8]
["V13-B","65E","B",2001,"BXRE",{"$f":"MasterTable[[#This Row],[Product Family]]&\"-\"&MasterTable[[#This Row],[CCT/CRI]]&MasterTable[[#This Row],[Arrangement]]","v":"V13-B-65EB"},{"$f":"MasterTable[[#This Row],[Generation]]&\"-\"&MasterTable[[#This Row],[CCT/CRI]]&IF(MasterTable[[#This Row],[Lumen Family]]<999,\"0\"&MasterTable[[#This Row],[Lumen Family]],MasterTable[[#This Row],[Lumen Family]])&\"-\"&MasterTable[[#This Row],[Arrangement]]&\"-xx\"","v":"BXRE-65E2001-B-xx"},2689.65,{"$f":"MasterTable[[#This Row],[Typical Lumens]]/(MasterTable[[#This Row],[Typical Voltage]]*MasterTable[[#This Row],[Typical Current]]/1000)","v":171.7528735632184},0.28036666666666665,34.799999999999997,450,900,60,null,null,-1.9999999999999999E-6,8.2000000000000007E-3,31.425999999999998,1.2045000000000001E-10,-5.6996999999999996E-7,2.4670999999999998E-3,-9.9999999999999995E-8,null,null,null,null,null,null,-3.6592E-6,-1.0345506E-3,1.0240956264000001,null,null,null,null,2.2275,40.991,404.1,-9.9999999999999995E-8]
["V13-C","30E","C",2000,"BXRE",{"$f":"MasterTable[[#This Row],[Product Family]]&\"-\"&MasterTable[[#This Row],[CCT/CRI]]&MasterTable[[#This Row],[Arrangement]]","v":"V13-C-30EC"},{"$f":"MasterTable[[#This Row],[Generation]]&\"-\"&MasterTable[[#This Row],[CCT/CRI]]&IF(MasterTable[[#This Row],[Lumen Family]]<999,\"0\"&MasterTable[[#This Row],[Lumen Family]],MasterTable[[#This Row],[Lumen Family]])&\"-\"&MasterTable[[#This Row],[Arrangement]]&\"-xx\"","v":"BXRE-30E2000-C-xx"},3721.7249999999999,{"$f":"MasterTable[[#This Row],[Typical Lumens]]/(MasterTable[[#This Row],[Typical Voltage]]*MasterTable[[#This Row],[Typical Current]]/1000)","v":169.75574712643677},0.19873333333333335,34.799999999999997,630,1260,84,null,null,-8.9999999999999996E-7,5.7999999999999996E-3,31.425999999999998,3.4563999999999997E-11,-2.7854E-7,1.7515E-3,-9.9999999999999995E-8,null,null,null,null,null,null,-3.6592E-6,-1.0345506E-3,1.0240956264000001,null,null,null,null,6.1532,52.234999999999999,570.62,-9.9999999999999995E-8]
["V13-C","17E","C",2000,"BXRE",{"$f":"MasterTable[[#This Row],[Product Family]]&\"-\"&MasterTable[[#This Row],[CCT/CRI]]&MasterTable[[#This Row],[Arrangement]]","v":"V13-C-17EC"},{"$f":"MasterTable[[#This Row],[Generation]]&\"-\"&MasterTable[[#This Row],[CCT/CRI]]&IF(MasterTable[[#This Row],[Lumen Family]]<999,\"0\"&MasterTable[[#This Row],[Lumen Family]],MasterTable[[#This Row],[Lumen Family]])&\"-\"&MasterTable[[#This Row],[Arrangement]]&\"-xx\"","v":"BXRE-17E2000-C-xx"},2014.11,{"$f":"MasterTable[[#This Row],[Typical Lumens]]/(MasterTable[[#This Row],[Typical Voltage]]*MasterTable[[#This Row],[Typical Current]]/1000)","v":91.867816091954026},0.19873333333333335,34.799999999999997,630,1260,84,null,null,-8.9999999999999996E-7,5.7999999999999996E-3,31.425999999999998,3.4563999999999997E-11,-2.7854E-7,1.7515E-3,-9.9999999999999995E-8,null,null,null,null,null,null,-3.6592E-6,-1.0345506E-3,1.0240956264000001,null,null,null,null,6.1532,52.234999999999999,570.62,-9.9999999999999995E-8]
["V13-C","20B","C",2001,"BXRE",{"$f":"MasterTable[[#This Row],[Product Family]]&\"-\"&MasterTable[[#This Row],[CCT/CRI]]&MasterTable[[#This Row],[Arrangement]]","v":"V13-C-20BC"},{"$f":"MasterTable[[#This Row],[Generation]]&\"-\"&MasterTable[[#This Row],[CCT/CRI]]&IF(MasterTable[[#This Row],[Lumen Family]]<999,\"0\"&MasterTable[[#This Row],[Lumen Family]],MasterTable[[#This Row],[Lumen Family]])&\"-\"&MasterTable[[#This Row],[Arrangement]]&\"-xx\"","v":"BXRE-20B2001-C-xx"},3437.1224999999999,{"$f":"MasterTable[[#This Row],[Typical Lumens]]/(MasterTable[[#This Row],[Typical Voltage]]*MasterTable[[#This Row],[Typical Current]]/1000)","v":156.77442528735634},0.19873333300000001,34.799999999999997,630,{"$f":"L291*2","v":1260},84,null,null,-8.9999999999999996E-7,5.7999999999999996E-3,31.425999999999998,3.4563999999999997E-11,-2.7854E-7,1.7515E-3,-9.9999999999999995E-8,null,null,null,null,null,null,-3.6592E-6,-1.0345506E-3,1.0240956264000001,null,null,null,null,6.1532,52.234999999999999,570.62,-9.9999999999999995E-8]
["V13-C","27E","C",2000,"BXRE",{"$f":"MasterTable[[#This Row],[Product Family]]&\"-\"&MasterTable[[#This Row],[CCT/CRI]]&MasterTable[[#This Row],[Arrangement]]","v":"V13-C-27EC"},{"$f":"MasterTable[[#This Row],[Generation]]&\"-\"&MasterTable[[#This Row],[CCT/CRI]]&IF(MasterTable[[#This Row],[Lumen Family]]<999,\"0\"&MasterTable[[#This Row],[Lumen Family]],MasterTable[[#This Row],[Lumen Family]])&\"-\"&MasterTable[[#This Row],[Arrangement]]&\"-xx\"","v":"BXRE-27E2000-C-xx"},3502.7999999999997,{"$f":"MasterTable[[#This Row],[Typical Lumens]]/(MasterTable[[#This Row],[Typical Voltage]]*MasterTable[[#This Row],[Typical Current]]/1000)","v":159.77011494252872},0.19873333333333335,34.799999999999997,630,1260,84,null,null,-8.9999999999999996E-7,5.7999999999999996E-3,31.425999999999998,3.4563999999999997E-11,-2.7854E-7,1.7515E-3,-9.9999999999999995E-8,null,null,null,null,null,null,-3.6592E-6,-1.0345506E-3,1.0240956264000001,null,null,null,null,6.1532,52.234999999999999,570.62,-9.9999999999999995E-8]
["V13-C","27G","C",2000,"BXRE",{"$f":"MasterTable[[#This Row],[Product Family]]&\"-\"&MasterTable[[#This Row],[CCT/CRI]]&MasterTable[[#This Row],[Arrangement]]","v":"V13-C-27GC"},{"$f":"MasterTable[[#This Row],[Generation]]&\"-\"&MasterTable[[#This Row],[CCT/CRI]]&IF(MasterTable[[#This Row],[Lumen Family]]<999,\"0\"&MasterTable[[#This Row],[Lumen Family]],MasterTable[[#This Row],[Lumen Family]])&\"-\"&MasterTable[[#This Row],[Arrangement]]&\"-xx\"","v":"BXRE-27G2000-C-xx"},2999.2724999999996,{"$f":"MasterTable[[#This Row],[Typical Lumens]]/(MasterTable[[#This Row],[Typical Voltage]]*MasterTable[[#This Row],[Typical Current]]/1000)","v":136.8031609195402},0.19873333333333335,34.799999999999997,630,1260,84,null,null,-8.9999999999999996E-7,5.7999999999999996E-3,31.425999999999998,3.4563999999999997E-11,-2.7854E-7,1.7515E-3,-9.9999999999999995E-8,null,null,null,null,null,null,-3.6592E-6,-1.0345506E-3,1.0240956264000001,null,null,null,null,6.1532,52.234999999999999,570.62,-9.9999999999999995E-8]
["V13-C","27S","C",2001,"BXRE",{"$f":"MasterTable[[#This Row],[Product Family]]&\"-\"&MasterTable[[#This Row],[CCT/CRI]]&MasterTable[[#This Row],[Arrangement]]","v":"V13-C-27SC"},{"$f":"MasterTable[[#This Row],[Generation]]&\"-\"&MasterTable[[#This Row],[CCT/CRI]]&IF(MasterTable[[#This Row],[Lumen Family]]<999,\"0\"&MasterTable[[#This Row],[Lumen Family]],MasterTable[[#This Row],[Lumen Family]])&\"-\"&MasterTable[[#This Row],[Arrangement]]&\"-xx\"","v":"BXRE-27S2001-C-xx"},2330,{"$f":"MasterTable[[#This Row],[Typical Lumens]]/(MasterTable[[#This Row],[Typical Voltage]]*MasterTable[[#This Row],[Typical Current]]/1000)","v":107.51199704688077},0.19873333333333335,34.4,630,1260,84,null,1.0571E-9,-4.5132000000000003E-6,7.6572000000000003E-3,31.102,9.7178999999999999E-11,-3.4742999999999998E-7,1.7583E-3,-9.9999999999999995E-8,null,null,null,null,null,null,-3.6592E-6,-1.0345506E-3,1.0240956264000001,null,null,null,null,-12.487,86.450999999999993,560.61,-9.9999999999999995E-8]
["V13-C","27G-H","C","20H0","BXRE",{"$f":"MasterTable[[#This Row],[Product Family]]&\"-\"&MasterTable[[#This Row],[CCT/CRI]]&MasterTable[[#This Row],[Arrangement]]","v":"V13-C-27G-HC"},"BXRE-27G-20H0-C-xx",2999,{"$f":"MasterTable[[#This Row],[Typical Lumens]]/(MasterTable[[#This Row],[Typical Voltage]]*MasterTable[[#This Row],[Typical Current]]/1000)","v":136.79073161831784},0.19873333333333335,34.799999999999997,630,1260,84,null,null,-8.9999999999999996E-7,5.7999999999999996E-3,31.425999999999998,3.4563999999999997E-11,-2.7854E-7,1.7515E-3,-9.9999999999999995E-8,null,null,null,null,null,null,-3.6592E-6,-1.0345506E-3,1.0240956264000001,null,null,null,null,6.1532,52.234999999999999,570.62,-9.9999999999999995E-8]
["V13-C","30G-H","C","20H0","BXRE",{"$f":"MasterTable[[#This Row],[Product Family]]&\"-\"&MasterTable[[#This Row],[CCT/CRI]]&MasterTable[[#This Row],[Arrangement]]","v":"V13-C-30G-HC"},"BXRE-30G-20H0-C-xx",3153,{"$f":"MasterTable[[#This Row],[Typical Lumens]]/(MasterTable[[#This Row],[Typical Voltage]]*MasterTable[[#This Row],[Typical Current]]/1000)","v":143.81499726327314},0.19873333333333335,34.799999999999997,630,1260,84,null,null,-8.9999999999999996E-7,5.7999999999999996E-3,31.425999999999998,3.4563999999999997E-11,-2.7854E-7,1.7515E-3,-9.9999999999999995E-8,null,null,null,null,null,null,-3.6592E-6,-1.0345506E-3,1.0240956264000001,null,null,null,null,6.1532,52.234999999999999,570.62,-9.9999999999999995E-8]
["V13-C","30C","C",2001,"BXRE",{"$f":"MasterTable[[#This Row],[Product Family]]&\"-\"&MasterTable[[#This Row],[CCT/CRI]]&MasterTable[[#This Row],[Arrangement]]","v":"V13-C-30CC"},{"$f":"MasterTable[[#This Row],[Generation]]&\"-\"&MasterTable[[#This Row],[CCT/CRI]]&IF(MasterTable[[#This Row],[Lumen Family]]<999,\"0\"&MasterTable[[#This Row],[Lumen Family]],MasterTable[[#This Row],[Lumen Family]])&\"-\"&MasterTable[[#This Row],[Arrangement]]&\"-xx\"","v":"BXRE-30C2001-C-xx"},3897,{"$f":"MasterTable[[#This Row],[Typical Lumens]]/(MasterTable[[#This Row],[Typical Voltage]]*MasterTable[[#This Row],[Typical Current]]/1000)","v":177.75041050903121},0.19873333333333335,34.799999999999997,630,1260,84,null,null,-8.9999999999999996E-7,5.7999999999999996E-3,31.425999999999998,3.4563999999999997E-11,-2.7854E-7,1.7515E-3,-9.9999999999999995E-8,null,null,null,null,null,null,-3.6592E-6,-1.0345506E-3,1.0240956264000001,null,null,null,null,6.1532,52.234999999999999,570.62,-9.9999999999999995E-8]
["V13-C","30G","C",2000,"BXRE",{"$f":"MasterTable[[#This Row],[Product Family]]&\"-\"&MasterTable[[#This Row],[CCT/CRI]]&MasterTable[[#This Row],[Arrangement]]","v":"V13-C-30GC"},{"$f":"MasterTable[[#This Row],[Generation]]&\"-\"&MasterTable[[#This Row],[CCT/CRI]]&IF(MasterTable[[#This Row],[Lumen Family]]<999,\"0\"&MasterTable[[#This Row],[Lumen Family]],MasterTable[[#This Row],[Lumen Family]])&\"-\"&MasterTable[[#This Row],[Arrangement]]&\"-xx\"","v":"BXRE-30G2000-C-xx"},3021,{"$f":"MasterTable[[#This Row],[Typical Lumens]]/(MasterTable[[#This Row],[Typical Voltage]]*MasterTable[[#This Row],[Typical Current]]/1000)","v":137.79419813902572},0.19873333333333335,34.799999999999997,630,1260,84,null,null,-8.9999999999999996E-7,5.7999999999999996E-3,31.425999999999998,3.4563999999999997E-11,-2.7854E-7,1.7515E-3,-9.9999999999999995E-8,null,null,null,null,null,null,-3.6592E-6,-1.0345506E-3,1.0240956264000001,null,null,null,null,6.1532,52.234999999999999,570.62,-9.9999999999999995E-8,null,null,"y = 70.6441x2 + 555.9004x + 2.2853"]
["V13-C","30G-C","C","200C","BXRE",{"$f":"MasterTable[[#This Row],[Product Family]]&\"-\"&MasterTable[[#This Row],[CCT/CRI]]&MasterTable[[#This Row],[Arrangement]]","v":"V13-C-30G-CC"},"BXRE-30G-200C-C-xx",2912,{"$f":"MasterTable[[#This Row],[Typical Lumens]]/(MasterTable[[#This Row],[Typical Voltage]]*MasterTable[[#This Row],[Typical Current]]/1000)","v":132.82247765006386},0.19873333333333335,34.799999999999997,630,1260,84,null,null,-8.9999999999999996E-7,5.7999999999999996E-3,31.425999999999998,3.4563999999999997E-11,-2.7854E-7,1.7515E-3,-9.9999999999999995E-8,null,null,null,null,null,null,-3.6592E-6,-1.0345506E-3,1.0240956264000001,null,null,null,null,6.1532,52.234999999999999,570.62,-9.9999999999999995E-8]
["V13-C","30A","C",2001,"BXRE",{"$f":"MasterTable[[#This Row],[Product Family]]&\"-\"&MasterTable[[#This Row],[CCT/CRI]]&MasterTable[[#This Row],[Arrangement]]","v":"V13-C-30AC"},{"$f":"MasterTable[[#This Row],[Generation]]&\"-\"&MasterTable[[#This Row],[CCT/CRI]]&IF(MasterTable[[#This Row],[Lumen Family]]<999,\"0\"&MasterTable[[#This Row],[Lumen Family]],MasterTable[[#This Row],[Lumen Family]])&\"-\"&MasterTable[[#This Row],[Arrangement]]&\"-xx\"","v":"BXRE-30A2001-C-xx"},2714.6699999999996,{"$f":"MasterTable[[#This Row],[Typical Lumens]]/(MasterTable[[#This Row],[Typical Voltage]]*MasterTable[[#This Row],[Typical Current]]/1000)","v":123.82183908045975},0.19873333333333335,34.799999999999997,630,1260,84,null,null,-8.9999999999999996E-7,5.7999999999999996E-3,31.425999999999998,3.4563999999999997E-11,-2.7854E-7,1.7515E-3,-9.9999999999999995E-8,null,null,null,null,null,null,-3.6592E-6,-1.0345506E-3,1.0240956264000001,null,null,null,null,6.1532,52.234999999999999,570.62,-9.9999999999999995E-8]
["V13-C","30S","C",2001,"BXRE",{"$f":"MasterTable[[#This Row],[Product Family]]&\"-\"&MasterTable[[#This Row],[CCT/CRI]]&MasterTable[[#This Row],[Arrangement]]","v":"V13-C-30SC"},{"$f":"MasterTable[[#This Row],[Generation]]&\"-\"&MasterTable[[#This Row],[CCT/CRI]]&IF(MasterTable[[#This Row],[Lumen Family]]<999,\"0\"&MasterTable[[#This Row],[Lumen Family]],MasterTable[[#This Row],[Lumen Family]])&\"-\"&MasterTable[[#This Row],[Arrangement]]&\"-xx\"","v":"BXRE-30S2001-C-xx"},2520,{"$f":"MasterTable[[#This Row],[Typical Lumens]]/(MasterTable[[#This Row],[Typical Voltage]]*MasterTable[[#This Row],[Typical Current]]/1000)","v":116.27906976744185},0.19873333333333335,34.4,630,1260,84,null,1.0571E-9,-4.5132000000000003E-6,7.6572000000000003E-3,31.102,9.7178999999999999E-11,-3.4742999999999998E-7,1.7583E-3,-9.9999999999999995E-8,null,null,null,null,null,null,-3.6592E-6,-1.0345506E-3,1.0240956264000001,null,null,null,null,-12.487,86.450999999999993,560.61,-9.9999999999999995E-8]
["V13-C","35E","C",2000,"BXRE",{"$f":"MasterTable[[#This Row],[Product Family]]&\"-\"&MasterTable[[#This Row],[CCT/CRI]]&MasterTable[[#This Row],[Arrangement]]","v":"V13-C-35EC"},{"$f":"MasterTable[[#This Row],[Generation]]&\"-\"&MasterTable[[#This Row],[CCT/CRI]]&IF(MasterTable[[#This Row],[Lumen Family]]<999,\"0\"&MasterTable[[#This Row],[Lumen Family]],MasterTable[[#This Row],[Lumen Family]])&\"-\"&MasterTable[[#This Row],[Arrangement]]&\"-xx\"","v":"BXRE-35E2000-C-xx"},3809.2949999999996,{"$f":"MasterTable[[#This Row],[Typical Lumens]]/(MasterTable[[#This Row],[Typical Voltage]]*MasterTable[[#This Row],[Typical Current]]/1000)","v":173.75},0.19873333333333335,34.799999999999997,630,1260,84,null,null,-8.9999999999999996E-7,5.7999999999999996E-3,31.425999999999998,3.4563999999999997E-11,-2.7854E-7,1.7515E-3,-9.9999999999999995E-8,null,null,null,null,null,null,-3.6592E-6,-1.0345506E-3,1.0240956264000001,null,null,null,null,6.1532,52.234999999999999,570.62,-9.9999999999999995E-8]
["V13-C","35G","C",2000,"BXRE",{"$f":"MasterTable[[#This Row],[Product Family]]&\"-\"&MasterTable[[#This Row],[CCT/CRI]]&MasterTable[[#This Row],[Arrangement]]","v":"V13-C-35GC"},{"$f":"MasterTable[[#This Row],[Generation]]&\"-\"&MasterTable[[#This Row],[CCT/CRI]]&IF(MasterTable[[#This Row],[Lumen Family]]<999,\"0\"&MasterTable[[#This Row],[Lumen Family]],MasterTable[[#This Row],[Lumen Family]])&\"-\"&MasterTable[[#This Row],[Arrangement]]&\"-xx\"","v":"BXRE-35G2000-C-xx"},3130.6274999999996,{"$f":"MasterTable[[#This Row],[Typical Lumens]]/(MasterTable[[#This Row],[Typical Voltage]]*MasterTable[[#This Row],[Typical Current]]/1000)","v":142.79454022988503},0.19873333333333335,34.799999999999997,630,1260,84,null,null,-8.9999999999999996E-7,5.7999999999999996E-3,31.425999999999998,3.4563999999999997E-11,-2.7854E-7,1.7515E-3,-9.9999999999999995E-8,null,null,null,null,null,null,-3.6592E-6,-1.0345506E-3,1.0240956264000001,null,null,null,null,6.1532,52.234999999999999,570.62,-9.9999999999999995E-8]
["V13-C","35A","C",2001,"BXRE",{"$f":"MasterTable[[#This Row],[Product Family]]&\"-\"&MasterTable[[#This Row],[CCT/CRI]]&MasterTable[[#This Row],[Arrangement]]","v":"V13-C-35AC"},{"$f":"MasterTable[[#This Row],[Generation]]&\"-\"&MasterTable[[#This Row],[CCT/CRI]]&IF(MasterTable[[#This Row],[Lumen Family]]<999,\"0\"&MasterTable[[#This Row],[Lumen Family]],MasterTable[[#This Row],[Lumen Family]])&\"-\"&MasterTable[[#This Row],[Arrangement]]&\"-xx\"","v":"BXRE-35A2001-C-xx"},2889.81,{"$f":"MasterTable[[#This Row],[Typical Lumens]]/(MasterTable[[#This Row],[Typical Voltage]]*MasterTable[[#This Row],[Typical Current]]/1000)","v":131.81034482758622},0.19873333333333335,34.799999999999997,630,1260,84,null,null,-8.9999999999999996E-7,5.7999999999999996E-3,31.425999999999998,3.4563999999999997E-11,-2.7854E-7,1.7515E-3,-9.9999999999999995E-8,null,null,null,null,null,null,-3.6592E-6,-1.0345506E-3,1.0240956264000001,null,null,null,null,6.1532,52.234999999999999,570.62,-9.9999999999999995E-8]
["V13-C","35S","C",2001,"BXRE",{"$f":"MasterTable[[#This Row],[Product Family]]&\"-\"&MasterTable[[#This Row],[CCT/CRI]]&MasterTable[[#This Row],[Arrangement]]","v":"V13-C-35SC"},{"$f":"MasterTable[[#This Row],[Generation]]&\"-\"&MasterTable[[#This Row],[CCT/CRI]]&IF(MasterTable[[#This Row],[Lumen Family]]<999,\"0\"&MasterTable[[#This Row],[Lumen Family]],MasterTable[[#This Row],[Lumen Family]])&\"-\"&MasterTable[[#This Row],[Arrangement]]&\"-xx\"","v":"BXRE-35S2001-C-xx"},2612,{"$f":"MasterTable[[#This Row],[Typical Lumens]]/(MasterTable[[#This Row],[Typical Voltage]]*MasterTable[[#This Row],[Typical Current]]/1000)","v":120.52417866371354},0.19873333333333335,34.4,630,1260,84,null,1.0571E-9,-4.5132000000000003E-6,7.6572000000000003E-3,31.102,9.7178999999999999E-11,-3.4742999999999998E-7,1.7583E-3,-9.9999999999999995E-8,null,null,null,null,null,null,-3.6592E-6,-1.0345506E-3,1.0240956264000001,null,null,null,null,-12.487,86.450999999999993,560.61,-9.9999999999999995E-8]
["V13-C","40C","C",2001,"BXRE",{"$f":"MasterTable[[#This Row],[Product Family]]&\"-\"&MasterTable[[#This Row],[CCT/CRI]]&MasterTable[[#This Row],[Arrangement]]","v":"V13-C-40CC"},{"$f":"MasterTable[[#This Row],[Generation]]&\"-\"&MasterTable[[#This Row],[CCT/CRI]]&IF(MasterTable[[#This Row],[Lumen Family]]<999,\"0\"&MasterTable[[#This Row],[Lumen Family]],MasterTable[[#This Row],[Lumen Family]])&\"-\"&MasterTable[[#This Row],[Arrangement]]&\"-xx\"","v":"BXRE-40C2001-C-xx"},4006,{"$f":"MasterTable[[#This Row],[Typical Lumens]]/(MasterTable[[#This Row],[Typical Voltage]]*MasterTable[[#This Row],[Typical Current]]/1000)","v":182.72213099799308},0.19873333333333335,34.799999999999997,630,1260,84,null,null,-8.9999999999999996E-7,5.7999999999999996E-3,31.425999999999998,3.4563999999999997E-11,-2.7854E-7,1.7515E-3,-9.9999999999999995E-8,null,null,null,null,null,null,-3.6592E-6,-1.0345506E-3,1.0240956264000001,null,null,null,null,6.1532,52.234999999999999,570.62,-9.9999999999999995E-8]
["V13-C","40E","C",2000,"BXRE",{"$f":"MasterTable[[#This Row],[Product Family]]&\"-\"&MasterTable[[#This Row],[CCT/CRI]]&MasterTable[[#This Row],[Arrangement]]","v":"V13-C-40EC"},{"$f":"MasterTable[[#This Row],[Generation]]&\"-\"&MasterTable[[#This Row],[CCT/CRI]]&IF(MasterTable[[#This Row],[Lumen Family]]<999,\"0\"&MasterTable[[#This Row],[Lumen Family]],MasterTable[[#This Row],[Lumen Family]])&\"-\"&MasterTable[[#This Row],[Arrangement]]&\"-xx\"","v":"BXRE-40E2000-C-xx"},3831.1874999999995,{"$f":"MasterTable[[#This Row],[Typical Lumens]]/(MasterTable[[#This Row],[Typical Voltage]]*MasterTable[[#This Row],[Typical Current]]/1000)","v":174.74856321839079},0.19873333333333335,34.799999999999997,630,1260,84,null,null,-8.9999999999999996E-7,5.7999999999999996E-3,31.425999999999998,3.4563999999999997E-11,-2.7854E-7,1.7515E-3,-9.9999999999999995E-8,null,null,null,null,null,null,-3.6592E-6,-1.0345506E-3,1.0240956264000001,null,null,null,null,6.1532,52.234999999999999,570.62,-9.9999999999999995E-8]
["V13-C","40G","C",2000,"BXRE",{"$f":"MasterTable[[#This Row],[Product Family]]&\"-\"&MasterTable[[#This Row],[CCT/CRI]]&MasterTable[[#This Row],[Arrangement]]","v":"V13-C-40GC"},{"$f":"MasterTable[[#This Row],[Generation]]&\"-\"&MasterTable[[#This Row],[CCT/CRI]]&IF(MasterTable[[#This Row],[Lumen Family]]<999,\"0\"&MasterTable[[#This Row],[Lumen Family]],MasterTable[[#This Row],[Lumen Family]])&\"-\"&MasterTable[[#This Row],[Arrangement]]&\"-xx\"","v":"BXRE-40G2000-C-xx"},3196.3049999999998,{"$f":"MasterTable[[#This Row],[Typical Lumens]]/(MasterTable[[#This Row],[Typical Voltage]]*MasterTable[[#This Row],[Typical Current]]/1000)","v":145.79022988505747},0.19873333333333335,34.799999999999997,630,1260,84,null,null,-8.9999999999999996E-7,5.7999999999999996E-3,31.425999999999998,3.4563999999999997E-11,-2.7854E-7,1.7515E-3,-9.9999999999999995E-8,null,null,null,null,null,null,-3.6592E-6,-1.0345506E-3,1.0240956264000001,null,null,null,null,6.1532,52.234999999999999,570.62,-9.9999999999999995E-8]
["V13-C","40S","C",2001,"BXRE",{"$f":"MasterTable[[#This Row],[Product Family]]&\"-\"&MasterTable[[#This Row],[CCT/CRI]]&MasterTable[[#This Row],[Arrangement]]","v":"V13-C-40SC"},{"$f":"MasterTable[[#This Row],[Generation]]&\"-\"&MasterTable[[#This Row],[CCT/CRI]]&IF(MasterTable[[#This Row],[Lumen Family]]<999,\"0\"&MasterTable[[#This Row],[Lumen Family]],MasterTable[[#This Row],[Lumen Family]])&\"-\"&MasterTable[[#This Row],[Arrangement]]&\"-xx\"","v":"BXRE-40S2001-C-xx"},2661,{"$f":"MasterTable[[#This Row],[Typical Lumens]]/(MasterTable[[#This Row],[Typical Voltage]]*MasterTable[[#This Row],[Typical Current]]/1000)","v":122.78516057585824},0.19873333333333335,34.4,630,1260,84,null,1.0571E-9,-4.5132000000000003E-6,7.6572000000000003E-3,31.102,9.7178999999999999E-11,-3.4742999999999998E-7,1.7583E-3,-9.9999999999999995E-8,null,null,null,null,null,null,-3.6592E-6,-1.0345506E-3,1.0240956264000001,null,null,null,null,-12.487,86.450999999999993,560.61,-9.9999999999999995E-8]
["V13-C","50C","C",2001,"BXRE",{"$f":"MasterTable[[#This Row],[Product Family]]&\"-\"&MasterTable[[#This Row],[CCT/CRI]]&MasterTable[[#This Row],[Arrangement]]","v":"V13-C-50CC"},{"$f":"MasterTable[[#This Row],[Generation]]&\"-\"&MasterTable[[#This Row],[CCT/CRI]]&IF(MasterTable[[#This Row],[Lumen Family]]<999,\"0\"&MasterTable[[#This Row],[Lumen Family]],MasterTable[[#This Row],[Lumen Family]])&\"-\"&MasterTable[[#This Row],[Arrangement]]&\"-xx\"","v":"BXRE-50C2001-C-xx"},4028.22,{"$f":"MasterTable[[#This Row],[Typical Lumens]]/(MasterTable[[#This Row],[Typical Voltage]]*MasterTable[[#This Row],[Typical Current]]/1000)","v":183.73563218390805},0.19873333333333335,34.799999999999997,630,1260,84,null,null,-8.9999999999999996E-7,5.7999999999999996E-3,31.425999999999998,3.4563999999999997E-11,-2.7854E-7,1.7515E-3,-9.9999999999999995E-8,null,null,null,null,null,null,-3.6592E-6,-1.0345506E-3,1.0240956264000001,null,null,null,null,6.1532,52.234999999999999,570.62,-9.9999999999999995E-8]
["V13-C","50E","C",2001,"BXRE",{"$f":"MasterTable[[#This Row],[Product Family]]&\"-\"&MasterTable[[#This Row],[CCT/CRI]]&MasterTable[[#This Row],[Arrangement]]","v":"V13-C-50EC"},{"$f":"MasterTable[[#This Row],[Generation]]&\"-\"&MasterTable[[#This Row],[CCT/CRI]]&IF(MasterTable[[#This Row],[Lumen Family]]<999,\"0\"&MasterTable[[#This Row],[Lumen Family]],MasterTable[[#This Row],[Lumen Family]])&\"-\"&MasterTable[[#This Row],[Arrangement]]&\"-xx\"","v":"BXRE-50E2001-C-xx"},3874.9724999999999,{"$f":"MasterTable[[#This Row],[Typical Lumens]]/(MasterTable[[#This Row],[Typical Voltage]]*MasterTable[[#This Row],[Typical Current]]/1000)","v":176.74568965517241},0.19873333333333335,34.799999999999997,630,1260,84,null,null,-8.9999999999999996E-7,5.7999999999999996E-3,31.425999999999998,3.4563999999999997E-11,-2.7854E-7,1.7515E-3,-9.9999999999999995E-8,null,null,null,null,null,null,-3.6592E-6,-1.0345506E-3,1.0240956264000001,null,null,null,null,6.1532,52.234999999999999,570.62,-9.9999999999999995E-8]
["V13-C","50G","C",2001,"BXRE",{"$f":"MasterTable[[#This Row],[Product Family]]&\"-\"&MasterTable[[#This Row],[CCT/CRI]]&MasterTable[[#This Row],[Arrangement]]","v":"V13-C-50GC"},{"$f":"MasterTable[[#This Row],[Generation]]&\"-\"&MasterTable[[#This Row],[CCT/CRI]]&IF(MasterTable[[#This Row],[Lumen Family]]<999,\"0\"&MasterTable[[#This Row],[Lumen Family]],MasterTable[[#This Row],[Lumen Family]])&\"-\"&MasterTable[[#This Row],[Arrangement]]&\"-xx\"","v":"BXRE-50G2001-C-xx"},3349.5524999999998,{"$f":"MasterTable[[#This Row],[Typical Lumens]]/(MasterTable[[#This Row],[Typical Voltage]]*MasterTable[[#This Row],[Typical Current]]/1000)","v":152.78017241379311},0.19873333333333335,34.799999999999997,630,1260,84,null,null,-8.9999999999999996E-7,5.7999999999999996E-3,31.425999999999998,3.4563999999999997E-11,-2.7854E-7,1.7515E-3,-9.9999999999999995E-8,null,null,null,null,null,null,-3.6592E-6,-1.0345506E-3,1.0240956264000001,null,null,null,null,6.1532,52.234999999999999,570.62,-9.9999999999999995E-8]
["V13-C","50S","C",2001,"BXRE",{"$f":"MasterTable[[#This Row],[Product Family]]&\"-\"&MasterTable[[#This Row],[CCT/CRI]]&MasterTable[[#This Row],[Arrangement]]","v":"V13-C-50SC"},{"$f":"MasterTable[[#This Row],[Generation]]&\"-\"&MasterTable[[#This Row],[CCT/CRI]]&IF(MasterTable[[#This Row],[Lumen Family]]<999,\"0\"&MasterTable[[#This Row],[Lumen Family]],MasterTable[[#This Row],[Lumen Family]])&\"-\"&MasterTable[[#This Row],[Arrangement]]&\"-xx\"","v":"BXRE-50S2001-C-xx"},2774,{"$f":"MasterTable[[#This Row],[Typical Lumens]]/(MasterTable[[#This Row],[Typical Voltage]]*MasterTable[[#This Row],[Typical Current]]/1000)","v":127.99926172019195},0.19873333333333335,34.4,630,1260,84,null,1.0571E-9,-4.5132000000000003E-6,7.6572000000000003E-3,31.102,9.7178999999999999E-11,-3.4742999999999998E-7,1.7583E-3,-9.9999999999999995E-8,null,null,null,null,null,null,-3.6592E-6,-1.0345506E-3,1.0240956264000001,null,null,null,null,-12.487,86.450999999999993,560.61,-9.9999999999999995E-8]
["V13-C","57C","C",2001,"BXRE",{"$f":"MasterTable[[#This Row],[Product Family]]&\"-\"&MasterTable[[#This Row],[CCT/CRI]]&MasterTable[[#This Row],[Arrangement]]","v":"V13-C-57CC"},{"$f":"MasterTable[[#This Row],[Generation]]&\"-\"&MasterTable[[#This Row],[CCT/CRI]]&IF(MasterTable[[#This Row],[Lumen Family]]<999,\"0\"&MasterTable[[#This Row],[Lumen Family]],MasterTable[[#This Row],[Lumen Family]])&\"-\"&MasterTable[[#This Row],[Arrangement]]&\"-xx\"","v":"BXRE-57C2001-C-xx"},3918.7574999999997,{"$f":"MasterTable[[#This Row],[Typical Lumens]]/(MasterTable[[#This Row],[Typical Voltage]]*MasterTable[[#This Row],[Typical Current]]/1000)","v":178.74281609195401},0.19873333333333335,34.799999999999997,630,1260,84,null,null,-8.9999999999999996E-7,5.7999999999999996E-3,31.425999999999998,3.4563999999999997E-11,-2.7854E-7,1.7515E-3,-9.9999999999999995E-8,null,null,null,null,null,null,-3.6592E-6,-1.0345506E-3,1.0240956264000001,null,null,null,null,6.1532,52.234999999999999,570.62,-9.9999999999999995E-8]
["V13-C","57E","C",2001,"BXRE",{"$f":"MasterTable[[#This Row],[Product Family]]&\"-\"&MasterTable[[#This Row],[CCT/CRI]]&MasterTable[[#This Row],[Arrangement]]","v":"V13-C-57EC"},{"$f":"MasterTable[[#This Row],[Generation]]&\"-\"&MasterTable[[#This Row],[CCT/CRI]]&IF(MasterTable[[#This Row],[Lumen Family]]<999,\"0\"&MasterTable[[#This Row],[Lumen Family]],MasterTable[[#This Row],[Lumen Family]])&\"-\"&MasterTable[[#This Row],[Arrangement]]&\"-xx\"","v":"BXRE-57E2001-C-xx"},3721.7249999999999,{"$f":"MasterTable[[#This Row],[Typical Lumens]]/(MasterTable[[#This Row],[Typical Voltage]]*MasterTable[[#This Row],[Typical Current]]/1000)","v":169.75574712643677},0.19873333333333335,34.799999999999997,630,1260,84,null,null,-8.9999999999999996E-7,5.7999999999999996E-3,31.425999999999998,3.4563999999999997E-11,-2.7854E-7,1.7515E-3,-9.9999999999999995E-8,null,null,null,null,null,null,-3.6592E-6,-1.0345506E-3,1.0240956264000001,null,null,null,null,6.1532,52.234999999999999,570.62,-9.9999999999999995E-8]
["V13-C","57S","C",2001,"BXRE",{"$f":"MasterTable[[#This Row],[Product Family]]&\"-\"&MasterTable[[#This Row],[CCT/CRI]]&MasterTable[[#This Row],[Arrangement]]","v":"V13-C-57SC"},{"$f":"MasterTable[[#This Row],[Generation]]&\"-\"&MasterTable[[#This Row],[CCT/CRI]]&IF(MasterTable[[#This Row],[Lumen Family]]<999,\"0\"&MasterTable[[#This Row],[Lumen Family]],MasterTable[[#This Row],[Lumen Family]])&\"-\"&MasterTable[[#This Row],[Arrangement]]&\"-xx\"","v":"BXRE-57S2001-C-xx"},2810,{"$f":"MasterTable[[#This Row],[Typical Lumens]]/(MasterTable[[#This Row],[Typical Voltage]]*MasterTable[[#This Row],[Typical Current]]/1000)","v":129.66039128829826},0.19873333333333335,34.4,630,1260,84,null,1.0571E-9,-4.5132000000000003E-6,7.6572000000000003E-3,31.102,9.7178999999999999E-11,-3.4742999999999998E-7,1.7583E-3,-9.9999999999999995E-8,null,null,null,null,null,null,-3.6592E-6,-1.0345506E-3,1.0240956264000001,null,null,null,null,-12.487,86.450999999999993,560.61,-9.9999999999999995E-8]
["V13-C","65S","C",2001,"BXRE",{"$f":"MasterTable[[#This Row],[Product Family]]&\"-\"&MasterTable[[#This Row],[CCT/CRI]]&MasterTable[[#This Row],[Arrangement]]","v":"V13-C-65SC"},{"$f":"MasterTable[[#This Row],[Generation]]&\"-\"&MasterTable[[#This Row],[CCT/CRI]]&IF(MasterTable[[#This Row],[Lumen Family]]<999,\"0\"&MasterTable[[#This Row],[Lumen Family]],MasterTable[[#This Row],[Lumen Family]])&\"-\"&MasterTable[[#This Row],[Arrangement]]&\"-xx\"","v":"BXRE-65S2001-C-xx"},2782,{"$f":"MasterTable[[#This Row],[Typical Lumens]]/(MasterTable[[#This Row],[Typical Voltage]]*MasterTable[[#This Row],[Typical Current]]/1000)","v":128.36840162421558},0.19873333333333335,34.4,630,1260,84,null,1.0571E-9,-4.5132000000000003E-6,7.6572000000000003E-3,31.102,9.7178999999999999E-11,-3.4742999999999998E-7,1.7583E-3,-9.9999999999999995E-8,null,null,null,null,null,null,-3.6592E-6,-1.0345506E-3,1.0240956264000001,null,null,null,null,-12.487,86.450999999999993,560.61,-9.9999999999999995E-8]
["V13-C","65C","C",2001,"BXRE",{"$f":"MasterTable[[#This Row],[Product Family]]&\"-\"&MasterTable[[#This Row],[CCT/CRI]]&MasterTable[[#This Row],[Arrangement]]","v":"V13-C-65CC"},{"$f":"MasterTable[[#This Row],[Generation]]&\"-\"&MasterTable[[#This Row],[CCT/CRI]]&IF(MasterTable[[#This Row],[Lumen Family]]<999,\"0\"&MasterTable[[#This Row],[Lumen Family]],MasterTable[[#This Row],[Lumen Family]])&\"-\"&MasterTable[[#This Row],[Arrangement]]&\"-xx\"","v":"BXRE-65C2001-C-xx"},3918.7574999999997,{"$f":"MasterTable[[#This Row],[Typical Lumens]]/(MasterTable[[#This Row],[Typical Voltage]]*MasterTable[[#This Row],[Typical Current]]/1000)","v":178.74281609195401},0.19873333333333335,34.799999999999997,630,1260,84,null,null,-8.9999999999999996E-7,5.7999999999999996E-3,31.425999999999998,3.4563999999999997E-11,-2.7854E-7,1.7515E-3,-9.9999999999999995E-8,null,null,null,null,null,null,-3.6592E-6,-1.0345506E-3,1.0240956264000001,null,null,null,null,6.1532,52.234999999999999,570.62,-9.9999999999999995E-8]
["V13-C","65E","C",2001,"BXRE",{"$f":"MasterTable[[#This Row],[Product Family]]&\"-\"&MasterTable[[#This Row],[CCT/CRI]]&MasterTable[[#This Row],[Arrangement]]","v":"V13-C-65EC"},{"$f":"MasterTable[[#This Row],[Generation]]&\"-\"&MasterTable[[#This Row],[CCT/CRI]]&IF(MasterTable[[#This Row],[Lumen Family]]<999,\"0\"&MasterTable[[#This Row],[Lumen Family]],MasterTable[[#This Row],[Lumen Family]])&\"-\"&MasterTable[[#This Row],[Arrangement]]&\"-xx\"","v":"BXRE-65E2001-C-xx"},3765.5099999999998,{"$f":"MasterTable[[#This Row],[Typical Lumens]]/(MasterTable[[#This Row],[Typical Voltage]]*MasterTable[[#This Row],[Typical Current]]/1000)","v":171.75287356321837},0.19873333333333335,34.799999999999997,630,1260,84,null,null,-8.9999999999999996E-7,5.7999999999999996E-3,31.425999999999998,3.4563999999999997E-11,-2.7854E-7,1.7515E-3,-9.9999999999999995E-8,null,null,null,null,null,null,-3.6592E-6,-1.0345506E-3,1.0240956264000001,null,null,null,null,6.1532,52.234999999999999,570.62,-9.9999999999999995E-8]
["V18-B","30E","B",4000,"BXRE",{"$f":"MasterTable[[#This Row],[Product Family]]&\"-\"&MasterTable[[#This Row],[CCT/CRI]]&MasterTable[[#This Row],[Arrangement]]","v":"V18-B-30EB"},{"$f":"MasterTable[[#This Row],[Generation]]&\"-\"&MasterTable[[#This Row],[CCT/CRI]]&IF(MasterTable[[#This Row],[Lumen Family]]<999,\"0\"&MasterTable[[#This Row],[Lumen Family]],MasterTable[[#This Row],[Lumen Family]])&\"-\"&MasterTable[[#This Row],[Arrangement]]&\"-xx\"","v":"BXRE-30E4000-B-xx"},5324.4,{"$f":"MasterTable[[#This Row],[Typical Lumens]]/(MasterTable[[#This Row],[Typical Voltage]]*MasterTable[[#This Row],[Typical Current]]/1000)","v":170},0.15453333333333333,34.799999999999997,900,1800,120,null,1E-10,-6.7599999999999997E-7,4.2656252000000004E-3,31.571639686699999,1.1471000000000001E-11,-1.3314000000000001E-7,1.2281E-3,-9.9999999999999995E-8,null,null,null,null,null,null,-3.6592E-6,-1.0345506E-3,1.0240956264000001,null,null,null,null,7.7328999999999999,73.245000000000005,813.42,-9.9999999999999995E-8]
["V18-B","17E","B",4000,"BXRE",{"$f":"MasterTable[[#This Row],[Product Family]]&\"-\"&MasterTable[[#This Row],[CCT/CRI]]&MasterTable[[#This Row],[Arrangement]]","v":"V18-B-17EB"},{"$f":"MasterTable[[#This Row],[Generation]]&\"-\"&MasterTable[[#This Row],[CCT/CRI]]&IF(MasterTable[[#This Row],[Lumen Family]]<999,\"0\"&MasterTable[[#This Row],[Lumen Family]],MasterTable[[#This Row],[Lumen Family]])&\"-\"&MasterTable[[#This Row],[Arrangement]]&\"-xx\"","v":"BXRE-17E4000-B-xx"},2881.4399999999996,{"$f":"MasterTable[[#This Row],[Typical Lumens]]/(MasterTable[[#This Row],[Typical Voltage]]*MasterTable[[#This Row],[Typical Current]]/1000)","v":92},0.15453333333333333,34.799999999999997,900,{"$f":"L321*2","v":1800},120,null,1E-10,-6.7599999999999997E-7,4.2656252000000004E-3,31.571639686699999,1.1471000000000001E-11,-1.3314000000000001E-7,1.2281E-3,-9.9999999999999995E-8,null,null,null,null,null,null,-3.6592E-6,-1.0345506E-3,1.0240956264000001,null,null,null,null,7.7328999999999999,73.245000000000005,813.42,-9.9999999999999995E-8]
["V18-B","25E","B",4000,"BXRE",{"$f":"MasterTable[[#This Row],[Product Family]]&\"-\"&MasterTable[[#This Row],[CCT/CRI]]&MasterTable[[#This Row],[Arrangement]]","v":"V18-B-25EB"},{"$f":"MasterTable[[#This Row],[Generation]]&\"-\"&MasterTable[[#This Row],[CCT/CRI]]&IF(MasterTable[[#This Row],[Lumen Family]]<999,\"0\"&MasterTable[[#This Row],[Lumen Family]],MasterTable[[#This Row],[Lumen Family]])&\"-\"&MasterTable[[#This Row],[Arrangement]]&\"-xx\"","v":"BXRE-25E4000-B-xx"},4791.9599999999991,{"$f":"MasterTable[[#This Row],[Typical Lumens]]/(MasterTable[[#This Row],[Typical Voltage]]*MasterTable[[#This Row],[Typical Current]]/1000)","v":153},0.15453333333333333,34.799999999999997,900,1800,120,null,1E-10,-6.7599999999999997E-7,4.2656252000000004E-3,31.571639686699999,1.1471000000000001E-11,-1.3314000000000001E-7,1.2281E-3,-9.9999999999999995E-8,null,null,null,null,null,null,-3.6592E-6,-1.0345506E-3,1.0240956264000001,null,null,null,null,7.7328999999999999,73.245000000000005,813.42,-9.9999999999999995E-8]
["V18-B","27E","B",4000,"BXRE",{"$f":"MasterTable[[#This Row],[Product Family]]&\"-\"&MasterTable[[#This Row],[CCT/CRI]]&MasterTable[[#This Row],[Arrangement]]","v":"V18-B-27EB"},{"$f":"MasterTable[[#This Row],[Generation]]&\"-\"&MasterTable[[#This Row],[CCT/CRI]]&IF(MasterTable[[#This Row],[Lumen Family]]<999,\"0\"&MasterTable[[#This Row],[Lumen Family]],MasterTable[[#This Row],[Lumen Family]])&\"-\"&MasterTable[[#This Row],[Arrangement]]&\"-xx\"","v":"BXRE-27E4000-B-xx"},5011.2,{"$f":"MasterTable[[#This Row],[Typical Lumens]]/(MasterTable[[#This Row],[Typical Voltage]]*MasterTable[[#This Row],[Typical Current]]/1000)","v":160},0.15453333333333333,34.799999999999997,900,1800,120,null,1E-10,-6.7599999999999997E-7,4.2656252000000004E-3,31.571639686699999,1.1471000000000001E-11,-1.3314000000000001E-7,1.2281E-3,-9.9999999999999995E-8,null,null,null,null,null,null,-3.6592E-6,-1.0345506E-3,1.0240956264000001,null,null,null,null,7.7328999999999999,73.245000000000005,813.42,-9.9999999999999995E-8]
["V18-B","27G","B",4000,"BXRE",{"$f":"MasterTable[[#This Row],[Product Family]]&\"-\"&MasterTable[[#This Row],[CCT/CRI]]&MasterTable[[#This Row],[Arrangement]]","v":"V18-B-27GB"},{"$f":"MasterTable[[#This Row],[Generation]]&\"-\"&MasterTable[[#This Row],[CCT/CRI]]&IF(MasterTable[[#This Row],[Lumen Family]]<999,\"0\"&MasterTable[[#This Row],[Lumen Family]],MasterTable[[#This Row],[Lumen Family]])&\"-\"&MasterTable[[#This Row],[Arrangement]]&\"-xx\"","v":"BXRE-27G4000-B-xx"},4134,{"$f":"MasterTable[[#This Row],[Typical Lumens]]/(MasterTable[[#This Row],[Typical Voltage]]*MasterTable[[#This Row],[Typical Current]]/1000)","v":131.99233716475098},0.15453333333333333,34.799999999999997,900,1800,120,null,1E-10,-6.7599999999999997E-7,4.2656252000000004E-3,31.571639686699999,1.1471000000000001E-11,-1.3314000000000001E-7,1.2281E-3,-9.9999999999999995E-8,null,null,null,null,null,null,-3.6592E-6,-1.0345506E-3,1.0240956264000001,null,null,null,null,7.7328999999999999,73.245000000000005,813.42,-9.9999999999999995E-8,null,"y = 107.83x2 + 768.22x + 14.704"]
["V18-B","27H","B",4000,"BXRE",{"$f":"MasterTable[[#This Row],[Product Family]]&\"-\"&MasterTable[[#This Row],[CCT/CRI]]&MasterTable[[#This Row],[Arrangement]]","v":"V18-B-27HB"},{"$f":"MasterTable[[#This Row],[Generation]]&\"-\"&MasterTable[[#This Row],[CCT/CRI]]&IF(MasterTable[[#This Row],[Lumen Family]]<999,\"0\"&MasterTable[[#This Row],[Lumen Family]],MasterTable[[#This Row],[Lumen Family]])&\"-\"&MasterTable[[#This Row],[Arrangement]]&\"-xx\"","v":"BXRE-27H4000-B-xx"},3664.4399999999996,{"$f":"MasterTable[[#This Row],[Typical Lumens]]/(MasterTable[[#This Row],[Typical Voltage]]*MasterTable[[#This Row],[Typical Current]]/1000)","v":117},0.15453333333333333,34.799999999999997,900,1800,120,null,1E-10,-6.7599999999999997E-7,4.2656252000000004E-3,31.571639686699999,1.1471000000000001E-11,-1.3314000000000001E-7,1.2281E-3,-9.9999999999999995E-8,null,null,null,null,null,null,-3.6592E-6,-1.0345506E-3,1.0240956264000001,null,null,null,null,7.7328999999999999,73.245000000000005,813.42,-9.9999999999999995E-8]
["V18-B","27G-H","B","40H0","BXRE",{"$f":"MasterTable[[#This Row],[Product Family]]&\"-\"&MasterTable[[#This Row],[CCT/CRI]]&MasterTable[[#This Row],[Arrangement]]","v":"V18-B-27G-HB"},"BXRE-27G-40H0-B-xx",4291,{"$f":"MasterTable[[#This Row],[Typical Lumens]]/(MasterTable[[#This Row],[Typical Voltage]]*MasterTable[[#This Row],[Typical Current]]/1000)","v":137.00510855683271},0.15453333333333333,34.799999999999997,900,{"$f":"L326*2","v":1800},121,null,1E-10,-6.7599999999999997E-7,4.2656252000000004E-3,31.571639686699999,1.1471000000000001E-11,-1.3314000000000001E-7,1.2281E-3,-9.9999999999999995E-8,null,null,null,null,null,null,-3.6592E-6,-1.0345506E-3,1.0240956264000001,null,null,null,null,7.7328999999999999,73.245000000000005,813.42,-9.9999999999999995E-8]
["V18-B","30G-H","B","40H0","BXRE",{"$f":"MasterTable[[#This Row],[Product Family]]&\"-\"&MasterTable[[#This Row],[CCT/CRI]]&MasterTable[[#This Row],[Arrangement]]","v":"V18-B-30G-HB"},"BXRE-30G-40H0-B-xx",4510,{"$f":"MasterTable[[#This Row],[Typical Lumens]]/(MasterTable[[#This Row],[Typical Voltage]]*MasterTable[[#This Row],[Typical Current]]/1000)","v":143.99744572158366},0.15453333333333333,34.799999999999997,900,1800,122,null,1E-10,-6.7599999999999997E-7,4.2656252000000004E-3,31.571639686699999,1.1471000000000001E-11,-1.3314000000000001E-7,1.2281E-3,-9.9999999999999995E-8,null,null,null,null,null,null,-3.6592E-6,-1.0345506E-3,1.0240956264000001,null,null,null,null,7.7328999999999999,73.245000000000005,813.42,-9.9999999999999995E-8]
["V18-B","30C","B",4001,"BXRE",{"$f":"MasterTable[[#This Row],[Product Family]]&\"-\"&MasterTable[[#This Row],[CCT/CRI]]&MasterTable[[#This Row],[Arrangement]]","v":"V18-B-30CB"},{"$f":"MasterTable[[#This Row],[Generation]]&\"-\"&MasterTable[[#This Row],[CCT/CRI]]&IF(MasterTable[[#This Row],[Lumen Family]]<999,\"0\"&MasterTable[[#This Row],[Lumen Family]],MasterTable[[#This Row],[Lumen Family]])&\"-\"&MasterTable[[#This Row],[Arrangement]]&\"-xx\"","v":"BXRE-30C4001-B-xx"},5575,{"$f":"MasterTable[[#This Row],[Typical Lumens]]/(MasterTable[[#This Row],[Typical Voltage]]*MasterTable[[#This Row],[Typical Current]]/1000)","v":178.00127713920818},0.15453333333333333,34.799999999999997,900,{"$f":"L328*2","v":1800},122,null,1E-10,-6.7599999999999997E-7,4.2656252000000004E-3,31.571639686699999,1.1471000000000001E-11,-1.3314000000000001E-7,1.2281E-3,-9.9999999999999995E-8,null,null,null,null,null,null,-3.6592E-6,-1.0345506E-3,1.0240956264000001,null,null,null,null,7.7328999999999999,73.245000000000005,813.42,-9.9999999999999995E-8]
["V18-B","30G","B",4000,"BXRE",{"$f":"MasterTable[[#This Row],[Product Family]]&\"-\"&MasterTable[[#This Row],[CCT/CRI]]&MasterTable[[#This Row],[Arrangement]]","v":"V18-B-30GB"},{"$f":"MasterTable[[#This Row],[Generation]]&\"-\"&MasterTable[[#This Row],[CCT/CRI]]&IF(MasterTable[[#This Row],[Lumen Family]]<999,\"0\"&MasterTable[[#This Row],[Lumen Family]],MasterTable[[#This Row],[Lumen Family]])&\"-\"&MasterTable[[#This Row],[Arrangement]]&\"-xx\"","v":"BXRE-30G4000-B-xx"},4322,{"$f":"MasterTable[[#This Row],[Typical Lumens]]/(MasterTable[[#This Row],[Typical Voltage]]*MasterTable[[#This Row],[Typical Current]]/1000)","v":137.99489144316732},0.15453333333333333,34.799999999999997,900,1800,120,null,1E-10,-6.7599999999999997E-7,4.2656252000000004E-3,31.571639686699999,1.1471000000000001E-11,-1.3314000000000001E-7,1.2281E-3,-9.9999999999999995E-8,null,null,null,null,null,null,-3.6592E-6,-1.0345506E-3,1.0240956264000001,null,null,null,null,7.7328999999999999,73.245000000000005,813.42,-9.9999999999999995E-8]
["V18-B","30G-C","B","400C","BXRE",{"$f":"MasterTable[[#This Row],[Product Family]]&\"-\"&MasterTable[[#This Row],[CCT/CRI]]&MasterTable[[#This Row],[Arrangement]]","v":"V18-B-30G-CB"},"BXRE-30G400C-B-xx",4176.2,{"$f":"MasterTable[[#This Row],[Typical Lumens]]/(MasterTable[[#This Row],[Typical Voltage]]*MasterTable[[#This Row],[Typical Current]]/1000)","v":133.33971902937421},0.15453333333333333,34.799999999999997,900,{"$f":"L330*2","v":1800},120,null,1E-10,-6.7599999999999997E-7,4.2656252000000004E-3,31.571639686699999,1.1471000000000001E-11,-1.3314000000000001E-7,1.2281E-3,-9.9999999999999995E-8,null,null,null,null,null,null,-3.6592E-6,-1.0345506E-3,1.0240956264000001,null,null,null,null,7.7328999999999999,73.245000000000005,813.42,-9.9999999999999995E-8]
["V18-B","30H","B",4000,"BXRE",{"$f":"MasterTable[[#This Row],[Product Family]]&\"-\"&MasterTable[[#This Row],[CCT/CRI]]&MasterTable[[#This Row],[Arrangement]]","v":"V18-B-30HB"},{"$f":"MasterTable[[#This Row],[Generation]]&\"-\"&MasterTable[[#This Row],[CCT/CRI]]&IF(MasterTable[[#This Row],[Lumen Family]]<999,\"0\"&MasterTable[[#This Row],[Lumen Family]],MasterTable[[#This Row],[Lumen Family]])&\"-\"&MasterTable[[#This Row],[Arrangement]]&\"-xx\"","v":"BXRE-30H4000-B-xx"},3914.9999999999995,{"$f":"MasterTable[[#This Row],[Typical Lumens]]/(MasterTable[[#This Row],[Typical Voltage]]*MasterTable[[#This Row],[Typical Current]]/1000)","v":125},0.15453333333333333,34.799999999999997,900,1800,120,null,1E-10,-6.7599999999999997E-7,4.2656252000000004E-3,31.571639686699999,1.1471000000000001E-11,-1.3314000000000001E-7,1.2281E-3,-9.9999999999999995E-8,null,null,null,null,null,null,-3.6592E-6,-1.0345506E-3,1.0240956264000001,null,null,null,null,7.7328999999999999,73.245000000000005,813.42,-9.9999999999999995E-8]
["V18-B","35E","B",4000,"BXRE",{"$f":"MasterTable[[#This Row],[Product Family]]&\"-\"&MasterTable[[#This Row],[CCT/CRI]]&MasterTable[[#This Row],[Arrangement]]","v":"V18-B-35EB"},{"$f":"MasterTable[[#This Row],[Generation]]&\"-\"&MasterTable[[#This Row],[CCT/CRI]]&IF(MasterTable[[#This Row],[Lumen Family]]<999,\"0\"&MasterTable[[#This Row],[Lumen Family]],MasterTable[[#This Row],[Lumen Family]])&\"-\"&MasterTable[[#This Row],[Arrangement]]&\"-xx\"","v":"BXRE-35E4000-B-xx"},5449.6799999999994,{"$f":"MasterTable[[#This Row],[Typical Lumens]]/(MasterTable[[#This Row],[Typical Voltage]]*MasterTable[[#This Row],[Typical Current]]/1000)","v":174},0.15453333333333333,34.799999999999997,900,1800,120,null,1E-10,-6.7599999999999997E-7,4.2656252000000004E-3,31.571639686699999,1.1471000000000001E-11,-1.3314000000000001E-7,1.2281E-3,-9.9999999999999995E-8,null,null,null,null,null,null,-3.6592E-6,-1.0345506E-3,1.0240956264000001,null,null,null,null,7.7328999999999999,73.245000000000005,813.42,-9.9999999999999995E-8]
["V18-B","35G","B",4000,"BXRE",{"$f":"MasterTable[[#This Row],[Product Family]]&\"-\"&MasterTable[[#This Row],[CCT/CRI]]&MasterTable[[#This Row],[Arrangement]]","v":"V18-B-35GB"},{"$f":"MasterTable[[#This Row],[Generation]]&\"-\"&MasterTable[[#This Row],[CCT/CRI]]&IF(MasterTable[[#This Row],[Lumen Family]]<999,\"0\"&MasterTable[[#This Row],[Lumen Family]],MasterTable[[#This Row],[Lumen Family]])&\"-\"&MasterTable[[#This Row],[Arrangement]]&\"-xx\"","v":"BXRE-35G4000-B-xx"},4478.7599999999993,{"$f":"MasterTable[[#This Row],[Typical Lumens]]/(MasterTable[[#This Row],[Typical Voltage]]*MasterTable[[#This Row],[Typical Current]]/1000)","v":143},0.15453333333333333,34.799999999999997,900,1800,120,null,1E-10,-6.7599999999999997E-7,4.2656252000000004E-3,31.571639686699999,1.1471000000000001E-11,-1.3314000000000001E-7,1.2281E-3,-9.9999999999999995E-8,null,null,null,null,null,null,-3.6592E-6,-1.0345506E-3,1.0240956264000001,null,null,null,null,7.7328999999999999,73.245000000000005,813.42,-9.9999999999999995E-8]
["V18-B","35A","B",4001,"BXRE",{"$f":"MasterTable[[#This Row],[Product Family]]&\"-\"&MasterTable[[#This Row],[CCT/CRI]]&MasterTable[[#This Row],[Arrangement]]","v":"V18-B-35AB"},{"$f":"MasterTable[[#This Row],[Generation]]&\"-\"&MasterTable[[#This Row],[CCT/CRI]]&IF(MasterTable[[#This Row],[Lumen Family]]<999,\"0\"&MasterTable[[#This Row],[Lumen Family]],MasterTable[[#This Row],[Lumen Family]])&\"-\"&MasterTable[[#This Row],[Arrangement]]&\"-xx\"","v":"BXRE-35A4001-B-xx"},4134.24,{"$f":"MasterTable[[#This Row],[Typical Lumens]]/(MasterTable[[#This Row],[Typical Voltage]]*MasterTable[[#This Row],[Typical Current]]/1000)","v":132},0.15453333333333333,34.799999999999997,900,1800,120,null,1E-10,-6.7599999999999997E-7,4.2656252000000004E-3,31.571639686699999,1.1471000000000001E-11,-1.3314000000000001E-7,1.2281E-3,-9.9999999999999995E-8,null,null,null,null,null,null,-3.6592E-6,-1.0345506E-3,1.0240956264000001,null,null,null,null,7.7328999999999999,73.245000000000005,813.42,-9.9999999999999995E-8]
["V18-B","40C","B",4001,"BXRE",{"$f":"MasterTable[[#This Row],[Product Family]]&\"-\"&MasterTable[[#This Row],[CCT/CRI]]&MasterTable[[#This Row],[Arrangement]]","v":"V18-B-40CB"},{"$f":"MasterTable[[#This Row],[Generation]]&\"-\"&MasterTable[[#This Row],[CCT/CRI]]&IF(MasterTable[[#This Row],[Lumen Family]]<999,\"0\"&MasterTable[[#This Row],[Lumen Family]],MasterTable[[#This Row],[Lumen Family]])&\"-\"&MasterTable[[#This Row],[Arrangement]]&\"-xx\"","v":"BXRE-40C4001-B-xx"},5732,{"$f":"MasterTable[[#This Row],[Typical Lumens]]/(MasterTable[[#This Row],[Typical Voltage]]*MasterTable[[#This Row],[Typical Current]]/1000)","v":183.01404853128992},0.15453333333333333,34.799999999999997,900,{"$f":"L335*2","v":1800},120,null,1E-10,-6.7599999999999997E-7,4.2656252000000004E-3,31.571639686699999,1.1471000000000001E-11,-1.3314000000000001E-7,1.2281E-3,-9.9999999999999995E-8,null,null,null,null,null,null,-3.6592E-6,-1.0345506E-3,1.0240956264000001,null,null,null,null,7.7328999999999999,73.245000000000005,813.42,-9.9999999999999995E-8]
["V18-B","40E","B",4000,"BXRE",{"$f":"MasterTable[[#This Row],[Product Family]]&\"-\"&MasterTable[[#This Row],[CCT/CRI]]&MasterTable[[#This Row],[Arrangement]]","v":"V18-B-40EB"},{"$f":"MasterTable[[#This Row],[Generation]]&\"-\"&MasterTable[[#This Row],[CCT/CRI]]&IF(MasterTable[[#This Row],[Lumen Family]]<999,\"0\"&MasterTable[[#This Row],[Lumen Family]],MasterTable[[#This Row],[Lumen Family]])&\"-\"&MasterTable[[#This Row],[Arrangement]]&\"-xx\"","v":"BXRE-40E4000-B-xx"},5480.9999999999991,{"$f":"MasterTable[[#This Row],[Typical Lumens]]/(MasterTable[[#This Row],[Typical Voltage]]*MasterTable[[#This Row],[Typical Current]]/1000)","v":175},0.15453333333333333,34.799999999999997,900,{"$f":"L336*2","v":1800},120,null,1E-10,-6.7599999999999997E-7,4.2656252000000004E-3,31.571639686699999,1.1471000000000001E-11,-1.3314000000000001E-7,1.2281E-3,-9.9999999999999995E-8,null,null,null,null,null,null,-3.6592E-6,-1.0345506E-3,1.0240956264000001,null,null,null,null,7.7328999999999999,73.245000000000005,813.42,-9.9999999999999995E-8]
["V18-B","40G","B",4000,"BXRE",{"$f":"MasterTable[[#This Row],[Product Family]]&\"-\"&MasterTable[[#This Row],[CCT/CRI]]&MasterTable[[#This Row],[Arrangement]]","v":"V18-B-40GB"},{"$f":"MasterTable[[#This Row],[Generation]]&\"-\"&MasterTable[[#This Row],[CCT/CRI]]&IF(MasterTable[[#This Row],[Lumen Family]]<999,\"0\"&MasterTable[[#This Row],[Lumen Family]],MasterTable[[#This Row],[Lumen Family]])&\"-\"&MasterTable[[#This Row],[Arrangement]]&\"-xx\"","v":"BXRE-40G4000-B-xx"},4572.7199999999993,{"$f":"MasterTable[[#This Row],[Typical Lumens]]/(MasterTable[[#This Row],[Typical Voltage]]*MasterTable[[#This Row],[Typical Current]]/1000)","v":146},0.15453333333333333,34.799999999999997,900,1800,120,null,1E-10,-6.7599999999999997E-7,4.2656252000000004E-3,31.571639686699999,1.1471000000000001E-11,-1.3314000000000001E-7,1.2281E-3,-9.9999999999999995E-8,null,null,null,null,null,null,-3.6592E-6,-1.0345506E-3,1.0240956264000001,null,null,null,null,7.7328999999999999,73.245000000000005,813.42,-9.9999999999999995E-8]
["V18-B","50C","B",4001,"BXRE",{"$f":"MasterTable[[#This Row],[Product Family]]&\"-\"&MasterTable[[#This Row],[CCT/CRI]]&MasterTable[[#This Row],[Arrangement]]","v":"V18-B-50CB"},{"$f":"MasterTable[[#This Row],[Generation]]&\"-\"&MasterTable[[#This Row],[CCT/CRI]]&IF(MasterTable[[#This Row],[Lumen Family]]<999,\"0\"&MasterTable[[#This Row],[Lumen Family]],MasterTable[[#This Row],[Lumen Family]])&\"-\"&MasterTable[[#This Row],[Arrangement]]&\"-xx\"","v":"BXRE-50C4001-B-xx"},5762.8799999999992,{"$f":"MasterTable[[#This Row],[Typical Lumens]]/(MasterTable[[#This Row],[Typical Voltage]]*MasterTable[[#This Row],[Typical Current]]/1000)","v":184},0.15453333333333333,34.799999999999997,900,1800,120,null,1E-10,-6.7599999999999997E-7,4.2656252000000004E-3,31.571639686699999,1.1471000000000001E-11,-1.3314000000000001E-7,1.2281E-3,-9.9999999999999995E-8,null,null,null,null,null,null,-3.6592E-6,-1.0345506E-3,1.0240956264000001,null,null,null,null,7.7328999999999999,73.245000000000005,813.42,-9.9999999999999995E-8]
["V18-B","50E","B",4001,"BXRE",{"$f":"MasterTable[[#This Row],[Product Family]]&\"-\"&MasterTable[[#This Row],[CCT/CRI]]&MasterTable[[#This Row],[Arrangement]]","v":"V18-B-50EB"},{"$f":"MasterTable[[#This Row],[Generation]]&\"-\"&MasterTable[[#This Row],[CCT/CRI]]&IF(MasterTable[[#This Row],[Lumen Family]]<999,\"0\"&MasterTable[[#This Row],[Lumen Family]],MasterTable[[#This Row],[Lumen Family]])&\"-\"&MasterTable[[#This Row],[Arrangement]]&\"-xx\"","v":"BXRE-50E4001-B-xx"},5543.6399999999994,{"$f":"MasterTable[[#This Row],[Typical Lumens]]/(MasterTable[[#This Row],[Typical Voltage]]*MasterTable[[#This Row],[Typical Current]]/1000)","v":177},0.15453333333333333,34.799999999999997,900,1800,120,null,1E-10,-6.7599999999999997E-7,4.2656252000000004E-3,31.571639686699999,1.1471000000000001E-11,-1.3314000000000001E-7,1.2281E-3,-9.9999999999999995E-8,null,null,null,null,null,null,-3.6592E-6,-1.0345506E-3,1.0240956264000001,null,null,null,null,7.7328999999999999,73.245000000000005,813.42,-9.9999999999999995E-8]
["V18-B","50G","B",4001,"BXRE",{"$f":"MasterTable[[#This Row],[Product Family]]&\"-\"&MasterTable[[#This Row],[CCT/CRI]]&MasterTable[[#This Row],[Arrangement]]","v":"V18-B-50GB"},{"$f":"MasterTable[[#This Row],[Generation]]&\"-\"&MasterTable[[#This Row],[CCT/CRI]]&IF(MasterTable[[#This Row],[Lumen Family]]<999,\"0\"&MasterTable[[#This Row],[Lumen Family]],MasterTable[[#This Row],[Lumen Family]])&\"-\"&MasterTable[[#This Row],[Arrangement]]&\"-xx\"","v":"BXRE-50G4001-B-xx"},4791.9599999999991,{"$f":"MasterTable[[#This Row],[Typical Lumens]]/(MasterTable[[#This Row],[Typical Voltage]]*MasterTable[[#This Row],[Typical Current]]/1000)","v":153},0.15453333333333333,34.799999999999997,900,1800,120,null,1E-10,-6.7599999999999997E-7,4.2656252000000004E-3,31.571639686699999,1.1471000000000001E-11,-1.3314000000000001E-7,1.2281E-3,-9.9999999999999995E-8,null,null,null,null,null,null,-3.6592E-6,-1.0345506E-3,1.0240956264000001,null,null,null,null,7.7328999999999999,73.245000000000005,813.42,-9.9999999999999995E-8]
["V18-B","57C","B",4001,"BXRE",{"$f":"MasterTable[[#This Row],[Product Family]]&\"-\"&MasterTable[[#This Row],[CCT/CRI]]&MasterTable[[#This Row],[Arrangement]]","v":"V18-B-57CB"},{"$f":"MasterTable[[#This Row],[Generation]]&\"-\"&MasterTable[[#This Row],[CCT/CRI]]&IF(MasterTable[[#This Row],[Lumen Family]]<999,\"0\"&MasterTable[[#This Row],[Lumen Family]],MasterTable[[#This Row],[Lumen Family]])&\"-\"&MasterTable[[#This Row],[Arrangement]]&\"-xx\"","v":"BXRE-57C4001-B-xx"},5606.28,{"$f":"MasterTable[[#This Row],[Typical Lumens]]/(MasterTable[[#This Row],[Typical Voltage]]*MasterTable[[#This Row],[Typical Current]]/1000)","v":179},0.15453333333333333,34.799999999999997,900,1800,120,null,1E-10,-6.7599999999999997E-7,4.2656252000000004E-3,31.571639686699999,1.1471000000000001E-11,-1.3314000000000001E-7,1.2281E-3,-9.9999999999999995E-8,null,null,null,null,null,null,-3.6592E-6,-1.0345506E-3,1.0240956264000001,null,null,null,null,7.7328999999999999,73.245000000000005,813.42,-9.9999999999999995E-8]
["V18-B","57E","B",4001,"BXRE",{"$f":"MasterTable[[#This Row],[Product Family]]&\"-\"&MasterTable[[#This Row],[CCT/CRI]]&MasterTable[[#This Row],[Arrangement]]","v":"V18-B-57EB"},{"$f":"MasterTable[[#This Row],[Generation]]&\"-\"&MasterTable[[#This Row],[CCT/CRI]]&IF(MasterTable[[#This Row],[Lumen Family]]<999,\"0\"&MasterTable[[#This Row],[Lumen Family]],MasterTable[[#This Row],[Lumen Family]])&\"-\"&MasterTable[[#This Row],[Arrangement]]&\"-xx\"","v":"BXRE-57E4001-B-xx"},5324.4,{"$f":"MasterTable[[#This Row],[Typical Lumens]]/(MasterTable[[#This Row],[Typical Voltage]]*MasterTable[[#This Row],[Typical Current]]/1000)","v":170},0.15453333333333333,34.799999999999997,900,1800,120,null,1E-10,-6.7599999999999997E-7,4.2656252000000004E-3,31.571639686699999,1.1471000000000001E-11,-1.3314000000000001E-7,1.2281E-3,-9.9999999999999995E-8,null,null,null,null,null,null,-3.6592E-6,-1.0345506E-3,1.0240956264000001,null,null,null,null,7.7328999999999999,73.245000000000005,813.42,-9.9999999999999995E-8]
["V18-B","65C","B",4001,"BXRE",{"$f":"MasterTable[[#This Row],[Product Family]]&\"-\"&MasterTable[[#This Row],[CCT/CRI]]&MasterTable[[#This Row],[Arrangement]]","v":"V18-B-65CB"},{"$f":"MasterTable[[#This Row],[Generation]]&\"-\"&MasterTable[[#This Row],[CCT/CRI]]&IF(MasterTable[[#This Row],[Lumen Family]]<999,\"0\"&MasterTable[[#This Row],[Lumen Family]],MasterTable[[#This Row],[Lumen Family]])&\"-\"&MasterTable[[#This Row],[Arrangement]]&\"-xx\"","v":"BXRE-65C4001-B-xx"},5606.28,{"$f":"MasterTable[[#This Row],[Typical Lumens]]/(MasterTable[[#This Row],[Typical Voltage]]*MasterTable[[#This Row],[Typical Current]]/1000)","v":179},0.15453333333333333,34.799999999999997,900,1800,120,null,1E-10,-6.7599999999999997E-7,4.2656252000000004E-3,31.571639686699999,1.1471000000000001E-11,-1.3314000000000001E-7,1.2281E-3,-9.9999999999999995E-8,null,null,null,null,null,null,-3.6592E-6,-1.0345506E-3,1.0240956264000001,null,null,null,null,7.7328999999999999,73.245000000000005,813.42,-9.9999999999999995E-8]
["V18-B","65E","B",4001,"BXRE",{"$f":"MasterTable[[#This Row],[Product Family]]&\"-\"&MasterTable[[#This Row],[CCT/CRI]]&MasterTable[[#This Row],[Arrangement]]","v":"V18-B-65EB"},{"$f":"MasterTable[[#This Row],[Generation]]&\"-\"&MasterTable[[#This Row],[CCT/CRI]]&IF(MasterTable[[#This Row],[Lumen Family]]<999,\"0\"&MasterTable[[#This Row],[Lumen Family]],MasterTable[[#This Row],[Lumen Family]])&\"-\"&MasterTable[[#This Row],[Arrangement]]&\"-xx\"","v":"BXRE-65E4001-B-xx"},5387.0399999999991,{"$f":"MasterTable[[#This Row],[Typical Lumens]]/(MasterTable[[#This Row],[Typical Voltage]]*MasterTable[[#This Row],[Typical Current]]/1000)","v":172},0.15453333333333333,34.799999999999997,900,1800,120,null,1E-10,-6.7599999999999997E-7,4.2656252000000004E-3,31.571639686699999,1.1471000000000001E-11,-1.3314000000000001E-7,1.2281E-3,-9.9999999999999995E-8,null,null,null,null,null,null,-3.6592E-6,-1.0345506E-3,1.0240956264000001,null,null,null,null,7.7328999999999999,73.245000000000005,813.42,-9.9999999999999995E-8]
["V18-C","30E","C",4000,"BXRE",{"$f":"MasterTable[[#This Row],[Product Family]]&\"-\"&MasterTable[[#This Row],[CCT/CRI]]&MasterTable[[#This Row],[Arrangement]]","v":"V18-C-30EC"},{"$f":"MasterTable[[#This Row],[Generation]]&\"-\"&MasterTable[[#This Row],[CCT/CRI]]&IF(MasterTable[[#This Row],[Lumen Family]]<999,\"0\"&MasterTable[[#This Row],[Lumen Family]],MasterTable[[#This Row],[Lumen Family]])&\"-\"&MasterTable[[#This Row],[Arrangement]]&\"-xx\"","v":"BXRE-30E4000-C-xx"},6921.72,{"$f":"MasterTable[[#This Row],[Typical Lumens]]/(MasterTable[[#This Row],[Typical Voltage]]*MasterTable[[#This Row],[Typical Current]]/1000)","v":170},0.11206666666666666,34.799999999999997,1170,2340,156,null,null,-2.9999999999999999E-7,3.3E-3,31.373999999999999,-4.3912E-13,-6.8373E-8,9.2513999999999997E-4,-9.9999999999999995E-8,null,null,null,null,null,null,-3.6592E-6,-1.0345506E-3,1.0240956264000001,null,null,null,null,41.954999999999998,44.468000000000004,1098,-9.9999999999999995E-8]
["V18-C","20B","C",4001,"BXRE",{"$f":"MasterTable[[#This Row],[Product Family]]&\"-\"&MasterTable[[#This Row],[CCT/CRI]]&MasterTable[[#This Row],[Arrangement]]","v":"V18-C-20BC"},{"$f":"MasterTable[[#This Row],[Generation]]&\"-\"&MasterTable[[#This Row],[CCT/CRI]]&IF(MasterTable[[#This Row],[Lumen Family]]<999,\"0\"&MasterTable[[#This Row],[Lumen Family]],MasterTable[[#This Row],[Lumen Family]])&\"-\"&MasterTable[[#This Row],[Arrangement]]&\"-xx\"","v":"BXRE-20B4001-C-xx"},6392.4120000000003,{"$f":"MasterTable[[#This Row],[Typical Lumens]]/(MasterTable[[#This Row],[Typical Voltage]]*MasterTable[[#This Row],[Typical Current]]/1000)","v":157},0.11206666699999999,34.799999999999997,1170,{"$f":"L346*2","v":2340},156,null,null,-2.9999999999999999E-7,3.3E-3,31.373999999999999,-4.3912E-13,-6.8373E-8,9.2513999999999997E-4,-9.9999999999999995E-8,null,null,null,null,null,null,-3.6592E-6,-1.0345506E-3,1.0240956264000001,null,null,null,null,41.954999999999998,44.468000000000004,1098,-9.9999999999999995E-8]
["V18-C","27E","C",4000,"BXRE",{"$f":"MasterTable[[#This Row],[Product Family]]&\"-\"&MasterTable[[#This Row],[CCT/CRI]]&MasterTable[[#This Row],[Arrangement]]","v":"V18-C-27EC"},{"$f":"MasterTable[[#This Row],[Generation]]&\"-\"&MasterTable[[#This Row],[CCT/CRI]]&IF(MasterTable[[#This Row],[Lumen Family]]<999,\"0\"&MasterTable[[#This Row],[Lumen Family]],MasterTable[[#This Row],[Lumen Family]])&\"-\"&MasterTable[[#This Row],[Arrangement]]&\"-xx\"","v":"BXRE-27E4000-C-xx"},6514.56,{"$f":"MasterTable[[#This Row],[Typical Lumens]]/(MasterTable[[#This Row],[Typical Voltage]]*MasterTable[[#This Row],[Typical Current]]/1000)","v":160},0.11206666666666666,34.799999999999997,1170,2340,156,null,null,-2.9999999999999999E-7,3.3E-3,31.373999999999999,-4.3912E-13,-6.8373E-8,9.2513999999999997E-4,-9.9999999999999995E-8,null,null,null,null,null,null,-3.6592E-6,-1.0345506E-3,1.0240956264000001,null,null,null,null,41.954999999999998,44.468000000000004,1098,-9.9999999999999995E-8]
["V18-C","27G","C",4000,"BXRE",{"$f":"MasterTable[[#This Row],[Product Family]]&\"-\"&MasterTable[[#This Row],[CCT/CRI]]&MasterTable[[#This Row],[Arrangement]]","v":"V18-C-27GC"},{"$f":"MasterTable[[#This Row],[Generation]]&\"-\"&MasterTable[[#This Row],[CCT/CRI]]&IF(MasterTable[[#This Row],[Lumen Family]]<999,\"0\"&MasterTable[[#This Row],[Lumen Family]],MasterTable[[#This Row],[Lumen Family]])&\"-\"&MasterTable[[#This Row],[Arrangement]]&\"-xx\"","v":"BXRE-27G4000-C-xx"},5375,{"$f":"MasterTable[[#This Row],[Typical Lumens]]/(MasterTable[[#This Row],[Typical Voltage]]*MasterTable[[#This Row],[Typical Current]]/1000)","v":132.01198546026131},0.11206666666666666,34.799999999999997,1170,2340,156,null,null,-2.9999999999999999E-7,3.3E-3,31.373999999999999,-4.3912E-13,-6.8373E-8,9.2513999999999997E-4,-9.9999999999999995E-8,null,null,null,null,null,null,-3.6592E-6,-1.0345506E-3,1.0240956264000001,null,null,null,null,41.954999999999998,44.468000000000004,1098,-9.9999999999999995E-8]
["V18-C","27S","C",4001,"BXRE",{"$f":"MasterTable[[#This Row],[Product Family]]&\"-\"&MasterTable[[#This Row],[CCT/CRI]]&MasterTable[[#This Row],[Arrangement]]","v":"V18-C-27SC"},{"$f":"MasterTable[[#This Row],[Generation]]&\"-\"&MasterTable[[#This Row],[CCT/CRI]]&IF(MasterTable[[#This Row],[Lumen Family]]<999,\"0\"&MasterTable[[#This Row],[Lumen Family]],MasterTable[[#This Row],[Lumen Family]])&\"-\"&MasterTable[[#This Row],[Arrangement]]&\"-xx\"","v":"BXRE-27S4001-C-xx"},4347,{"$f":"MasterTable[[#This Row],[Typical Lumens]]/(MasterTable[[#This Row],[Typical Voltage]]*MasterTable[[#This Row],[Typical Current]]/1000)","v":108.00536672629697},0.11206666666666666,34.4,1170,{"$f":"L349*2","v":2340},156,null,2.3334000000000001E-11,-6.1592000000000003E-7,3.065E-3,31.6,7.3287999999999992E-12,-7.4558999999999999E-8,9.3061999999999995E-4,-9.9999999999999995E-8,null,null,null,null,null,null,-3.6592E-6,-1.0345506E-3,1.0240956264000001,null,null,null,null,-3.2286999999999999,106.1,1069.4000000000001,-9.9999999999999995E-8]
["V18-C","27G-H","C","40H0","BXRE",{"$f":"MasterTable[[#This Row],[Product Family]]&\"-\"&MasterTable[[#This Row],[CCT/CRI]]&MasterTable[[#This Row],[Arrangement]]","v":"V18-C-27G-HC"},"BXRE-27G-40H0-C-xx",5578,{"$f":"MasterTable[[#This Row],[Typical Lumens]]/(MasterTable[[#This Row],[Typical Voltage]]*MasterTable[[#This Row],[Typical Current]]/1000)","v":136.99774044601631},0.11206666666666666,34.799999999999997,1170,{"$f":"L350*2","v":2340},157,null,null,-2.9999999999999999E-7,3.3E-3,31.373999999999999,-4.3912E-13,-6.8373E-8,9.2513999999999997E-4,-9.9999999999999995E-8,null,null,null,null,null,null,-3.6592E-6,-1.0345506E-3,1.0240956264000001,null,null,null,null,41.954999999999998,44.468000000000004,1098,-9.9999999999999995E-8]
["V18-C","30G-H","C","40H0","BXRE",{"$f":"MasterTable[[#This Row],[Product Family]]&\"-\"&MasterTable[[#This Row],[CCT/CRI]]&MasterTable[[#This Row],[Arrangement]]","v":"V18-C-30G-HC"},"BXRE-30G-40H0-C-xx",5863,{"$f":"MasterTable[[#This Row],[Typical Lumens]]/(MasterTable[[#This Row],[Typical Voltage]]*MasterTable[[#This Row],[Typical Current]]/1000)","v":143.99744572158366},0.11206666666666666,34.799999999999997,1170,2340,158,null,null,-2.9999999999999999E-7,3.3E-3,31.373999999999999,-4.3912E-13,-6.8373E-8,9.2513999999999997E-4,-9.9999999999999995E-8,null,null,null,null,null,null,-3.6592E-6,-1.0345506E-3,1.0240956264000001,null,null,null,null,41.954999999999998,44.468000000000004,1098,-9.9999999999999995E-8]
["V18-C","30G","C",4000,"BXRE",{"$f":"MasterTable[[#This Row],[Product Family]]&\"-\"&MasterTable[[#This Row],[CCT/CRI]]&MasterTable[[#This Row],[Arrangement]]","v":"V18-C-30GC"},{"$f":"MasterTable[[#This Row],[Generation]]&\"-\"&MasterTable[[#This Row],[CCT/CRI]]&IF(MasterTable[[#This Row],[Lumen Family]]<999,\"0\"&MasterTable[[#This Row],[Lumen Family]],MasterTable[[#This Row],[Lumen Family]])&\"-\"&MasterTable[[#This Row],[Arrangement]]&\"-xx\"","v":"BXRE-30G4000-C-xx"},5619,{"$f":"MasterTable[[#This Row],[Typical Lumens]]/(MasterTable[[#This Row],[Typical Voltage]]*MasterTable[[#This Row],[Typical Current]]/1000)","v":138.00471559092247},0.11206666666666666,34.799999999999997,1170,2340,156,null,null,-2.9999999999999999E-7,3.3E-3,31.373999999999999,-4.3912E-13,-6.8373E-8,9.2513999999999997E-4,-9.9999999999999995E-8,null,null,null,null,null,null,-3.6592E-6,-1.0345506E-3,1.0240956264000001,null,null,null,null,41.954999999999998,44.468000000000004,1098,-9.9999999999999995E-8]
["V18-C","30S","C",4001,"BXRE",{"$f":"MasterTable[[#This Row],[Product Family]]&\"-\"&MasterTable[[#This Row],[CCT/CRI]]&MasterTable[[#This Row],[Arrangement]]","v":"V18-C-30SC"},{"$f":"MasterTable[[#This Row],[Generation]]&\"-\"&MasterTable[[#This Row],[CCT/CRI]]&IF(MasterTable[[#This Row],[Lumen Family]]<999,\"0\"&MasterTable[[#This Row],[Lumen Family]],MasterTable[[#This Row],[Lumen Family]])&\"-\"&MasterTable[[#This Row],[Arrangement]]&\"-xx\"","v":"BXRE-30S4001-C-xx"},4669,{"$f":"MasterTable[[#This Row],[Typical Lumens]]/(MasterTable[[#This Row],[Typical Voltage]]*MasterTable[[#This Row],[Typical Current]]/1000)","v":116.00576426157822},0.11206666666666666,34.4,1170,2340,156,null,2.3334000000000001E-11,-6.1592000000000003E-7,3.065E-3,31.6,7.3287999999999992E-12,-7.4558999999999999E-8,9.3061999999999995E-4,-9.9999999999999995E-8,null,null,null,null,null,null,-3.6592E-6,-1.0345506E-3,1.0240956264000001,null,null,null,null,-3.2286999999999999,106.1,1069.4000000000001,-9.9999999999999995E-8]
["V18-C","30C","C",4001,"BXRE",{"$f":"MasterTable[[#This Row],[Product Family]]&\"-\"&MasterTable[[#This Row],[CCT/CRI]]&MasterTable[[#This Row],[Arrangement]]","v":"V18-C-30CC"},{"$f":"MasterTable[[#This Row],[Generation]]&\"-\"&MasterTable[[#This Row],[CCT/CRI]]&IF(MasterTable[[#This Row],[Lumen Family]]<999,\"0\"&MasterTable[[#This Row],[Lumen Family]],MasterTable[[#This Row],[Lumen Family]])&\"-\"&MasterTable[[#This Row],[Arrangement]]&\"-xx\"","v":"BXRE-30C4001-C-xx"},7247,{"$f":"MasterTable[[#This Row],[Typical Lumens]]/(MasterTable[[#This Row],[Typical Voltage]]*MasterTable[[#This Row],[Typical Current]]/1000)","v":177.98899695451419},0.11206666666666666,34.799999999999997,1170,{"$f":"L354*2","v":2340},156,null,null,-2.9999999999999999E-7,3.3E-3,31.373999999999999,-4.3912E-13,-6.8373E-8,9.2513999999999997E-4,-9.9999999999999995E-8,null,null,null,null,null,null,-3.6592E-6,-1.0345506E-3,1.0240956264000001,null,null,null,null,41.954999999999998,44.468000000000004,1098,-9.9999999999999995E-8]
["V18-C","35E","C",4000,"BXRE",{"$f":"MasterTable[[#This Row],[Product Family]]&\"-\"&MasterTable[[#This Row],[CCT/CRI]]&MasterTable[[#This Row],[Arrangement]]","v":"V18-C-35EC"},{"$f":"MasterTable[[#This Row],[Generation]]&\"-\"&MasterTable[[#This Row],[CCT/CRI]]&IF(MasterTable[[#This Row],[Lumen Family]]<999,\"0\"&MasterTable[[#This Row],[Lumen Family]],MasterTable[[#This Row],[Lumen Family]])&\"-\"&MasterTable[[#This Row],[Arrangement]]&\"-xx\"","v":"BXRE-35E4000-C-xx"},7084.5839999999998,{"$f":"MasterTable[[#This Row],[Typical Lumens]]/(MasterTable[[#This Row],[Typical Voltage]]*MasterTable[[#This Row],[Typical Current]]/1000)","v":174},0.11206666666666666,34.799999999999997,1170,2340,156,null,null,-2.9999999999999999E-7,3.3E-3,31.373999999999999,-4.3912E-13,-6.8373E-8,9.2513999999999997E-4,-9.9999999999999995E-8,null,null,null,null,null,null,-3.6592E-6,-1.0345506E-3,1.0240956264000001,null,null,null,null,41.954999999999998,44.468000000000004,1098,-9.9999999999999995E-8,null,"y = 157.67x2 + 1015.2x + 21.876"]
["V18-C","35G","C",4000,"BXRE",{"$f":"MasterTable[[#This Row],[Product Family]]&\"-\"&MasterTable[[#This Row],[CCT/CRI]]&MasterTable[[#This Row],[Arrangement]]","v":"V18-C-35GC"},{"$f":"MasterTable[[#This Row],[Generation]]&\"-\"&MasterTable[[#This Row],[CCT/CRI]]&IF(MasterTable[[#This Row],[Lumen Family]]<999,\"0\"&MasterTable[[#This Row],[Lumen Family]],MasterTable[[#This Row],[Lumen Family]])&\"-\"&MasterTable[[#This Row],[Arrangement]]&\"-xx\"","v":"BXRE-35G4000-C-xx"},5822.3879999999999,{"$f":"MasterTable[[#This Row],[Typical Lumens]]/(MasterTable[[#This Row],[Typical Voltage]]*MasterTable[[#This Row],[Typical Current]]/1000)","v":143},0.11206666666666666,34.799999999999997,1170,2340,156,null,null,-2.9999999999999999E-7,3.3E-3,31.373999999999999,-4.3912E-13,-6.8373E-8,9.2513999999999997E-4,-9.9999999999999995E-8,null,null,null,null,null,null,-3.6592E-6,-1.0345506E-3,1.0240956264000001,null,null,null,null,41.954999999999998,44.468000000000004,1098,-9.9999999999999995E-8]
["V18-C","35S","C",4001,"BXRE",{"$f":"MasterTable[[#This Row],[Product Family]]&\"-\"&MasterTable[[#This Row],[CCT/CRI]]&MasterTable[[#This Row],[Arrangement]]","v":"V18-C-35SC"},{"$f":"MasterTable[[#This Row],[Generation]]&\"-\"&MasterTable[[#This Row],[CCT/CRI]]&IF(MasterTable[[#This Row],[Lumen Family]]<999,\"0\"&MasterTable[[#This Row],[Lumen Family]],MasterTable[[#This Row],[Lumen Family]])&\"-\"&MasterTable[[#This Row],[Arrangement]]&\"-xx\"","v":"BXRE-35S4001-C-xx"},4890,{"$f":"MasterTable[[#This Row],[Typical Lumens]]/(MasterTable[[#This Row],[Typical Voltage]]*MasterTable[[#This Row],[Typical Current]]/1000)","v":121.49672033392964},0.11206666666666666,34.4,1170,2340,156,null,2.3334000000000001E-11,-6.1592000000000003E-7,3.065E-3,31.6,7.3287999999999992E-12,-7.4558999999999999E-8,9.3061999999999995E-4,-9.9999999999999995E-8,null,null,null,null,null,null,-3.6592E-6,-1.0345506E-3,1.0240956264000001,null,null,null,null,-3.2286999999999999,106.1,1069.4000000000001,-9.9999999999999995E-8]
["V18-C","40C","C",4001,"BXRE",{"$f":"MasterTable[[#This Row],[Product Family]]&\"-\"&MasterTable[[#This Row],[CCT/CRI]]&MasterTable[[#This Row],[Arrangement]]","v":"V18-C-40CC"},{"$f":"MasterTable[[#This Row],[Generation]]&\"-\"&MasterTable[[#This Row],[CCT/CRI]]&IF(MasterTable[[#This Row],[Lumen Family]]<999,\"0\"&MasterTable[[#This Row],[Lumen Family]],MasterTable[[#This Row],[Lumen Family]])&\"-\"&MasterTable[[#This Row],[Arrangement]]&\"-xx\"","v":"BXRE-40C4001-C-xx"},7451,{"$f":"MasterTable[[#This Row],[Typical Lumens]]/(MasterTable[[#This Row],[Typical Voltage]]*MasterTable[[#This Row],[Typical Current]]/1000)","v":182.99931230965714},0.11206666666666666,34.799999999999997,1170,2340,156,null,null,-2.9999999999999999E-7,3.3E-3,31.373999999999999,-4.3912E-13,-6.8373E-8,9.2513999999999997E-4,-9.9999999999999995E-8,null,null,null,null,null,null,-3.6592E-6,-1.0345506E-3,1.0240956264000001,null,null,null,null,41.954999999999998,44.468000000000004,1098,-9.9999999999999995E-8]
["V18-C","40E","C",4000,"BXRE",{"$f":"MasterTable[[#This Row],[Product Family]]&\"-\"&MasterTable[[#This Row],[CCT/CRI]]&MasterTable[[#This Row],[Arrangement]]","v":"V18-C-40EC"},{"$f":"MasterTable[[#This Row],[Generation]]&\"-\"&MasterTable[[#This Row],[CCT/CRI]]&IF(MasterTable[[#This Row],[Lumen Family]]<999,\"0\"&MasterTable[[#This Row],[Lumen Family]],MasterTable[[#This Row],[Lumen Family]])&\"-\"&MasterTable[[#This Row],[Arrangement]]&\"-xx\"","v":"BXRE-40E4000-C-xx"},7125.3,{"$f":"MasterTable[[#This Row],[Typical Lumens]]/(MasterTable[[#This Row],[Typical Voltage]]*MasterTable[[#This Row],[Typical Current]]/1000)","v":175},0.11206666666666666,34.799999999999997,1170,2340,156,null,null,-2.9999999999999999E-7,3.3E-3,31.373999999999999,-4.3912E-13,-6.8373E-8,9.2513999999999997E-4,-9.9999999999999995E-8,null,null,null,null,null,null,-3.6592E-6,-1.0345506E-3,1.0240956264000001,null,null,null,null,41.954999999999998,44.468000000000004,1098,-9.9999999999999995E-8]
["V18-C","40G","C",4000,"BXRE",{"$f":"MasterTable[[#This Row],[Product Family]]&\"-\"&MasterTable[[#This Row],[CCT/CRI]]&MasterTable[[#This Row],[Arrangement]]","v":"V18-C-40GC"},{"$f":"MasterTable[[#This Row],[Generation]]&\"-\"&MasterTable[[#This Row],[CCT/CRI]]&IF(MasterTable[[#This Row],[Lumen Family]]<999,\"0\"&MasterTable[[#This Row],[Lumen Family]],MasterTable[[#This Row],[Lumen Family]])&\"-\"&MasterTable[[#This Row],[Arrangement]]&\"-xx\"","v":"BXRE-40G4000-C-xx"},5944.5360000000001,{"$f":"MasterTable[[#This Row],[Typical Lumens]]/(MasterTable[[#This Row],[Typical Voltage]]*MasterTable[[#This Row],[Typical Current]]/1000)","v":146},0.11206666666666666,34.799999999999997,1170,2340,156,null,null,-2.9999999999999999E-7,3.3E-3,31.373999999999999,-4.3912E-13,-6.8373E-8,9.2513999999999997E-4,-9.9999999999999995E-8,null,null,null,null,null,null,-3.6592E-6,-1.0345506E-3,1.0240956264000001,null,null,null,null,41.954999999999998,44.468000000000004,1098,-9.9999999999999995E-8]
["V18-C","40S","C",4001,"BXRE",{"$f":"MasterTable[[#This Row],[Product Family]]&\"-\"&MasterTable[[#This Row],[CCT/CRI]]&MasterTable[[#This Row],[Arrangement]]","v":"V18-C-40SC"},{"$f":"MasterTable[[#This Row],[Generation]]&\"-\"&MasterTable[[#This Row],[CCT/CRI]]&IF(MasterTable[[#This Row],[Lumen Family]]<999,\"0\"&MasterTable[[#This Row],[Lumen Family]],MasterTable[[#This Row],[Lumen Family]])&\"-\"&MasterTable[[#This Row],[Arrangement]]&\"-xx\"","v":"BXRE-40S4001-C-xx"},4969,{"$f":"MasterTable[[#This Row],[Typical Lumens]]/(MasterTable[[#This Row],[Typical Voltage]]*MasterTable[[#This Row],[Typical Current]]/1000)","v":123.45955078513219},0.11206666666666666,34.4,1170,2340,156,null,2.3334000000000001E-11,-6.1592000000000003E-7,3.065E-3,31.6,7.3287999999999992E-12,-7.4558999999999999E-8,9.3061999999999995E-4,-9.9999999999999995E-8,null,null,null,null,null,null,-3.6592E-6,-1.0345506E-3,1.0240956264000001,null,null,null,null,-3.2286999999999999,106.1,1069.4000000000001,-9.9999999999999995E-8]
["V18-C","50C","C",4001,"BXRE",{"$f":"MasterTable[[#This Row],[Product Family]]&\"-\"&MasterTable[[#This Row],[CCT/CRI]]&MasterTable[[#This Row],[Arrangement]]","v":"V18-C-50CC"},{"$f":"MasterTable[[#This Row],[Generation]]&\"-\"&MasterTable[[#This Row],[CCT/CRI]]&IF(MasterTable[[#This Row],[Lumen Family]]<999,\"0\"&MasterTable[[#This Row],[Lumen Family]],MasterTable[[#This Row],[Lumen Family]])&\"-\"&MasterTable[[#This Row],[Arrangement]]&\"-xx\"","v":"BXRE-50C4001-C-xx"},7491.7440000000006,{"$f":"MasterTable[[#This Row],[Typical Lumens]]/(MasterTable[[#This Row],[Typical Voltage]]*MasterTable[[#This Row],[Typical Current]]/1000)","v":184},0.11206666666666666,34.799999999999997,1170,2340,156,null,null,-2.9999999999999999E-7,3.3E-3,31.373999999999999,-4.3912E-13,-6.8373E-8,9.2513999999999997E-4,-9.9999999999999995E-8,null,null,null,null,null,null,-3.6592E-6,-1.0345506E-3,1.0240956264000001,null,null,null,null,41.954999999999998,44.468000000000004,1098,-9.9999999999999995E-8]
["V18-C","50E","C",4001,"BXRE",{"$f":"MasterTable[[#This Row],[Product Family]]&\"-\"&MasterTable[[#This Row],[CCT/CRI]]&MasterTable[[#This Row],[Arrangement]]","v":"V18-C-50EC"},{"$f":"MasterTable[[#This Row],[Generation]]&\"-\"&MasterTable[[#This Row],[CCT/CRI]]&IF(MasterTable[[#This Row],[Lumen Family]]<999,\"0\"&MasterTable[[#This Row],[Lumen Family]],MasterTable[[#This Row],[Lumen Family]])&\"-\"&MasterTable[[#This Row],[Arrangement]]&\"-xx\"","v":"BXRE-50E4001-C-xx"},7206.732,{"$f":"MasterTable[[#This Row],[Typical Lumens]]/(MasterTable[[#This Row],[Typical Voltage]]*MasterTable[[#This Row],[Typical Current]]/1000)","v":177},0.11206666666666666,34.799999999999997,1170,2340,156,null,null,-2.9999999999999999E-7,3.3E-3,31.373999999999999,-4.3912E-13,-6.8373E-8,9.2513999999999997E-4,-9.9999999999999995E-8,null,null,null,null,null,null,-3.6592E-6,-1.0345506E-3,1.0240956264000001,null,null,null,null,41.954999999999998,44.468000000000004,1098,-9.9999999999999995E-8]
["V18-C","50G","C",4001,"BXRE",{"$f":"MasterTable[[#This Row],[Product Family]]&\"-\"&MasterTable[[#This Row],[CCT/CRI]]&MasterTable[[#This Row],[Arrangement]]","v":"V18-C-50GC"},{"$f":"MasterTable[[#This Row],[Generation]]&\"-\"&MasterTable[[#This Row],[CCT/CRI]]&IF(MasterTable[[#This Row],[Lumen Family]]<999,\"0\"&MasterTable[[#This Row],[Lumen Family]],MasterTable[[#This Row],[Lumen Family]])&\"-\"&MasterTable[[#This Row],[Arrangement]]&\"-xx\"","v":"BXRE-50G4001-C-xx"},6229.5479999999998,{"$f":"MasterTable[[#This Row],[Typical Lumens]]/(MasterTable[[#This Row],[Typical Voltage]]*MasterTable[[#This Row],[Typical Current]]/1000)","v":153},0.11206666666666666,34.799999999999997,1170,2340,156,null,null,-2.9999999999999999E-7,3.3E-3,31.373999999999999,-4.3912E-13,-6.8373E-8,9.2513999999999997E-4,-9.9999999999999995E-8,null,null,null,null,null,null,-3.6592E-6,-1.0345506E-3,1.0240956264000001,null,null,null,null,41.954999999999998,44.468000000000004,1098,-9.9999999999999995E-8]
["V18-C","50S","C",4001,"BXRE",{"$f":"MasterTable[[#This Row],[Product Family]]&\"-\"&MasterTable[[#This Row],[CCT/CRI]]&MasterTable[[#This Row],[Arrangement]]","v":"V18-C-50SC"},{"$f":"MasterTable[[#This Row],[Generation]]&\"-\"&MasterTable[[#This Row],[CCT/CRI]]&IF(MasterTable[[#This Row],[Lumen Family]]<999,\"0\"&MasterTable[[#This Row],[Lumen Family]],MasterTable[[#This Row],[Lumen Family]])&\"-\"&MasterTable[[#This Row],[Arrangement]]&\"-xx\"","v":"BXRE-50S4001-C-xx"},5232,{"$f":"MasterTable[[#This Row],[Typical Lumens]]/(MasterTable[[#This Row],[Typical Voltage]]*MasterTable[[#This Row],[Typical Current]]/1000)","v":129.99403697078117},0.11206666666666666,34.4,1170,2340,156,null,2.3334000000000001E-11,-6.1592000000000003E-7,3.065E-3,31.6,7.3287999999999992E-12,-7.4558999999999999E-8,9.3061999999999995E-4,-9.9999999999999995E-8,null,null,null,null,null,null,-3.6592E-6,-1.0345506E-3,1.0240956264000001,null,null,null,null,-3.2286999999999999,106.1,1069.4000000000001,-9.9999999999999995E-8]
["V18-C","57C","C",4001,"BXRE",{"$f":"MasterTable[[#This Row],[Product Family]]&\"-\"&MasterTable[[#This Row],[CCT/CRI]]&MasterTable[[#This Row],[Arrangement]]","v":"V18-C-57CC"},{"$f":"MasterTable[[#This Row],[Generation]]&\"-\"&MasterTable[[#This Row],[CCT/CRI]]&IF(MasterTable[[#This Row],[Lumen Family]]<999,\"0\"&MasterTable[[#This Row],[Lumen Family]],MasterTable[[#This Row],[Lumen Family]])&\"-\"&MasterTable[[#This Row],[Arrangement]]&\"-xx\"","v":"BXRE-57C4001-C-xx"},7288.1639999999998,{"$f":"MasterTable[[#This Row],[Typical Lumens]]/(MasterTable[[#This Row],[Typical Voltage]]*MasterTable[[#This Row],[Typical Current]]/1000)","v":179},0.11206666666666666,34.799999999999997,1170,2340,156,null,null,-2.9999999999999999E-7,3.3E-3,31.373999999999999,-4.3912E-13,-6.8373E-8,9.2513999999999997E-4,-9.9999999999999995E-8,null,null,null,null,null,null,-3.6592E-6,-1.0345506E-3,1.0240956264000001,null,null,null,null,41.954999999999998,44.468000000000004,1098,-9.9999999999999995E-8]
["V18-C","57E","C",4001,"BXRE",{"$f":"MasterTable[[#This Row],[Product Family]]&\"-\"&MasterTable[[#This Row],[CCT/CRI]]&MasterTable[[#This Row],[Arrangement]]","v":"V18-C-57EC"},{"$f":"MasterTable[[#This Row],[Generation]]&\"-\"&MasterTable[[#This Row],[CCT/CRI]]&IF(MasterTable[[#This Row],[Lumen Family]]<999,\"0\"&MasterTable[[#This Row],[Lumen Family]],MasterTable[[#This Row],[Lumen Family]])&\"-\"&MasterTable[[#This Row],[Arrangement]]&\"-xx\"","v":"BXRE-57E4001-C-xx"},6921.72,{"$f":"MasterTable[[#This Row],[Typical Lumens]]/(MasterTable[[#This Row],[Typical Voltage]]*MasterTable[[#This Row],[Typical Current]]/1000)","v":170},0.11206666666666666,34.799999999999997,1170,2340,156,null,null,-2.9999999999999999E-7,3.3E-3,31.373999999999999,-4.3912E-13,-6.8373E-8,9.2513999999999997E-4,-9.9999999999999995E-8,null,null,null,null,null,null,-3.6592E-6,-1.0345506E-3,1.0240956264000001,null,null,null,null,41.954999999999998,44.468000000000004,1098,-9.9999999999999995E-8]
["V18-C","57S","C",4001,"BXRE",{"$f":"MasterTable[[#This Row],[Product Family]]&\"-\"&MasterTable[[#This Row],[CCT/CRI]]&MasterTable[[#This Row],[Arrangement]]","v":"V18-C-57SC"},{"$f":"MasterTable[[#This Row],[Generation]]&\"-\"&MasterTable[[#This Row],[CCT/CRI]]&IF(MasterTable[[#This Row],[Lumen Family]]<999,\"0\"&MasterTable[[#This Row],[Lumen Family]],MasterTable[[#This Row],[Lumen Family]])&\"-\"&MasterTable[[#This Row],[Arrangement]]&\"-xx\"","v":"BXRE-57S4001-C-xx"},5312,{"$f":"MasterTable[[#This Row],[Typical Lumens]]/(MasterTable[[#This Row],[Typical Voltage]]*MasterTable[[#This Row],[Typical Current]]/1000)","v":131.98171337706222},0.11206666666666666,34.4,1170,2340,156,null,2.3334000000000001E-11,-6.1592000000000003E-7,3.065E-3,31.6,7.3287999999999992E-12,-7.4558999999999999E-8,9.3061999999999995E-4,-9.9999999999999995E-8,null,null,null,null,null,null,-3.6592E-6,-1.0345506E-3,1.0240956264000001,null,null,null,null,-3.2286999999999999,106.1,1069.4000000000001,-9.9999999999999995E-8]
["V18-C","65S","C",4001,"BXRE",{"$f":"MasterTable[[#This Row],[Product Family]]&\"-\"&MasterTable[[#This Row],[CCT/CRI]]&MasterTable[[#This Row],[Arrangement]]","v":"V18-C-65SC"},{"$f":"MasterTable[[#This Row],[Generation]]&\"-\"&MasterTable[[#This Row],[CCT/CRI]]&IF(MasterTable[[#This Row],[Lumen Family]]<999,\"0\"&MasterTable[[#This Row],[Lumen Family]],MasterTable[[#This Row],[Lumen Family]])&\"-\"&MasterTable[[#This Row],[Arrangement]]&\"-xx\"","v":"BXRE-65S4001-C-xx"},5205,{"$f":"MasterTable[[#This Row],[Typical Lumens]]/(MasterTable[[#This Row],[Typical Voltage]]*MasterTable[[#This Row],[Typical Current]]/1000)","v":129.32319618366131},0.11206666666666666,34.4,1170,2340,156,null,2.3334000000000001E-11,-6.1592000000000003E-7,3.065E-3,31.6,7.3287999999999992E-12,-7.4558999999999999E-8,9.3061999999999995E-4,-9.9999999999999995E-8,null,null,null,null,null,null,-3.6592E-6,-1.0345506E-3,1.0240956264000001,null,null,null,null,-3.2286999999999999,106.1,1069.4000000000001,-9.9999999999999995E-8]
["V18-C","65C","C",4001,"BXRE",{"$f":"MasterTable[[#This Row],[Product Family]]&\"-\"&MasterTable[[#This Row],[CCT/CRI]]&MasterTable[[#This Row],[Arrangement]]","v":"V18-C-65CC"},{"$f":"MasterTable[[#This Row],[Generation]]&\"-\"&MasterTable[[#This Row],[CCT/CRI]]&IF(MasterTable[[#This Row],[Lumen Family]]<999,\"0\"&MasterTable[[#This Row],[Lumen Family]],MasterTable[[#This Row],[Lumen Family]])&\"-\"&MasterTable[[#This Row],[Arrangement]]&\"-xx\"","v":"BXRE-65C4001-C-xx"},7288.1639999999998,{"$f":"MasterTable[[#This Row],[Typical Lumens]]/(MasterTable[[#This Row],[Typical Voltage]]*MasterTable[[#This Row],[Typical Current]]/1000)","v":179},0.11206666666666666,34.799999999999997,1170,2340,156,null,null,-2.9999999999999999E-7,3.3E-3,31.373999999999999,-4.3912E-13,-6.8373E-8,9.2513999999999997E-4,-9.9999999999999995E-8,null,null,null,null,null,null,-3.6592E-6,-1.0345506E-3,1.0240956264000001,null,null,null,null,41.954999999999998,44.468000000000004,1098,-9.9999999999999995E-8]
["V18-C","65E","C",4001,"BXRE",{"$f":"MasterTable[[#This Row],[Product Family]]&\"-\"&MasterTable[[#This Row],[CCT/CRI]]&MasterTable[[#This Row],[Arrangement]]","v":"V18-C-65EC"},{"$f":"MasterTable[[#This Row],[Generation]]&\"-\"&MasterTable[[#This Row],[CCT/CRI]]&IF(MasterTable[[#This Row],[Lumen Family]]<999,\"0\"&MasterTable[[#This Row],[Lumen Family]],MasterTable[[#This Row],[Lumen Family]])&\"-\"&MasterTable[[#This Row],[Arrangement]]&\"-xx\"","v":"BXRE-65E4001-C-xx"},7003.152,{"$f":"MasterTable[[#This Row],[Typical Lumens]]/(MasterTable[[#This Row],[Typical Voltage]]*MasterTable[[#This Row],[Typical Current]]/1000)","v":172},0.11206666666666666,34.799999999999997,1170,2340,156,null,null,-2.9999999999999999E-7,3.3E-3,31.373999999999999,-4.3912E-13,-6.8373E-8,9.2513999999999997E-4,-9.9999999999999995E-8,null,null,null,null,null,null,-3.6592E-6,-1.0345506E-3,1.0240956264000001,null,null,null,null,41.954999999999998,44.468000000000004,1098,-9.9999999999999995E-8]
["V22-B","30E","B",6500,"BXRE",{"$f":"MasterTable[[#This Row],[Product Family]]&\"-\"&MasterTable[[#This Row],[CCT/CRI]]&MasterTable[[#This Row],[Arrangement]]","v":"V22-B-30EB"},{"$f":"MasterTable[[#This Row],[Generation]]&\"-\"&MasterTable[[#This Row],[CCT/CRI]]&IF(MasterTable[[#This Row],[Lumen Family]]<999,\"0\"&MasterTable[[#This Row],[Lumen Family]],MasterTable[[#This Row],[Lumen Family]])&\"-\"&MasterTable[[#This Row],[Arrangement]]&\"-xx\"","v":"BXRE-30E6500-B-xx"},10342.800000000001,{"$f":"MasterTable[[#This Row],[Typical Lumens]]/(MasterTable[[#This Row],[Typical Voltage]]*MasterTable[[#This Row],[Typical Current]]/1000)","v":170},7.0000000000000007E-2,52,1170,2340,234,null,2.0000000000000001E-10,-1.1008999999999999E-6,5.8086665000000003E-3,46.4435025151,1.1661999999999999E-11,-1.1298999999999999E-7,9.7272999999999999E-4,-9.9999999999999995E-8,null,null,null,null,null,null,-3.6592E-6,-1.0345506E-3,1.0240956264000001,null,null,null,null,4.5838000000000001,144.63999999999999,1018.7,-9.9999999999999995E-8]
["V22-B","27E","B",6500,"BXRE",{"$f":"MasterTable[[#This Row],[Product Family]]&\"-\"&MasterTable[[#This Row],[CCT/CRI]]&MasterTable[[#This Row],[Arrangement]]","v":"V22-B-27EB"},{"$f":"MasterTable[[#This Row],[Generation]]&\"-\"&MasterTable[[#This Row],[CCT/CRI]]&IF(MasterTable[[#This Row],[Lumen Family]]<999,\"0\"&MasterTable[[#This Row],[Lumen Family]],MasterTable[[#This Row],[Lumen Family]])&\"-\"&MasterTable[[#This Row],[Arrangement]]&\"-xx\"","v":"BXRE-27E6500-B-xx"},9734.4000000000015,{"$f":"MasterTable[[#This Row],[Typical Lumens]]/(MasterTable[[#This Row],[Typical Voltage]]*MasterTable[[#This Row],[Typical Current]]/1000)","v":160.00000000000003},7.0000000000000007E-2,52,1170,2340,234,null,2.0000000000000001E-10,-1.1008999999999999E-6,5.8086665000000003E-3,46.4435025151,1.1661999999999999E-11,-1.1298999999999999E-7,9.7272999999999999E-4,-9.9999999999999995E-8,null,null,null,null,null,null,-3.6592E-6,-1.0345506E-3,1.0240956264000001,null,null,null,null,4.5838000000000001,144.63999999999999,1018.7,-9.9999999999999995E-8]
["V22-B","27G","B",6500,"BXRE",{"$f":"MasterTable[[#This Row],[Product Family]]&\"-\"&MasterTable[[#This Row],[CCT/CRI]]&MasterTable[[#This Row],[Arrangement]]","v":"V22-B-27GB"},{"$f":"MasterTable[[#This Row],[Generation]]&\"-\"&MasterTable[[#This Row],[CCT/CRI]]&IF(MasterTable[[#This Row],[Lumen Family]]<999,\"0\"&MasterTable[[#This Row],[Lumen Family]],MasterTable[[#This Row],[Lumen Family]])&\"-\"&MasterTable[[#This Row],[Arrangement]]&\"-xx\"","v":"BXRE-27G6500-B-xx"},8031,{"$f":"MasterTable[[#This Row],[Typical Lumens]]/(MasterTable[[#This Row],[Typical Voltage]]*MasterTable[[#This Row],[Typical Current]]/1000)","v":132.00197238658777},7.0000000000000007E-2,52,1170,2340,234,null,2.0000000000000001E-10,-1.1008999999999999E-6,5.8086665000000003E-3,46.4435025151,1.1661999999999999E-11,-1.1298999999999999E-7,9.7272999999999999E-4,-9.9999999999999995E-8,null,null,null,null,null,null,-3.6592E-6,-1.0345506E-3,1.0240956264000001,null,null,null,null,4.5838000000000001,144.63999999999999,1018.7,-9.9999999999999995E-8]
["V22-B","27G-H","B","65H0","BXRE",{"$f":"MasterTable[[#This Row],[Product Family]]&\"-\"&MasterTable[[#This Row],[CCT/CRI]]&MasterTable[[#This Row],[Arrangement]]","v":"V22-B-27G-HB"},"BXRE-27G-65H0-B-xx",8335,{"$f":"MasterTable[[#This Row],[Typical Lumens]]/(MasterTable[[#This Row],[Typical Voltage]]*MasterTable[[#This Row],[Typical Current]]/1000)","v":136.99868507560814},7.0000000000000007E-2,52,1170,{"$f":"L375*2","v":2340},234,null,2.0000000000000001E-10,-1.1008999999999999E-6,5.8086665000000003E-3,46.4435025151,1.1661999999999999E-11,-1.1298999999999999E-7,9.7272999999999999E-4,-9.9999999999999995E-8,null,null,null,null,null,null,-3.6592E-6,-1.0345506E-3,1.0240956264000001,null,null,null,null,4.5838000000000001,144.63999999999999,1018.7,-9.9999999999999995E-8]
["V22-B","30G-H","B","65H0","BXRE",{"$f":"MasterTable[[#This Row],[Product Family]]&\"-\"&MasterTable[[#This Row],[CCT/CRI]]&MasterTable[[#This Row],[Arrangement]]","v":"V22-B-30G-HB"},"BXRE-30G-65H0-B-xx",8761,{"$f":"MasterTable[[#This Row],[Typical Lumens]]/(MasterTable[[#This Row],[Typical Voltage]]*MasterTable[[#This Row],[Typical Current]]/1000)","v":144.0006574621959},7.0000000000000007E-2,52,1170,2340,234,null,2.0000000000000001E-10,-1.1008999999999999E-6,5.8086665000000003E-3,46.4435025151,1.1661999999999999E-11,-1.1298999999999999E-7,9.7272999999999999E-4,-9.9999999999999995E-8,null,null,null,null,null,null,-3.6592E-6,-1.0345506E-3,1.0240956264000001,null,null,null,null,4.5838000000000001,144.63999999999999,1018.7,-9.9999999999999995E-8]
["V22-B","30C","B",6501,"BXRE",{"$f":"MasterTable[[#This Row],[Product Family]]&\"-\"&MasterTable[[#This Row],[CCT/CRI]]&MasterTable[[#This Row],[Arrangement]]","v":"V22-B-30CB"},{"$f":"MasterTable[[#This Row],[Generation]]&\"-\"&MasterTable[[#This Row],[CCT/CRI]]&IF(MasterTable[[#This Row],[Lumen Family]]<999,\"0\"&MasterTable[[#This Row],[Lumen Family]],MasterTable[[#This Row],[Lumen Family]])&\"-\"&MasterTable[[#This Row],[Arrangement]]&\"-xx\"","v":"BXRE-30C6501-B-xx"},10830,{"$f":"MasterTable[[#This Row],[Typical Lumens]]/(MasterTable[[#This Row],[Typical Voltage]]*MasterTable[[#This Row],[Typical Current]]/1000)","v":178.00788954635107},7.0000000000000007E-2,52,1170,2340,234,null,2.0000000000000001E-10,-1.1008999999999999E-6,5.8086665000000003E-3,46.4435025151,1.1661999999999999E-11,-1.1298999999999999E-7,9.7272999999999999E-4,-9.9999999999999995E-8,null,null,null,null,null,null,-3.6592E-6,-1.0345506E-3,1.0240956264000001,null,null,null,null,4.5838000000000001,144.63999999999999,1018.7,-9.9999999999999995E-8]
["V22-B","30G","B",6500,"BXRE",{"$f":"MasterTable[[#This Row],[Product Family]]&\"-\"&MasterTable[[#This Row],[CCT/CRI]]&MasterTable[[#This Row],[Arrangement]]","v":"V22-B-30GB"},{"$f":"MasterTable[[#This Row],[Generation]]&\"-\"&MasterTable[[#This Row],[CCT/CRI]]&IF(MasterTable[[#This Row],[Lumen Family]]<999,\"0\"&MasterTable[[#This Row],[Lumen Family]],MasterTable[[#This Row],[Lumen Family]])&\"-\"&MasterTable[[#This Row],[Arrangement]]&\"-xx\"","v":"BXRE-30G6500-B-xx"},8396,{"$f":"MasterTable[[#This Row],[Typical Lumens]]/(MasterTable[[#This Row],[Typical Voltage]]*MasterTable[[#This Row],[Typical Current]]/1000)","v":138.00131492439183},7.0000000000000007E-2,52,1170,2340,234,null,2.0000000000000001E-10,-1.1008999999999999E-6,5.8086665000000003E-3,46.4435025151,1.1661999999999999E-11,-1.1298999999999999E-7,9.7272999999999999E-4,-9.9999999999999995E-8,null,null,null,null,null,null,-3.6592E-6,-1.0345506E-3,1.0240956264000001,null,null,null,null,4.5838000000000001,144.63999999999999,1018.7,-9.9999999999999995E-8]
["V22-B","35E","B",6500,"BXRE",{"$f":"MasterTable[[#This Row],[Product Family]]&\"-\"&MasterTable[[#This Row],[CCT/CRI]]&MasterTable[[#This Row],[Arrangement]]","v":"V22-B-35EB"},{"$f":"MasterTable[[#This Row],[Generation]]&\"-\"&MasterTable[[#This Row],[CCT/CRI]]&IF(MasterTable[[#This Row],[Lumen Family]]<999,\"0\"&MasterTable[[#This Row],[Lumen Family]],MasterTable[[#This Row],[Lumen Family]])&\"-\"&MasterTable[[#This Row],[Arrangement]]&\"-xx\"","v":"BXRE-35E6500-B-xx"},10586.16,{"$f":"MasterTable[[#This Row],[Typical Lumens]]/(MasterTable[[#This Row],[Typical Voltage]]*MasterTable[[#This Row],[Typical Current]]/1000)","v":174},7.0000000000000007E-2,52,1170,2340,234,null,2.0000000000000001E-10,-1.1008999999999999E-6,5.8086665000000003E-3,46.4435025151,1.1661999999999999E-11,-1.1298999999999999E-7,9.7272999999999999E-4,-9.9999999999999995E-8,null,null,null,null,null,null,-3.6592E-6,-1.0345506E-3,1.0240956264000001,null,null,null,null,4.5838000000000001,144.63999999999999,1018.7,-9.9999999999999995E-8]
["V22-B","35G","B",6500,"BXRE",{"$f":"MasterTable[[#This Row],[Product Family]]&\"-\"&MasterTable[[#This Row],[CCT/CRI]]&MasterTable[[#This Row],[Arrangement]]","v":"V22-B-35GB"},{"$f":"MasterTable[[#This Row],[Generation]]&\"-\"&MasterTable[[#This Row],[CCT/CRI]]&IF(MasterTable[[#This Row],[Lumen Family]]<999,\"0\"&MasterTable[[#This Row],[Lumen Family]],MasterTable[[#This Row],[Lumen Family]])&\"-\"&MasterTable[[#This Row],[Arrangement]]&\"-xx\"","v":"BXRE-35G6500-B-xx"},8700.1200000000008,{"$f":"MasterTable[[#This Row],[Typical Lumens]]/(MasterTable[[#This Row],[Typical Voltage]]*MasterTable[[#This Row],[Typical Current]]/1000)","v":143},7.0000000000000007E-2,52,1170,2340,234,null,2.0000000000000001E-10,-1.1008999999999999E-6,5.8086665000000003E-3,46.4435025151,1.1661999999999999E-11,-1.1298999999999999E-7,9.7272999999999999E-4,-9.9999999999999995E-8,null,null,null,null,null,null,-3.6592E-6,-1.0345506E-3,1.0240956264000001,null,null,null,null,4.5838000000000001,144.63999999999999,1018.7,-9.9999999999999995E-8,null,"y = 157.67x2 + 1008.9x + 1.6038"]
["V22-B","40C","B",6501,"BXRE",{"$f":"MasterTable[[#This Row],[Product Family]]&\"-\"&MasterTable[[#This Row],[CCT/CRI]]&MasterTable[[#This Row],[Arrangement]]","v":"V22-B-40CB"},{"$f":"MasterTable[[#This Row],[Generation]]&\"-\"&MasterTable[[#This Row],[CCT/CRI]]&IF(MasterTable[[#This Row],[Lumen Family]]<999,\"0\"&MasterTable[[#This Row],[Lumen Family]],MasterTable[[#This Row],[Lumen Family]])&\"-\"&MasterTable[[#This Row],[Arrangement]]&\"-xx\"","v":"BXRE-40C6501-B-xx"},10020,{"$f":"MasterTable[[#This Row],[Typical Lumens]]/(MasterTable[[#This Row],[Typical Voltage]]*MasterTable[[#This Row],[Typical Current]]/1000)","v":164.69428007889545},7.0000000000000007E-2,52,1170,{"$f":"L381*2","v":2340},234,null,2.0000000000000001E-10,-1.1008999999999999E-6,5.8086665000000003E-3,46.4435025151,1.1661999999999999E-11,-1.1298999999999999E-7,9.7272999999999999E-4,-9.9999999999999995E-8,null,null,null,null,null,null,-3.6592E-6,-1.0345506E-3,1.0240956264000001,null,null,null,null,4.5838000000000001,144.63999999999999,1018.7,-9.9999999999999995E-8]
["V22-B","40E","B",6500,"BXRE",{"$f":"MasterTable[[#This Row],[Product Family]]&\"-\"&MasterTable[[#This Row],[CCT/CRI]]&MasterTable[[#This Row],[Arrangement]]","v":"V22-B-40EB"},{"$f":"MasterTable[[#This Row],[Generation]]&\"-\"&MasterTable[[#This Row],[CCT/CRI]]&IF(MasterTable[[#This Row],[Lumen Family]]<999,\"0\"&MasterTable[[#This Row],[Lumen Family]],MasterTable[[#This Row],[Lumen Family]])&\"-\"&MasterTable[[#This Row],[Arrangement]]&\"-xx\"","v":"BXRE-40E6500-B-xx"},10647,{"$f":"MasterTable[[#This Row],[Typical Lumens]]/(MasterTable[[#This Row],[Typical Voltage]]*MasterTable[[#This Row],[Typical Current]]/1000)","v":175},7.0000000000000007E-2,52,1170,2340,234,null,2.0000000000000001E-10,-1.1008999999999999E-6,5.8086665000000003E-3,46.4435025151,1.1661999999999999E-11,-1.1298999999999999E-7,9.7272999999999999E-4,-9.9999999999999995E-8,null,null,null,null,null,null,-3.6592E-6,-1.0345506E-3,1.0240956264000001,null,null,null,null,4.5838000000000001,144.63999999999999,1018.7,-9.9999999999999995E-8]
["V22-B","40G","B",6500,"BXRE",{"$f":"MasterTable[[#This Row],[Product Family]]&\"-\"&MasterTable[[#This Row],[CCT/CRI]]&MasterTable[[#This Row],[Arrangement]]","v":"V22-B-40GB"},{"$f":"MasterTable[[#This Row],[Generation]]&\"-\"&MasterTable[[#This Row],[CCT/CRI]]&IF(MasterTable[[#This Row],[Lumen Family]]<999,\"0\"&MasterTable[[#This Row],[Lumen Family]],MasterTable[[#This Row],[Lumen Family]])&\"-\"&MasterTable[[#This Row],[Arrangement]]&\"-xx\"","v":"BXRE-40G6500-B-xx"},8882.6400000000012,{"$f":"MasterTable[[#This Row],[Typical Lumens]]/(MasterTable[[#This Row],[Typical Voltage]]*MasterTable[[#This Row],[Typical Current]]/1000)","v":146},7.0000000000000007E-2,52,1170,2340,234,null,2.0000000000000001E-10,-1.1008999999999999E-6,5.8086665000000003E-3,46.4435025151,1.1661999999999999E-11,-1.1298999999999999E-7,9.7272999999999999E-4,-9.9999999999999995E-8,null,null,null,null,null,null,-3.6592E-6,-1.0345506E-3,1.0240956264000001,null,null,null,null,4.5838000000000001,144.63999999999999,1018.7,-9.9999999999999995E-8]
["V22-B","50C","B",6501,"BXRE",{"$f":"MasterTable[[#This Row],[Product Family]]&\"-\"&MasterTable[[#This Row],[CCT/CRI]]&MasterTable[[#This Row],[Arrangement]]","v":"V22-B-50CB"},{"$f":"MasterTable[[#This Row],[Generation]]&\"-\"&MasterTable[[#This Row],[CCT/CRI]]&IF(MasterTable[[#This Row],[Lumen Family]]<999,\"0\"&MasterTable[[#This Row],[Lumen Family]],MasterTable[[#This Row],[Lumen Family]])&\"-\"&MasterTable[[#This Row],[Arrangement]]&\"-xx\"","v":"BXRE-50C6501-B-xx"},11194.560000000001,{"$f":"MasterTable[[#This Row],[Typical Lumens]]/(MasterTable[[#This Row],[Typical Voltage]]*MasterTable[[#This Row],[Typical Current]]/1000)","v":184},7.0000000000000007E-2,52,1170,2340,234,null,2.0000000000000001E-10,-1.1008999999999999E-6,5.8086665000000003E-3,46.4435025151,1.1661999999999999E-11,-1.1298999999999999E-7,9.7272999999999999E-4,-9.9999999999999995E-8,null,null,null,null,null,null,-3.6592E-6,-1.0345506E-3,1.0240956264000001,null,null,null,null,4.5838000000000001,144.63999999999999,1018.7,-9.9999999999999995E-8]
["V22-B","50E","B",6501,"BXRE",{"$f":"MasterTable[[#This Row],[Product Family]]&\"-\"&MasterTable[[#This Row],[CCT/CRI]]&MasterTable[[#This Row],[Arrangement]]","v":"V22-B-50EB"},{"$f":"MasterTable[[#This Row],[Generation]]&\"-\"&MasterTable[[#This Row],[CCT/CRI]]&IF(MasterTable[[#This Row],[Lumen Family]]<999,\"0\"&MasterTable[[#This Row],[Lumen Family]],MasterTable[[#This Row],[Lumen Family]])&\"-\"&MasterTable[[#This Row],[Arrangement]]&\"-xx\"","v":"BXRE-50E6501-B-xx"},10768.68,{"$f":"MasterTable[[#This Row],[Typical Lumens]]/(MasterTable[[#This Row],[Typical Voltage]]*MasterTable[[#This Row],[Typical Current]]/1000)","v":177},7.0000000000000007E-2,52,1170,2340,234,null,2.0000000000000001E-10,-1.1008999999999999E-6,5.8086665000000003E-3,46.4435025151,1.1661999999999999E-11,-1.1298999999999999E-7,9.7272999999999999E-4,-9.9999999999999995E-8,null,null,null,null,null,null,-3.6592E-6,-1.0345506E-3,1.0240956264000001,null,null,null,null,4.5838000000000001,144.63999999999999,1018.7,-9.9999999999999995E-8]
["V22-B","50G","B",6501,"BXRE",{"$f":"MasterTable[[#This Row],[Product Family]]&\"-\"&MasterTable[[#This Row],[CCT/CRI]]&MasterTable[[#This Row],[Arrangement]]","v":"V22-B-50GB"},{"$f":"MasterTable[[#This Row],[Generation]]&\"-\"&MasterTable[[#This Row],[CCT/CRI]]&IF(MasterTable[[#This Row],[Lumen Family]]<999,\"0\"&MasterTable[[#This Row],[Lumen Family]],MasterTable[[#This Row],[Lumen Family]])&\"-\"&MasterTable[[#This Row],[Arrangement]]&\"-xx\"","v":"BXRE-50G6501-B-xx"},9308.52,{"$f":"MasterTable[[#This Row],[Typical Lumens]]/(MasterTable[[#This Row],[Typical Voltage]]*MasterTable[[#This Row],[Typical Current]]/1000)","v":153},7.0000000000000007E-2,52,1170,2340,234,null,2.0000000000000001E-10,-1.1008999999999999E-6,5.8086665000000003E-3,46.4435025151,1.1661999999999999E-11,-1.1298999999999999E-7,9.7272999999999999E-4,-9.9999999999999995E-8,null,null,null,null,null,null,-3.6592E-6,-1.0345506E-3,1.0240956264000001,null,null,null,null,4.5838000000000001,144.63999999999999,1018.7,-9.9999999999999995E-8]
["V22-B","57C","B",6501,"BXRE",{"$f":"MasterTable[[#This Row],[Product Family]]&\"-\"&MasterTable[[#This Row],[CCT/CRI]]&MasterTable[[#This Row],[Arrangement]]","v":"V22-B-57CB"},{"$f":"MasterTable[[#This Row],[Generation]]&\"-\"&MasterTable[[#This Row],[CCT/CRI]]&IF(MasterTable[[#This Row],[Lumen Family]]<999,\"0\"&MasterTable[[#This Row],[Lumen Family]],MasterTable[[#This Row],[Lumen Family]])&\"-\"&MasterTable[[#This Row],[Arrangement]]&\"-xx\"","v":"BXRE-57C6501-B-xx"},10890.36,{"$f":"MasterTable[[#This Row],[Typical Lumens]]/(MasterTable[[#This Row],[Typical Voltage]]*MasterTable[[#This Row],[Typical Current]]/1000)","v":179},7.0000000000000007E-2,52,1170,2340,234,null,2.0000000000000001E-10,-1.1008999999999999E-6,5.8086665000000003E-3,46.4435025151,1.1661999999999999E-11,-1.1298999999999999E-7,9.7272999999999999E-4,-9.9999999999999995E-8,null,null,null,null,null,null,-3.6592E-6,-1.0345506E-3,1.0240956264000001,null,null,null,null,4.5838000000000001,144.63999999999999,1018.7,-9.9999999999999995E-8]
["V22-B","57E","B",6501,"BXRE",{"$f":"MasterTable[[#This Row],[Product Family]]&\"-\"&MasterTable[[#This Row],[CCT/CRI]]&MasterTable[[#This Row],[Arrangement]]","v":"V22-B-57EB"},{"$f":"MasterTable[[#This Row],[Generation]]&\"-\"&MasterTable[[#This Row],[CCT/CRI]]&IF(MasterTable[[#This Row],[Lumen Family]]<999,\"0\"&MasterTable[[#This Row],[Lumen Family]],MasterTable[[#This Row],[Lumen Family]])&\"-\"&MasterTable[[#This Row],[Arrangement]]&\"-xx\"","v":"BXRE-57E6501-B-xx"},10342.800000000001,{"$f":"MasterTable[[#This Row],[Typical Lumens]]/(MasterTable[[#This Row],[Typical Voltage]]*MasterTable[[#This Row],[Typical Current]]/1000)","v":170},7.0000000000000007E-2,52,1170,2340,234,null,2.0000000000000001E-10,-1.1008999999999999E-6,5.8086665000000003E-3,46.4435025151,1.1661999999999999E-11,-1.1298999999999999E-7,9.7272999999999999E-4,-9.9999999999999995E-8,null,null,null,null,null,null,-3.6592E-6,-1.0345506E-3,1.0240956264000001,null,null,null,null,4.5838000000000001,144.63999999999999,1018.7,-9.9999999999999995E-8]
["V22-B","65C","B",6501,"BXRE",{"$f":"MasterTable[[#This Row],[Product Family]]&\"-\"&MasterTable[[#This Row],[CCT/CRI]]&MasterTable[[#This Row],[Arrangement]]","v":"V22-B-65CB"},{"$f":"MasterTable[[#This Row],[Generation]]&\"-\"&MasterTable[[#This Row],[CCT/CRI]]&IF(MasterTable[[#This Row],[Lumen Family]]<999,\"0\"&MasterTable[[#This Row],[Lumen Family]],MasterTable[[#This Row],[Lumen Family]])&\"-\"&MasterTable[[#This Row],[Arrangement]]&\"-xx\"","v":"BXRE-65C6501-B-xx"},10890.36,{"$f":"MasterTable[[#This Row],[Typical Lumens]]/(MasterTable[[#This Row],[Typical Voltage]]*MasterTable[[#This Row],[Typical Current]]/1000)","v":179},7.0000000000000007E-2,52,1170,2340,234,null,2.0000000000000001E-10,-1.1008999999999999E-6,5.8086665000000003E-3,46.4435025151,1.1661999999999999E-11,-1.1298999999999999E-7,9.7272999999999999E-4,-9.9999999999999995E-8,null,null,null,null,null,null,-3.6592E-6,-1.0345506E-3,1.0240956264000001,null,null,null,null,4.5838000000000001,144.63999999999999,1018.7,-9.9999999999999995E-8]
["V22-B","65E","B",6501,"BXRE",{"$f":"MasterTable[[#This Row],[Product Family]]&\"-\"&MasterTable[[#This Row],[CCT/CRI]]&MasterTable[[#This Row],[Arrangement]]","v":"V22-B-65EB"},{"$f":"MasterTable[[#This Row],[Generation]]&\"-\"&MasterTable[[#This Row],[CCT/CRI]]&IF(MasterTable[[#This Row],[Lumen Family]]<999,\"0\"&MasterTable[[#This Row],[Lumen Family]],MasterTable[[#This Row],[Lumen Family]])&\"-\"&MasterTable[[#This Row],[Arrangement]]&\"-xx\"","v":"BXRE-65E6501-B-xx"},10464.480000000001,{"$f":"MasterTable[[#This Row],[Typical Lumens]]/(MasterTable[[#This Row],[Typical Voltage]]*MasterTable[[#This Row],[Typical Current]]/1000)","v":172},7.0000000000000007E-2,52,1170,2340,234,null,2.0000000000000001E-10,-1.1008999999999999E-6,5.8086665000000003E-3,46.4435025151,1.1661999999999999E-11,-1.1298999999999999E-7,9.7272999999999999E-4,-9.9999999999999995E-8,null,null,null,null,null,null,-3.6592E-6,-1.0345506E-3,1.0240956264000001,null,null,null,null,4.5838000000000001,144.63999999999999,1018.7,-9.9999999999999995E-8]
["V22-C","30E","C",6500,"BXRE",{"$f":"MasterTable[[#This Row],[Product Family]]&\"-\"&MasterTable[[#This Row],[CCT/CRI]]&MasterTable[[#This Row],[Arrangement]]","v":"V22-C-30EC"},{"$f":"MasterTable[[#This Row],[Generation]]&\"-\"&MasterTable[[#This Row],[CCT/CRI]]&IF(MasterTable[[#This Row],[Lumen Family]]<999,\"0\"&MasterTable[[#This Row],[Lumen Family]],MasterTable[[#This Row],[Lumen Family]])&\"-\"&MasterTable[[#This Row],[Arrangement]]&\"-xx\"","v":"BXRE-30E6500-C-xx"},12729.599999999999,{"$f":"MasterTable[[#This Row],[Typical Lumens]]/(MasterTable[[#This Row],[Typical Voltage]]*MasterTable[[#This Row],[Typical Current]]/1000)","v":170},6.3966666666666672E-2,52,1440,2880,288,-1.9999999999999999E-23,2E-19,-2.9999999999999999E-7,4.0000000000000001E-3,46.912999999999997,1.6135000000000001E-11,-1.3017999999999999E-7,8.5225999999999998E-4,-9.9999999999999995E-8,null,null,null,null,null,null,-3.6592E-6,-1.0345506E-3,1.0240956264000001,null,null,null,null,-33.948999999999998,359.03,1109.9000000000001,-9.9999999999999995E-8]
["V22-C","20B","C",6501,"BXRE",{"$f":"MasterTable[[#This Row],[Product Family]]&\"-\"&MasterTable[[#This Row],[CCT/CRI]]&MasterTable[[#This Row],[Arrangement]]","v":"V22-C-20BC"},{"$f":"MasterTable[[#This Row],[Generation]]&\"-\"&MasterTable[[#This Row],[CCT/CRI]]&IF(MasterTable[[#This Row],[Lumen Family]]<999,\"0\"&MasterTable[[#This Row],[Lumen Family]],MasterTable[[#This Row],[Lumen Family]])&\"-\"&MasterTable[[#This Row],[Arrangement]]&\"-xx\"","v":"BXRE-20B6501-C-xx"},11756.16,{"$f":"MasterTable[[#This Row],[Typical Lumens]]/(MasterTable[[#This Row],[Typical Voltage]]*MasterTable[[#This Row],[Typical Current]]/1000)","v":157},6.3966666666666672E-2,52,1440,{"$f":"L392*2","v":2880},288,-1.9999999999999999E-23,2E-19,-2.9999999999999999E-7,4.0000000000000001E-3,46.912999999999997,1.6135000000000001E-11,-1.3017999999999999E-7,8.5225999999999998E-4,-9.9999999999999995E-8,null,null,null,null,null,null,-3.6592E-6,-1.0345506E-3,1.0240956264000001,null,null,null,null,-33.948999999999998,359.03,1109.9000000000001,-9.9999999999999995E-8]
["V22-C","27E","C",6500,"BXRE",{"$f":"MasterTable[[#This Row],[Product Family]]&\"-\"&MasterTable[[#This Row],[CCT/CRI]]&MasterTable[[#This Row],[Arrangement]]","v":"V22-C-27EC"},{"$f":"MasterTable[[#This Row],[Generation]]&\"-\"&MasterTable[[#This Row],[CCT/CRI]]&IF(MasterTable[[#This Row],[Lumen Family]]<999,\"0\"&MasterTable[[#This Row],[Lumen Family]],MasterTable[[#This Row],[Lumen Family]])&\"-\"&MasterTable[[#This Row],[Arrangement]]&\"-xx\"","v":"BXRE-27E6500-C-xx"},11980.8,{"$f":"MasterTable[[#This Row],[Typical Lumens]]/(MasterTable[[#This Row],[Typical Voltage]]*MasterTable[[#This Row],[Typical Current]]/1000)","v":160},6.3966666666666672E-2,52,1440,2880,288,-1.9999999999999999E-23,2E-19,-2.9999999999999999E-7,4.0000000000000001E-3,46.912999999999997,1.6135000000000001E-11,-1.3017999999999999E-7,8.5225999999999998E-4,-9.9999999999999995E-8,null,null,null,null,null,null,-3.6592E-6,-1.0345506E-3,1.0240956264000001,null,null,null,null,-33.948999999999998,359.03,1109.9000000000001,-9.9999999999999995E-8]
["V22-C","27G","C",6500,"BXRE",{"$f":"MasterTable[[#This Row],[Product Family]]&\"-\"&MasterTable[[#This Row],[CCT/CRI]]&MasterTable[[#This Row],[Arrangement]]","v":"V22-C-27GC"},{"$f":"MasterTable[[#This Row],[Generation]]&\"-\"&MasterTable[[#This Row],[CCT/CRI]]&IF(MasterTable[[#This Row],[Lumen Family]]<999,\"0\"&MasterTable[[#This Row],[Lumen Family]],MasterTable[[#This Row],[Lumen Family]])&\"-\"&MasterTable[[#This Row],[Arrangement]]&\"-xx\"","v":"BXRE-27G6500-C-xx"},9884,{"$f":"MasterTable[[#This Row],[Typical Lumens]]/(MasterTable[[#This Row],[Typical Voltage]]*MasterTable[[#This Row],[Typical Current]]/1000)","v":131.99786324786325},6.3966666666666672E-2,52,1440,2880,288,-1.9999999999999999E-23,2E-19,-2.9999999999999999E-7,4.0000000000000001E-3,46.912999999999997,1.6135000000000001E-11,-1.3017999999999999E-7,8.5225999999999998E-4,-9.9999999999999995E-8,null,null,null,null,null,null,-3.6592E-6,-1.0345506E-3,1.0240956264000001,null,null,null,null,-33.948999999999998,359.03,1109.9000000000001,-9.9999999999999995E-8]
["V22-C","27G-H","C","65H0","BXRE",{"$f":"MasterTable[[#This Row],[Product Family]]&\"-\"&MasterTable[[#This Row],[CCT/CRI]]&MasterTable[[#This Row],[Arrangement]]","v":"V22-C-27G-HC"},"BXRE-27G-65H0-C-xx",10259,{"$f":"MasterTable[[#This Row],[Typical Lumens]]/(MasterTable[[#This Row],[Typical Voltage]]*MasterTable[[#This Row],[Typical Current]]/1000)","v":137.00587606837607},6.3966666666666672E-2,52,1440,{"$f":"L395*2","v":2880},288,-1.9999999999999999E-23,2E-19,-2.9999999999999999E-7,4.0000000000000001E-3,46.912999999999997,1.6135000000000001E-11,-1.3017999999999999E-7,8.5225999999999998E-4,-9.9999999999999995E-8,null,null,null,null,null,null,-3.6592E-6,-1.0345506E-3,1.0240956264000001,null,null,null,null,-33.948999999999998,359.03,1109.9000000000001,-9.9999999999999995E-8]
["V22-C","30G-H","C","65H0","BXRE",{"$f":"MasterTable[[#This Row],[Product Family]]&\"-\"&MasterTable[[#This Row],[CCT/CRI]]&MasterTable[[#This Row],[Arrangement]]","v":"V22-C-30G-HC"},"BXRE-30G-65H0-C-xx",10783,{"$f":"MasterTable[[#This Row],[Typical Lumens]]/(MasterTable[[#This Row],[Typical Voltage]]*MasterTable[[#This Row],[Typical Current]]/1000)","v":144.00373931623932},6.3966666666666672E-2,52,1440,2880,288,-1.9999999999999999E-23,2E-19,-2.9999999999999999E-7,4.0000000000000001E-3,46.912999999999997,1.6135000000000001E-11,-1.3017999999999999E-7,8.5225999999999998E-4,-9.9999999999999995E-8,null,null,null,null,null,null,-3.6592E-6,-1.0345506E-3,1.0240956264000001,null,null,null,null,-33.948999999999998,359.03,1109.9000000000001,-9.9999999999999995E-8]
["V22-C","30C","C",6501,"BXRE",{"$f":"MasterTable[[#This Row],[Product Family]]&\"-\"&MasterTable[[#This Row],[CCT/CRI]]&MasterTable[[#This Row],[Arrangement]]","v":"V22-C-30CC"},{"$f":"MasterTable[[#This Row],[Generation]]&\"-\"&MasterTable[[#This Row],[CCT/CRI]]&IF(MasterTable[[#This Row],[Lumen Family]]<999,\"0\"&MasterTable[[#This Row],[Lumen Family]],MasterTable[[#This Row],[Lumen Family]])&\"-\"&MasterTable[[#This Row],[Arrangement]]&\"-xx\"","v":"BXRE-30C6501-C-xx"},13329,{"$f":"MasterTable[[#This Row],[Typical Lumens]]/(MasterTable[[#This Row],[Typical Voltage]]*MasterTable[[#This Row],[Typical Current]]/1000)","v":178.00480769230771},6.3966666666666672E-2,52,1440,{"$f":"L397*2","v":2880},289,-1.9999999999999999E-23,2E-19,-2.9999999999999999E-7,4.0000000000000001E-3,46.912999999999997,1.6135000000000001E-11,-1.3017999999999999E-7,8.5225999999999998E-4,-9.9999999999999995E-8,null,null,null,null,null,null,-3.6592E-6,-1.0345506E-3,1.0240956264000001,null,null,null,null,-33.948999999999998,359.03,1109.9000000000001,-9.9999999999999995E-8]
["V22-C","30G","C",6500,"BXRE",{"$f":"MasterTable[[#This Row],[Product Family]]&\"-\"&MasterTable[[#This Row],[CCT/CRI]]&MasterTable[[#This Row],[Arrangement]]","v":"V22-C-30GC"},{"$f":"MasterTable[[#This Row],[Generation]]&\"-\"&MasterTable[[#This Row],[CCT/CRI]]&IF(MasterTable[[#This Row],[Lumen Family]]<999,\"0\"&MasterTable[[#This Row],[Lumen Family]],MasterTable[[#This Row],[Lumen Family]])&\"-\"&MasterTable[[#This Row],[Arrangement]]&\"-xx\"","v":"BXRE-30G6500-C-xx"},10333,{"$f":"MasterTable[[#This Row],[Typical Lumens]]/(MasterTable[[#This Row],[Typical Voltage]]*MasterTable[[#This Row],[Typical Current]]/1000)","v":137.99412393162393},6.3966666666666672E-2,52,1440,2880,290,-1.9999999999999999E-23,2E-19,-2.9999999999999999E-7,4.0000000000000001E-3,46.912999999999997,1.6135000000000001E-11,-1.3017999999999999E-7,8.5225999999999998E-4,-9.9999999999999995E-8,null,null,null,null,null,null,-3.6592E-6,-1.0345506E-3,1.0240956264000001,null,null,null,null,-33.948999999999998,359.03,1109.9000000000001,-9.9999999999999995E-8]
["V22-C","35E","C",6500,"BXRE",{"$f":"MasterTable[[#This Row],[Product Family]]&\"-\"&MasterTable[[#This Row],[CCT/CRI]]&MasterTable[[#This Row],[Arrangement]]","v":"V22-C-35EC"},{"$f":"MasterTable[[#This Row],[Generation]]&\"-\"&MasterTable[[#This Row],[CCT/CRI]]&IF(MasterTable[[#This Row],[Lumen Family]]<999,\"0\"&MasterTable[[#This Row],[Lumen Family]],MasterTable[[#This Row],[Lumen Family]])&\"-\"&MasterTable[[#This Row],[Arrangement]]&\"-xx\"","v":"BXRE-35E6500-C-xx"},13029.119999999999,{"$f":"MasterTable[[#This Row],[Typical Lumens]]/(MasterTable[[#This Row],[Typical Voltage]]*MasterTable[[#This Row],[Typical Current]]/1000)","v":174},6.3966666666666672E-2,52,1440,2880,291,-1.9999999999999999E-23,2E-19,-2.9999999999999999E-7,4.0000000000000001E-3,46.912999999999997,1.6135000000000001E-11,-1.3017999999999999E-7,8.5225999999999998E-4,-9.9999999999999995E-8,null,null,null,null,null,null,-3.6592E-6,-1.0345506E-3,1.0240956264000001,null,null,null,null,-33.948999999999998,359.03,1109.9000000000001,-9.9999999999999995E-8]
["V22-C","35G","C",6500,"BXRE",{"$f":"MasterTable[[#This Row],[Product Family]]&\"-\"&MasterTable[[#This Row],[CCT/CRI]]&MasterTable[[#This Row],[Arrangement]]","v":"V22-C-35GC"},{"$f":"MasterTable[[#This Row],[Generation]]&\"-\"&MasterTable[[#This Row],[CCT/CRI]]&IF(MasterTable[[#This Row],[Lumen Family]]<999,\"0\"&MasterTable[[#This Row],[Lumen Family]],MasterTable[[#This Row],[Lumen Family]])&\"-\"&MasterTable[[#This Row],[Arrangement]]&\"-xx\"","v":"BXRE-35G6500-C-xx"},10707.84,{"$f":"MasterTable[[#This Row],[Typical Lumens]]/(MasterTable[[#This Row],[Typical Voltage]]*MasterTable[[#This Row],[Typical Current]]/1000)","v":143},6.3966666666666672E-2,52,1440,2880,292,-1.9999999999999999E-23,2E-19,-2.9999999999999999E-7,4.0000000000000001E-3,46.912999999999997,1.6135000000000001E-11,-1.3017999999999999E-7,8.5225999999999998E-4,-9.9999999999999995E-8,null,null,null,null,null,null,-3.6592E-6,-1.0345506E-3,1.0240956264000001,null,null,null,null,-33.948999999999998,359.03,1109.9000000000001,-9.9999999999999995E-8]
["V22-C","40C","C",6501,"BXRE",{"$f":"MasterTable[[#This Row],[Product Family]]&\"-\"&MasterTable[[#This Row],[CCT/CRI]]&MasterTable[[#This Row],[Arrangement]]","v":"V22-C-40CC"},{"$f":"MasterTable[[#This Row],[Generation]]&\"-\"&MasterTable[[#This Row],[CCT/CRI]]&IF(MasterTable[[#This Row],[Lumen Family]]<999,\"0\"&MasterTable[[#This Row],[Lumen Family]],MasterTable[[#This Row],[Lumen Family]])&\"-\"&MasterTable[[#This Row],[Arrangement]]&\"-xx\"","v":"BXRE-40C6501-C-xx"},13703,{"$f":"MasterTable[[#This Row],[Typical Lumens]]/(MasterTable[[#This Row],[Typical Voltage]]*MasterTable[[#This Row],[Typical Current]]/1000)","v":182.99946581196582},6.3966666666666672E-2,52,1440,2880,293,-1.9999999999999999E-23,2E-19,-2.9999999999999999E-7,4.0000000000000001E-3,46.912999999999997,1.6135000000000001E-11,-1.3017999999999999E-7,8.5225999999999998E-4,-9.9999999999999995E-8,null,null,null,null,null,null,-3.6592E-6,-1.0345506E-3,1.0240956264000001,null,null,null,null,-33.948999999999998,359.03,1109.9000000000001,-9.9999999999999995E-8]
["V22-C","40E","C",6500,"BXRE",{"$f":"MasterTable[[#This Row],[Product Family]]&\"-\"&MasterTable[[#This Row],[CCT/CRI]]&MasterTable[[#This Row],[Arrangement]]","v":"V22-C-40EC"},{"$f":"MasterTable[[#This Row],[Generation]]&\"-\"&MasterTable[[#This Row],[CCT/CRI]]&IF(MasterTable[[#This Row],[Lumen Family]]<999,\"0\"&MasterTable[[#This Row],[Lumen Family]],MasterTable[[#This Row],[Lumen Family]])&\"-\"&MasterTable[[#This Row],[Arrangement]]&\"-xx\"","v":"BXRE-40E6500-C-xx"},13104,{"$f":"MasterTable[[#This Row],[Typical Lumens]]/(MasterTable[[#This Row],[Typical Voltage]]*MasterTable[[#This Row],[Typical Current]]/1000)","v":175},6.3966666666666672E-2,52,1440,2880,288,-1.9999999999999999E-23,2E-19,-2.9999999999999999E-7,4.0000000000000001E-3,46.912999999999997,1.6135000000000001E-11,-1.3017999999999999E-7,8.5225999999999998E-4,-9.9999999999999995E-8,null,null,null,null,null,null,-3.6592E-6,-1.0345506E-3,1.0240956264000001,null,null,null,null,-33.948999999999998,359.03,1109.9000000000001,-9.9999999999999995E-8]
["V22-C","40G","C",6500,"BXRE",{"$f":"MasterTable[[#This Row],[Product Family]]&\"-\"&MasterTable[[#This Row],[CCT/CRI]]&MasterTable[[#This Row],[Arrangement]]","v":"V22-C-40GC"},{"$f":"MasterTable[[#This Row],[Generation]]&\"-\"&MasterTable[[#This Row],[CCT/CRI]]&IF(MasterTable[[#This Row],[Lumen Family]]<999,\"0\"&MasterTable[[#This Row],[Lumen Family]],MasterTable[[#This Row],[Lumen Family]])&\"-\"&MasterTable[[#This Row],[Arrangement]]&\"-xx\"","v":"BXRE-40G6500-C-xx"},10932.48,{"$f":"MasterTable[[#This Row],[Typical Lumens]]/(MasterTable[[#This Row],[Typical Voltage]]*MasterTable[[#This Row],[Typical Current]]/1000)","v":146},6.3966666666666672E-2,52,1440,2880,288,-1.9999999999999999E-23,2E-19,-2.9999999999999999E-7,4.0000000000000001E-3,46.912999999999997,1.6135000000000001E-11,-1.3017999999999999E-7,8.5225999999999998E-4,-9.9999999999999995E-8,null,null,null,null,null,null,-3.6592E-6,-1.0345506E-3,1.0240956264000001,null,null,null,null,-33.948999999999998,359.03,1109.9000000000001,-9.9999999999999995E-8]
["V22-C","50C","C",6501,"BXRE",{"$f":"MasterTable[[#This Row],[Product Family]]&\"-\"&MasterTable[[#This Row],[CCT/CRI]]&MasterTable[[#This Row],[Arrangement]]","v":"V22-C-50CC"},{"$f":"MasterTable[[#This Row],[Generation]]&\"-\"&MasterTable[[#This Row],[CCT/CRI]]&IF(MasterTable[[#This Row],[Lumen Family]]<999,\"0\"&MasterTable[[#This Row],[Lumen Family]],MasterTable[[#This Row],[Lumen Family]])&\"-\"&MasterTable[[#This Row],[Arrangement]]&\"-xx\"","v":"BXRE-50C6501-C-xx"},13777.919999999998,{"$f":"MasterTable[[#This Row],[Typical Lumens]]/(MasterTable[[#This Row],[Typical Voltage]]*MasterTable[[#This Row],[Typical Current]]/1000)","v":184},6.3966666666666672E-2,52,1440,2880,288,-1.9999999999999999E-23,2E-19,-2.9999999999999999E-7,4.0000000000000001E-3,46.912999999999997,1.6135000000000001E-11,-1.3017999999999999E-7,8.5225999999999998E-4,-9.9999999999999995E-8,null,null,null,null,null,null,-3.6592E-6,-1.0345506E-3,1.0240956264000001,null,null,null,null,-33.948999999999998,359.03,1109.9000000000001,-9.9999999999999995E-8]
["V22-C","50E","C",6501,"BXRE",{"$f":"MasterTable[[#This Row],[Product Family]]&\"-\"&MasterTable[[#This Row],[CCT/CRI]]&MasterTable[[#This Row],[Arrangement]]","v":"V22-C-50EC"},{"$f":"MasterTable[[#This Row],[Generation]]&\"-\"&MasterTable[[#This Row],[CCT/CRI]]&IF(MasterTable[[#This Row],[Lumen Family]]<999,\"0\"&MasterTable[[#This Row],[Lumen Family]],MasterTable[[#This Row],[Lumen Family]])&\"-\"&MasterTable[[#This Row],[Arrangement]]&\"-xx\"","v":"BXRE-50E6501-C-xx"},13253.759999999998,{"$f":"MasterTable[[#This Row],[Typical Lumens]]/(MasterTable[[#This Row],[Typical Voltage]]*MasterTable[[#This Row],[Typical Current]]/1000)","v":177},6.3966666666666672E-2,52,1440,2880,288,-1.9999999999999999E-23,2E-19,-2.9999999999999999E-7,4.0000000000000001E-3,46.912999999999997,1.6135000000000001E-11,-1.3017999999999999E-7,8.5225999999999998E-4,-9.9999999999999995E-8,null,null,null,null,null,null,-3.6592E-6,-1.0345506E-3,1.0240956264000001,null,null,null,null,-33.948999999999998,359.03,1109.9000000000001,-9.9999999999999995E-8]
["V22-C","50G","C",6501,"BXRE",{"$f":"MasterTable[[#This Row],[Product Family]]&\"-\"&MasterTable[[#This Row],[CCT/CRI]]&MasterTable[[#This Row],[Arrangement]]","v":"V22-C-50GC"},{"$f":"MasterTable[[#This Row],[Generation]]&\"-\"&MasterTable[[#This Row],[CCT/CRI]]&IF(MasterTable[[#This Row],[Lumen Family]]<999,\"0\"&MasterTable[[#This Row],[Lumen Family]],MasterTable[[#This Row],[Lumen Family]])&\"-\"&MasterTable[[#This Row],[Arrangement]]&\"-xx\"","v":"BXRE-50G6501-C-xx"},11456.64,{"$f":"MasterTable[[#This Row],[Typical Lumens]]/(MasterTable[[#This Row],[Typical Voltage]]*MasterTable[[#This Row],[Typical Current]]/1000)","v":153},6.3966666666666672E-2,52,1440,2880,288,-1.9999999999999999E-23,2E-19,-2.9999999999999999E-7,4.0000000000000001E-3,46.912999999999997,1.6135000000000001E-11,-1.3017999999999999E-7,8.5225999999999998E-4,-9.9999999999999995E-8,null,null,null,null,null,null,-3.6592E-6,-1.0345506E-3,1.0240956264000001,null,null,null,null,-33.948999999999998,359.03,1109.9000000000001,-9.9999999999999995E-8]
["V22-C","57C","C",6501,"BXRE",{"$f":"MasterTable[[#This Row],[Product Family]]&\"-\"&MasterTable[[#This Row],[CCT/CRI]]&MasterTable[[#This Row],[Arrangement]]","v":"V22-C-57CC"},{"$f":"MasterTable[[#This Row],[Generation]]&\"-\"&MasterTable[[#This Row],[CCT/CRI]]&IF(MasterTable[[#This Row],[Lumen Family]]<999,\"0\"&MasterTable[[#This Row],[Lumen Family]],MasterTable[[#This Row],[Lumen Family]])&\"-\"&MasterTable[[#This Row],[Arrangement]]&\"-xx\"","v":"BXRE-57C6501-C-xx"},13403.519999999999,{"$f":"MasterTable[[#This Row],[Typical Lumens]]/(MasterTable[[#This Row],[Typical Voltage]]*MasterTable[[#This Row],[Typical Current]]/1000)","v":179},6.3966666666666672E-2,52,1440,2880,288,-1.9999999999999999E-23,2E-19,-2.9999999999999999E-7,4.0000000000000001E-3,46.912999999999997,1.6135000000000001E-11,-1.3017999999999999E-7,8.5225999999999998E-4,-9.9999999999999995E-8,null,null,null,null,null,null,-3.6592E-6,-1.0345506E-3,1.0240956264000001,null,null,null,null,-33.948999999999998,359.03,1109.9000000000001,-9.9999999999999995E-8]
["V22-C","57E","C",6501,"BXRE",{"$f":"MasterTable[[#This Row],[Product Family]]&\"-\"&MasterTable[[#This Row],[CCT/CRI]]&MasterTable[[#This Row],[Arrangement]]","v":"V22-C-57EC"},{"$f":"MasterTable[[#This Row],[Generation]]&\"-\"&MasterTable[[#This Row],[CCT/CRI]]&IF(MasterTable[[#This Row],[Lumen Family]]<999,\"0\"&MasterTable[[#This Row],[Lumen Family]],MasterTable[[#This Row],[Lumen Family]])&\"-\"&MasterTable[[#This Row],[Arrangement]]&\"-xx\"","v":"BXRE-57E6501-C-xx"},12729.599999999999,{"$f":"MasterTable[[#This Row],[Typical Lumens]]/(MasterTable[[#This Row],[Typical Voltage]]*MasterTable[[#This Row],[Typical Current]]/1000)","v":170},6.3966666666666672E-2,52,1440,2880,288,-1.9999999999999999E-23,2E-19,-2.9999999999999999E-7,4.0000000000000001E-3,46.912999999999997,1.6135000000000001E-11,-1.3017999999999999E-7,8.5225999999999998E-4,-9.9999999999999995E-8,null,null,null,null,null,null,-3.6592E-6,-1.0345506E-3,1.0240956264000001,null,null,null,null,-33.948999999999998,359.03,1109.9000000000001,-9.9999999999999995E-8]
["V22-C","65C","C",6501,"BXRE",{"$f":"MasterTable[[#This Row],[Product Family]]&\"-\"&MasterTable[[#This Row],[CCT/CRI]]&MasterTable[[#This Row],[Arrangement]]","v":"V22-C-65CC"},{"$f":"MasterTable[[#This Row],[Generation]]&\"-\"&MasterTable[[#This Row],[CCT/CRI]]&IF(MasterTable[[#This Row],[Lumen Family]]<999,\"0\"&MasterTable[[#This Row],[Lumen Family]],MasterTable[[#This Row],[Lumen Family]])&\"-\"&MasterTable[[#This Row],[Arrangement]]&\"-xx\"","v":"BXRE-65C6501-C-xx"},13403.519999999999,{"$f":"MasterTable[[#This Row],[Typical Lumens]]/(MasterTable[[#This Row],[Typical Voltage]]*MasterTable[[#This Row],[Typical Current]]/1000)","v":179},6.3966666666666672E-2,52,1440,2880,288,-1.9999999999999999E-23,2E-19,-2.9999999999999999E-7,4.0000000000000001E-3,46.912999999999997,1.6135000000000001E-11,-1.3017999999999999E-7,8.5225999999999998E-4,-9.9999999999999995E-8,null,null,null,null,null,null,-3.6592E-6,-1.0345506E-3,1.0240956264000001,null,null,null,null,-33.948999999999998,359.03,1109.9000000000001,-9.9999999999999995E-8]
["V22-C","65E","C",6501,"BXRE",{"$f":"MasterTable[[#This Row],[Product Family]]&\"-\"&MasterTable[[#This Row],[CCT/CRI]]&MasterTable[[#This Row],[Arrangement]]","v":"V22-C-65EC"},{"$f":"MasterTable[[#This Row],[Generation]]&\"-\"&MasterTable[[#This Row],[CCT/CRI]]&IF(MasterTable[[#This Row],[Lumen Family]]<999,\"0\"&MasterTable[[#This Row],[Lumen Family]],MasterTable[[#This Row],[Lumen Family]])&\"-\"&MasterTable[[#This Row],[Arrangement]]&\"-xx\"","v":"BXRE-65E6501-C-xx"},12879.359999999999,{"$f":"MasterTable[[#This Row],[Typical Lumens]]/(MasterTable[[#This Row],[Typical Voltage]]*MasterTable[[#This Row],[Typical Current]]/1000)","v":172},6.3966666666666672E-2,52,1440,2880,288,-1.9999999999999999E-23,2E-19,-2.9999999999999999E-7,4.0000000000000001E-3,46.912999999999997,1.6135000000000001E-11,-1.3017999999999999E-7,8.5225999999999998E-4,-9.9999999999999995E-8,null,null,null,null,null,null,-3.6592E-6,-1.0345506E-3,1.0240956264000001,null,null,null,null,-33.948999999999998,359.03,1109.9000000000001,-9.9999999999999995E-8]
["V22-D","30E","D",6500,"BXRE",{"$f":"MasterTable[[#This Row],[Product Family]]&\"-\"&MasterTable[[#This Row],[CCT/CRI]]&MasterTable[[#This Row],[Arrangement]]","v":"V22-D-30ED"},{"$f":"MasterTable[[#This Row],[Generation]]&\"-\"&MasterTable[[#This Row],[CCT/CRI]]&IF(MasterTable[[#This Row],[Lumen Family]]<999,\"0\"&MasterTable[[#This Row],[Lumen Family]],MasterTable[[#This Row],[Lumen Family]])&\"-\"&MasterTable[[#This Row],[Arrangement]]&\"-xx\"","v":"BXRE-30E6500-D-xx"},8330,{"$f":"MasterTable[[#This Row],[Typical Lumens]]/(MasterTable[[#This Row],[Typical Voltage]]*MasterTable[[#This Row],[Typical Current]]/1000)","v":170.97701149425291},7.0000000000000007E-2,34.799999999999997,1400,2800,null,null,2.0000000000000001E-10,-1.2157000000000001E-6,3.9812481999999998E-3,29.725527276000001,2.9577999999999998E-13,-3.5673999999999999E-8,7.6247999999999995E-4,-9.9999999999999995E-8,null,null,null,null,null,null,-3.6592E-6,-1.0345506E-3,1.0240956264000001,null,null,null,null,16.994,69.406999999999996,1315.8,-9.9999999999999995E-8]
["V22-D","17E","D",6500,"BXRE",{"$f":"MasterTable[[#This Row],[Product Family]]&\"-\"&MasterTable[[#This Row],[CCT/CRI]]&MasterTable[[#This Row],[Arrangement]]","v":"V22-D-17ED"},{"$f":"MasterTable[[#This Row],[Generation]]&\"-\"&MasterTable[[#This Row],[CCT/CRI]]&IF(MasterTable[[#This Row],[Lumen Family]]<999,\"0\"&MasterTable[[#This Row],[Lumen Family]],MasterTable[[#This Row],[Lumen Family]])&\"-\"&MasterTable[[#This Row],[Arrangement]]&\"-xx\"","v":"BXRE-17E6500-D-xx"},4508,{"$f":"MasterTable[[#This Row],[Typical Lumens]]/(MasterTable[[#This Row],[Typical Voltage]]*MasterTable[[#This Row],[Typical Current]]/1000)","v":92.528735632183924},7.0000000000000007E-2,34.799999999999997,1400,2800,null,null,2.0000000000000001E-10,-1.2157000000000001E-6,3.9812481999999998E-3,29.725527276000001,2.9577999999999998E-13,-3.5673999999999999E-8,7.6247999999999995E-4,-9.9999999999999995E-8,null,null,null,null,null,null,-3.6592E-6,-1.0345506E-3,1.0240956264000001,null,null,null,null,16.994,69.406999999999996,1315.8,-9.9999999999999995E-8]
["V22-D","20B","D",6501,"BXRE",{"$f":"MasterTable[[#This Row],[Product Family]]&\"-\"&MasterTable[[#This Row],[CCT/CRI]]&MasterTable[[#This Row],[Arrangement]]","v":"V22-D-20BD"},{"$f":"MasterTable[[#This Row],[Generation]]&\"-\"&MasterTable[[#This Row],[CCT/CRI]]&IF(MasterTable[[#This Row],[Lumen Family]]<999,\"0\"&MasterTable[[#This Row],[Lumen Family]],MasterTable[[#This Row],[Lumen Family]])&\"-\"&MasterTable[[#This Row],[Arrangement]]&\"-xx\"","v":"BXRE-20B6501-D-xx"},7693,{"$f":"MasterTable[[#This Row],[Typical Lumens]]/(MasterTable[[#This Row],[Typical Voltage]]*MasterTable[[#This Row],[Typical Current]]/1000)","v":157.90229885057474},7.0000000000000007E-2,34.799999999999997,1400,2800,null,null,2.0000000000000001E-10,-1.2157000000000001E-6,3.9812481999999998E-3,29.725527276000001,2.9577999999999998E-13,-3.5673999999999999E-8,7.6247999999999995E-4,-9.9999999999999995E-8,null,null,null,null,null,null,-3.6592E-6,-1.0345506E-3,1.0240956264000001,null,null,null,null,16.994,69.406999999999996,1315.8,-9.9999999999999995E-8]
["V22-D","25E","D",6500,"BXRE",{"$f":"MasterTable[[#This Row],[Product Family]]&\"-\"&MasterTable[[#This Row],[CCT/CRI]]&MasterTable[[#This Row],[Arrangement]]","v":"V22-D-25ED"},{"$f":"MasterTable[[#This Row],[Generation]]&\"-\"&MasterTable[[#This Row],[CCT/CRI]]&IF(MasterTable[[#This Row],[Lumen Family]]<999,\"0\"&MasterTable[[#This Row],[Lumen Family]],MasterTable[[#This Row],[Lumen Family]])&\"-\"&MasterTable[[#This Row],[Arrangement]]&\"-xx\"","v":"BXRE-25E6500-D-xx"},7497,{"$f":"MasterTable[[#This Row],[Typical Lumens]]/(MasterTable[[#This Row],[Typical Voltage]]*MasterTable[[#This Row],[Typical Current]]/1000)","v":153.87931034482762},7.0000000000000007E-2,34.799999999999997,1400,2800,null,null,2.0000000000000001E-10,-1.2157000000000001E-6,3.9812481999999998E-3,29.725527276000001,2.9577999999999998E-13,-3.5673999999999999E-8,7.6247999999999995E-4,-9.9999999999999995E-8,null,null,null,null,null,null,-3.6592E-6,-1.0345506E-3,1.0240956264000001,null,null,null,null,16.994,69.406999999999996,1315.8,-9.9999999999999995E-8]
["V22-D","27E","D",6500,"BXRE",{"$f":"MasterTable[[#This Row],[Product Family]]&\"-\"&MasterTable[[#This Row],[CCT/CRI]]&MasterTable[[#This Row],[Arrangement]]","v":"V22-D-27ED"},{"$f":"MasterTable[[#This Row],[Generation]]&\"-\"&MasterTable[[#This Row],[CCT/CRI]]&IF(MasterTable[[#This Row],[Lumen Family]]<999,\"0\"&MasterTable[[#This Row],[Lumen Family]],MasterTable[[#This Row],[Lumen Family]])&\"-\"&MasterTable[[#This Row],[Arrangement]]&\"-xx\"","v":"BXRE-27E6500-D-xx"},7840,{"$f":"MasterTable[[#This Row],[Typical Lumens]]/(MasterTable[[#This Row],[Typical Voltage]]*MasterTable[[#This Row],[Typical Current]]/1000)","v":160.91954022988509},7.0000000000000007E-2,34.799999999999997,1400,2800,null,null,2.0000000000000001E-10,-1.2157000000000001E-6,3.9812481999999998E-3,29.725527276000001,2.9577999999999998E-13,-3.5673999999999999E-8,7.6247999999999995E-4,-9.9999999999999995E-8,null,null,null,null,null,null,-3.6592E-6,-1.0345506E-3,1.0240956264000001,null,null,null,null,16.994,69.406999999999996,1315.8,-9.9999999999999995E-8]
["V22-D","27G","D",6500,"BXRE",{"$f":"MasterTable[[#This Row],[Product Family]]&\"-\"&MasterTable[[#This Row],[CCT/CRI]]&MasterTable[[#This Row],[Arrangement]]","v":"V22-D-27GD"},{"$f":"MasterTable[[#This Row],[Generation]]&\"-\"&MasterTable[[#This Row],[CCT/CRI]]&IF(MasterTable[[#This Row],[Lumen Family]]<999,\"0\"&MasterTable[[#This Row],[Lumen Family]],MasterTable[[#This Row],[Lumen Family]])&\"-\"&MasterTable[[#This Row],[Arrangement]]&\"-xx\"","v":"BXRE-27G6500-D-xx"},6468,{"$f":"MasterTable[[#This Row],[Typical Lumens]]/(MasterTable[[#This Row],[Typical Voltage]]*MasterTable[[#This Row],[Typical Current]]/1000)","v":132.7586206896552},7.0000000000000007E-2,34.799999999999997,1400,2800,null,null,2.0000000000000001E-10,-1.2157000000000001E-6,3.9812481999999998E-3,29.725527276000001,2.9577999999999998E-13,-3.5673999999999999E-8,7.6247999999999995E-4,-9.9999999999999995E-8,null,null,null,null,null,null,-3.6592E-6,-1.0345506E-3,1.0240956264000001,null,null,null,null,16.994,69.406999999999996,1315.8,-9.9999999999999995E-8]
["V22-D","27H","D",6500,"BXRE",{"$f":"MasterTable[[#This Row],[Product Family]]&\"-\"&MasterTable[[#This Row],[CCT/CRI]]&MasterTable[[#This Row],[Arrangement]]","v":"V22-D-27HD"},{"$f":"MasterTable[[#This Row],[Generation]]&\"-\"&MasterTable[[#This Row],[CCT/CRI]]&IF(MasterTable[[#This Row],[Lumen Family]]<999,\"0\"&MasterTable[[#This Row],[Lumen Family]],MasterTable[[#This Row],[Lumen Family]])&\"-\"&MasterTable[[#This Row],[Arrangement]]&\"-xx\"","v":"BXRE-27H6500-D-xx"},5733,{"$f":"MasterTable[[#This Row],[Typical Lumens]]/(MasterTable[[#This Row],[Typical Voltage]]*MasterTable[[#This Row],[Typical Current]]/1000)","v":117.67241379310347},7.0000000000000007E-2,34.799999999999997,1400,2800,null,null,2.0000000000000001E-10,-1.2157000000000001E-6,3.9812481999999998E-3,29.725527276000001,2.9577999999999998E-13,-3.5673999999999999E-8,7.6247999999999995E-4,-9.9999999999999995E-8,null,null,null,null,null,null,-3.6592E-6,-1.0345506E-3,1.0240956264000001,null,null,null,null,16.994,69.406999999999996,1315.8,-9.9999999999999995E-8]
["V22-D","27G-H","D","65H0","BXRE",{"$f":"MasterTable[[#This Row],[Product Family]]&\"-\"&MasterTable[[#This Row],[CCT/CRI]]&MasterTable[[#This Row],[Arrangement]]","v":"V22-D-27G-HD"},"BXRE-27G-65H0-D-xx",6713,{"$f":"MasterTable[[#This Row],[Typical Lumens]]/(MasterTable[[#This Row],[Typical Voltage]]*MasterTable[[#This Row],[Typical Current]]/1000)","v":137.7873563218391},7.0000000000000007E-2,34.799999999999997,1400,2800,null,null,2.0000000000000001E-10,-1.2157000000000001E-6,3.9812481999999998E-3,29.725527276000001,2.9577999999999998E-13,-3.5673999999999999E-8,7.6247999999999995E-4,-9.9999999999999995E-8,null,null,null,null,null,null,-3.6592E-6,-1.0345506E-3,1.0240956264000001,null,null,null,null,16.994,69.406999999999996,1315.8,-9.9999999999999995E-8]
["V22-D","30G-H","D","65H0","BXRE",{"$f":"MasterTable[[#This Row],[Product Family]]&\"-\"&MasterTable[[#This Row],[CCT/CRI]]&MasterTable[[#This Row],[Arrangement]]","v":"V22-D-30G-HD"},"BXRE-30G-65H0-D-xx",7056,{"$f":"MasterTable[[#This Row],[Typical Lumens]]/(MasterTable[[#This Row],[Typical Voltage]]*MasterTable[[#This Row],[Typical Current]]/1000)","v":144.82758620689657},7.0000000000000007E-2,34.799999999999997,1400,2800,null,null,2.0000000000000001E-10,-1.2157000000000001E-6,3.9812481999999998E-3,29.725527276000001,2.9577999999999998E-13,-3.5673999999999999E-8,7.6247999999999995E-4,-9.9999999999999995E-8,null,null,null,null,null,null,-3.6592E-6,-1.0345506E-3,1.0240956264000001,null,null,null,null,16.994,69.406999999999996,1315.8,-9.9999999999999995E-8]
["V22-D","30C","D",6501,"BXRE",{"$f":"MasterTable[[#This Row],[Product Family]]&\"-\"&MasterTable[[#This Row],[CCT/CRI]]&MasterTable[[#This Row],[Arrangement]]","v":"V22-D-30CD"},{"$f":"MasterTable[[#This Row],[Generation]]&\"-\"&MasterTable[[#This Row],[CCT/CRI]]&IF(MasterTable[[#This Row],[Lumen Family]]<999,\"0\"&MasterTable[[#This Row],[Lumen Family]],MasterTable[[#This Row],[Lumen Family]])&\"-\"&MasterTable[[#This Row],[Arrangement]]&\"-xx\"","v":"BXRE-30C6501-D-xx"},8722,{"$f":"MasterTable[[#This Row],[Typical Lumens]]/(MasterTable[[#This Row],[Typical Voltage]]*MasterTable[[#This Row],[Typical Current]]/1000)","v":179.02298850574715},7.0000000000000007E-2,34.799999999999997,1400,2800,null,null,2.0000000000000001E-10,-1.2157000000000001E-6,3.9812481999999998E-3,29.725527276000001,2.9577999999999998E-13,-3.5673999999999999E-8,7.6247999999999995E-4,-9.9999999999999995E-8,null,null,null,null,null,null,-3.6592E-6,-1.0345506E-3,1.0240956264000001,null,null,null,null,16.994,69.406999999999996,1315.8,-9.9999999999999995E-8]
["V22-D","30G","D",6500,"BXRE",{"$f":"MasterTable[[#This Row],[Product Family]]&\"-\"&MasterTable[[#This Row],[CCT/CRI]]&MasterTable[[#This Row],[Arrangement]]","v":"V22-D-30GD"},{"$f":"MasterTable[[#This Row],[Generation]]&\"-\"&MasterTable[[#This Row],[CCT/CRI]]&IF(MasterTable[[#This Row],[Lumen Family]]<999,\"0\"&MasterTable[[#This Row],[Lumen Family]],MasterTable[[#This Row],[Lumen Family]])&\"-\"&MasterTable[[#This Row],[Arrangement]]&\"-xx\"","v":"BXRE-30G6500-D-xx"},7056,{"$f":"MasterTable[[#This Row],[Typical Lumens]]/(MasterTable[[#This Row],[Typical Voltage]]*MasterTable[[#This Row],[Typical Current]]/1000)","v":144.82758620689657},7.0000000000000007E-2,34.799999999999997,1400,2800,null,null,2.0000000000000001E-10,-1.2157000000000001E-6,3.9812481999999998E-3,29.725527276000001,2.9577999999999998E-13,-3.5673999999999999E-8,7.6247999999999995E-4,-9.9999999999999995E-8,null,null,null,null,null,null,-3.6592E-6,-1.0345506E-3,1.0240956264000001,null,null,null,null,16.994,69.406999999999996,1315.8,-9.9999999999999995E-8]
["V22-D","30G-C","D","650C","BXRE",{"$f":"MasterTable[[#This Row],[Product Family]]&\"-\"&MasterTable[[#This Row],[CCT/CRI]]&MasterTable[[#This Row],[Arrangement]]","v":"V22-D-30G-CD"},"BXRE-30G650C-D-xx",6517,{"$f":"MasterTable[[#This Row],[Typical Lumens]]/(MasterTable[[#This Row],[Typical Voltage]]*MasterTable[[#This Row],[Typical Current]]/1000)","v":133.76436781609198},7.0000000000000007E-2,34.799999999999997,1400,2800,null,null,2.0000000000000001E-10,-1.2157000000000001E-6,3.9812481999999998E-3,29.725527276000001,2.9577999999999998E-13,-3.5673999999999999E-8,7.6247999999999995E-4,-9.9999999999999995E-8,null,null,null,null,null,null,-3.6592E-6,-1.0345506E-3,1.0240956264000001,null,null,null,null,16.994,69.406999999999996,1315.8,-9.9999999999999995E-8]
["V22-D","30H","D",6500,"BXRE",{"$f":"MasterTable[[#This Row],[Product Family]]&\"-\"&MasterTable[[#This Row],[CCT/CRI]]&MasterTable[[#This Row],[Arrangement]]","v":"V22-D-30HD"},{"$f":"MasterTable[[#This Row],[Generation]]&\"-\"&MasterTable[[#This Row],[CCT/CRI]]&IF(MasterTable[[#This Row],[Lumen Family]]<999,\"0\"&MasterTable[[#This Row],[Lumen Family]],MasterTable[[#This Row],[Lumen Family]])&\"-\"&MasterTable[[#This Row],[Arrangement]]&\"-xx\"","v":"BXRE-30H6500-D-xx"},6125,{"$f":"MasterTable[[#This Row],[Typical Lumens]]/(MasterTable[[#This Row],[Typical Voltage]]*MasterTable[[#This Row],[Typical Current]]/1000)","v":125.71839080459772},7.0000000000000007E-2,34.799999999999997,1400,2800,null,null,2.0000000000000001E-10,-1.2157000000000001E-6,3.9812481999999998E-3,29.725527276000001,2.9577999999999998E-13,-3.5673999999999999E-8,7.6247999999999995E-4,-9.9999999999999995E-8,null,null,null,null,null,null,-3.6592E-6,-1.0345506E-3,1.0240956264000001,null,null,null,null,16.994,69.406999999999996,1315.8,-9.9999999999999995E-8]
["V22-D","35E","D",6500,"BXRE",{"$f":"MasterTable[[#This Row],[Product Family]]&\"-\"&MasterTable[[#This Row],[CCT/CRI]]&MasterTable[[#This Row],[Arrangement]]","v":"V22-D-35ED"},{"$f":"MasterTable[[#This Row],[Generation]]&\"-\"&MasterTable[[#This Row],[CCT/CRI]]&IF(MasterTable[[#This Row],[Lumen Family]]<999,\"0\"&MasterTable[[#This Row],[Lumen Family]],MasterTable[[#This Row],[Lumen Family]])&\"-\"&MasterTable[[#This Row],[Arrangement]]&\"-xx\"","v":"BXRE-35E6500-D-xx"},8526,{"$f":"MasterTable[[#This Row],[Typical Lumens]]/(MasterTable[[#This Row],[Typical Voltage]]*MasterTable[[#This Row],[Typical Current]]/1000)","v":175.00000000000003},7.0000000000000007E-2,34.799999999999997,1400,2800,null,null,2.0000000000000001E-10,-1.2157000000000001E-6,3.9812481999999998E-3,29.725527276000001,2.9577999999999998E-13,-3.5673999999999999E-8,7.6247999999999995E-4,-9.9999999999999995E-8,null,null,null,null,null,null,-3.6592E-6,-1.0345506E-3,1.0240956264000001,null,null,null,null,16.994,69.406999999999996,1315.8,-9.9999999999999995E-8]
["V22-D","35G","D",6500,"BXRE",{"$f":"MasterTable[[#This Row],[Product Family]]&\"-\"&MasterTable[[#This Row],[CCT/CRI]]&MasterTable[[#This Row],[Arrangement]]","v":"V22-D-35GD"},{"$f":"MasterTable[[#This Row],[Generation]]&\"-\"&MasterTable[[#This Row],[CCT/CRI]]&IF(MasterTable[[#This Row],[Lumen Family]]<999,\"0\"&MasterTable[[#This Row],[Lumen Family]],MasterTable[[#This Row],[Lumen Family]])&\"-\"&MasterTable[[#This Row],[Arrangement]]&\"-xx\"","v":"BXRE-35G6500-D-xx"},7007,{"$f":"MasterTable[[#This Row],[Typical Lumens]]/(MasterTable[[#This Row],[Typical Voltage]]*MasterTable[[#This Row],[Typical Current]]/1000)","v":143.8218390804598},7.0000000000000007E-2,34.799999999999997,1400,2800,null,null,2.0000000000000001E-10,-1.2157000000000001E-6,3.9812481999999998E-3,29.725527276000001,2.9577999999999998E-13,-3.5673999999999999E-8,7.6247999999999995E-4,-9.9999999999999995E-8,null,null,null,null,null,null,-3.6592E-6,-1.0345506E-3,1.0240956264000001,null,null,null,null,16.994,69.406999999999996,1315.8,-9.9999999999999995E-8]
["V22-D","35A","D",6501,"BXRE",{"$f":"MasterTable[[#This Row],[Product Family]]&\"-\"&MasterTable[[#This Row],[CCT/CRI]]&MasterTable[[#This Row],[Arrangement]]","v":"V22-D-35AD"},{"$f":"MasterTable[[#This Row],[Generation]]&\"-\"&MasterTable[[#This Row],[CCT/CRI]]&IF(MasterTable[[#This Row],[Lumen Family]]<999,\"0\"&MasterTable[[#This Row],[Lumen Family]],MasterTable[[#This Row],[Lumen Family]])&\"-\"&MasterTable[[#This Row],[Arrangement]]&\"-xx\"","v":"BXRE-35A6501-D-xx"},6468,{"$f":"MasterTable[[#This Row],[Typical Lumens]]/(MasterTable[[#This Row],[Typical Voltage]]*MasterTable[[#This Row],[Typical Current]]/1000)","v":132.7586206896552},7.0000000000000007E-2,34.799999999999997,1400,2800,null,null,2.0000000000000001E-10,-1.2157000000000001E-6,3.9812481999999998E-3,29.725527276000001,2.9577999999999998E-13,-3.5673999999999999E-8,7.6247999999999995E-4,-9.9999999999999995E-8,null,null,null,null,null,null,-3.6592E-6,-1.0345506E-3,1.0240956264000001,null,null,null,null,16.994,69.406999999999996,1315.8,-9.9999999999999995E-8]
["V22-D","40C","D",6501,"BXRE",{"$f":"MasterTable[[#This Row],[Product Family]]&\"-\"&MasterTable[[#This Row],[CCT/CRI]]&MasterTable[[#This Row],[Arrangement]]","v":"V22-D-40CD"},{"$f":"MasterTable[[#This Row],[Generation]]&\"-\"&MasterTable[[#This Row],[CCT/CRI]]&IF(MasterTable[[#This Row],[Lumen Family]]<999,\"0\"&MasterTable[[#This Row],[Lumen Family]],MasterTable[[#This Row],[Lumen Family]])&\"-\"&MasterTable[[#This Row],[Arrangement]]&\"-xx\"","v":"BXRE-40C6501-D-xx"},8967,{"$f":"MasterTable[[#This Row],[Typical Lumens]]/(MasterTable[[#This Row],[Typical Voltage]]*MasterTable[[#This Row],[Typical Current]]/1000)","v":184.05172413793107},7.0000000000000007E-2,34.799999999999997,1400,2800,null,null,2.0000000000000001E-10,-1.2157000000000001E-6,3.9812481999999998E-3,29.725527276000001,2.9577999999999998E-13,-3.5673999999999999E-8,7.6247999999999995E-4,-9.9999999999999995E-8,null,null,null,null,null,null,-3.6592E-6,-1.0345506E-3,1.0240956264000001,null,null,null,null,16.994,69.406999999999996,1315.8,-9.9999999999999995E-8]
["V22-D","40E","D",6500,"BXRE",{"$f":"MasterTable[[#This Row],[Product Family]]&\"-\"&MasterTable[[#This Row],[CCT/CRI]]&MasterTable[[#This Row],[Arrangement]]","v":"V22-D-40ED"},{"$f":"MasterTable[[#This Row],[Generation]]&\"-\"&MasterTable[[#This Row],[CCT/CRI]]&IF(MasterTable[[#This Row],[Lumen Family]]<999,\"0\"&MasterTable[[#This Row],[Lumen Family]],MasterTable[[#This Row],[Lumen Family]])&\"-\"&MasterTable[[#This Row],[Arrangement]]&\"-xx\"","v":"BXRE-40E6500-D-xx"},8575,{"$f":"MasterTable[[#This Row],[Typical Lumens]]/(MasterTable[[#This Row],[Typical Voltage]]*MasterTable[[#This Row],[Typical Current]]/1000)","v":176.0057471264368},7.0000000000000007E-2,34.799999999999997,1400,2800,null,null,2.0000000000000001E-10,-1.2157000000000001E-6,3.9812481999999998E-3,29.725527276000001,2.9577999999999998E-13,-3.5673999999999999E-8,7.6247999999999995E-4,-9.9999999999999995E-8,null,null,null,null,null,null,-3.5848E-6,-1.1148865E-3,1.0260294071,null,null,null,null,16.994,69.406999999999996,1315.8,-9.9999999999999995E-8]
["V22-D","40G","D",6500,"BXRE",{"$f":"MasterTable[[#This Row],[Product Family]]&\"-\"&MasterTable[[#This Row],[CCT/CRI]]&MasterTable[[#This Row],[Arrangement]]","v":"V22-D-40GD"},{"$f":"MasterTable[[#This Row],[Generation]]&\"-\"&MasterTable[[#This Row],[CCT/CRI]]&IF(MasterTable[[#This Row],[Lumen Family]]<999,\"0\"&MasterTable[[#This Row],[Lumen Family]],MasterTable[[#This Row],[Lumen Family]])&\"-\"&MasterTable[[#This Row],[Arrangement]]&\"-xx\"","v":"BXRE-40G6500-D-xx"},7154,{"$f":"MasterTable[[#This Row],[Typical Lumens]]/(MasterTable[[#This Row],[Typical Voltage]]*MasterTable[[#This Row],[Typical Current]]/1000)","v":146.83908045977014},7.0000000000000007E-2,34.799999999999997,1400,2800,null,null,2.0000000000000001E-10,-1.2157000000000001E-6,3.9812481999999998E-3,29.725527276000001,2.9577999999999998E-13,-3.5673999999999999E-8,7.6247999999999995E-4,-9.9999999999999995E-8,null,null,null,null,null,null,-3.5848E-6,-1.1148865E-3,1.0260294071,null,null,null,null,16.994,69.406999999999996,1315.8,-9.9999999999999995E-8]
["V22-D","50C","D",6501,"BXRE",{"$f":"MasterTable[[#This Row],[Product Family]]&\"-\"&MasterTable[[#This Row],[CCT/CRI]]&MasterTable[[#This Row],[Arrangement]]","v":"V22-D-50CD"},{"$f":"MasterTable[[#This Row],[Generation]]&\"-\"&MasterTable[[#This Row],[CCT/CRI]]&IF(MasterTable[[#This Row],[Lumen Family]]<999,\"0\"&MasterTable[[#This Row],[Lumen Family]],MasterTable[[#This Row],[Lumen Family]])&\"-\"&MasterTable[[#This Row],[Arrangement]]&\"-xx\"","v":"BXRE-50C6501-D-xx"},9016,{"$f":"MasterTable[[#This Row],[Typical Lumens]]/(MasterTable[[#This Row],[Typical Voltage]]*MasterTable[[#This Row],[Typical Current]]/1000)","v":185.05747126436785},7.0000000000000007E-2,34.799999999999997,1400,2800,null,null,2.0000000000000001E-10,-1.2157000000000001E-6,3.9812481999999998E-3,29.725527276000001,2.9577999999999998E-13,-3.5673999999999999E-8,7.6247999999999995E-4,-9.9999999999999995E-8,null,null,null,null,null,null,-6.9999999999999999E-6,-1E-3,1.0237000000000001,null,null,null,null,16.994,69.406999999999996,1315.8,-9.9999999999999995E-8]
["V22-D","50E","D",6501,"BXRE",{"$f":"MasterTable[[#This Row],[Product Family]]&\"-\"&MasterTable[[#This Row],[CCT/CRI]]&MasterTable[[#This Row],[Arrangement]]","v":"V22-D-50ED"},{"$f":"MasterTable[[#This Row],[Generation]]&\"-\"&MasterTable[[#This Row],[CCT/CRI]]&IF(MasterTable[[#This Row],[Lumen Family]]<999,\"0\"&MasterTable[[#This Row],[Lumen Family]],MasterTable[[#This Row],[Lumen Family]])&\"-\"&MasterTable[[#This Row],[Arrangement]]&\"-xx\"","v":"BXRE-50E6501-D-xx"},8673,{"$f":"MasterTable[[#This Row],[Typical Lumens]]/(MasterTable[[#This Row],[Typical Voltage]]*MasterTable[[#This Row],[Typical Current]]/1000)","v":178.01724137931038},7.0000000000000007E-2,34.799999999999997,1400,2800,null,null,2.0000000000000001E-10,-1.2157000000000001E-6,3.9812481999999998E-3,29.725527276000001,2.9577999999999998E-13,-3.5673999999999999E-8,7.6247999999999995E-4,-9.9999999999999995E-8,null,null,null,null,null,null,-6.9999999999999999E-6,-1E-3,1.0237000000000001,null,null,null,null,16.994,69.406999999999996,1315.8,-9.9999999999999995E-8]
["V22-D","50G","D",6501,"BXRE",{"$f":"MasterTable[[#This Row],[Product Family]]&\"-\"&MasterTable[[#This Row],[CCT/CRI]]&MasterTable[[#This Row],[Arrangement]]","v":"V22-D-50GD"},{"$f":"MasterTable[[#This Row],[Generation]]&\"-\"&MasterTable[[#This Row],[CCT/CRI]]&IF(MasterTable[[#This Row],[Lumen Family]]<999,\"0\"&MasterTable[[#This Row],[Lumen Family]],MasterTable[[#This Row],[Lumen Family]])&\"-\"&MasterTable[[#This Row],[Arrangement]]&\"-xx\"","v":"BXRE-50G6501-D-xx"},7497,{"$f":"MasterTable[[#This Row],[Typical Lumens]]/(MasterTable[[#This Row],[Typical Voltage]]*MasterTable[[#This Row],[Typical Current]]/1000)","v":153.87931034482762},7.0000000000000007E-2,34.799999999999997,1400,2800,null,null,2.0000000000000001E-10,-1.2157000000000001E-6,3.9812481999999998E-3,29.725527276000001,2.9577999999999998E-13,-3.5673999999999999E-8,7.6247999999999995E-4,-9.9999999999999995E-8,null,null,null,null,null,null,-6.9999999999999999E-6,-1E-3,1.0237000000000001,null,null,null,null,16.994,69.406999999999996,1315.8,-9.9999999999999995E-8]
["V22-D","56G","D",6501,"BXRE",{"$f":"MasterTable[[#This Row],[Product Family]]&\"-\"&MasterTable[[#This Row],[CCT/CRI]]&MasterTable[[#This Row],[Arrangement]]","v":"V22-D-56GD"},{"$f":"MasterTable[[#This Row],[Generation]]&\"-\"&MasterTable[[#This Row],[CCT/CRI]]&IF(MasterTable[[#This Row],[Lumen Family]]<999,\"0\"&MasterTable[[#This Row],[Lumen Family]],MasterTable[[#This Row],[Lumen Family]])&\"-\"&MasterTable[[#This Row],[Arrangement]]&\"-xx\"","v":"BXRE-56G6501-D-xx"},7546,{"$f":"MasterTable[[#This Row],[Typical Lumens]]/(MasterTable[[#This Row],[Typical Voltage]]*MasterTable[[#This Row],[Typical Current]]/1000)","v":154.88505747126439},7.0000000000000007E-2,34.799999999999997,1400,2800,null,null,2.0000000000000001E-10,-1.2157000000000001E-6,3.9812481999999998E-3,29.725527276000001,2.9577999999999998E-13,-3.5673999999999999E-8,7.6247999999999995E-4,-9.9999999999999995E-8,null,null,null,null,null,null,-6.9999999999999999E-6,-1E-3,1.0237000000000001,null,null,null,null,16.994,69.406999999999996,1315.8,-9.9999999999999995E-8]
["V22-D","57C","D",6501,"BXRE",{"$f":"MasterTable[[#This Row],[Product Family]]&\"-\"&MasterTable[[#This Row],[CCT/CRI]]&MasterTable[[#This Row],[Arrangement]]","v":"V22-D-57CD"},{"$f":"MasterTable[[#This Row],[Generation]]&\"-\"&MasterTable[[#This Row],[CCT/CRI]]&IF(MasterTable[[#This Row],[Lumen Family]]<999,\"0\"&MasterTable[[#This Row],[Lumen Family]],MasterTable[[#This Row],[Lumen Family]])&\"-\"&MasterTable[[#This Row],[Arrangement]]&\"-xx\"","v":"BXRE-57C6501-D-xx"},8771,{"$f":"MasterTable[[#This Row],[Typical Lumens]]/(MasterTable[[#This Row],[Typical Voltage]]*MasterTable[[#This Row],[Typical Current]]/1000)","v":180.02873563218395},7.0000000000000007E-2,34.799999999999997,1400,2800,null,null,2.0000000000000001E-10,-1.2157000000000001E-6,3.9812481999999998E-3,29.725527276000001,2.9577999999999998E-13,-3.5673999999999999E-8,7.6247999999999995E-4,-9.9999999999999995E-8,null,null,null,null,null,null,-6.9999999999999999E-6,-1E-3,1.0237000000000001,null,null,null,null,16.994,69.406999999999996,1315.8,-9.9999999999999995E-8]
["V22-D","57E","D",6501,"BXRE",{"$f":"MasterTable[[#This Row],[Product Family]]&\"-\"&MasterTable[[#This Row],[CCT/CRI]]&MasterTable[[#This Row],[Arrangement]]","v":"V22-D-57ED"},{"$f":"MasterTable[[#This Row],[Generation]]&\"-\"&MasterTable[[#This Row],[CCT/CRI]]&IF(MasterTable[[#This Row],[Lumen Family]]<999,\"0\"&MasterTable[[#This Row],[Lumen Family]],MasterTable[[#This Row],[Lumen Family]])&\"-\"&MasterTable[[#This Row],[Arrangement]]&\"-xx\"","v":"BXRE-57E6501-D-xx"},8330,{"$f":"MasterTable[[#This Row],[Typical Lumens]]/(MasterTable[[#This Row],[Typical Voltage]]*MasterTable[[#This Row],[Typical Current]]/1000)","v":170.97701149425291},7.0000000000000007E-2,34.799999999999997,1400,2800,null,null,2.0000000000000001E-10,-1.2157000000000001E-6,3.9812481999999998E-3,29.725527276000001,2.9577999999999998E-13,-3.5673999999999999E-8,7.6247999999999995E-4,-9.9999999999999995E-8,null,null,null,null,null,null,-6.9999999999999999E-6,-1E-3,1.0237000000000001,null,null,null,null,16.994,69.406999999999996,1315.8,-9.9999999999999995E-8]
["V22-D","65C","D",6501,"BXRE",{"$f":"MasterTable[[#This Row],[Product Family]]&\"-\"&MasterTable[[#This Row],[CCT/CRI]]&MasterTable[[#This Row],[Arrangement]]","v":"V22-D-65CD"},{"$f":"MasterTable[[#This Row],[Generation]]&\"-\"&MasterTable[[#This Row],[CCT/CRI]]&IF(MasterTable[[#This Row],[Lumen Family]]<999,\"0\"&MasterTable[[#This Row],[Lumen Family]],MasterTable[[#This Row],[Lumen Family]])&\"-\"&MasterTable[[#This Row],[Arrangement]]&\"-xx\"","v":"BXRE-65C6501-D-xx"},8771,{"$f":"MasterTable[[#This Row],[Typical Lumens]]/(MasterTable[[#This Row],[Typical Voltage]]*MasterTable[[#This Row],[Typical Current]]/1000)","v":180.02873563218395},7.0000000000000007E-2,34.799999999999997,1400,2800,null,null,2.0000000000000001E-10,-1.2157000000000001E-6,3.9812481999999998E-3,29.725527276000001,2.9577999999999998E-13,-3.5673999999999999E-8,7.6247999999999995E-4,-9.9999999999999995E-8,null,null,null,null,null,null,-6.9999999999999999E-6,-1E-3,1.0237000000000001,null,null,null,null,16.994,69.406999999999996,1315.8,-9.9999999999999995E-8]
["V22-D","65E","D",6501,"BXRE",{"$f":"MasterTable[[#This Row],[Product Family]]&\"-\"&MasterTable[[#This Row],[CCT/CRI]]&MasterTable[[#This Row],[Arrangement]]","v":"V22-D-65ED"},{"$f":"MasterTable[[#This Row],[Generation]]&\"-\"&MasterTable[[#This Row],[CCT/CRI]]&IF(MasterTable[[#This Row],[Lumen Family]]<999,\"0\"&MasterTable[[#This Row],[Lumen Family]],MasterTable[[#This Row],[Lumen Family]])&\"-\"&MasterTable[[#This Row],[Arrangement]]&\"-xx\"","v":"BXRE-65E6501-D-xx"},8428,{"$f":"MasterTable[[#This Row],[Typical Lumens]]/(MasterTable[[#This Row],[Typical Voltage]]*MasterTable[[#This Row],[Typical Current]]/1000)","v":172.98850574712645},7.0000000000000007E-2,34.799999999999997,1400,2800,null,null,2.0000000000000001E-10,-1.2157000000000001E-6,3.9812481999999998E-3,29.725527276000001,2.9577999999999998E-13,-3.5673999999999999E-8,7.6247999999999995E-4,-9.9999999999999995E-8,null,null,null,null,null,null,-6.9999999999999999E-6,-1E-3,1.0237000000000001,null,null,null,null,16.994,69.406999999999996,1315.8,-9.9999999999999995E-8]
["Vero 10-B","30E","B",1000,"BXRC",{"$f":"MasterTable[[#This Row],[Product Family]]&\"-\"&MasterTable[[#This Row],[CCT/CRI]]&MasterTable[[#This Row],[Arrangement]]","v":"Vero 10-B-30EB"},{"$f":"MasterTable[[#This Row],[Generation]]&\"-\"&MasterTable[[#This Row],[CCT/CRI]]&IF(MasterTable[[#This Row],[Lumen Family]]<999,\"0\"&MasterTable[[#This Row],[Lumen Family]],MasterTable[[#This Row],[Lumen Family]])&\"-\"&MasterTable[[#This Row],[Arrangement]]&\"-xx\"","v":"BXRC-30E1000-B-xx"},1549,{"$f":"MasterTable[[#This Row],[Typical Lumens]]/(MasterTable[[#This Row],[Typical Voltage]]*MasterTable[[#This Row],[Typical Current]]/1000)","v":164.85738612175393},0.49075000000000002,34.799999999999997,270,540,36,null,null,-5.0000000000000004E-6,1.4500000000000001E-2,31.388000000000002,6.8448E-10,-1.5365E-6,4.1148000000000001E-3,-9.9999999999999995E-8,null,null,null,null,null,null,-3.6592E-6,-1.0345506E-3,1.0240956264000001,null,null,null,null,-0.98318000000000005,26.027999999999999,241.46,-9.9999999999999995E-8]
["Vero 10-B","20B","B",1001,"BXRC",{"$f":"MasterTable[[#This Row],[Product Family]]&\"-\"&MasterTable[[#This Row],[CCT/CRI]]&MasterTable[[#This Row],[Arrangement]]","v":"Vero 10-B-20BB"},{"$f":"MasterTable[[#This Row],[Generation]]&\"-\"&MasterTable[[#This Row],[CCT/CRI]]&IF(MasterTable[[#This Row],[Lumen Family]]<999,\"0\"&MasterTable[[#This Row],[Lumen Family]],MasterTable[[#This Row],[Lumen Family]])&\"-\"&MasterTable[[#This Row],[Arrangement]]&\"-xx\"","v":"BXRC-20B1001-B-xx"},1431,{"$f":"MasterTable[[#This Row],[Typical Lumens]]/(MasterTable[[#This Row],[Typical Voltage]]*MasterTable[[#This Row],[Typical Current]]/1000)","v":152.29885057471262},0.49075000000000002,34.799999999999997,270,{"$f":"L439*2","v":540},36,null,null,-5.0000000000000004E-6,1.4500000000000001E-2,31.388000000000002,6.8448E-10,-1.5365E-6,4.1148000000000001E-3,-9.9999999999999995E-8,null,null,null,null,null,null,-3.6592E-6,-1.0345506E-3,1.0240956264000001,null,null,null,null,-0.98318000000000005,26.027999999999999,241.46,-9.9999999999999995E-8]
["Vero 10-B","27E","B",1000,"BXRC",{"$f":"MasterTable[[#This Row],[Product Family]]&\"-\"&MasterTable[[#This Row],[CCT/CRI]]&MasterTable[[#This Row],[Arrangement]]","v":"Vero 10-B-27EB"},{"$f":"MasterTable[[#This Row],[Generation]]&\"-\"&MasterTable[[#This Row],[CCT/CRI]]&IF(MasterTable[[#This Row],[Lumen Family]]<999,\"0\"&MasterTable[[#This Row],[Lumen Family]],MasterTable[[#This Row],[Lumen Family]])&\"-\"&MasterTable[[#This Row],[Arrangement]]&\"-xx\"","v":"BXRC-27E1000-B-xx"},1458,{"$f":"MasterTable[[#This Row],[Typical Lumens]]/(MasterTable[[#This Row],[Typical Voltage]]*MasterTable[[#This Row],[Typical Current]]/1000)","v":155.17241379310343},0.49075000000000002,34.799999999999997,270,540,36,null,null,-5.0000000000000004E-6,1.4500000000000001E-2,31.388000000000002,6.8448E-10,-1.5365E-6,4.1148000000000001E-3,-9.9999999999999995E-8,null,null,null,null,null,null,-3.6592E-6,-1.0345506E-3,1.0240956264000001,null,null,null,null,-0.98318000000000005,26.027999999999999,241.46,-9.9999999999999995E-8]
["Vero 10-B","27G","B",1000,"BXRC",{"$f":"MasterTable[[#This Row],[Product Family]]&\"-\"&MasterTable[[#This Row],[CCT/CRI]]&MasterTable[[#This Row],[Arrangement]]","v":"Vero 10-B-27GB"},{"$f":"MasterTable[[#This Row],[Generation]]&\"-\"&MasterTable[[#This Row],[CCT/CRI]]&IF(MasterTable[[#This Row],[Lumen Family]]<999,\"0\"&MasterTable[[#This Row],[Lumen Family]],MasterTable[[#This Row],[Lumen Family]])&\"-\"&MasterTable[[#This Row],[Arrangement]]&\"-xx\"","v":"BXRC-27G1000-B-xx"},1203,{"$f":"MasterTable[[#This Row],[Typical Lumens]]/(MasterTable[[#This Row],[Typical Voltage]]*MasterTable[[#This Row],[Typical Current]]/1000)","v":128.03320561941251},0.49075000000000002,34.799999999999997,270,540,36,null,null,-5.0000000000000004E-6,1.4500000000000001E-2,31.388000000000002,6.8448E-10,-1.5365E-6,4.1148000000000001E-3,-9.9999999999999995E-8,null,null,null,null,null,null,-3.6592E-6,-1.0345506E-3,1.0240956264000001,null,null,null,null,-0.98318000000000005,26.027999999999999,241.46,-9.9999999999999995E-8]
["Vero 10-B","27H","B",1000,"BXRC",{"$f":"MasterTable[[#This Row],[Product Family]]&\"-\"&MasterTable[[#This Row],[CCT/CRI]]&MasterTable[[#This Row],[Arrangement]]","v":"Vero 10-B-27HB"},{"$f":"MasterTable[[#This Row],[Generation]]&\"-\"&MasterTable[[#This Row],[CCT/CRI]]&IF(MasterTable[[#This Row],[Lumen Family]]<999,\"0\"&MasterTable[[#This Row],[Lumen Family]],MasterTable[[#This Row],[Lumen Family]])&\"-\"&MasterTable[[#This Row],[Arrangement]]&\"-xx\"","v":"BXRC-27H1000-B-xx"},1066,{"$f":"MasterTable[[#This Row],[Typical Lumens]]/(MasterTable[[#This Row],[Typical Voltage]]*MasterTable[[#This Row],[Typical Current]]/1000)","v":113.45253299276287},0.49075000000000002,34.799999999999997,270,540,36,null,null,-5.0000000000000004E-6,1.4500000000000001E-2,31.388000000000002,6.8448E-10,-1.5365E-6,4.1148000000000001E-3,-9.9999999999999995E-8,null,null,null,null,null,null,-3.6592E-6,-1.0345506E-3,1.0240956264000001,null,null,null,null,-0.98318000000000005,26.027999999999999,241.46,-9.9999999999999995E-8]
["Vero 10-B","27G-H","B","10H0","BXRC",{"$f":"MasterTable[[#This Row],[Product Family]]&\"-\"&MasterTable[[#This Row],[CCT/CRI]]&MasterTable[[#This Row],[Arrangement]]","v":"Vero 10-B-27G-HB"},"BXRC-27G-10H0-B-xx",1249,{"$f":"MasterTable[[#This Row],[Typical Lumens]]/(MasterTable[[#This Row],[Typical Voltage]]*MasterTable[[#This Row],[Typical Current]]/1000)","v":132.92890591741164},0.49075000000000002,34.799999999999997,270,{"$f":"L443*2","v":540},36,null,null,-5.0000000000000004E-6,1.4500000000000001E-2,31.388000000000002,6.8448E-10,-1.5365E-6,4.1148000000000001E-3,-9.9999999999999995E-8,null,null,null,null,null,null,-3.6592E-6,-1.0345506E-3,1.0240956264000001,null,null,null,null,-0.98318000000000005,26.027999999999999,241.46,-9.9999999999999995E-8]
["Vero 10-B","30G-H","B","10H0","BXRC",{"$f":"MasterTable[[#This Row],[Product Family]]&\"-\"&MasterTable[[#This Row],[CCT/CRI]]&MasterTable[[#This Row],[Arrangement]]","v":"Vero 10-B-30G-HB"},"BXRC-30G-10H0-B-xx",1312,{"$f":"MasterTable[[#This Row],[Typical Lumens]]/(MasterTable[[#This Row],[Typical Voltage]]*MasterTable[[#This Row],[Typical Current]]/1000)","v":139.63388676032352},0.49075000000000002,34.799999999999997,270,540,36,null,null,-5.0000000000000004E-6,1.4500000000000001E-2,31.388000000000002,6.8448E-10,-1.5365E-6,4.1148000000000001E-3,-9.9999999999999995E-8,null,null,null,null,null,null,-3.6592E-6,-1.0345506E-3,1.0240956264000001,null,null,null,null,-0.98318000000000005,26.027999999999999,241.46,-9.9999999999999995E-8]
["Vero 10-B","30C","B",1001,"BXRC",{"$f":"MasterTable[[#This Row],[Product Family]]&\"-\"&MasterTable[[#This Row],[CCT/CRI]]&MasterTable[[#This Row],[Arrangement]]","v":"Vero 10-B-30CB"},{"$f":"MasterTable[[#This Row],[Generation]]&\"-\"&MasterTable[[#This Row],[CCT/CRI]]&IF(MasterTable[[#This Row],[Lumen Family]]<999,\"0\"&MasterTable[[#This Row],[Lumen Family]],MasterTable[[#This Row],[Lumen Family]])&\"-\"&MasterTable[[#This Row],[Arrangement]]&\"-xx\"","v":"BXRC-30C1001-B-xx"},1428,{"$f":"MasterTable[[#This Row],[Typical Lumens]]/(MasterTable[[#This Row],[Typical Voltage]]*MasterTable[[#This Row],[Typical Current]]/1000)","v":151.97956577266922},0.49075000000000002,34.799999999999997,270,{"$f":"L445*2","v":540},36,null,null,-5.0000000000000004E-6,1.4500000000000001E-2,31.388000000000002,6.8448E-10,-1.5365E-6,4.1148000000000001E-3,-9.9999999999999995E-8,null,null,null,null,null,null,-3.6592E-6,-1.0345506E-3,1.0240956264000001,null,null,null,null,-0.98318000000000005,26.027999999999999,241.46,-9.9999999999999995E-8]
["Vero 10-B","30G","B",1000,"BXRC",{"$f":"MasterTable[[#This Row],[Product Family]]&\"-\"&MasterTable[[#This Row],[CCT/CRI]]&MasterTable[[#This Row],[Arrangement]]","v":"Vero 10-B-30GB"},{"$f":"MasterTable[[#This Row],[Generation]]&\"-\"&MasterTable[[#This Row],[CCT/CRI]]&IF(MasterTable[[#This Row],[Lumen Family]]<999,\"0\"&MasterTable[[#This Row],[Lumen Family]],MasterTable[[#This Row],[Lumen Family]])&\"-\"&MasterTable[[#This Row],[Arrangement]]&\"-xx\"","v":"BXRC-30G1000-B-xx"},1258,{"$f":"MasterTable[[#This Row],[Typical Lumens]]/(MasterTable[[#This Row],[Typical Voltage]]*MasterTable[[#This Row],[Typical Current]]/1000)","v":133.88676032354192},0.49075000000000002,34.799999999999997,270,540,36,null,null,-5.0000000000000004E-6,1.4500000000000001E-2,31.388000000000002,6.8448E-10,-1.5365E-6,4.1148000000000001E-3,-9.9999999999999995E-8,null,null,null,null,null,null,-3.6592E-6,-1.0345506E-3,1.0240956264000001,null,null,null,null,-0.98318000000000005,26.027999999999999,241.46,-9.9999999999999995E-8]
["Vero 10-B","30G-C","B","100C","BXRC",{"$f":"MasterTable[[#This Row],[Product Family]]&\"-\"&MasterTable[[#This Row],[CCT/CRI]]&MasterTable[[#This Row],[Arrangement]]","v":"Vero 10-B-30G-CB"},"BXRC-30G100C-B-xx",1212,{"$f":"MasterTable[[#This Row],[Typical Lumens]]/(MasterTable[[#This Row],[Typical Voltage]]*MasterTable[[#This Row],[Typical Current]]/1000)","v":128.99106002554277},0.49075000000000002,34.799999999999997,270,{"$f":"L447*2","v":540},36,null,null,-5.0000000000000004E-6,1.4500000000000001E-2,31.388000000000002,6.8448E-10,-1.5365E-6,4.1148000000000001E-3,-9.9999999999999995E-8,null,null,null,null,null,null,-3.6592E-6,-1.0345506E-3,1.0240956264000001,null,null,null,null,-0.98318000000000005,26.027999999999999,241.46,-9.9999999999999995E-8]
["Vero 10-B","30H","B",1000,"BXRC",{"$f":"MasterTable[[#This Row],[Product Family]]&\"-\"&MasterTable[[#This Row],[CCT/CRI]]&MasterTable[[#This Row],[Arrangement]]","v":"Vero 10-B-30HB"},{"$f":"MasterTable[[#This Row],[Generation]]&\"-\"&MasterTable[[#This Row],[CCT/CRI]]&IF(MasterTable[[#This Row],[Lumen Family]]<999,\"0\"&MasterTable[[#This Row],[Lumen Family]],MasterTable[[#This Row],[Lumen Family]])&\"-\"&MasterTable[[#This Row],[Arrangement]]&\"-xx\"","v":"BXRC-30H1000-B-xx"},1139,{"$f":"MasterTable[[#This Row],[Typical Lumens]]/(MasterTable[[#This Row],[Typical Voltage]]*MasterTable[[#This Row],[Typical Current]]/1000)","v":121.22179650915282},0.49075000000000002,34.799999999999997,270,540,36,null,null,-5.0000000000000004E-6,1.4500000000000001E-2,31.388000000000002,6.8448E-10,-1.5365E-6,4.1148000000000001E-3,-9.9999999999999995E-8,null,null,null,null,null,null,-3.6592E-6,-1.0345506E-3,1.0240956264000001,null,null,null,null,-0.98318000000000005,26.027999999999999,241.46,-9.9999999999999995E-8]
["Vero 10-B","30A","B",1001,"BXRC",{"$f":"MasterTable[[#This Row],[Product Family]]&\"-\"&MasterTable[[#This Row],[CCT/CRI]]&MasterTable[[#This Row],[Arrangement]]","v":"Vero 10-B-30AB"},{"$f":"MasterTable[[#This Row],[Generation]]&\"-\"&MasterTable[[#This Row],[CCT/CRI]]&IF(MasterTable[[#This Row],[Lumen Family]]<999,\"0\"&MasterTable[[#This Row],[Lumen Family]],MasterTable[[#This Row],[Lumen Family]])&\"-\"&MasterTable[[#This Row],[Arrangement]]&\"-xx\"","v":"BXRC-30A1001-B-xx"},1130,{"$f":"MasterTable[[#This Row],[Typical Lumens]]/(MasterTable[[#This Row],[Typical Voltage]]*MasterTable[[#This Row],[Typical Current]]/1000)","v":120.26394210302256},0.49075000000000002,34.799999999999997,270,540,36,null,null,-5.0000000000000004E-6,1.4500000000000001E-2,31.388000000000002,6.8448E-10,-1.5365E-6,4.1148000000000001E-3,-9.9999999999999995E-8,null,null,null,null,null,null,-3.6592E-6,-1.0345506E-3,1.0240956264000001,null,null,null,null,-0.98318000000000005,26.027999999999999,241.46,-9.9999999999999995E-8]
["Vero 10-B","35E","B",1000,"BXRC",{"$f":"MasterTable[[#This Row],[Product Family]]&\"-\"&MasterTable[[#This Row],[CCT/CRI]]&MasterTable[[#This Row],[Arrangement]]","v":"Vero 10-B-35EB"},{"$f":"MasterTable[[#This Row],[Generation]]&\"-\"&MasterTable[[#This Row],[CCT/CRI]]&IF(MasterTable[[#This Row],[Lumen Family]]<999,\"0\"&MasterTable[[#This Row],[Lumen Family]],MasterTable[[#This Row],[Lumen Family]])&\"-\"&MasterTable[[#This Row],[Arrangement]]&\"-xx\"","v":"BXRC-35E1000-B-xx"},1586,{"$f":"MasterTable[[#This Row],[Typical Lumens]]/(MasterTable[[#This Row],[Typical Voltage]]*MasterTable[[#This Row],[Typical Current]]/1000)","v":168.79523201362281},0.49075000000000002,34.799999999999997,270,540,36,null,null,-5.0000000000000004E-6,1.4500000000000001E-2,31.388000000000002,6.8448E-10,-1.5365E-6,4.1148000000000001E-3,-9.9999999999999995E-8,null,null,null,null,null,null,-3.6592E-6,-1.0345506E-3,1.0240956264000001,null,null,null,null,-0.98318000000000005,26.027999999999999,241.46,-9.9999999999999995E-8]
["Vero 10-B","35G","B",1000,"BXRC",{"$f":"MasterTable[[#This Row],[Product Family]]&\"-\"&MasterTable[[#This Row],[CCT/CRI]]&MasterTable[[#This Row],[Arrangement]]","v":"Vero 10-B-35GB"},{"$f":"MasterTable[[#This Row],[Generation]]&\"-\"&MasterTable[[#This Row],[CCT/CRI]]&IF(MasterTable[[#This Row],[Lumen Family]]<999,\"0\"&MasterTable[[#This Row],[Lumen Family]],MasterTable[[#This Row],[Lumen Family]])&\"-\"&MasterTable[[#This Row],[Arrangement]]&\"-xx\"","v":"BXRC-35G1000-B-xx"},1303,{"$f":"MasterTable[[#This Row],[Typical Lumens]]/(MasterTable[[#This Row],[Typical Voltage]]*MasterTable[[#This Row],[Typical Current]]/1000)","v":138.67603235419327},0.49075000000000002,34.799999999999997,270,{"$f":"L451*2","v":540},36,null,null,-5.0000000000000004E-6,1.4500000000000001E-2,31.388000000000002,6.8448E-10,-1.5365E-6,4.1148000000000001E-3,-9.9999999999999995E-8,null,null,null,null,null,null,-3.6592E-6,-1.0345506E-3,1.0240956264000001,null,null,null,null,-0.98318000000000005,26.027999999999999,241.46,-9.9999999999999995E-8]
["Vero 10-B","35A","B",1001,"BXRC",{"$f":"MasterTable[[#This Row],[Product Family]]&\"-\"&MasterTable[[#This Row],[CCT/CRI]]&MasterTable[[#This Row],[Arrangement]]","v":"Vero 10-B-35AB"},{"$f":"MasterTable[[#This Row],[Generation]]&\"-\"&MasterTable[[#This Row],[CCT/CRI]]&IF(MasterTable[[#This Row],[Lumen Family]]<999,\"0\"&MasterTable[[#This Row],[Lumen Family]],MasterTable[[#This Row],[Lumen Family]])&\"-\"&MasterTable[[#This Row],[Arrangement]]&\"-xx\"","v":"BXRC-35A1001-B-xx"},1203,{"$f":"MasterTable[[#This Row],[Typical Lumens]]/(MasterTable[[#This Row],[Typical Voltage]]*MasterTable[[#This Row],[Typical Current]]/1000)","v":128.03320561941251},0.49075000000000002,34.799999999999997,270,540,36,null,null,-5.0000000000000004E-6,1.4500000000000001E-2,31.388000000000002,6.8448E-10,-1.5365E-6,4.1148000000000001E-3,-9.9999999999999995E-8,null,null,null,null,null,null,-3.6592E-6,-1.0345506E-3,1.0240956264000001,null,null,null,null,-0.98318000000000005,26.027999999999999,241.46,-9.9999999999999995E-8]
["Vero 10-B","40C","B",1001,"BXRC",{"$f":"MasterTable[[#This Row],[Product Family]]&\"-\"&MasterTable[[#This Row],[CCT/CRI]]&MasterTable[[#This Row],[Arrangement]]","v":"Vero 10-B-40CB"},{"$f":"MasterTable[[#This Row],[Generation]]&\"-\"&MasterTable[[#This Row],[CCT/CRI]]&IF(MasterTable[[#This Row],[Lumen Family]]<999,\"0\"&MasterTable[[#This Row],[Lumen Family]],MasterTable[[#This Row],[Lumen Family]])&\"-\"&MasterTable[[#This Row],[Arrangement]]&\"-xx\"","v":"BXRC-40C1001-B-xx"},1668,{"$f":"MasterTable[[#This Row],[Typical Lumens]]/(MasterTable[[#This Row],[Typical Voltage]]*MasterTable[[#This Row],[Typical Current]]/1000)","v":177.52234993614303},0.49075000000000002,34.799999999999997,270,{"$f":"L453*2","v":540},36,null,null,-5.0000000000000004E-6,1.4500000000000001E-2,31.388000000000002,6.8448E-10,-1.5365E-6,4.1148000000000001E-3,-9.9999999999999995E-8,null,null,null,null,null,null,-3.6592E-6,-1.0345506E-3,1.0240956264000001,null,null,null,null,-0.98318000000000005,26.027999999999999,241.46,-9.9999999999999995E-8]
["Vero 10-B","40E","B",1000,"BXRC",{"$f":"MasterTable[[#This Row],[Product Family]]&\"-\"&MasterTable[[#This Row],[CCT/CRI]]&MasterTable[[#This Row],[Arrangement]]","v":"Vero 10-B-40EB"},{"$f":"MasterTable[[#This Row],[Generation]]&\"-\"&MasterTable[[#This Row],[CCT/CRI]]&IF(MasterTable[[#This Row],[Lumen Family]]<999,\"0\"&MasterTable[[#This Row],[Lumen Family]],MasterTable[[#This Row],[Lumen Family]])&\"-\"&MasterTable[[#This Row],[Arrangement]]&\"-xx\"","v":"BXRC-40E1000-B-xx"},1595,{"$f":"MasterTable[[#This Row],[Typical Lumens]]/(MasterTable[[#This Row],[Typical Voltage]]*MasterTable[[#This Row],[Typical Current]]/1000)","v":169.75308641975306},0.49075000000000002,34.799999999999997,270,540,36,null,null,-5.0000000000000004E-6,1.4500000000000001E-2,31.388000000000002,6.8448E-10,-1.5365E-6,4.1148000000000001E-3,-9.9999999999999995E-8,null,null,null,null,null,null,-3.6592E-6,-1.0345506E-3,1.0240956264000001,null,null,null,null,-0.98318000000000005,26.027999999999999,241.46,-9.9999999999999995E-8]
["Vero 10-B","40G","B",1000,"BXRC",{"$f":"MasterTable[[#This Row],[Product Family]]&\"-\"&MasterTable[[#This Row],[CCT/CRI]]&MasterTable[[#This Row],[Arrangement]]","v":"Vero 10-B-40GB"},{"$f":"MasterTable[[#This Row],[Generation]]&\"-\"&MasterTable[[#This Row],[CCT/CRI]]&IF(MasterTable[[#This Row],[Lumen Family]]<999,\"0\"&MasterTable[[#This Row],[Lumen Family]],MasterTable[[#This Row],[Lumen Family]])&\"-\"&MasterTable[[#This Row],[Arrangement]]&\"-xx\"","v":"BXRC-40G1000-B-xx"},1331,{"$f":"MasterTable[[#This Row],[Typical Lumens]]/(MasterTable[[#This Row],[Typical Voltage]]*MasterTable[[#This Row],[Typical Current]]/1000)","v":141.65602383993186},0.49075000000000002,34.799999999999997,270,540,36,null,null,-5.0000000000000004E-6,1.4500000000000001E-2,31.388000000000002,6.8448E-10,-1.5365E-6,4.1148000000000001E-3,-9.9999999999999995E-8,null,null,null,null,null,null,-3.6592E-6,-1.0345506E-3,1.0240956264000001,null,null,null,null,-0.98318000000000005,26.027999999999999,241.46,-9.9999999999999995E-8]
["Vero 10-B","40A","B",1001,"BXRC",{"$f":"MasterTable[[#This Row],[Product Family]]&\"-\"&MasterTable[[#This Row],[CCT/CRI]]&MasterTable[[#This Row],[Arrangement]]","v":"Vero 10-B-40AB"},{"$f":"MasterTable[[#This Row],[Generation]]&\"-\"&MasterTable[[#This Row],[CCT/CRI]]&IF(MasterTable[[#This Row],[Lumen Family]]<999,\"0\"&MasterTable[[#This Row],[Lumen Family]],MasterTable[[#This Row],[Lumen Family]])&\"-\"&MasterTable[[#This Row],[Arrangement]]&\"-xx\"","v":"BXRC-40A1001-B-xx"},1303,{"$f":"MasterTable[[#This Row],[Typical Lumens]]/(MasterTable[[#This Row],[Typical Voltage]]*MasterTable[[#This Row],[Typical Current]]/1000)","v":138.67603235419327},0.49075000000000002,34.799999999999997,270,540,36,null,null,-5.0000000000000004E-6,1.4500000000000001E-2,31.388000000000002,6.8448E-10,-1.5365E-6,4.1148000000000001E-3,-9.9999999999999995E-8,null,null,null,null,null,null,-3.6592E-6,-1.0345506E-3,1.0240956264000001,null,null,null,null,-0.98318000000000005,26.027999999999999,241.46,-9.9999999999999995E-8]
["Vero 10-B","50C","B",1001,"BXRC",{"$f":"MasterTable[[#This Row],[Product Family]]&\"-\"&MasterTable[[#This Row],[CCT/CRI]]&MasterTable[[#This Row],[Arrangement]]","v":"Vero 10-B-50CB"},{"$f":"MasterTable[[#This Row],[Generation]]&\"-\"&MasterTable[[#This Row],[CCT/CRI]]&IF(MasterTable[[#This Row],[Lumen Family]]<999,\"0\"&MasterTable[[#This Row],[Lumen Family]],MasterTable[[#This Row],[Lumen Family]])&\"-\"&MasterTable[[#This Row],[Arrangement]]&\"-xx\"","v":"BXRC-50C1001-B-xx"},1677,{"$f":"MasterTable[[#This Row],[Typical Lumens]]/(MasterTable[[#This Row],[Typical Voltage]]*MasterTable[[#This Row],[Typical Current]]/1000)","v":178.48020434227328},0.49075000000000002,34.799999999999997,270,540,36,null,null,-5.0000000000000004E-6,1.4500000000000001E-2,31.388000000000002,6.8448E-10,-1.5365E-6,4.1148000000000001E-3,-9.9999999999999995E-8,null,null,null,null,null,null,-3.6592E-6,-1.0345506E-3,1.0240956264000001,null,null,null,null,-0.98318000000000005,26.027999999999999,241.46,-9.9999999999999995E-8]
["Vero 10-B","50E","B",1001,"BXRC",{"$f":"MasterTable[[#This Row],[Product Family]]&\"-\"&MasterTable[[#This Row],[CCT/CRI]]&MasterTable[[#This Row],[Arrangement]]","v":"Vero 10-B-50EB"},{"$f":"MasterTable[[#This Row],[Generation]]&\"-\"&MasterTable[[#This Row],[CCT/CRI]]&IF(MasterTable[[#This Row],[Lumen Family]]<999,\"0\"&MasterTable[[#This Row],[Lumen Family]],MasterTable[[#This Row],[Lumen Family]])&\"-\"&MasterTable[[#This Row],[Arrangement]]&\"-xx\"","v":"BXRC-50E1001-B-xx"},1613,{"$f":"MasterTable[[#This Row],[Typical Lumens]]/(MasterTable[[#This Row],[Typical Voltage]]*MasterTable[[#This Row],[Typical Current]]/1000)","v":171.66879523201362},0.49075000000000002,34.799999999999997,270,540,36,null,null,-5.0000000000000004E-6,1.4500000000000001E-2,31.388000000000002,6.8448E-10,-1.5365E-6,4.1148000000000001E-3,-9.9999999999999995E-8,null,null,null,null,null,null,-3.6592E-6,-1.0345506E-3,1.0240956264000001,null,null,null,null,-0.98318000000000005,26.027999999999999,241.46,-9.9999999999999995E-8]
["Vero 10-B","50G","B",1001,"BXRC",{"$f":"MasterTable[[#This Row],[Product Family]]&\"-\"&MasterTable[[#This Row],[CCT/CRI]]&MasterTable[[#This Row],[Arrangement]]","v":"Vero 10-B-50GB"},{"$f":"MasterTable[[#This Row],[Generation]]&\"-\"&MasterTable[[#This Row],[CCT/CRI]]&IF(MasterTable[[#This Row],[Lumen Family]]<999,\"0\"&MasterTable[[#This Row],[Lumen Family]],MasterTable[[#This Row],[Lumen Family]])&\"-\"&MasterTable[[#This Row],[Arrangement]]&\"-xx\"","v":"BXRC-50G1001-B-xx"},1394,{"$f":"MasterTable[[#This Row],[Typical Lumens]]/(MasterTable[[#This Row],[Typical Voltage]]*MasterTable[[#This Row],[Typical Current]]/1000)","v":148.36100468284374},0.49075000000000002,34.799999999999997,270,540,36,null,null,-5.0000000000000004E-6,1.4500000000000001E-2,31.388000000000002,6.8448E-10,-1.5365E-6,4.1148000000000001E-3,-9.9999999999999995E-8,null,null,null,null,null,null,-3.6592E-6,-1.0345506E-3,1.0240956264000001,null,null,null,null,-0.98318000000000005,26.027999999999999,241.46,-9.9999999999999995E-8]
["Vero 10-B","57C","B",1001,"BXRC",{"$f":"MasterTable[[#This Row],[Product Family]]&\"-\"&MasterTable[[#This Row],[CCT/CRI]]&MasterTable[[#This Row],[Arrangement]]","v":"Vero 10-B-57CB"},{"$f":"MasterTable[[#This Row],[Generation]]&\"-\"&MasterTable[[#This Row],[CCT/CRI]]&IF(MasterTable[[#This Row],[Lumen Family]]<999,\"0\"&MasterTable[[#This Row],[Lumen Family]],MasterTable[[#This Row],[Lumen Family]])&\"-\"&MasterTable[[#This Row],[Arrangement]]&\"-xx\"","v":"BXRC-57C1001-B-xx"},1631,{"$f":"MasterTable[[#This Row],[Typical Lumens]]/(MasterTable[[#This Row],[Typical Voltage]]*MasterTable[[#This Row],[Typical Current]]/1000)","v":173.58450404427415},0.49075000000000002,34.799999999999997,270,540,36,null,null,-5.0000000000000004E-6,1.4500000000000001E-2,31.388000000000002,6.8448E-10,-1.5365E-6,4.1148000000000001E-3,-9.9999999999999995E-8,null,null,null,null,null,null,-3.6592E-6,-1.0345506E-3,1.0240956264000001,null,null,null,null,-0.98318000000000005,26.027999999999999,241.46,-9.9999999999999995E-8]
["Vero 10-B","57E","B",1001,"BXRC",{"$f":"MasterTable[[#This Row],[Product Family]]&\"-\"&MasterTable[[#This Row],[CCT/CRI]]&MasterTable[[#This Row],[Arrangement]]","v":"Vero 10-B-57EB"},{"$f":"MasterTable[[#This Row],[Generation]]&\"-\"&MasterTable[[#This Row],[CCT/CRI]]&IF(MasterTable[[#This Row],[Lumen Family]]<999,\"0\"&MasterTable[[#This Row],[Lumen Family]],MasterTable[[#This Row],[Lumen Family]])&\"-\"&MasterTable[[#This Row],[Arrangement]]&\"-xx\"","v":"BXRC-57E1001-B-xx"},1549,{"$f":"MasterTable[[#This Row],[Typical Lumens]]/(MasterTable[[#This Row],[Typical Voltage]]*MasterTable[[#This Row],[Typical Current]]/1000)","v":164.85738612175393},0.49075000000000002,34.799999999999997,270,540,36,null,null,-5.0000000000000004E-6,1.4500000000000001E-2,31.388000000000002,6.8448E-10,-1.5365E-6,4.1148000000000001E-3,-9.9999999999999995E-8,null,null,null,null,null,null,-3.6592E-6,-1.0345506E-3,1.0240956264000001,null,null,null,null,-0.98318000000000005,26.027999999999999,241.46,-9.9999999999999995E-8]
["Vero 10-B","65C","B",1001,"BXRC",{"$f":"MasterTable[[#This Row],[Product Family]]&\"-\"&MasterTable[[#This Row],[CCT/CRI]]&MasterTable[[#This Row],[Arrangement]]","v":"Vero 10-B-65CB"},{"$f":"MasterTable[[#This Row],[Generation]]&\"-\"&MasterTable[[#This Row],[CCT/CRI]]&IF(MasterTable[[#This Row],[Lumen Family]]<999,\"0\"&MasterTable[[#This Row],[Lumen Family]],MasterTable[[#This Row],[Lumen Family]])&\"-\"&MasterTable[[#This Row],[Arrangement]]&\"-xx\"","v":"BXRC-65C1001-B-xx"},1631,{"$f":"MasterTable[[#This Row],[Typical Lumens]]/(MasterTable[[#This Row],[Typical Voltage]]*MasterTable[[#This Row],[Typical Current]]/1000)","v":173.58450404427415},0.49075000000000002,34.799999999999997,270,540,36,null,null,-5.0000000000000004E-6,1.4500000000000001E-2,31.388000000000002,6.8448E-10,-1.5365E-6,4.1148000000000001E-3,-9.9999999999999995E-8,null,null,null,null,null,null,-3.6592E-6,-1.0345506E-3,1.0240956264000001,null,null,null,null,-0.98318000000000005,26.027999999999999,241.46,-9.9999999999999995E-8]
["Vero 10-B","65E","B",1001,"BXRC",{"$f":"MasterTable[[#This Row],[Product Family]]&\"-\"&MasterTable[[#This Row],[CCT/CRI]]&MasterTable[[#This Row],[Arrangement]]","v":"Vero 10-B-65EB"},{"$f":"MasterTable[[#This Row],[Generation]]&\"-\"&MasterTable[[#This Row],[CCT/CRI]]&IF(MasterTable[[#This Row],[Lumen Family]]<999,\"0\"&MasterTable[[#This Row],[Lumen Family]],MasterTable[[#This Row],[Lumen Family]])&\"-\"&MasterTable[[#This Row],[Arrangement]]&\"-xx\"","v":"BXRC-65E1001-B-xx"},1568,{"$f":"MasterTable[[#This Row],[Typical Lumens]]/(MasterTable[[#This Row],[Typical Voltage]]*MasterTable[[#This Row],[Typical Current]]/1000)","v":166.87952320136228},0.49075000000000002,34.799999999999997,270,540,36,null,null,-5.0000000000000004E-6,1.4500000000000001E-2,31.388000000000002,6.8448E-10,-1.5365E-6,4.1148000000000001E-3,-9.9999999999999995E-8,null,null,null,null,null,null,-3.6592E-6,-1.0345506E-3,1.0240956264000001,null,null,null,null,-0.98318000000000005,26.027999999999999,241.46,-9.9999999999999995E-8]
["Vero 10-C","30E","C",1000,"BXRC",{"$f":"MasterTable[[#This Row],[Product Family]]&\"-\"&MasterTable[[#This Row],[CCT/CRI]]&MasterTable[[#This Row],[Arrangement]]","v":"Vero 10-C-30EC"},{"$f":"MasterTable[[#This Row],[Generation]]&\"-\"&MasterTable[[#This Row],[CCT/CRI]]&IF(MasterTable[[#This Row],[Lumen Family]]<999,\"0\"&MasterTable[[#This Row],[Lumen Family]],MasterTable[[#This Row],[Lumen Family]])&\"-\"&MasterTable[[#This Row],[Arrangement]]&\"-xx\"","v":"BXRC-30E1000-C-xx"},2066,{"$f":"MasterTable[[#This Row],[Typical Lumens]]/(MasterTable[[#This Row],[Typical Voltage]]*MasterTable[[#This Row],[Typical Current]]/1000)","v":164.91060025542785},0.37036666666666668,34.799999999999997,360,720,48,null,null,-3.0000000000000001E-6,1.09E-2,31.388000000000002,2.4598000000000001E-10,-8.7001999999999995E-7,3.0842E-3,-9.9999999999999995E-8,null,null,null,null,null,null,-3.6592E-6,-1.0345506E-3,1.0240956264000001,null,null,null,null,0.66473000000000004,33.152999999999999,322.76,-9.9999999999999995E-8]
["Vero 10-C","27E","C",1000,"BXRC",{"$f":"MasterTable[[#This Row],[Product Family]]&\"-\"&MasterTable[[#This Row],[CCT/CRI]]&MasterTable[[#This Row],[Arrangement]]","v":"Vero 10-C-27EC"},{"$f":"MasterTable[[#This Row],[Generation]]&\"-\"&MasterTable[[#This Row],[CCT/CRI]]&IF(MasterTable[[#This Row],[Lumen Family]]<999,\"0\"&MasterTable[[#This Row],[Lumen Family]],MasterTable[[#This Row],[Lumen Family]])&\"-\"&MasterTable[[#This Row],[Arrangement]]&\"-xx\"","v":"BXRC-27E1000-C-xx"},1944,{"$f":"MasterTable[[#This Row],[Typical Lumens]]/(MasterTable[[#This Row],[Typical Voltage]]*MasterTable[[#This Row],[Typical Current]]/1000)","v":155.17241379310346},0.37036666666666668,34.799999999999997,360,720,48,null,null,-3.0000000000000001E-6,1.09E-2,31.388000000000002,2.4598000000000001E-10,-8.7001999999999995E-7,3.0842E-3,-9.9999999999999995E-8,null,null,null,null,null,null,-3.6592E-6,-1.0345506E-3,1.0240956264000001,null,null,null,null,0.66473000000000004,33.152999999999999,322.76,-9.9999999999999995E-8]
["Vero 10-C","27G","C",1000,"BXRC",{"$f":"MasterTable[[#This Row],[Product Family]]&\"-\"&MasterTable[[#This Row],[CCT/CRI]]&MasterTable[[#This Row],[Arrangement]]","v":"Vero 10-C-27GC"},{"$f":"MasterTable[[#This Row],[Generation]]&\"-\"&MasterTable[[#This Row],[CCT/CRI]]&IF(MasterTable[[#This Row],[Lumen Family]]<999,\"0\"&MasterTable[[#This Row],[Lumen Family]],MasterTable[[#This Row],[Lumen Family]])&\"-\"&MasterTable[[#This Row],[Arrangement]]&\"-xx\"","v":"BXRC-27G1000-C-xx"},1604,{"$f":"MasterTable[[#This Row],[Typical Lumens]]/(MasterTable[[#This Row],[Typical Voltage]]*MasterTable[[#This Row],[Typical Current]]/1000)","v":128.03320561941254},0.37036666666666668,34.799999999999997,360,720,48,null,null,-3.0000000000000001E-6,1.09E-2,31.388000000000002,2.4598000000000001E-10,-8.7001999999999995E-7,3.0842E-3,-9.9999999999999995E-8,null,null,null,null,null,null,-3.6592E-6,-1.0345506E-3,1.0240956264000001,null,null,null,null,0.66473000000000004,33.152999999999999,322.76,-9.9999999999999995E-8]
["Vero 10-C","27H","C",1000,"BXRC",{"$f":"MasterTable[[#This Row],[Product Family]]&\"-\"&MasterTable[[#This Row],[CCT/CRI]]&MasterTable[[#This Row],[Arrangement]]","v":"Vero 10-C-27HC"},{"$f":"MasterTable[[#This Row],[Generation]]&\"-\"&MasterTable[[#This Row],[CCT/CRI]]&IF(MasterTable[[#This Row],[Lumen Family]]<999,\"0\"&MasterTable[[#This Row],[Lumen Family]],MasterTable[[#This Row],[Lumen Family]])&\"-\"&MasterTable[[#This Row],[Arrangement]]&\"-xx\"","v":"BXRC-27H1000-C-xx"},1422,{"$f":"MasterTable[[#This Row],[Typical Lumens]]/(MasterTable[[#This Row],[Typical Voltage]]*MasterTable[[#This Row],[Typical Current]]/1000)","v":113.50574712643679},0.37036666666666668,34.799999999999997,360,720,48,null,null,-3.0000000000000001E-6,1.09E-2,31.388000000000002,2.4598000000000001E-10,-8.7001999999999995E-7,3.0842E-3,-9.9999999999999995E-8,null,null,null,null,null,null,-3.6592E-6,-1.0345506E-3,1.0240956264000001,null,null,null,null,0.66473000000000004,33.152999999999999,322.76,-9.9999999999999995E-8]
["Vero 10-C","27G-H","C","10H0","BXRC",{"$f":"MasterTable[[#This Row],[Product Family]]&\"-\"&MasterTable[[#This Row],[CCT/CRI]]&MasterTable[[#This Row],[Arrangement]]","v":"Vero 10-C-27G-HC"},"BXRC-27G-10H0-C-xx",1665,{"$f":"MasterTable[[#This Row],[Typical Lumens]]/(MasterTable[[#This Row],[Typical Voltage]]*MasterTable[[#This Row],[Typical Current]]/1000)","v":132.90229885057474},0.37036666666666668,34.799999999999997,360,{"$f":"L468*2","v":720},48,null,null,-3.0000000000000001E-6,1.09E-2,31.388000000000002,2.4598000000000001E-10,-8.7001999999999995E-7,3.0842E-3,-9.9999999999999995E-8,null,null,null,null,null,null,-3.6592E-6,-1.0345506E-3,1.0240956264000001,null,null,null,null,0.66473000000000004,33.152999999999999,322.76,-9.9999999999999995E-8]
["Vero 10-C","30G-H","C","10H0","BXRC",{"$f":"MasterTable[[#This Row],[Product Family]]&\"-\"&MasterTable[[#This Row],[CCT/CRI]]&MasterTable[[#This Row],[Arrangement]]","v":"Vero 10-C-30G-HC"},"BXRC-30G-10H0-C-xx",1750,{"$f":"MasterTable[[#This Row],[Typical Lumens]]/(MasterTable[[#This Row],[Typical Voltage]]*MasterTable[[#This Row],[Typical Current]]/1000)","v":139.68710089399747},0.37036666666666668,34.799999999999997,360,720,48,null,null,-3.0000000000000001E-6,1.09E-2,31.388000000000002,2.4598000000000001E-10,-8.7001999999999995E-7,3.0842E-3,-9.9999999999999995E-8,null,null,null,null,null,null,-3.6592E-6,-1.0345506E-3,1.0240956264000001,null,null,null,null,0.66473000000000004,33.152999999999999,322.76,-9.9999999999999995E-8]
["Vero 10-C","30C","C",1001,"BXRC",{"$f":"MasterTable[[#This Row],[Product Family]]&\"-\"&MasterTable[[#This Row],[CCT/CRI]]&MasterTable[[#This Row],[Arrangement]]","v":"Vero 10-C-30CC"},{"$f":"MasterTable[[#This Row],[Generation]]&\"-\"&MasterTable[[#This Row],[CCT/CRI]]&IF(MasterTable[[#This Row],[Lumen Family]]<999,\"0\"&MasterTable[[#This Row],[Lumen Family]],MasterTable[[#This Row],[Lumen Family]])&\"-\"&MasterTable[[#This Row],[Arrangement]]&\"-xx\"","v":"BXRC-30C1001-C-xx"},2163,{"$f":"MasterTable[[#This Row],[Typical Lumens]]/(MasterTable[[#This Row],[Typical Voltage]]*MasterTable[[#This Row],[Typical Current]]/1000)","v":172.65325670498086},0.37036666666666668,34.799999999999997,360,{"$f":"L470*2","v":720},48,null,null,-3.0000000000000001E-6,1.09E-2,31.388000000000002,2.4598000000000001E-10,-8.7001999999999995E-7,3.0842E-3,-9.9999999999999995E-8,null,null,null,null,null,null,-3.6592E-6,-1.0345506E-3,1.0240956264000001,null,null,null,null,0.66473000000000004,33.152999999999999,322.76,-9.9999999999999995E-8]
["Vero 10-C","30G","C",1000,"BXRC",{"$f":"MasterTable[[#This Row],[Product Family]]&\"-\"&MasterTable[[#This Row],[CCT/CRI]]&MasterTable[[#This Row],[Arrangement]]","v":"Vero 10-C-30GC"},{"$f":"MasterTable[[#This Row],[Generation]]&\"-\"&MasterTable[[#This Row],[CCT/CRI]]&IF(MasterTable[[#This Row],[Lumen Family]]<999,\"0\"&MasterTable[[#This Row],[Lumen Family]],MasterTable[[#This Row],[Lumen Family]])&\"-\"&MasterTable[[#This Row],[Arrangement]]&\"-xx\"","v":"BXRC-30G1000-C-xx"},1677,{"$f":"MasterTable[[#This Row],[Typical Lumens]]/(MasterTable[[#This Row],[Typical Voltage]]*MasterTable[[#This Row],[Typical Current]]/1000)","v":133.86015325670499},0.37036666666666668,34.799999999999997,360,720,48,null,null,-3.0000000000000001E-6,1.09E-2,31.388000000000002,2.4598000000000001E-10,-8.7001999999999995E-7,3.0842E-3,-9.9999999999999995E-8,null,null,null,null,null,null,-3.6592E-6,-1.0345506E-3,1.0240956264000001,null,null,null,null,0.66473000000000004,33.152999999999999,322.76,-9.9999999999999995E-8]
["Vero 10-C","30H","C",1000,"BXRC",{"$f":"MasterTable[[#This Row],[Product Family]]&\"-\"&MasterTable[[#This Row],[CCT/CRI]]&MasterTable[[#This Row],[Arrangement]]","v":"Vero 10-C-30HC"},{"$f":"MasterTable[[#This Row],[Generation]]&\"-\"&MasterTable[[#This Row],[CCT/CRI]]&IF(MasterTable[[#This Row],[Lumen Family]]<999,\"0\"&MasterTable[[#This Row],[Lumen Family]],MasterTable[[#This Row],[Lumen Family]])&\"-\"&MasterTable[[#This Row],[Arrangement]]&\"-xx\"","v":"BXRC-30H1000-C-xx"},1519,{"$f":"MasterTable[[#This Row],[Typical Lumens]]/(MasterTable[[#This Row],[Typical Voltage]]*MasterTable[[#This Row],[Typical Current]]/1000)","v":121.2484035759898},0.37036666666666668,34.799999999999997,360,720,48,null,null,-3.0000000000000001E-6,1.09E-2,31.388000000000002,2.4598000000000001E-10,-8.7001999999999995E-7,3.0842E-3,-9.9999999999999995E-8,null,null,null,null,null,null,-3.6592E-6,-1.0345506E-3,1.0240956264000001,null,null,null,null,0.66473000000000004,33.152999999999999,322.76,-9.9999999999999995E-8]
["Vero 10-C","30A","C",1001,"BXRC",{"$f":"MasterTable[[#This Row],[Product Family]]&\"-\"&MasterTable[[#This Row],[CCT/CRI]]&MasterTable[[#This Row],[Arrangement]]","v":"Vero 10-C-30AC"},{"$f":"MasterTable[[#This Row],[Generation]]&\"-\"&MasterTable[[#This Row],[CCT/CRI]]&IF(MasterTable[[#This Row],[Lumen Family]]<999,\"0\"&MasterTable[[#This Row],[Lumen Family]],MasterTable[[#This Row],[Lumen Family]])&\"-\"&MasterTable[[#This Row],[Arrangement]]&\"-xx\"","v":"BXRC-30A1001-C-xx"},1507,{"$f":"MasterTable[[#This Row],[Typical Lumens]]/(MasterTable[[#This Row],[Typical Voltage]]*MasterTable[[#This Row],[Typical Current]]/1000)","v":120.29054916985953},0.37036666666666668,34.799999999999997,360,720,48,null,null,-3.0000000000000001E-6,1.09E-2,31.388000000000002,2.4598000000000001E-10,-8.7001999999999995E-7,3.0842E-3,-9.9999999999999995E-8,null,null,null,null,null,null,-3.6592E-6,-1.0345506E-3,1.0240956264000001,null,null,null,null,0.66473000000000004,33.152999999999999,322.76,-9.9999999999999995E-8]
["Vero 10-C","35E","C",1000,"BXRC",{"$f":"MasterTable[[#This Row],[Product Family]]&\"-\"&MasterTable[[#This Row],[CCT/CRI]]&MasterTable[[#This Row],[Arrangement]]","v":"Vero 10-C-35EC"},{"$f":"MasterTable[[#This Row],[Generation]]&\"-\"&MasterTable[[#This Row],[CCT/CRI]]&IF(MasterTable[[#This Row],[Lumen Family]]<999,\"0\"&MasterTable[[#This Row],[Lumen Family]],MasterTable[[#This Row],[Lumen Family]])&\"-\"&MasterTable[[#This Row],[Arrangement]]&\"-xx\"","v":"BXRC-35E1000-C-xx"},2114,{"$f":"MasterTable[[#This Row],[Typical Lumens]]/(MasterTable[[#This Row],[Typical Voltage]]*MasterTable[[#This Row],[Typical Current]]/1000)","v":168.74201787994892},0.37036666666666668,34.799999999999997,360,720,48,null,null,-3.0000000000000001E-6,1.09E-2,31.388000000000002,2.4598000000000001E-10,-8.7001999999999995E-7,3.0842E-3,-9.9999999999999995E-8,null,null,null,null,null,null,-3.5848E-6,-1.1148865E-3,1.0260294071,null,null,null,null,0.66473000000000004,33.152999999999999,322.76,-9.9999999999999995E-8]
["Vero 10-C","35G","C",1000,"BXRC",{"$f":"MasterTable[[#This Row],[Product Family]]&\"-\"&MasterTable[[#This Row],[CCT/CRI]]&MasterTable[[#This Row],[Arrangement]]","v":"Vero 10-C-35GC"},{"$f":"MasterTable[[#This Row],[Generation]]&\"-\"&MasterTable[[#This Row],[CCT/CRI]]&IF(MasterTable[[#This Row],[Lumen Family]]<999,\"0\"&MasterTable[[#This Row],[Lumen Family]],MasterTable[[#This Row],[Lumen Family]])&\"-\"&MasterTable[[#This Row],[Arrangement]]&\"-xx\"","v":"BXRC-35G1000-C-xx"},1738,{"$f":"MasterTable[[#This Row],[Typical Lumens]]/(MasterTable[[#This Row],[Typical Voltage]]*MasterTable[[#This Row],[Typical Current]]/1000)","v":138.72924648786719},0.37036666666666668,34.799999999999997,360,720,48,null,null,-3.0000000000000001E-6,1.09E-2,31.388000000000002,2.4598000000000001E-10,-8.7001999999999995E-7,3.0842E-3,-9.9999999999999995E-8,null,null,null,null,null,null,-3.5848E-6,-1.1148865E-3,1.0260294071,null,null,null,null,0.66473000000000004,33.152999999999999,322.76,-9.9999999999999995E-8]
["Vero 10-C","35A","C",1001,"BXRC",{"$f":"MasterTable[[#This Row],[Product Family]]&\"-\"&MasterTable[[#This Row],[CCT/CRI]]&MasterTable[[#This Row],[Arrangement]]","v":"Vero 10-C-35AC"},{"$f":"MasterTable[[#This Row],[Generation]]&\"-\"&MasterTable[[#This Row],[CCT/CRI]]&IF(MasterTable[[#This Row],[Lumen Family]]<999,\"0\"&MasterTable[[#This Row],[Lumen Family]],MasterTable[[#This Row],[Lumen Family]])&\"-\"&MasterTable[[#This Row],[Arrangement]]&\"-xx\"","v":"BXRC-35A1001-C-xx"},1604,{"$f":"MasterTable[[#This Row],[Typical Lumens]]/(MasterTable[[#This Row],[Typical Voltage]]*MasterTable[[#This Row],[Typical Current]]/1000)","v":128.03320561941254},0.37036666666666668,34.799999999999997,360,720,48,null,null,-3.0000000000000001E-6,1.09E-2,31.388000000000002,2.4598000000000001E-10,-8.7001999999999995E-7,3.0842E-3,-9.9999999999999995E-8,null,null,null,null,null,null,-3.5848E-6,-1.1148865E-3,1.0260294071,null,null,null,null,0.66473000000000004,33.152999999999999,322.76,-9.9999999999999995E-8]
["Vero 10-C","40C","C",1001,"BXRC",{"$f":"MasterTable[[#This Row],[Product Family]]&\"-\"&MasterTable[[#This Row],[CCT/CRI]]&MasterTable[[#This Row],[Arrangement]]","v":"Vero 10-C-40CC"},{"$f":"MasterTable[[#This Row],[Generation]]&\"-\"&MasterTable[[#This Row],[CCT/CRI]]&IF(MasterTable[[#This Row],[Lumen Family]]<999,\"0\"&MasterTable[[#This Row],[Lumen Family]],MasterTable[[#This Row],[Lumen Family]])&\"-\"&MasterTable[[#This Row],[Arrangement]]&\"-xx\"","v":"BXRC-40C1001-C-xx"},2224,{"$f":"MasterTable[[#This Row],[Typical Lumens]]/(MasterTable[[#This Row],[Typical Voltage]]*MasterTable[[#This Row],[Typical Current]]/1000)","v":177.52234993614306},0.37036666666666668,34.799999999999997,360,{"$f":"L477*2","v":720},49,null,null,-3.0000000000000001E-6,1.09E-2,31.388000000000002,2.4598000000000001E-10,-8.7001999999999995E-7,3.0842E-3,-9.9999999999999995E-8,null,null,null,null,null,null,-3.5848E-6,-1.1148865E-3,1.0260294071,null,null,null,null,0.66473000000000004,33.152999999999999,322.76,-9.9999999999999995E-8]
["Vero 10-C","40E","C",1000,"BXRC",{"$f":"MasterTable[[#This Row],[Product Family]]&\"-\"&MasterTable[[#This Row],[CCT/CRI]]&MasterTable[[#This Row],[Arrangement]]","v":"Vero 10-C-40EC"},{"$f":"MasterTable[[#This Row],[Generation]]&\"-\"&MasterTable[[#This Row],[CCT/CRI]]&IF(MasterTable[[#This Row],[Lumen Family]]<999,\"0\"&MasterTable[[#This Row],[Lumen Family]],MasterTable[[#This Row],[Lumen Family]])&\"-\"&MasterTable[[#This Row],[Arrangement]]&\"-xx\"","v":"BXRC-40E1000-C-xx"},2127,{"$f":"MasterTable[[#This Row],[Typical Lumens]]/(MasterTable[[#This Row],[Typical Voltage]]*MasterTable[[#This Row],[Typical Current]]/1000)","v":169.77969348659005},0.37036666666666668,34.799999999999997,360,720,48,null,null,-3.0000000000000001E-6,1.09E-2,31.388000000000002,2.4598000000000001E-10,-8.7001999999999995E-7,3.0842E-3,-9.9999999999999995E-8,null,null,null,null,null,null,-3.5848E-6,-1.1148865E-3,1.0260294071,null,null,null,null,0.66473000000000004,33.152999999999999,322.76,-9.9999999999999995E-8]
["Vero 10-C","40G","C",1000,"BXRC",{"$f":"MasterTable[[#This Row],[Product Family]]&\"-\"&MasterTable[[#This Row],[CCT/CRI]]&MasterTable[[#This Row],[Arrangement]]","v":"Vero 10-C-40GC"},{"$f":"MasterTable[[#This Row],[Generation]]&\"-\"&MasterTable[[#This Row],[CCT/CRI]]&IF(MasterTable[[#This Row],[Lumen Family]]<999,\"0\"&MasterTable[[#This Row],[Lumen Family]],MasterTable[[#This Row],[Lumen Family]])&\"-\"&MasterTable[[#This Row],[Arrangement]]&\"-xx\"","v":"BXRC-40G1000-C-xx"},1774,{"$f":"MasterTable[[#This Row],[Typical Lumens]]/(MasterTable[[#This Row],[Typical Voltage]]*MasterTable[[#This Row],[Typical Current]]/1000)","v":141.602809706258},0.37036666666666668,34.799999999999997,360,720,48,null,null,-3.0000000000000001E-6,1.09E-2,31.388000000000002,2.4598000000000001E-10,-8.7001999999999995E-7,3.0842E-3,-9.9999999999999995E-8,null,null,null,null,null,null,-3.5848E-6,-1.1148865E-3,1.0260294071,null,null,null,null,0.66473000000000004,33.152999999999999,322.76,-9.9999999999999995E-8]
["Vero 10-C","40A","C",1001,"BXRC",{"$f":"MasterTable[[#This Row],[Product Family]]&\"-\"&MasterTable[[#This Row],[CCT/CRI]]&MasterTable[[#This Row],[Arrangement]]","v":"Vero 10-C-40AC"},{"$f":"MasterTable[[#This Row],[Generation]]&\"-\"&MasterTable[[#This Row],[CCT/CRI]]&IF(MasterTable[[#This Row],[Lumen Family]]<999,\"0\"&MasterTable[[#This Row],[Lumen Family]],MasterTable[[#This Row],[Lumen Family]])&\"-\"&MasterTable[[#This Row],[Arrangement]]&\"-xx\"","v":"BXRC-40A1001-C-xx"},1738,{"$f":"MasterTable[[#This Row],[Typical Lumens]]/(MasterTable[[#This Row],[Typical Voltage]]*MasterTable[[#This Row],[Typical Current]]/1000)","v":138.72924648786719},0.37036666666666668,34.799999999999997,360,720,48,null,null,-3.0000000000000001E-6,1.09E-2,31.388000000000002,2.4598000000000001E-10,-8.7001999999999995E-7,3.0842E-3,-9.9999999999999995E-8,null,null,null,null,null,null,-3.5848E-6,-1.1148865E-3,1.0260294071,null,null,null,null,0.66473000000000004,33.152999999999999,322.76,-9.9999999999999995E-8]
["Vero 10-C","50C","C",1001,"BXRC",{"$f":"MasterTable[[#This Row],[Product Family]]&\"-\"&MasterTable[[#This Row],[CCT/CRI]]&MasterTable[[#This Row],[Arrangement]]","v":"Vero 10-C-50CC"},{"$f":"MasterTable[[#This Row],[Generation]]&\"-\"&MasterTable[[#This Row],[CCT/CRI]]&IF(MasterTable[[#This Row],[Lumen Family]]<999,\"0\"&MasterTable[[#This Row],[Lumen Family]],MasterTable[[#This Row],[Lumen Family]])&\"-\"&MasterTable[[#This Row],[Arrangement]]&\"-xx\"","v":"BXRC-50C1001-C-xx"},2236,{"$f":"MasterTable[[#This Row],[Typical Lumens]]/(MasterTable[[#This Row],[Typical Voltage]]*MasterTable[[#This Row],[Typical Current]]/1000)","v":178.48020434227334},0.37036666666666668,34.799999999999997,360,720,48,null,null,-3.0000000000000001E-6,1.09E-2,31.388000000000002,2.4598000000000001E-10,-8.7001999999999995E-7,3.0842E-3,-9.9999999999999995E-8,null,null,null,null,null,null,-6.9999999999999999E-6,-1E-3,1.0237000000000001,null,null,null,null,0.66473000000000004,33.152999999999999,322.76,-9.9999999999999995E-8]
["Vero 10-C","50E","C",1001,"BXRC",{"$f":"MasterTable[[#This Row],[Product Family]]&\"-\"&MasterTable[[#This Row],[CCT/CRI]]&MasterTable[[#This Row],[Arrangement]]","v":"Vero 10-C-50EC"},{"$f":"MasterTable[[#This Row],[Generation]]&\"-\"&MasterTable[[#This Row],[CCT/CRI]]&IF(MasterTable[[#This Row],[Lumen Family]]<999,\"0\"&MasterTable[[#This Row],[Lumen Family]],MasterTable[[#This Row],[Lumen Family]])&\"-\"&MasterTable[[#This Row],[Arrangement]]&\"-xx\"","v":"BXRC-50E1001-C-xx"},2151,{"$f":"MasterTable[[#This Row],[Typical Lumens]]/(MasterTable[[#This Row],[Typical Voltage]]*MasterTable[[#This Row],[Typical Current]]/1000)","v":171.69540229885058},0.37036666666666668,34.799999999999997,360,720,48,null,null,-3.0000000000000001E-6,1.09E-2,31.388000000000002,2.4598000000000001E-10,-8.7001999999999995E-7,3.0842E-3,-9.9999999999999995E-8,null,null,null,null,null,null,-6.9999999999999999E-6,-1E-3,1.0237000000000001,null,null,null,null,0.66473000000000004,33.152999999999999,322.76,-9.9999999999999995E-8]
["Vero 10-C","50G","C",1001,"BXRC",{"$f":"MasterTable[[#This Row],[Product Family]]&\"-\"&MasterTable[[#This Row],[CCT/CRI]]&MasterTable[[#This Row],[Arrangement]]","v":"Vero 10-C-50GC"},{"$f":"MasterTable[[#This Row],[Generation]]&\"-\"&MasterTable[[#This Row],[CCT/CRI]]&IF(MasterTable[[#This Row],[Lumen Family]]<999,\"0\"&MasterTable[[#This Row],[Lumen Family]],MasterTable[[#This Row],[Lumen Family]])&\"-\"&MasterTable[[#This Row],[Arrangement]]&\"-xx\"","v":"BXRC-50G1001-C-xx"},1859,{"$f":"MasterTable[[#This Row],[Typical Lumens]]/(MasterTable[[#This Row],[Typical Voltage]]*MasterTable[[#This Row],[Typical Current]]/1000)","v":148.38761174968073},0.37036666666666668,34.799999999999997,360,720,48,null,null,-3.0000000000000001E-6,1.09E-2,31.388000000000002,2.4598000000000001E-10,-8.7001999999999995E-7,3.0842E-3,-9.9999999999999995E-8,null,null,null,null,null,null,-6.9999999999999999E-6,-1E-3,1.0237000000000001,null,null,null,null,0.66473000000000004,33.152999999999999,322.76,-9.9999999999999995E-8]
["Vero 10-C","57C","C",1001,"BXRC",{"$f":"MasterTable[[#This Row],[Product Family]]&\"-\"&MasterTable[[#This Row],[CCT/CRI]]&MasterTable[[#This Row],[Arrangement]]","v":"Vero 10-C-57CC"},{"$f":"MasterTable[[#This Row],[Generation]]&\"-\"&MasterTable[[#This Row],[CCT/CRI]]&IF(MasterTable[[#This Row],[Lumen Family]]<999,\"0\"&MasterTable[[#This Row],[Lumen Family]],MasterTable[[#This Row],[Lumen Family]])&\"-\"&MasterTable[[#This Row],[Arrangement]]&\"-xx\"","v":"BXRC-57C1001-C-xx"},2175,{"$f":"MasterTable[[#This Row],[Typical Lumens]]/(MasterTable[[#This Row],[Typical Voltage]]*MasterTable[[#This Row],[Typical Current]]/1000)","v":173.61111111111114},0.37036666666666668,34.799999999999997,360,720,48,null,null,-3.0000000000000001E-6,1.09E-2,31.388000000000002,2.4598000000000001E-10,-8.7001999999999995E-7,3.0842E-3,-9.9999999999999995E-8,null,null,null,null,null,null,-6.9999999999999999E-6,-1E-3,1.0237000000000001,null,null,null,null,0.66473000000000004,33.152999999999999,322.76,-9.9999999999999995E-8]
["Vero 10-C","57E","C",1001,"BXRC",{"$f":"MasterTable[[#This Row],[Product Family]]&\"-\"&MasterTable[[#This Row],[CCT/CRI]]&MasterTable[[#This Row],[Arrangement]]","v":"Vero 10-C-57EC"},{"$f":"MasterTable[[#This Row],[Generation]]&\"-\"&MasterTable[[#This Row],[CCT/CRI]]&IF(MasterTable[[#This Row],[Lumen Family]]<999,\"0\"&MasterTable[[#This Row],[Lumen Family]],MasterTable[[#This Row],[Lumen Family]])&\"-\"&MasterTable[[#This Row],[Arrangement]]&\"-xx\"","v":"BXRC-57E1001-C-xx"},2066,{"$f":"MasterTable[[#This Row],[Typical Lumens]]/(MasterTable[[#This Row],[Typical Voltage]]*MasterTable[[#This Row],[Typical Current]]/1000)","v":164.91060025542785},0.37036666666666668,34.799999999999997,360,720,48,null,null,-3.0000000000000001E-6,1.09E-2,31.388000000000002,2.4598000000000001E-10,-8.7001999999999995E-7,3.0842E-3,-9.9999999999999995E-8,null,null,null,null,null,null,-6.9999999999999999E-6,-1E-3,1.0237000000000001,null,null,null,null,0.66473000000000004,33.152999999999999,322.76,-9.9999999999999995E-8]
["Vero 10-C","65C","C",1001,"BXRC",{"$f":"MasterTable[[#This Row],[Product Family]]&\"-\"&MasterTable[[#This Row],[CCT/CRI]]&MasterTable[[#This Row],[Arrangement]]","v":"Vero 10-C-65CC"},{"$f":"MasterTable[[#This Row],[Generation]]&\"-\"&MasterTable[[#This Row],[CCT/CRI]]&IF(MasterTable[[#This Row],[Lumen Family]]<999,\"0\"&MasterTable[[#This Row],[Lumen Family]],MasterTable[[#This Row],[Lumen Family]])&\"-\"&MasterTable[[#This Row],[Arrangement]]&\"-xx\"","v":"BXRC-65C1001-C-xx"},2175,{"$f":"MasterTable[[#This Row],[Typical Lumens]]/(MasterTable[[#This Row],[Typical Voltage]]*MasterTable[[#This Row],[Typical Current]]/1000)","v":173.61111111111114},0.37036666666666668,34.799999999999997,360,720,48,null,null,-3.0000000000000001E-6,1.09E-2,31.388000000000002,2.4598000000000001E-10,-8.7001999999999995E-7,3.0842E-3,-9.9999999999999995E-8,null,null,null,null,null,null,-6.9999999999999999E-6,-1E-3,1.0237000000000001,null,null,null,null,0.66473000000000004,33.152999999999999,322.76,-9.9999999999999995E-8]
["Vero 10-C","65E","C",1001,"BXRC",{"$f":"MasterTable[[#This Row],[Product Family]]&\"-\"&MasterTable[[#This Row],[CCT/CRI]]&MasterTable[[#This Row],[Arrangement]]","v":"Vero 10-C-65EC"},{"$f":"MasterTable[[#This Row],[Generation]]&\"-\"&MasterTable[[#This Row],[CCT/CRI]]&IF(MasterTable[[#This Row],[Lumen Family]]<999,\"0\"&MasterTable[[#This Row],[Lumen Family]],MasterTable[[#This Row],[Lumen Family]])&\"-\"&MasterTable[[#This Row],[Arrangement]]&\"-xx\"","v":"BXRC-65E1001-C-xx"},2090,{"$f":"MasterTable[[#This Row],[Typical Lumens]]/(MasterTable[[#This Row],[Typical Voltage]]*MasterTable[[#This Row],[Typical Current]]/1000)","v":166.82630906768838},0.37036666666666668,34.799999999999997,360,720,48,null,null,-3.0000000000000001E-6,1.09E-2,31.388000000000002,2.4598000000000001E-10,-8.7001999999999995E-7,3.0842E-3,-9.9999999999999995E-8,null,null,null,null,null,null,-6.9999999999999999E-6,-1E-3,1.0237000000000001,null,null,null,null,0.66473000000000004,33.152999999999999,322.76,-9.9999999999999995E-8]
["Vero 10-D","30E","D",1000,"BXRC",{"$f":"MasterTable[[#This Row],[Product Family]]&\"-\"&MasterTable[[#This Row],[CCT/CRI]]&MasterTable[[#This Row],[Arrangement]]","v":"Vero 10-D-30ED"},{"$f":"MasterTable[[#This Row],[Generation]]&\"-\"&MasterTable[[#This Row],[CCT/CRI]]&IF(MasterTable[[#This Row],[Lumen Family]]<999,\"0\"&MasterTable[[#This Row],[Lumen Family]],MasterTable[[#This Row],[Lumen Family]])&\"-\"&MasterTable[[#This Row],[Arrangement]]&\"-xx\"","v":"BXRC-30E1000-D-xx"},1501,{"$f":"MasterTable[[#This Row],[Typical Lumens]]/(MasterTable[[#This Row],[Typical Voltage]]*MasterTable[[#This Row],[Typical Current]]/1000)","v":164.94505494505495},0.49075000000000002,26,350,700,36,null,3.6E-9,-6.6313999999999997E-6,9.5283307000000005E-3,23.328428739500001,3.1111000000000002E-10,-9.0128000000000003E-7,3.1748000000000002E-3,-9.9999999999999995E-8,null,null,null,null,null,null,-3.6592E-6,-1.0345506E-3,1.0240956264000001,null,null,-1.4E-2,26.85,-1.3307,33.133000000000003,313.05,-9.9999999999999995E-8]
["Vero 10-D","20B","D",1001,"BXRC",{"$f":"MasterTable[[#This Row],[Product Family]]&\"-\"&MasterTable[[#This Row],[CCT/CRI]]&MasterTable[[#This Row],[Arrangement]]","v":"Vero 10-D-20BD"},{"$f":"MasterTable[[#This Row],[Generation]]&\"-\"&MasterTable[[#This Row],[CCT/CRI]]&IF(MasterTable[[#This Row],[Lumen Family]]<999,\"0\"&MasterTable[[#This Row],[Lumen Family]],MasterTable[[#This Row],[Lumen Family]])&\"-\"&MasterTable[[#This Row],[Arrangement]]&\"-xx\"","v":"BXRC-20B1001-D-xx"},1386,{"$f":"MasterTable[[#This Row],[Typical Lumens]]/(MasterTable[[#This Row],[Typical Voltage]]*MasterTable[[#This Row],[Typical Current]]/1000)","v":152.30769230769232},0.49075000000000002,26,350,{"$f":"L489*2","v":700},36,null,3.6E-9,-6.6313999999999997E-6,9.5283307000000005E-3,23.328428739500001,3.1111000000000002E-10,-9.0128000000000003E-7,3.1748000000000002E-3,-9.9999999999999995E-8,null,null,null,null,null,null,-3.6592E-6,-1.0345506E-3,1.0240956264000001,null,null,null,null,-1.3307,33.133000000000003,313.05,-9.9999999999999995E-8]
["Vero 10-D","27E","D",1000,"BXRC",{"$f":"MasterTable[[#This Row],[Product Family]]&\"-\"&MasterTable[[#This Row],[CCT/CRI]]&MasterTable[[#This Row],[Arrangement]]","v":"Vero 10-D-27ED"},{"$f":"MasterTable[[#This Row],[Generation]]&\"-\"&MasterTable[[#This Row],[CCT/CRI]]&IF(MasterTable[[#This Row],[Lumen Family]]<999,\"0\"&MasterTable[[#This Row],[Lumen Family]],MasterTable[[#This Row],[Lumen Family]])&\"-\"&MasterTable[[#This Row],[Arrangement]]&\"-xx\"","v":"BXRC-27E1000-D-xx"},1412,{"$f":"MasterTable[[#This Row],[Typical Lumens]]/(MasterTable[[#This Row],[Typical Voltage]]*MasterTable[[#This Row],[Typical Current]]/1000)","v":155.16483516483518},0.49075000000000002,26,350,700,36,null,3.6E-9,-6.6313999999999997E-6,9.5283307000000005E-3,23.328428739500001,3.1111000000000002E-10,-9.0128000000000003E-7,3.1748000000000002E-3,-9.9999999999999995E-8,null,null,null,null,null,null,-3.6592E-6,-1.0345506E-3,1.0240956264000001,null,null,-1.4E-2,26.85,-1.3307,33.133000000000003,313.05,-9.9999999999999995E-8]
["Vero 10-D","27G","D",1000,"BXRC",{"$f":"MasterTable[[#This Row],[Product Family]]&\"-\"&MasterTable[[#This Row],[CCT/CRI]]&MasterTable[[#This Row],[Arrangement]]","v":"Vero 10-D-27GD"},{"$f":"MasterTable[[#This Row],[Generation]]&\"-\"&MasterTable[[#This Row],[CCT/CRI]]&IF(MasterTable[[#This Row],[Lumen Family]]<999,\"0\"&MasterTable[[#This Row],[Lumen Family]],MasterTable[[#This Row],[Lumen Family]])&\"-\"&MasterTable[[#This Row],[Arrangement]]&\"-xx\"","v":"BXRC-27G1000-D-xx"},1165,{"$f":"MasterTable[[#This Row],[Typical Lumens]]/(MasterTable[[#This Row],[Typical Voltage]]*MasterTable[[#This Row],[Typical Current]]/1000)","v":128.02197802197801},0.49075000000000002,26,350,700,36,null,3.6E-9,-6.6313999999999997E-6,9.5283307000000005E-3,23.328428739500001,3.1111000000000002E-10,-9.0128000000000003E-7,3.1748000000000002E-3,-9.9999999999999995E-8,null,null,null,null,null,null,-3.6592E-6,-1.0345506E-3,1.0240956264000001,null,null,-1.4E-2,26.85,-1.3307,33.133000000000003,313.05,-9.9999999999999995E-8]
["Vero 10-D","27H","D",1000,"BXRC",{"$f":"MasterTable[[#This Row],[Product Family]]&\"-\"&MasterTable[[#This Row],[CCT/CRI]]&MasterTable[[#This Row],[Arrangement]]","v":"Vero 10-D-27HD"},{"$f":"MasterTable[[#This Row],[Generation]]&\"-\"&MasterTable[[#This Row],[CCT/CRI]]&IF(MasterTable[[#This Row],[Lumen Family]]<999,\"0\"&MasterTable[[#This Row],[Lumen Family]],MasterTable[[#This Row],[Lumen Family]])&\"-\"&MasterTable[[#This Row],[Arrangement]]&\"-xx\"","v":"BXRC-27H1000-D-xx"},1033,{"$f":"MasterTable[[#This Row],[Typical Lumens]]/(MasterTable[[#This Row],[Typical Voltage]]*MasterTable[[#This Row],[Typical Current]]/1000)","v":113.51648351648352},0.49075000000000002,26,350,700,36,null,3.6E-9,-6.6313999999999997E-6,9.5283307000000005E-3,23.328428739500001,3.1111000000000002E-10,-9.0128000000000003E-7,3.1748000000000002E-3,-9.9999999999999995E-8,null,null,null,null,null,null,-3.6592E-6,-1.0345506E-3,1.0240956264000001,null,null,null,null,-1.3307,33.133000000000003,313.05,-9.9999999999999995E-8]
["Vero 10-D","27G-H","D","10H0","BXRC",{"$f":"MasterTable[[#This Row],[Product Family]]&\"-\"&MasterTable[[#This Row],[CCT/CRI]]&MasterTable[[#This Row],[Arrangement]]","v":"Vero 10-D-27G-HD"},"BXRC-27G-10H0-D-xx",1209,{"$f":"MasterTable[[#This Row],[Typical Lumens]]/(MasterTable[[#This Row],[Typical Voltage]]*MasterTable[[#This Row],[Typical Current]]/1000)","v":132.85714285714286},0.49075000000000002,26,350,{"$f":"L493*2","v":700},36,null,3.6E-9,-6.6313999999999997E-6,9.5283307000000005E-3,23.328428739500001,3.1111000000000002E-10,-9.0128000000000003E-7,3.1748000000000002E-3,-9.9999999999999995E-8,null,null,null,null,null,null,-3.6592E-6,-1.0345506E-3,1.0240956264000001,null,null,null,null,-1.3307,33.133000000000003,313.05,-9.9999999999999995E-8]
["Vero 10-D","30G-H","D","10H0","BXRC",{"$f":"MasterTable[[#This Row],[Product Family]]&\"-\"&MasterTable[[#This Row],[CCT/CRI]]&MasterTable[[#This Row],[Arrangement]]","v":"Vero 10-D-30G-HD"},"BXRC-30G-10H0-D-xx",1271,{"$f":"MasterTable[[#This Row],[Typical Lumens]]/(MasterTable[[#This Row],[Typical Voltage]]*MasterTable[[#This Row],[Typical Current]]/1000)","v":139.67032967032966},0.49075000000000002,26,350,700,36,null,3.6E-9,-6.6313999999999997E-6,9.5283307000000005E-3,23.328428739500001,3.1111000000000002E-10,-9.0128000000000003E-7,3.1748000000000002E-3,-9.9999999999999995E-8,null,null,null,null,null,null,-3.6592E-6,-1.0345506E-3,1.0240956264000001,null,null,null,null,-1.3307,33.133000000000003,313.05,-9.9999999999999995E-8]
["Vero 10-D","30G","D",1000,"BXRC",{"$f":"MasterTable[[#This Row],[Product Family]]&\"-\"&MasterTable[[#This Row],[CCT/CRI]]&MasterTable[[#This Row],[Arrangement]]","v":"Vero 10-D-30GD"},{"$f":"MasterTable[[#This Row],[Generation]]&\"-\"&MasterTable[[#This Row],[CCT/CRI]]&IF(MasterTable[[#This Row],[Lumen Family]]<999,\"0\"&MasterTable[[#This Row],[Lumen Family]],MasterTable[[#This Row],[Lumen Family]])&\"-\"&MasterTable[[#This Row],[Arrangement]]&\"-xx\"","v":"BXRC-30G1000-D-xx"},1218,{"$f":"MasterTable[[#This Row],[Typical Lumens]]/(MasterTable[[#This Row],[Typical Voltage]]*MasterTable[[#This Row],[Typical Current]]/1000)","v":133.84615384615384},0.49075000000000002,26,350,700,36,null,3.6E-9,-6.6313999999999997E-6,9.5283307000000005E-3,23.328428739500001,3.1111000000000002E-10,-9.0128000000000003E-7,3.1748000000000002E-3,-9.9999999999999995E-8,null,null,null,null,null,null,-3.6592E-6,-1.0345506E-3,1.0240956264000001,null,null,-1.4E-2,26.85,-1.3307,33.133000000000003,313.05,-9.9999999999999995E-8]
["Vero 10-D","30C","D",1001,"BXRC",{"$f":"MasterTable[[#This Row],[Product Family]]&\"-\"&MasterTable[[#This Row],[CCT/CRI]]&MasterTable[[#This Row],[Arrangement]]","v":"Vero 10-D-30CD"},{"$f":"MasterTable[[#This Row],[Generation]]&\"-\"&MasterTable[[#This Row],[CCT/CRI]]&IF(MasterTable[[#This Row],[Lumen Family]]<999,\"0\"&MasterTable[[#This Row],[Lumen Family]],MasterTable[[#This Row],[Lumen Family]])&\"-\"&MasterTable[[#This Row],[Arrangement]]&\"-xx\"","v":"BXRC-30C1001-D-xx"},1571,{"$f":"MasterTable[[#This Row],[Typical Lumens]]/(MasterTable[[#This Row],[Typical Voltage]]*MasterTable[[#This Row],[Typical Current]]/1000)","v":172.63736263736266},0.49075000000000002,26,350,{"$f":"L496*2","v":700},36,null,3.6E-9,-6.6313999999999997E-6,9.5283307000000005E-3,23.328428739500001,3.1111000000000002E-10,-9.0128000000000003E-7,3.1748000000000002E-3,-9.9999999999999995E-8,null,null,null,null,null,null,-3.6592E-6,-1.0345506E-3,1.0240956264000001,null,null,-1.4E-2,26.85,-1.3307,33.133000000000003,313.05,-9.9999999999999995E-8]
["Vero 10-D","30G-C","D","100C","BXRC",{"$f":"MasterTable[[#This Row],[Product Family]]&\"-\"&MasterTable[[#This Row],[CCT/CRI]]&MasterTable[[#This Row],[Arrangement]]","v":"Vero 10-D-30G-CD"},"BXRC-30G100C-D-xx",1174,{"$f":"MasterTable[[#This Row],[Typical Lumens]]/(MasterTable[[#This Row],[Typical Voltage]]*MasterTable[[#This Row],[Typical Current]]/1000)","v":129.01098901098902},0.49075000000000002,26,350,700,36,null,3.6E-9,-6.6313999999999997E-6,9.5283307000000005E-3,23.328428739500001,3.1111000000000002E-10,-9.0128000000000003E-7,3.1748000000000002E-3,-9.9999999999999995E-8,null,null,null,null,null,null,-3.6592E-6,-1.0345506E-3,1.0240956264000001,null,null,null,null,-1.3307,33.133000000000003,313.05,-9.9999999999999995E-8]
["Vero 10-D","30H","D",1000,"BXRC",{"$f":"MasterTable[[#This Row],[Product Family]]&\"-\"&MasterTable[[#This Row],[CCT/CRI]]&MasterTable[[#This Row],[Arrangement]]","v":"Vero 10-D-30HD"},{"$f":"MasterTable[[#This Row],[Generation]]&\"-\"&MasterTable[[#This Row],[CCT/CRI]]&IF(MasterTable[[#This Row],[Lumen Family]]<999,\"0\"&MasterTable[[#This Row],[Lumen Family]],MasterTable[[#This Row],[Lumen Family]])&\"-\"&MasterTable[[#This Row],[Arrangement]]&\"-xx\"","v":"BXRC-30H1000-D-xx"},1103,{"$f":"MasterTable[[#This Row],[Typical Lumens]]/(MasterTable[[#This Row],[Typical Voltage]]*MasterTable[[#This Row],[Typical Current]]/1000)","v":121.20879120879121},0.49075000000000002,26,350,700,36,null,3.6E-9,-6.6313999999999997E-6,9.5283307000000005E-3,23.328428739500001,3.1111000000000002E-10,-9.0128000000000003E-7,3.1748000000000002E-3,-9.9999999999999995E-8,null,null,null,null,null,null,-3.6592E-6,-1.0345506E-3,1.0240956264000001,null,null,null,null,-1.3307,33.133000000000003,313.05,-9.9999999999999995E-8]
["Vero 10-D","30A","D",1001,"BXRC",{"$f":"MasterTable[[#This Row],[Product Family]]&\"-\"&MasterTable[[#This Row],[CCT/CRI]]&MasterTable[[#This Row],[Arrangement]]","v":"Vero 10-D-30AD"},{"$f":"MasterTable[[#This Row],[Generation]]&\"-\"&MasterTable[[#This Row],[CCT/CRI]]&IF(MasterTable[[#This Row],[Lumen Family]]<999,\"0\"&MasterTable[[#This Row],[Lumen Family]],MasterTable[[#This Row],[Lumen Family]])&\"-\"&MasterTable[[#This Row],[Arrangement]]&\"-xx\"","v":"BXRC-30A1001-D-xx"},1095,{"$f":"MasterTable[[#This Row],[Typical Lumens]]/(MasterTable[[#This Row],[Typical Voltage]]*MasterTable[[#This Row],[Typical Current]]/1000)","v":120.32967032967034},0.49075000000000002,26,350,700,36,null,3.6E-9,-6.6313999999999997E-6,9.5283307000000005E-3,23.328428739500001,3.1111000000000002E-10,-9.0128000000000003E-7,3.1748000000000002E-3,-9.9999999999999995E-8,null,null,null,null,null,null,-3.6592E-6,-1.0345506E-3,1.0240956264000001,null,null,null,null,-1.3307,33.133000000000003,313.05,-9.9999999999999995E-8]
["Vero 10-D","35E","D",1000,"BXRC",{"$f":"MasterTable[[#This Row],[Product Family]]&\"-\"&MasterTable[[#This Row],[CCT/CRI]]&MasterTable[[#This Row],[Arrangement]]","v":"Vero 10-D-35ED"},{"$f":"MasterTable[[#This Row],[Generation]]&\"-\"&MasterTable[[#This Row],[CCT/CRI]]&IF(MasterTable[[#This Row],[Lumen Family]]<999,\"0\"&MasterTable[[#This Row],[Lumen Family]],MasterTable[[#This Row],[Lumen Family]])&\"-\"&MasterTable[[#This Row],[Arrangement]]&\"-xx\"","v":"BXRC-35E1000-D-xx"},1536,{"$f":"MasterTable[[#This Row],[Typical Lumens]]/(MasterTable[[#This Row],[Typical Voltage]]*MasterTable[[#This Row],[Typical Current]]/1000)","v":168.79120879120879},0.49075000000000002,26,350,700,36,null,3.6E-9,-6.6313999999999997E-6,9.5283307000000005E-3,23.328428739500001,3.1111000000000002E-10,-9.0128000000000003E-7,3.1748000000000002E-3,-9.9999999999999995E-8,null,null,null,null,null,null,-3.5848E-6,-1.1148865E-3,1.0260294071,null,null,-1.0999999999999999E-2,26.774999999999999,-1.3307,33.133000000000003,313.05,-9.9999999999999995E-8,null,null,"y = 35.132x2 + 302.92x + 3.5969"]
["Vero 10-D","35G","D",1000,"BXRC",{"$f":"MasterTable[[#This Row],[Product Family]]&\"-\"&MasterTable[[#This Row],[CCT/CRI]]&MasterTable[[#This Row],[Arrangement]]","v":"Vero 10-D-35GD"},{"$f":"MasterTable[[#This Row],[Generation]]&\"-\"&MasterTable[[#This Row],[CCT/CRI]]&IF(MasterTable[[#This Row],[Lumen Family]]<999,\"0\"&MasterTable[[#This Row],[Lumen Family]],MasterTable[[#This Row],[Lumen Family]])&\"-\"&MasterTable[[#This Row],[Arrangement]]&\"-xx\"","v":"BXRC-35G1000-D-xx"},1262,{"$f":"MasterTable[[#This Row],[Typical Lumens]]/(MasterTable[[#This Row],[Typical Voltage]]*MasterTable[[#This Row],[Typical Current]]/1000)","v":138.68131868131869},0.49075000000000002,26,350,700,36,null,3.6E-9,-6.6313999999999997E-6,9.5283307000000005E-3,23.328428739500001,3.1111000000000002E-10,-9.0128000000000003E-7,3.1748000000000002E-3,-9.9999999999999995E-8,null,null,null,null,null,null,-3.5848E-6,-1.1148865E-3,1.0260294071,null,null,null,null,-1.3307,33.133000000000003,313.05,-9.9999999999999995E-8]
["Vero 10-D","35A","D",1001,"BXRC",{"$f":"MasterTable[[#This Row],[Product Family]]&\"-\"&MasterTable[[#This Row],[CCT/CRI]]&MasterTable[[#This Row],[Arrangement]]","v":"Vero 10-D-35AD"},{"$f":"MasterTable[[#This Row],[Generation]]&\"-\"&MasterTable[[#This Row],[CCT/CRI]]&IF(MasterTable[[#This Row],[Lumen Family]]<999,\"0\"&MasterTable[[#This Row],[Lumen Family]],MasterTable[[#This Row],[Lumen Family]])&\"-\"&MasterTable[[#This Row],[Arrangement]]&\"-xx\"","v":"BXRC-35A1001-D-xx"},1165,{"$f":"MasterTable[[#This Row],[Typical Lumens]]/(MasterTable[[#This Row],[Typical Voltage]]*MasterTable[[#This Row],[Typical Current]]/1000)","v":128.02197802197801},0.49075000000000002,26,350,700,36,null,3.6E-9,-6.6313999999999997E-6,9.5283307000000005E-3,23.328428739500001,3.1111000000000002E-10,-9.0128000000000003E-7,3.1748000000000002E-3,-9.9999999999999995E-8,null,null,null,null,null,null,-3.5848E-6,-1.1148865E-3,1.0260294071,null,null,null,null,-1.3307,33.133000000000003,313.05,-9.9999999999999995E-8]
["Vero 10-D","40C","D",1001,"BXRC",{"$f":"MasterTable[[#This Row],[Product Family]]&\"-\"&MasterTable[[#This Row],[CCT/CRI]]&MasterTable[[#This Row],[Arrangement]]","v":"Vero 10-D-40CD"},{"$f":"MasterTable[[#This Row],[Generation]]&\"-\"&MasterTable[[#This Row],[CCT/CRI]]&IF(MasterTable[[#This Row],[Lumen Family]]<999,\"0\"&MasterTable[[#This Row],[Lumen Family]],MasterTable[[#This Row],[Lumen Family]])&\"-\"&MasterTable[[#This Row],[Arrangement]]&\"-xx\"","v":"BXRC-40C1001-D-xx"},1615,{"$f":"MasterTable[[#This Row],[Typical Lumens]]/(MasterTable[[#This Row],[Typical Voltage]]*MasterTable[[#This Row],[Typical Current]]/1000)","v":177.47252747252747},0.49075000000000002,26,350,{"$f":"L503*2","v":700},36,null,3.6E-9,-6.6313999999999997E-6,9.5283307000000005E-3,23.328428739500001,3.1111000000000002E-10,-9.0128000000000003E-7,3.1748000000000002E-3,-9.9999999999999995E-8,null,null,null,null,null,null,-3.5848E-6,-1.1148865E-3,1.0260294071,null,null,null,null,-1.3307,33.133000000000003,313.05,-9.9999999999999995E-8]
["Vero 10-D","40E","D",1000,"BXRC",{"$f":"MasterTable[[#This Row],[Product Family]]&\"-\"&MasterTable[[#This Row],[CCT/CRI]]&MasterTable[[#This Row],[Arrangement]]","v":"Vero 10-D-40ED"},{"$f":"MasterTable[[#This Row],[Generation]]&\"-\"&MasterTable[[#This Row],[CCT/CRI]]&IF(MasterTable[[#This Row],[Lumen Family]]<999,\"0\"&MasterTable[[#This Row],[Lumen Family]],MasterTable[[#This Row],[Lumen Family]])&\"-\"&MasterTable[[#This Row],[Arrangement]]&\"-xx\"","v":"BXRC-40E1000-D-xx"},1545,{"$f":"MasterTable[[#This Row],[Typical Lumens]]/(MasterTable[[#This Row],[Typical Voltage]]*MasterTable[[#This Row],[Typical Current]]/1000)","v":169.7802197802198},0.49075000000000002,26,350,700,36,null,3.6E-9,-6.6313999999999997E-6,9.5283307000000005E-3,23.328428739500001,3.1111000000000002E-10,-9.0128000000000003E-7,3.1748000000000002E-3,-9.9999999999999995E-8,null,null,null,null,null,null,-3.5848E-6,-1.1148865E-3,1.0260294071,null,null,-1.4E-2,26.85,-1.3307,33.133000000000003,313.05,-9.9999999999999995E-8]
["Vero 10-D","40G","D",1000,"BXRC",{"$f":"MasterTable[[#This Row],[Product Family]]&\"-\"&MasterTable[[#This Row],[CCT/CRI]]&MasterTable[[#This Row],[Arrangement]]","v":"Vero 10-D-40GD"},{"$f":"MasterTable[[#This Row],[Generation]]&\"-\"&MasterTable[[#This Row],[CCT/CRI]]&IF(MasterTable[[#This Row],[Lumen Family]]<999,\"0\"&MasterTable[[#This Row],[Lumen Family]],MasterTable[[#This Row],[Lumen Family]])&\"-\"&MasterTable[[#This Row],[Arrangement]]&\"-xx\"","v":"BXRC-40G1000-D-xx"},1289,{"$f":"MasterTable[[#This Row],[Typical Lumens]]/(MasterTable[[#This Row],[Typical Voltage]]*MasterTable[[#This Row],[Typical Current]]/1000)","v":141.64835164835165},0.49075000000000002,26,350,700,36,null,3.6E-9,-6.6313999999999997E-6,9.5283307000000005E-3,23.328428739500001,3.1111000000000002E-10,-9.0128000000000003E-7,3.1748000000000002E-3,-9.9999999999999995E-8,null,null,null,null,null,null,-3.5848E-6,-1.1148865E-3,1.0260294071,null,null,null,null,-1.3307,33.133000000000003,313.05,-9.9999999999999995E-8]
["Vero 10-D","40A","D",1001,"BXRC",{"$f":"MasterTable[[#This Row],[Product Family]]&\"-\"&MasterTable[[#This Row],[CCT/CRI]]&MasterTable[[#This Row],[Arrangement]]","v":"Vero 10-D-40AD"},{"$f":"MasterTable[[#This Row],[Generation]]&\"-\"&MasterTable[[#This Row],[CCT/CRI]]&IF(MasterTable[[#This Row],[Lumen Family]]<999,\"0\"&MasterTable[[#This Row],[Lumen Family]],MasterTable[[#This Row],[Lumen Family]])&\"-\"&MasterTable[[#This Row],[Arrangement]]&\"-xx\"","v":"BXRC-40A1001-D-xx"},1262,{"$f":"MasterTable[[#This Row],[Typical Lumens]]/(MasterTable[[#This Row],[Typical Voltage]]*MasterTable[[#This Row],[Typical Current]]/1000)","v":138.68131868131869},0.49075000000000002,26,350,700,36,null,3.6E-9,-6.6313999999999997E-6,9.5283307000000005E-3,23.328428739500001,3.1111000000000002E-10,-9.0128000000000003E-7,3.1748000000000002E-3,-9.9999999999999995E-8,null,null,null,null,null,null,-3.5848E-6,-1.1148865E-3,1.0260294071,null,null,null,null,-1.3307,33.133000000000003,313.05,-9.9999999999999995E-8]
["Vero 10-D","50C","D",1001,"BXRC",{"$f":"MasterTable[[#This Row],[Product Family]]&\"-\"&MasterTable[[#This Row],[CCT/CRI]]&MasterTable[[#This Row],[Arrangement]]","v":"Vero 10-D-50CD"},{"$f":"MasterTable[[#This Row],[Generation]]&\"-\"&MasterTable[[#This Row],[CCT/CRI]]&IF(MasterTable[[#This Row],[Lumen Family]]<999,\"0\"&MasterTable[[#This Row],[Lumen Family]],MasterTable[[#This Row],[Lumen Family]])&\"-\"&MasterTable[[#This Row],[Arrangement]]&\"-xx\"","v":"BXRC-50C1001-D-xx"},1624,{"$f":"MasterTable[[#This Row],[Typical Lumens]]/(MasterTable[[#This Row],[Typical Voltage]]*MasterTable[[#This Row],[Typical Current]]/1000)","v":178.46153846153848},0.49075000000000002,26,350,700,36,null,3.6E-9,-6.6313999999999997E-6,9.5283307000000005E-3,23.328428739500001,3.1111000000000002E-10,-9.0128000000000003E-7,3.1748000000000002E-3,-9.9999999999999995E-8,null,null,null,null,null,null,-6.9999999999999999E-6,-1E-3,1.0237000000000001,null,null,-1.4E-2,26.85,-1.3307,33.133000000000003,313.05,-9.9999999999999995E-8]
["Vero 10-D","50E","D",1001,"BXRC",{"$f":"MasterTable[[#This Row],[Product Family]]&\"-\"&MasterTable[[#This Row],[CCT/CRI]]&MasterTable[[#This Row],[Arrangement]]","v":"Vero 10-D-50ED"},{"$f":"MasterTable[[#This Row],[Generation]]&\"-\"&MasterTable[[#This Row],[CCT/CRI]]&IF(MasterTable[[#This Row],[Lumen Family]]<999,\"0\"&MasterTable[[#This Row],[Lumen Family]],MasterTable[[#This Row],[Lumen Family]])&\"-\"&MasterTable[[#This Row],[Arrangement]]&\"-xx\"","v":"BXRC-50E1001-D-xx"},1562,{"$f":"MasterTable[[#This Row],[Typical Lumens]]/(MasterTable[[#This Row],[Typical Voltage]]*MasterTable[[#This Row],[Typical Current]]/1000)","v":171.64835164835165},0.49075000000000002,26,350,700,36,null,3.6E-9,-6.6313999999999997E-6,9.5283307000000005E-3,23.328428739500001,3.1111000000000002E-10,-9.0128000000000003E-7,3.1748000000000002E-3,-9.9999999999999995E-8,null,null,null,null,null,null,-6.9999999999999999E-6,-1E-3,1.0237000000000001,null,null,-1.4E-2,26.85,-1.3307,33.133000000000003,313.05,-9.9999999999999995E-8]
["Vero 10-D","50G","D",1001,"BXRC",{"$f":"MasterTable[[#This Row],[Product Family]]&\"-\"&MasterTable[[#This Row],[CCT/CRI]]&MasterTable[[#This Row],[Arrangement]]","v":"Vero 10-D-50GD"},{"$f":"MasterTable[[#This Row],[Generation]]&\"-\"&MasterTable[[#This Row],[CCT/CRI]]&IF(MasterTable[[#This Row],[Lumen Family]]<999,\"0\"&MasterTable[[#This Row],[Lumen Family]],MasterTable[[#This Row],[Lumen Family]])&\"-\"&MasterTable[[#This Row],[Arrangement]]&\"-xx\"","v":"BXRC-50G1001-D-xx"},1351,{"$f":"MasterTable[[#This Row],[Typical Lumens]]/(MasterTable[[#This Row],[Typical Voltage]]*MasterTable[[#This Row],[Typical Current]]/1000)","v":148.46153846153848},0.49075000000000002,26,350,700,36,null,3.6E-9,-6.6313999999999997E-6,9.5283307000000005E-3,23.328428739500001,3.1111000000000002E-10,-9.0128000000000003E-7,3.1748000000000002E-3,-9.9999999999999995E-8,null,null,null,null,null,null,-6.9999999999999999E-6,-1E-3,1.0237000000000001,null,null,null,null,-1.3307,33.133000000000003,313.05,-9.9999999999999995E-8]
["Vero 10-D","57C","D",1001,"BXRC",{"$f":"MasterTable[[#This Row],[Product Family]]&\"-\"&MasterTable[[#This Row],[CCT/CRI]]&MasterTable[[#This Row],[Arrangement]]","v":"Vero 10-D-57CD"},{"$f":"MasterTable[[#This Row],[Generation]]&\"-\"&MasterTable[[#This Row],[CCT/CRI]]&IF(MasterTable[[#This Row],[Lumen Family]]<999,\"0\"&MasterTable[[#This Row],[Lumen Family]],MasterTable[[#This Row],[Lumen Family]])&\"-\"&MasterTable[[#This Row],[Arrangement]]&\"-xx\"","v":"BXRC-57C1001-D-xx"},1580,{"$f":"MasterTable[[#This Row],[Typical Lumens]]/(MasterTable[[#This Row],[Typical Voltage]]*MasterTable[[#This Row],[Typical Current]]/1000)","v":173.62637362637363},0.49075000000000002,26,350,700,36,null,3.6E-9,-6.6313999999999997E-6,9.5283307000000005E-3,23.328428739500001,3.1111000000000002E-10,-9.0128000000000003E-7,3.1748000000000002E-3,-9.9999999999999995E-8,null,null,null,null,null,null,-6.9999999999999999E-6,-1E-3,1.0237000000000001,null,null,null,null,-1.3307,33.133000000000003,313.05,-9.9999999999999995E-8]
["Vero 10-D","57E","D",1001,"BXRC",{"$f":"MasterTable[[#This Row],[Product Family]]&\"-\"&MasterTable[[#This Row],[CCT/CRI]]&MasterTable[[#This Row],[Arrangement]]","v":"Vero 10-D-57ED"},{"$f":"MasterTable[[#This Row],[Generation]]&\"-\"&MasterTable[[#This Row],[CCT/CRI]]&IF(MasterTable[[#This Row],[Lumen Family]]<999,\"0\"&MasterTable[[#This Row],[Lumen Family]],MasterTable[[#This Row],[Lumen Family]])&\"-\"&MasterTable[[#This Row],[Arrangement]]&\"-xx\"","v":"BXRC-57E1001-D-xx"},1501,{"$f":"MasterTable[[#This Row],[Typical Lumens]]/(MasterTable[[#This Row],[Typical Voltage]]*MasterTable[[#This Row],[Typical Current]]/1000)","v":164.94505494505495},0.49075000000000002,26,350,700,36,null,3.6E-9,-6.6313999999999997E-6,9.5283307000000005E-3,23.328428739500001,3.1111000000000002E-10,-9.0128000000000003E-7,3.1748000000000002E-3,-9.9999999999999995E-8,null,null,null,null,null,null,-6.9999999999999999E-6,-1E-3,1.0237000000000001,null,null,null,null,-1.3307,33.133000000000003,313.05,-9.9999999999999995E-8]
["Vero 10-D","65C","D",1001,"BXRC",{"$f":"MasterTable[[#This Row],[Product Family]]&\"-\"&MasterTable[[#This Row],[CCT/CRI]]&MasterTable[[#This Row],[Arrangement]]","v":"Vero 10-D-65CD"},{"$f":"MasterTable[[#This Row],[Generation]]&\"-\"&MasterTable[[#This Row],[CCT/CRI]]&IF(MasterTable[[#This Row],[Lumen Family]]<999,\"0\"&MasterTable[[#This Row],[Lumen Family]],MasterTable[[#This Row],[Lumen Family]])&\"-\"&MasterTable[[#This Row],[Arrangement]]&\"-xx\"","v":"BXRC-65C1001-D-xx"},1580,{"$f":"MasterTable[[#This Row],[Typical Lumens]]/(MasterTable[[#This Row],[Typical Voltage]]*MasterTable[[#This Row],[Typical Current]]/1000)","v":173.62637362637363},0.49075000000000002,26,350,700,36,null,3.6E-9,-6.6313999999999997E-6,9.5283307000000005E-3,23.328428739500001,3.1111000000000002E-10,-9.0128000000000003E-7,3.1748000000000002E-3,-9.9999999999999995E-8,null,null,null,null,null,null,-6.9999999999999999E-6,-1E-3,1.0237000000000001,null,null,null,null,-1.3307,33.133000000000003,313.05,-9.9999999999999995E-8]
["Vero 10-D","65E","D",1001,"BXRC",{"$f":"MasterTable[[#This Row],[Product Family]]&\"-\"&MasterTable[[#This Row],[CCT/CRI]]&MasterTable[[#This Row],[Arrangement]]","v":"Vero 10-D-65ED"},{"$f":"MasterTable[[#This Row],[Generation]]&\"-\"&MasterTable[[#This Row],[CCT/CRI]]&IF(MasterTable[[#This Row],[Lumen Family]]<999,\"0\"&MasterTable[[#This Row],[Lumen Family]],MasterTable[[#This Row],[Lumen Family]])&\"-\"&MasterTable[[#This Row],[Arrangement]]&\"-xx\"","v":"BXRC-65E1001-D-xx"},1518,{"$f":"MasterTable[[#This Row],[Typical Lumens]]/(MasterTable[[#This Row],[Typical Voltage]]*MasterTable[[#This Row],[Typical Current]]/1000)","v":166.81318681318683},0.49075000000000002,26,350,700,36,null,3.6E-9,-6.6313999999999997E-6,9.5283307000000005E-3,23.328428739500001,3.1111000000000002E-10,-9.0128000000000003E-7,3.1748000000000002E-3,-9.9999999999999995E-8,null,null,null,null,null,null,-6.9999999999999999E-6,-1E-3,1.0237000000000001,null,null,null,null,-1.3307,33.133000000000003,313.05,-9.9999999999999995E-8]
["Vero 13-B","30E","B",2000,"BXRC",{"$f":"MasterTable[[#This Row],[Product Family]]&\"-\"&MasterTable[[#This Row],[CCT/CRI]]&MasterTable[[#This Row],[Arrangement]]","v":"Vero 13-B-30EB"},{"$f":"MasterTable[[#This Row],[Generation]]&\"-\"&MasterTable[[#This Row],[CCT/CRI]]&IF(MasterTable[[#This Row],[Lumen Family]]<999,\"0\"&MasterTable[[#This Row],[Lumen Family]],MasterTable[[#This Row],[Lumen Family]])&\"-\"&MasterTable[[#This Row],[Arrangement]]&\"-xx\"","v":"BXRC-30E2000-B-xx"},2662.2,{"$f":"MasterTable[[#This Row],[Typical Lumens]]/(MasterTable[[#This Row],[Typical Voltage]]*MasterTable[[#This Row],[Typical Current]]/1000)","v":170},0.28036666666666665,34.799999999999997,450,900,60,null,2.2999999999999999E-9,-5.0931999999999998E-6,9.5302597999999995E-3,31.269348142199998,9.5973000000000006E-11,-5.3648000000000005E-7,2.4543E-3,-9.9999999999999995E-8,null,null,null,null,null,null,-3.6592E-6,-1.0345506E-3,1.0240956264000001,null,null,null,null,3.5709,37.384,406.89,-9.9999999999999995E-8]
["Vero 13-B","27E","B",2000,"BXRC",{"$f":"MasterTable[[#This Row],[Product Family]]&\"-\"&MasterTable[[#This Row],[CCT/CRI]]&MasterTable[[#This Row],[Arrangement]]","v":"Vero 13-B-27EB"},{"$f":"MasterTable[[#This Row],[Generation]]&\"-\"&MasterTable[[#This Row],[CCT/CRI]]&IF(MasterTable[[#This Row],[Lumen Family]]<999,\"0\"&MasterTable[[#This Row],[Lumen Family]],MasterTable[[#This Row],[Lumen Family]])&\"-\"&MasterTable[[#This Row],[Arrangement]]&\"-xx\"","v":"BXRC-27E2000-B-xx"},2505.6,{"$f":"MasterTable[[#This Row],[Typical Lumens]]/(MasterTable[[#This Row],[Typical Voltage]]*MasterTable[[#This Row],[Typical Current]]/1000)","v":160},0.28036666666666665,34.799999999999997,450,900,60,null,2.2999999999999999E-9,-5.0931999999999998E-6,9.5302597999999995E-3,31.269348142199998,9.5973000000000006E-11,-5.3648000000000005E-7,2.4543E-3,-9.9999999999999995E-8,null,null,null,null,null,null,-3.6592E-6,-1.0345506E-3,1.0240956264000001,null,null,null,null,3.5709,37.384,406.89,-9.9999999999999995E-8]
["Vero 13-B","27G","B",2000,"BXRC",{"$f":"MasterTable[[#This Row],[Product Family]]&\"-\"&MasterTable[[#This Row],[CCT/CRI]]&MasterTable[[#This Row],[Arrangement]]","v":"Vero 13-B-27GB"},{"$f":"MasterTable[[#This Row],[Generation]]&\"-\"&MasterTable[[#This Row],[CCT/CRI]]&IF(MasterTable[[#This Row],[Lumen Family]]<999,\"0\"&MasterTable[[#This Row],[Lumen Family]],MasterTable[[#This Row],[Lumen Family]])&\"-\"&MasterTable[[#This Row],[Arrangement]]&\"-xx\"","v":"BXRC-27G2000-B-xx"},2067,{"$f":"MasterTable[[#This Row],[Typical Lumens]]/(MasterTable[[#This Row],[Typical Voltage]]*MasterTable[[#This Row],[Typical Current]]/1000)","v":131.99233716475098},0.28036666666666665,34.799999999999997,450,900,60,null,2.2999999999999999E-9,-5.0931999999999998E-6,9.5302597999999995E-3,31.269348142199998,9.5973000000000006E-11,-5.3648000000000005E-7,2.4543E-3,-9.9999999999999995E-8,null,null,null,null,null,null,-3.6592E-6,-1.0345506E-3,1.0240956264000001,null,null,null,null,3.5709,37.384,406.89,-9.9999999999999995E-8]
["Vero 13-B","27H","B",2000,"BXRC",{"$f":"MasterTable[[#This Row],[Product Family]]&\"-\"&MasterTable[[#This Row],[CCT/CRI]]&MasterTable[[#This Row],[Arrangement]]","v":"Vero 13-B-27HB"},{"$f":"MasterTable[[#This Row],[Generation]]&\"-\"&MasterTable[[#This Row],[CCT/CRI]]&IF(MasterTable[[#This Row],[Lumen Family]]<999,\"0\"&MasterTable[[#This Row],[Lumen Family]],MasterTable[[#This Row],[Lumen Family]])&\"-\"&MasterTable[[#This Row],[Arrangement]]&\"-xx\"","v":"BXRC-27H2000-B-xx"},1832.2199999999998,{"$f":"MasterTable[[#This Row],[Typical Lumens]]/(MasterTable[[#This Row],[Typical Voltage]]*MasterTable[[#This Row],[Typical Current]]/1000)","v":117},0.28036666666666665,34.799999999999997,450,900,60,null,2.2999999999999999E-9,-5.0931999999999998E-6,9.5302597999999995E-3,31.269348142199998,9.5973000000000006E-11,-5.3648000000000005E-7,2.4543E-3,-9.9999999999999995E-8,null,null,null,null,null,null,-3.6592E-6,-1.0345506E-3,1.0240956264000001,null,null,null,null,3.5709,37.384,406.89,-9.9999999999999995E-8]
["Vero 13-B","27G-H","B","20H0","BXRC",{"$f":"MasterTable[[#This Row],[Product Family]]&\"-\"&MasterTable[[#This Row],[CCT/CRI]]&MasterTable[[#This Row],[Arrangement]]","v":"Vero 13-B-27G-HB"},"BXRC-27G-20H0-B-xx",2145,{"$f":"MasterTable[[#This Row],[Typical Lumens]]/(MasterTable[[#This Row],[Typical Voltage]]*MasterTable[[#This Row],[Typical Current]]/1000)","v":136.97318007662835},0.28036666666666665,34.799999999999997,450,{"$f":"L518*2","v":900},60,null,2.2999999999999999E-9,-5.0931999999999998E-6,9.5302597999999995E-3,31.269348142199998,9.5973000000000006E-11,-5.3648000000000005E-7,2.4543E-3,-9.9999999999999995E-8,null,null,null,null,null,null,-3.6592E-6,-1.0345506E-3,1.0240956264000001,null,null,null,null,3.5709,37.384,406.89,-9.9999999999999995E-8]
["Vero 13-B","30G-H","B","20H0","BXRC",{"$f":"MasterTable[[#This Row],[Product Family]]&\"-\"&MasterTable[[#This Row],[CCT/CRI]]&MasterTable[[#This Row],[Arrangement]]","v":"Vero 13-B-30G-HB"},"BXRC-30G-20H0-B-xx",2255,{"$f":"MasterTable[[#This Row],[Typical Lumens]]/(MasterTable[[#This Row],[Typical Voltage]]*MasterTable[[#This Row],[Typical Current]]/1000)","v":143.99744572158366},0.28036666666666665,34.799999999999997,450,900,60,null,2.2999999999999999E-9,-5.0931999999999998E-6,9.5302597999999995E-3,31.269348142199998,9.5973000000000006E-11,-5.3648000000000005E-7,2.4543E-3,-9.9999999999999995E-8,null,null,null,null,null,null,-3.6592E-6,-1.0345506E-3,1.0240956264000001,null,null,null,null,3.5709,37.384,406.89,-9.9999999999999995E-8]
["Vero 13-B","30C","B",2001,"BXRC",{"$f":"MasterTable[[#This Row],[Product Family]]&\"-\"&MasterTable[[#This Row],[CCT/CRI]]&MasterTable[[#This Row],[Arrangement]]","v":"Vero 13-B-30CB"},{"$f":"MasterTable[[#This Row],[Generation]]&\"-\"&MasterTable[[#This Row],[CCT/CRI]]&IF(MasterTable[[#This Row],[Lumen Family]]<999,\"0\"&MasterTable[[#This Row],[Lumen Family]],MasterTable[[#This Row],[Lumen Family]])&\"-\"&MasterTable[[#This Row],[Arrangement]]&\"-xx\"","v":"BXRC-30C2001-B-xx"},2787,{"$f":"MasterTable[[#This Row],[Typical Lumens]]/(MasterTable[[#This Row],[Typical Voltage]]*MasterTable[[#This Row],[Typical Current]]/1000)","v":177.96934865900386},0.28036666666666665,34.799999999999997,450,{"$f":"L520*2","v":900},60,null,2.2999999999999999E-9,-5.0931999999999998E-6,9.5302597999999995E-3,31.269348142199998,9.5973000000000006E-11,-5.3648000000000005E-7,2.4543E-3,-9.9999999999999995E-8,null,null,null,null,null,null,-3.6592E-6,-1.0345506E-3,1.0240956264000001,null,null,null,null,3.5709,37.384,406.89,-9.9999999999999995E-8]
["Vero 13-B","30G","B",2000,"BXRC",{"$f":"MasterTable[[#This Row],[Product Family]]&\"-\"&MasterTable[[#This Row],[CCT/CRI]]&MasterTable[[#This Row],[Arrangement]]","v":"Vero 13-B-30GB"},{"$f":"MasterTable[[#This Row],[Generation]]&\"-\"&MasterTable[[#This Row],[CCT/CRI]]&IF(MasterTable[[#This Row],[Lumen Family]]<999,\"0\"&MasterTable[[#This Row],[Lumen Family]],MasterTable[[#This Row],[Lumen Family]])&\"-\"&MasterTable[[#This Row],[Arrangement]]&\"-xx\"","v":"BXRC-30G2000-B-xx"},2161,{"$f":"MasterTable[[#This Row],[Typical Lumens]]/(MasterTable[[#This Row],[Typical Voltage]]*MasterTable[[#This Row],[Typical Current]]/1000)","v":137.99489144316732},0.28036666666666665,34.799999999999997,450,900,60,null,2.2999999999999999E-9,-5.0931999999999998E-6,9.5302597999999995E-3,31.269348142199998,9.5973000000000006E-11,-5.3648000000000005E-7,2.4543E-3,-9.9999999999999995E-8,null,null,null,null,null,null,-3.6592E-6,-1.0345506E-3,1.0240956264000001,null,null,null,null,3.5709,37.384,406.89,-9.9999999999999995E-8]
["Vero 13-B","30G-C","B","200C","BXRC",{"$f":"MasterTable[[#This Row],[Product Family]]&\"-\"&MasterTable[[#This Row],[CCT/CRI]]&MasterTable[[#This Row],[Arrangement]]","v":"Vero 13-B-30G-CB"},"BXRC-30G200C-B-xx",2095,{"$f":"MasterTable[[#This Row],[Typical Lumens]]/(MasterTable[[#This Row],[Typical Voltage]]*MasterTable[[#This Row],[Typical Current]]/1000)","v":133.78033205619414},0.28036666666666665,34.799999999999997,450,900,60,null,2.2999999999999999E-9,-5.0931999999999998E-6,9.5302597999999995E-3,31.269348142199998,9.5973000000000006E-11,-5.3648000000000005E-7,2.4543E-3,-9.9999999999999995E-8,null,null,null,null,null,null,-3.6592E-6,-1.0345506E-3,1.0240956264000001,null,null,null,null,3.5709,37.384,406.89,-9.9999999999999995E-8]
["Vero 13-B","30H","B",2000,"BXRC",{"$f":"MasterTable[[#This Row],[Product Family]]&\"-\"&MasterTable[[#This Row],[CCT/CRI]]&MasterTable[[#This Row],[Arrangement]]","v":"Vero 13-B-30HB"},{"$f":"MasterTable[[#This Row],[Generation]]&\"-\"&MasterTable[[#This Row],[CCT/CRI]]&IF(MasterTable[[#This Row],[Lumen Family]]<999,\"0\"&MasterTable[[#This Row],[Lumen Family]],MasterTable[[#This Row],[Lumen Family]])&\"-\"&MasterTable[[#This Row],[Arrangement]]&\"-xx\"","v":"BXRC-30H2000-B-xx"},1957.4999999999998,{"$f":"MasterTable[[#This Row],[Typical Lumens]]/(MasterTable[[#This Row],[Typical Voltage]]*MasterTable[[#This Row],[Typical Current]]/1000)","v":125},0.28036666666666665,34.799999999999997,450,900,60,null,2.2999999999999999E-9,-5.0931999999999998E-6,9.5302597999999995E-3,31.269348142199998,9.5973000000000006E-11,-5.3648000000000005E-7,2.4543E-3,-9.9999999999999995E-8,null,null,null,null,null,null,-3.6592E-6,-1.0345506E-3,1.0240956264000001,null,null,null,null,3.5709,37.384,406.89,-9.9999999999999995E-8]
["Vero 13-B","30A","B",2001,"BXRC",{"$f":"MasterTable[[#This Row],[Product Family]]&\"-\"&MasterTable[[#This Row],[CCT/CRI]]&MasterTable[[#This Row],[Arrangement]]","v":"Vero 13-B-30AB"},{"$f":"MasterTable[[#This Row],[Generation]]&\"-\"&MasterTable[[#This Row],[CCT/CRI]]&IF(MasterTable[[#This Row],[Lumen Family]]<999,\"0\"&MasterTable[[#This Row],[Lumen Family]],MasterTable[[#This Row],[Lumen Family]])&\"-\"&MasterTable[[#This Row],[Arrangement]]&\"-xx\"","v":"BXRC-30A2001-B-xx"},1941.8399999999997,{"$f":"MasterTable[[#This Row],[Typical Lumens]]/(MasterTable[[#This Row],[Typical Voltage]]*MasterTable[[#This Row],[Typical Current]]/1000)","v":124},0.28036666666666665,34.799999999999997,450,900,60,null,2.2999999999999999E-9,-5.0931999999999998E-6,9.5302597999999995E-3,31.269348142199998,9.5973000000000006E-11,-5.3648000000000005E-7,2.4543E-3,-9.9999999999999995E-8,null,null,null,null,null,null,-3.6592E-6,-1.0345506E-3,1.0240956264000001,null,null,null,null,3.5709,37.384,406.89,-9.9999999999999995E-8]
["Vero 13-B","35E","B",2000,"BXRC",{"$f":"MasterTable[[#This Row],[Product Family]]&\"-\"&MasterTable[[#This Row],[CCT/CRI]]&MasterTable[[#This Row],[Arrangement]]","v":"Vero 13-B-35EB"},{"$f":"MasterTable[[#This Row],[Generation]]&\"-\"&MasterTable[[#This Row],[CCT/CRI]]&IF(MasterTable[[#This Row],[Lumen Family]]<999,\"0\"&MasterTable[[#This Row],[Lumen Family]],MasterTable[[#This Row],[Lumen Family]])&\"-\"&MasterTable[[#This Row],[Arrangement]]&\"-xx\"","v":"BXRC-35E2000-B-xx"},2724.8399999999997,{"$f":"MasterTable[[#This Row],[Typical Lumens]]/(MasterTable[[#This Row],[Typical Voltage]]*MasterTable[[#This Row],[Typical Current]]/1000)","v":174},0.28036666666666665,34.799999999999997,450,900,60,null,2.2999999999999999E-9,-5.0931999999999998E-6,9.5302597999999995E-3,31.269348142199998,9.5973000000000006E-11,-5.3648000000000005E-7,2.4543E-3,-9.9999999999999995E-8,null,null,null,null,null,null,-3.6592E-6,-1.0345506E-3,1.0240956264000001,null,null,null,null,3.5709,37.384,406.89,-9.9999999999999995E-8]
["Vero 13-B","35G","B",2000,"BXRC",{"$f":"MasterTable[[#This Row],[Product Family]]&\"-\"&MasterTable[[#This Row],[CCT/CRI]]&MasterTable[[#This Row],[Arrangement]]","v":"Vero 13-B-35GB"},{"$f":"MasterTable[[#This Row],[Generation]]&\"-\"&MasterTable[[#This Row],[CCT/CRI]]&IF(MasterTable[[#This Row],[Lumen Family]]<999,\"0\"&MasterTable[[#This Row],[Lumen Family]],MasterTable[[#This Row],[Lumen Family]])&\"-\"&MasterTable[[#This Row],[Arrangement]]&\"-xx\"","v":"BXRC-35G2000-B-xx"},2239.3799999999997,{"$f":"MasterTable[[#This Row],[Typical Lumens]]/(MasterTable[[#This Row],[Typical Voltage]]*MasterTable[[#This Row],[Typical Current]]/1000)","v":143},0.28036666666666665,34.799999999999997,450,900,60,null,2.2999999999999999E-9,-5.0931999999999998E-6,9.5302597999999995E-3,31.269348142199998,9.5973000000000006E-11,-5.3648000000000005E-7,2.4543E-3,-9.9999999999999995E-8,null,null,null,null,null,null,-3.6592E-6,-1.0345506E-3,1.0240956264000001,null,null,null,null,3.5709,37.384,406.89,-9.9999999999999995E-8]
["Vero 13-B","35A","B",2001,"BXRC",{"$f":"MasterTable[[#This Row],[Product Family]]&\"-\"&MasterTable[[#This Row],[CCT/CRI]]&MasterTable[[#This Row],[Arrangement]]","v":"Vero 13-B-35AB"},{"$f":"MasterTable[[#This Row],[Generation]]&\"-\"&MasterTable[[#This Row],[CCT/CRI]]&IF(MasterTable[[#This Row],[Lumen Family]]<999,\"0\"&MasterTable[[#This Row],[Lumen Family]],MasterTable[[#This Row],[Lumen Family]])&\"-\"&MasterTable[[#This Row],[Arrangement]]&\"-xx\"","v":"BXRC-35A2001-B-xx"},2067.12,{"$f":"MasterTable[[#This Row],[Typical Lumens]]/(MasterTable[[#This Row],[Typical Voltage]]*MasterTable[[#This Row],[Typical Current]]/1000)","v":132},0.28036666666666665,34.799999999999997,450,900,60,null,2.2999999999999999E-9,-5.0931999999999998E-6,9.5302597999999995E-3,31.269348142199998,9.5973000000000006E-11,-5.3648000000000005E-7,2.4543E-3,-9.9999999999999995E-8,null,null,null,null,null,null,-3.6592E-6,-1.0345506E-3,1.0240956264000001,null,null,null,null,3.5709,37.384,406.89,-9.9999999999999995E-8]
["Vero 13-B","40C","B",20001,"BXRC",{"$f":"MasterTable[[#This Row],[Product Family]]&\"-\"&MasterTable[[#This Row],[CCT/CRI]]&MasterTable[[#This Row],[Arrangement]]","v":"Vero 13-B-40CB"},{"$f":"MasterTable[[#This Row],[Generation]]&\"-\"&MasterTable[[#This Row],[CCT/CRI]]&IF(MasterTable[[#This Row],[Lumen Family]]<999,\"0\"&MasterTable[[#This Row],[Lumen Family]],MasterTable[[#This Row],[Lumen Family]])&\"-\"&MasterTable[[#This Row],[Arrangement]]&\"-xx\"","v":"BXRC-40C20001-B-xx"},2866,{"$f":"MasterTable[[#This Row],[Typical Lumens]]/(MasterTable[[#This Row],[Typical Voltage]]*MasterTable[[#This Row],[Typical Current]]/1000)","v":183.01404853128992},0.28036666666666665,34.799999999999997,450,900,60,null,2.2999999999999999E-9,-5.0931999999999998E-6,9.5302597999999995E-3,31.269348142199998,9.5973000000000006E-11,-5.3648000000000005E-7,2.4543E-3,-9.9999999999999995E-8,null,null,null,null,null,null,-3.6592E-6,-1.0345506E-3,1.0240956264000001,null,null,null,null,3.5709,37.384,406.89,-9.9999999999999995E-8]
["Vero 13-B","40E","B",2000,"BXRC",{"$f":"MasterTable[[#This Row],[Product Family]]&\"-\"&MasterTable[[#This Row],[CCT/CRI]]&MasterTable[[#This Row],[Arrangement]]","v":"Vero 13-B-40EB"},{"$f":"MasterTable[[#This Row],[Generation]]&\"-\"&MasterTable[[#This Row],[CCT/CRI]]&IF(MasterTable[[#This Row],[Lumen Family]]<999,\"0\"&MasterTable[[#This Row],[Lumen Family]],MasterTable[[#This Row],[Lumen Family]])&\"-\"&MasterTable[[#This Row],[Arrangement]]&\"-xx\"","v":"BXRC-40E2000-B-xx"},2740.4999999999995,{"$f":"MasterTable[[#This Row],[Typical Lumens]]/(MasterTable[[#This Row],[Typical Voltage]]*MasterTable[[#This Row],[Typical Current]]/1000)","v":175},0.28036666666666665,34.799999999999997,450,900,60,null,2.2999999999999999E-9,-5.0931999999999998E-6,9.5302597999999995E-3,31.269348142199998,9.5973000000000006E-11,-5.3648000000000005E-7,2.4543E-3,-9.9999999999999995E-8,null,null,null,null,null,null,-3.6592E-6,-1.0345506E-3,1.0240956264000001,null,null,null,null,3.5709,37.384,406.89,-9.9999999999999995E-8]
["Vero 13-B","40G","B",2000,"BXRC",{"$f":"MasterTable[[#This Row],[Product Family]]&\"-\"&MasterTable[[#This Row],[CCT/CRI]]&MasterTable[[#This Row],[Arrangement]]","v":"Vero 13-B-40GB"},{"$f":"MasterTable[[#This Row],[Generation]]&\"-\"&MasterTable[[#This Row],[CCT/CRI]]&IF(MasterTable[[#This Row],[Lumen Family]]<999,\"0\"&MasterTable[[#This Row],[Lumen Family]],MasterTable[[#This Row],[Lumen Family]])&\"-\"&MasterTable[[#This Row],[Arrangement]]&\"-xx\"","v":"BXRC-40G2000-B-xx"},2286.3599999999997,{"$f":"MasterTable[[#This Row],[Typical Lumens]]/(MasterTable[[#This Row],[Typical Voltage]]*MasterTable[[#This Row],[Typical Current]]/1000)","v":146},0.28036666666666665,34.799999999999997,450,900,60,null,2.2999999999999999E-9,-5.0931999999999998E-6,9.5302597999999995E-3,31.269348142199998,9.5973000000000006E-11,-5.3648000000000005E-7,2.4543E-3,-9.9999999999999995E-8,null,null,null,null,null,null,-3.5848E-6,-1.1148865E-3,1.0260294071,null,null,null,null,3.5709,37.384,406.89,-9.9999999999999995E-8]
["Vero 13-B","40A","B",2001,"BXRC",{"$f":"MasterTable[[#This Row],[Product Family]]&\"-\"&MasterTable[[#This Row],[CCT/CRI]]&MasterTable[[#This Row],[Arrangement]]","v":"Vero 13-B-40AB"},{"$f":"MasterTable[[#This Row],[Generation]]&\"-\"&MasterTable[[#This Row],[CCT/CRI]]&IF(MasterTable[[#This Row],[Lumen Family]]<999,\"0\"&MasterTable[[#This Row],[Lumen Family]],MasterTable[[#This Row],[Lumen Family]])&\"-\"&MasterTable[[#This Row],[Arrangement]]&\"-xx\"","v":"BXRC-40A2001-B-xx"},2239.3799999999997,{"$f":"MasterTable[[#This Row],[Typical Lumens]]/(MasterTable[[#This Row],[Typical Voltage]]*MasterTable[[#This Row],[Typical Current]]/1000)","v":143},0.28036666666666665,34.799999999999997,450,{"$f":"L531*2","v":900},60,null,2.2999999999999999E-9,-5.0931999999999998E-6,9.5302597999999995E-3,31.269348142199998,9.5973000000000006E-11,-5.3648000000000005E-7,2.4543E-3,-9.9999999999999995E-8,null,null,null,null,null,null,-3.5848E-6,-1.1148865E-3,1.0260294071,null,null,null,null,3.5709,37.384,406.89,-9.9999999999999995E-8]
["Vero 13-B","50C","B",2001,"BXRC",{"$f":"MasterTable[[#This Row],[Product Family]]&\"-\"&MasterTable[[#This Row],[CCT/CRI]]&MasterTable[[#This Row],[Arrangement]]","v":"Vero 13-B-50CB"},{"$f":"MasterTable[[#This Row],[Generation]]&\"-\"&MasterTable[[#This Row],[CCT/CRI]]&IF(MasterTable[[#This Row],[Lumen Family]]<999,\"0\"&MasterTable[[#This Row],[Lumen Family]],MasterTable[[#This Row],[Lumen Family]])&\"-\"&MasterTable[[#This Row],[Arrangement]]&\"-xx\"","v":"BXRC-50C2001-B-xx"},2881.4399999999996,{"$f":"MasterTable[[#This Row],[Typical Lumens]]/(MasterTable[[#This Row],[Typical Voltage]]*MasterTable[[#This Row],[Typical Current]]/1000)","v":184},0.28036666666666665,34.799999999999997,450,900,60,null,2.2999999999999999E-9,-5.0931999999999998E-6,9.5302597999999995E-3,31.269348142199998,9.5973000000000006E-11,-5.3648000000000005E-7,2.4543E-3,-9.9999999999999995E-8,null,null,null,null,null,null,-6.9999999999999999E-6,-1E-3,1.0237000000000001,null,null,null,null,3.5709,37.384,406.89,-9.9999999999999995E-8]
["Vero 13-B","50E","B",2001,"BXRC",{"$f":"MasterTable[[#This Row],[Product Family]]&\"-\"&MasterTable[[#This Row],[CCT/CRI]]&MasterTable[[#This Row],[Arrangement]]","v":"Vero 13-B-50EB"},{"$f":"MasterTable[[#This Row],[Generation]]&\"-\"&MasterTable[[#This Row],[CCT/CRI]]&IF(MasterTable[[#This Row],[Lumen Family]]<999,\"0\"&MasterTable[[#This Row],[Lumen Family]],MasterTable[[#This Row],[Lumen Family]])&\"-\"&MasterTable[[#This Row],[Arrangement]]&\"-xx\"","v":"BXRC-50E2001-B-xx"},2771.8199999999997,{"$f":"MasterTable[[#This Row],[Typical Lumens]]/(MasterTable[[#This Row],[Typical Voltage]]*MasterTable[[#This Row],[Typical Current]]/1000)","v":177},0.28036666666666665,34.799999999999997,450,900,60,null,2.2999999999999999E-9,-5.0931999999999998E-6,9.5302597999999995E-3,31.269348142199998,9.5973000000000006E-11,-5.3648000000000005E-7,2.4543E-3,-9.9999999999999995E-8,null,null,null,null,null,null,-6.9999999999999999E-6,-1E-3,1.0237000000000001,null,null,null,null,3.5709,37.384,406.89,-9.9999999999999995E-8]
["Vero 13-B","50G","B",2001,"BXRC",{"$f":"MasterTable[[#This Row],[Product Family]]&\"-\"&MasterTable[[#This Row],[CCT/CRI]]&MasterTable[[#This Row],[Arrangement]]","v":"Vero 13-B-50GB"},{"$f":"MasterTable[[#This Row],[Generation]]&\"-\"&MasterTable[[#This Row],[CCT/CRI]]&IF(MasterTable[[#This Row],[Lumen Family]]<999,\"0\"&MasterTable[[#This Row],[Lumen Family]],MasterTable[[#This Row],[Lumen Family]])&\"-\"&MasterTable[[#This Row],[Arrangement]]&\"-xx\"","v":"BXRC-50G2001-B-xx"},2395.9799999999996,{"$f":"MasterTable[[#This Row],[Typical Lumens]]/(MasterTable[[#This Row],[Typical Voltage]]*MasterTable[[#This Row],[Typical Current]]/1000)","v":153},0.28036666666666665,34.799999999999997,450,900,60,null,2.2999999999999999E-9,-5.0931999999999998E-6,9.5302597999999995E-3,31.269348142199998,9.5973000000000006E-11,-5.3648000000000005E-7,2.4543E-3,-9.9999999999999995E-8,null,null,null,null,null,null,-6.9999999999999999E-6,-1E-3,1.0237000000000001,null,null,null,null,3.5709,37.384,406.89,-9.9999999999999995E-8]
["Vero 13-B","57C","B",2001,"BXRC",{"$f":"MasterTable[[#This Row],[Product Family]]&\"-\"&MasterTable[[#This Row],[CCT/CRI]]&MasterTable[[#This Row],[Arrangement]]","v":"Vero 13-B-57CB"},{"$f":"MasterTable[[#This Row],[Generation]]&\"-\"&MasterTable[[#This Row],[CCT/CRI]]&IF(MasterTable[[#This Row],[Lumen Family]]<999,\"0\"&MasterTable[[#This Row],[Lumen Family]],MasterTable[[#This Row],[Lumen Family]])&\"-\"&MasterTable[[#This Row],[Arrangement]]&\"-xx\"","v":"BXRC-57C2001-B-xx"},2803.14,{"$f":"MasterTable[[#This Row],[Typical Lumens]]/(MasterTable[[#This Row],[Typical Voltage]]*MasterTable[[#This Row],[Typical Current]]/1000)","v":179},0.28036666666666665,34.799999999999997,450,900,60,null,2.2999999999999999E-9,-5.0931999999999998E-6,9.5302597999999995E-3,31.269348142199998,9.5973000000000006E-11,-5.3648000000000005E-7,2.4543E-3,-9.9999999999999995E-8,null,null,null,null,null,null,-6.9999999999999999E-6,-1E-3,1.0237000000000001,null,null,null,null,3.5709,37.384,406.89,-9.9999999999999995E-8]
["Vero 13-B","57E","B",2001,"BXRC",{"$f":"MasterTable[[#This Row],[Product Family]]&\"-\"&MasterTable[[#This Row],[CCT/CRI]]&MasterTable[[#This Row],[Arrangement]]","v":"Vero 13-B-57EB"},{"$f":"MasterTable[[#This Row],[Generation]]&\"-\"&MasterTable[[#This Row],[CCT/CRI]]&IF(MasterTable[[#This Row],[Lumen Family]]<999,\"0\"&MasterTable[[#This Row],[Lumen Family]],MasterTable[[#This Row],[Lumen Family]])&\"-\"&MasterTable[[#This Row],[Arrangement]]&\"-xx\"","v":"BXRC-57E2001-B-xx"},2662.2,{"$f":"MasterTable[[#This Row],[Typical Lumens]]/(MasterTable[[#This Row],[Typical Voltage]]*MasterTable[[#This Row],[Typical Current]]/1000)","v":170},0.28036666666666665,34.799999999999997,450,900,60,null,2.2999999999999999E-9,-5.0931999999999998E-6,9.5302597999999995E-3,31.269348142199998,9.5973000000000006E-11,-5.3648000000000005E-7,2.4543E-3,-9.9999999999999995E-8,null,null,null,null,null,null,-6.9999999999999999E-6,-1E-3,1.0237000000000001,null,null,null,null,3.5709,37.384,406.89,-9.9999999999999995E-8]
["Vero 13-B","65C","B",2001,"BXRC",{"$f":"MasterTable[[#This Row],[Product Family]]&\"-\"&MasterTable[[#This Row],[CCT/CRI]]&MasterTable[[#This Row],[Arrangement]]","v":"Vero 13-B-65CB"},{"$f":"MasterTable[[#This Row],[Generation]]&\"-\"&MasterTable[[#This Row],[CCT/CRI]]&IF(MasterTable[[#This Row],[Lumen Family]]<999,\"0\"&MasterTable[[#This Row],[Lumen Family]],MasterTable[[#This Row],[Lumen Family]])&\"-\"&MasterTable[[#This Row],[Arrangement]]&\"-xx\"","v":"BXRC-65C2001-B-xx"},2803.14,{"$f":"MasterTable[[#This Row],[Typical Lumens]]/(MasterTable[[#This Row],[Typical Voltage]]*MasterTable[[#This Row],[Typical Current]]/1000)","v":179},0.28036666666666665,34.799999999999997,450,900,60,null,2.2999999999999999E-9,-5.0931999999999998E-6,9.5302597999999995E-3,31.269348142199998,9.5973000000000006E-11,-5.3648000000000005E-7,2.4543E-3,-9.9999999999999995E-8,null,null,null,null,null,null,-6.9999999999999999E-6,-1E-3,1.0237000000000001,null,null,null,null,3.5709,37.384,406.89,-9.9999999999999995E-8]
["Vero 13-B","65E","B",2001,"BXRC",{"$f":"MasterTable[[#This Row],[Product Family]]&\"-\"&MasterTable[[#This Row],[CCT/CRI]]&MasterTable[[#This Row],[Arrangement]]","v":"Vero 13-B-65EB"},{"$f":"MasterTable[[#This Row],[Generation]]&\"-\"&MasterTable[[#This Row],[CCT/CRI]]&IF(MasterTable[[#This Row],[Lumen Family]]<999,\"0\"&MasterTable[[#This Row],[Lumen Family]],MasterTable[[#This Row],[Lumen Family]])&\"-\"&MasterTable[[#This Row],[Arrangement]]&\"-xx\"","v":"BXRC-65E2001-B-xx"},2693.5199999999995,{"$f":"MasterTable[[#This Row],[Typical Lumens]]/(MasterTable[[#This Row],[Typical Voltage]]*MasterTable[[#This Row],[Typical Current]]/1000)","v":172},0.28036666666666665,34.799999999999997,450,900,60,null,2.2999999999999999E-9,-5.0931999999999998E-6,9.5302597999999995E-3,31.269348142199998,9.5973000000000006E-11,-5.3648000000000005E-7,2.4543E-3,-9.9999999999999995E-8,null,null,null,null,null,null,-6.9999999999999999E-6,-1E-3,1.0237000000000001,null,null,null,null,3.5709,37.384,406.89,-9.9999999999999995E-8]
["Vero 13-C","30E","C",2000,"BXRC",{"$f":"MasterTable[[#This Row],[Product Family]]&\"-\"&MasterTable[[#This Row],[CCT/CRI]]&MasterTable[[#This Row],[Arrangement]]","v":"Vero 13-C-30EC"},{"$f":"MasterTable[[#This Row],[Generation]]&\"-\"&MasterTable[[#This Row],[CCT/CRI]]&IF(MasterTable[[#This Row],[Lumen Family]]<999,\"0\"&MasterTable[[#This Row],[Lumen Family]],MasterTable[[#This Row],[Lumen Family]])&\"-\"&MasterTable[[#This Row],[Arrangement]]&\"-xx\"","v":"BXRC-30E2000-C-xx"},3727.08,{"$f":"MasterTable[[#This Row],[Typical Lumens]]/(MasterTable[[#This Row],[Typical Voltage]]*MasterTable[[#This Row],[Typical Current]]/1000)","v":170},0.19873333333333335,34.799999999999997,630,1260,84,null,null,-8.9999999999999996E-7,5.7999999999999996E-3,31.425999999999998,2.6496999999999999E-11,-2.6230000000000001E-7,1.7424999999999999E-3,-9.9999999999999995E-8,null,null,null,null,null,null,-3.6592E-6,-1.0345506E-3,1.0240956264000001,null,null,null,null,7.8291000000000004,47.475999999999999,574.44000000000005,-9.9999999999999995E-8]
["Vero 13-C","27E","C",2000,"BXRC",{"$f":"MasterTable[[#This Row],[Product Family]]&\"-\"&MasterTable[[#This Row],[CCT/CRI]]&MasterTable[[#This Row],[Arrangement]]","v":"Vero 13-C-27EC"},{"$f":"MasterTable[[#This Row],[Generation]]&\"-\"&MasterTable[[#This Row],[CCT/CRI]]&IF(MasterTable[[#This Row],[Lumen Family]]<999,\"0\"&MasterTable[[#This Row],[Lumen Family]],MasterTable[[#This Row],[Lumen Family]])&\"-\"&MasterTable[[#This Row],[Arrangement]]&\"-xx\"","v":"BXRC-27E2000-C-xx"},3507.84,{"$f":"MasterTable[[#This Row],[Typical Lumens]]/(MasterTable[[#This Row],[Typical Voltage]]*MasterTable[[#This Row],[Typical Current]]/1000)","v":160},0.19873333333333335,34.799999999999997,630,1260,84,null,null,-8.9999999999999996E-7,5.7999999999999996E-3,31.425999999999998,2.6496999999999999E-11,-2.6230000000000001E-7,1.7424999999999999E-3,-9.9999999999999995E-8,null,null,null,null,null,null,-3.6592E-6,-1.0345506E-3,1.0240956264000001,null,null,null,null,7.8291000000000004,47.475999999999999,574.44000000000005,-9.9999999999999995E-8]
["Vero 13-C","27G","C",2000,"BXRC",{"$f":"MasterTable[[#This Row],[Product Family]]&\"-\"&MasterTable[[#This Row],[CCT/CRI]]&MasterTable[[#This Row],[Arrangement]]","v":"Vero 13-C-27GC"},{"$f":"MasterTable[[#This Row],[Generation]]&\"-\"&MasterTable[[#This Row],[CCT/CRI]]&IF(MasterTable[[#This Row],[Lumen Family]]<999,\"0\"&MasterTable[[#This Row],[Lumen Family]],MasterTable[[#This Row],[Lumen Family]])&\"-\"&MasterTable[[#This Row],[Arrangement]]&\"-xx\"","v":"BXRC-27G2000-C-xx"},3003.5879999999997,{"$f":"MasterTable[[#This Row],[Typical Lumens]]/(MasterTable[[#This Row],[Typical Voltage]]*MasterTable[[#This Row],[Typical Current]]/1000)","v":137},0.19873333333333335,34.799999999999997,630,1260,84,null,null,-8.9999999999999996E-7,5.7999999999999996E-3,31.425999999999998,2.6496999999999999E-11,-2.6230000000000001E-7,1.7424999999999999E-3,-9.9999999999999995E-8,null,null,null,null,null,null,-3.6592E-6,-1.0345506E-3,1.0240956264000001,null,null,null,null,7.8291000000000004,47.475999999999999,574.44000000000005,-9.9999999999999995E-8]
["Vero 13-C","27H","C",2000,"BXRC",{"$f":"MasterTable[[#This Row],[Product Family]]&\"-\"&MasterTable[[#This Row],[CCT/CRI]]&MasterTable[[#This Row],[Arrangement]]","v":"Vero 13-C-27HC"},{"$f":"MasterTable[[#This Row],[Generation]]&\"-\"&MasterTable[[#This Row],[CCT/CRI]]&IF(MasterTable[[#This Row],[Lumen Family]]<999,\"0\"&MasterTable[[#This Row],[Lumen Family]],MasterTable[[#This Row],[Lumen Family]])&\"-\"&MasterTable[[#This Row],[Arrangement]]&\"-xx\"","v":"BXRC-27H2000-C-xx"},2565.1079999999997,{"$f":"MasterTable[[#This Row],[Typical Lumens]]/(MasterTable[[#This Row],[Typical Voltage]]*MasterTable[[#This Row],[Typical Current]]/1000)","v":116.99999999999999},0.19873333333333335,34.799999999999997,630,1260,84,null,null,-8.9999999999999996E-7,5.7999999999999996E-3,31.425999999999998,2.6496999999999999E-11,-2.6230000000000001E-7,1.7424999999999999E-3,-9.9999999999999995E-8,null,null,null,null,null,null,-3.6592E-6,-1.0345506E-3,1.0240956264000001,null,null,null,null,7.8291000000000004,47.475999999999999,574.44000000000005,-9.9999999999999995E-8]
["Vero 13-C","27G-H","C","20H0","BXRC",{"$f":"MasterTable[[#This Row],[Product Family]]&\"-\"&MasterTable[[#This Row],[CCT/CRI]]&MasterTable[[#This Row],[Arrangement]]","v":"Vero 13-C-27G-HC"},"BXRC-27G-20H0-C-xx",3004,{"$f":"MasterTable[[#This Row],[Typical Lumens]]/(MasterTable[[#This Row],[Typical Voltage]]*MasterTable[[#This Row],[Typical Current]]/1000)","v":137.01879219120599},0.19873333333333335,34.799999999999997,630,{"$f":"L543*2","v":1260},84,null,null,-8.9999999999999996E-7,5.7999999999999996E-3,31.425999999999998,2.6496999999999999E-11,-2.6230000000000001E-7,1.7424999999999999E-3,-9.9999999999999995E-8,null,null,null,null,null,null,-3.6592E-6,-1.0345506E-3,1.0240956264000001,null,null,null,null,7.8291000000000004,47.475999999999999,574.44000000000005,-9.9999999999999995E-8]
["Vero 13-C","30G-H","C","20H0","BXRC",{"$f":"MasterTable[[#This Row],[Product Family]]&\"-\"&MasterTable[[#This Row],[CCT/CRI]]&MasterTable[[#This Row],[Arrangement]]","v":"Vero 13-C-30G-HC"},"BXRC-30G-20H0-C-xx",3157,{"$f":"MasterTable[[#This Row],[Typical Lumens]]/(MasterTable[[#This Row],[Typical Voltage]]*MasterTable[[#This Row],[Typical Current]]/1000)","v":143.99744572158366},0.19873333333333335,34.799999999999997,630,1260,84,null,null,-8.9999999999999996E-7,5.7999999999999996E-3,31.425999999999998,2.6496999999999999E-11,-2.6230000000000001E-7,1.7424999999999999E-3,-9.9999999999999995E-8,null,null,null,null,null,null,-3.6592E-6,-1.0345506E-3,1.0240956264000001,null,null,null,null,7.8291000000000004,47.475999999999999,574.44000000000005,-9.9999999999999995E-8]
["Vero 13-C","30C","C",2001,"BXRC",{"$f":"MasterTable[[#This Row],[Product Family]]&\"-\"&MasterTable[[#This Row],[CCT/CRI]]&MasterTable[[#This Row],[Arrangement]]","v":"Vero 13-C-30CC"},{"$f":"MasterTable[[#This Row],[Generation]]&\"-\"&MasterTable[[#This Row],[CCT/CRI]]&IF(MasterTable[[#This Row],[Lumen Family]]<999,\"0\"&MasterTable[[#This Row],[Lumen Family]],MasterTable[[#This Row],[Lumen Family]])&\"-\"&MasterTable[[#This Row],[Arrangement]]&\"-xx\"","v":"BXRC-30C2001-C-xx"},3902,{"$f":"MasterTable[[#This Row],[Typical Lumens]]/(MasterTable[[#This Row],[Typical Voltage]]*MasterTable[[#This Row],[Typical Current]]/1000)","v":177.97847108191937},1.1987333333333301,34.799999999999997,630,{"$f":"L545*2","v":1260},84,null,null,-8.9999999999999996E-7,5.7999999999999996E-3,31.425999999999998,2.6496999999999999E-11,-2.6230000000000001E-7,1.7424999999999999E-3,-9.9999999999999995E-8,null,null,null,null,null,null,-3.6592E-6,-1.0345506E-3,1.0240956264000001,null,null,null,null,7.8291000000000004,47.475999999999999,574.44000000000005,-9.9999999999999995E-8]
["Vero 13-C","30G","C",2000,"BXRC",{"$f":"MasterTable[[#This Row],[Product Family]]&\"-\"&MasterTable[[#This Row],[CCT/CRI]]&MasterTable[[#This Row],[Arrangement]]","v":"Vero 13-C-30GC"},{"$f":"MasterTable[[#This Row],[Generation]]&\"-\"&MasterTable[[#This Row],[CCT/CRI]]&IF(MasterTable[[#This Row],[Lumen Family]]<999,\"0\"&MasterTable[[#This Row],[Lumen Family]],MasterTable[[#This Row],[Lumen Family]])&\"-\"&MasterTable[[#This Row],[Arrangement]]&\"-xx\"","v":"BXRC-30G2000-C-xx"},3026,{"$f":"MasterTable[[#This Row],[Typical Lumens]]/(MasterTable[[#This Row],[Typical Voltage]]*MasterTable[[#This Row],[Typical Current]]/1000)","v":138.02225871191388},0.19873333333333335,34.799999999999997,630,1260,84,null,null,-8.9999999999999996E-7,5.7999999999999996E-3,31.425999999999998,2.6496999999999999E-11,-2.6230000000000001E-7,1.7424999999999999E-3,-9.9999999999999995E-8,null,null,null,null,null,null,-3.6592E-6,-1.0345506E-3,1.0240956264000001,null,null,null,null,7.8291000000000004,47.475999999999999,574.44000000000005,-9.9999999999999995E-8]
["Vero 13-C","30H","C",2000,"BXRC",{"$f":"MasterTable[[#This Row],[Product Family]]&\"-\"&MasterTable[[#This Row],[CCT/CRI]]&MasterTable[[#This Row],[Arrangement]]","v":"Vero 13-C-30HC"},{"$f":"MasterTable[[#This Row],[Generation]]&\"-\"&MasterTable[[#This Row],[CCT/CRI]]&IF(MasterTable[[#This Row],[Lumen Family]]<999,\"0\"&MasterTable[[#This Row],[Lumen Family]],MasterTable[[#This Row],[Lumen Family]])&\"-\"&MasterTable[[#This Row],[Arrangement]]&\"-xx\"","v":"BXRC-30H2000-C-xx"},2740.5,{"$f":"MasterTable[[#This Row],[Typical Lumens]]/(MasterTable[[#This Row],[Typical Voltage]]*MasterTable[[#This Row],[Typical Current]]/1000)","v":125},0.19873333333333335,34.799999999999997,630,1260,84,null,null,-8.9999999999999996E-7,5.7999999999999996E-3,31.425999999999998,2.6496999999999999E-11,-2.6230000000000001E-7,1.7424999999999999E-3,-9.9999999999999995E-8,null,null,null,null,null,null,-3.6592E-6,-1.0345506E-3,1.0240956264000001,null,null,null,null,7.8291000000000004,47.475999999999999,574.44000000000005,-9.9999999999999995E-8]
["Vero 13-C","30A","C",2001,"BXRC",{"$f":"MasterTable[[#This Row],[Product Family]]&\"-\"&MasterTable[[#This Row],[CCT/CRI]]&MasterTable[[#This Row],[Arrangement]]","v":"Vero 13-C-30AC"},{"$f":"MasterTable[[#This Row],[Generation]]&\"-\"&MasterTable[[#This Row],[CCT/CRI]]&IF(MasterTable[[#This Row],[Lumen Family]]<999,\"0\"&MasterTable[[#This Row],[Lumen Family]],MasterTable[[#This Row],[Lumen Family]])&\"-\"&MasterTable[[#This Row],[Arrangement]]&\"-xx\"","v":"BXRC-30A2001-C-xx"},2718.576,{"$f":"MasterTable[[#This Row],[Typical Lumens]]/(MasterTable[[#This Row],[Typical Voltage]]*MasterTable[[#This Row],[Typical Current]]/1000)","v":124},0.19873333333333335,34.799999999999997,630,1260,84,null,null,-8.9999999999999996E-7,5.7999999999999996E-3,31.425999999999998,2.6496999999999999E-11,-2.6230000000000001E-7,1.7424999999999999E-3,-9.9999999999999995E-8,null,null,null,null,null,null,-3.6592E-6,-1.0345506E-3,1.0240956264000001,null,null,null,null,7.8291000000000004,47.475999999999999,574.44000000000005,-9.9999999999999995E-8]
["Vero 13-C","35E","C",2000,"BXRC",{"$f":"MasterTable[[#This Row],[Product Family]]&\"-\"&MasterTable[[#This Row],[CCT/CRI]]&MasterTable[[#This Row],[Arrangement]]","v":"Vero 13-C-35EC"},{"$f":"MasterTable[[#This Row],[Generation]]&\"-\"&MasterTable[[#This Row],[CCT/CRI]]&IF(MasterTable[[#This Row],[Lumen Family]]<999,\"0\"&MasterTable[[#This Row],[Lumen Family]],MasterTable[[#This Row],[Lumen Family]])&\"-\"&MasterTable[[#This Row],[Arrangement]]&\"-xx\"","v":"BXRC-35E2000-C-xx"},3814.7759999999998,{"$f":"MasterTable[[#This Row],[Typical Lumens]]/(MasterTable[[#This Row],[Typical Voltage]]*MasterTable[[#This Row],[Typical Current]]/1000)","v":174},0.19873333333333335,34.799999999999997,630,1260,84,null,null,-8.9999999999999996E-7,5.7999999999999996E-3,31.425999999999998,2.6496999999999999E-11,-2.6230000000000001E-7,1.7424999999999999E-3,-9.9999999999999995E-8,null,null,null,null,null,null,-3.5848E-6,-1.1148865E-3,1.0260294071,null,null,null,null,7.8291000000000004,47.475999999999999,574.44000000000005,-9.9999999999999995E-8]
["Vero 13-C","35G","C",2000,"BXRC",{"$f":"MasterTable[[#This Row],[Product Family]]&\"-\"&MasterTable[[#This Row],[CCT/CRI]]&MasterTable[[#This Row],[Arrangement]]","v":"Vero 13-C-35GC"},{"$f":"MasterTable[[#This Row],[Generation]]&\"-\"&MasterTable[[#This Row],[CCT/CRI]]&IF(MasterTable[[#This Row],[Lumen Family]]<999,\"0\"&MasterTable[[#This Row],[Lumen Family]],MasterTable[[#This Row],[Lumen Family]])&\"-\"&MasterTable[[#This Row],[Arrangement]]&\"-xx\"","v":"BXRC-35G2000-C-xx"},3135.1320000000001,{"$f":"MasterTable[[#This Row],[Typical Lumens]]/(MasterTable[[#This Row],[Typical Voltage]]*MasterTable[[#This Row],[Typical Current]]/1000)","v":143},0.19873333333333335,34.799999999999997,630,1260,84,null,null,-8.9999999999999996E-7,5.7999999999999996E-3,31.425999999999998,2.6496999999999999E-11,-2.6230000000000001E-7,1.7424999999999999E-3,-9.9999999999999995E-8,null,null,null,null,null,null,-3.5848E-6,-1.1148865E-3,1.0260294071,null,null,null,null,7.8291000000000004,47.475999999999999,574.44000000000005,-9.9999999999999995E-8]
["Vero 13-C","35A","C",2001,"BXRC",{"$f":"MasterTable[[#This Row],[Product Family]]&\"-\"&MasterTable[[#This Row],[CCT/CRI]]&MasterTable[[#This Row],[Arrangement]]","v":"Vero 13-C-35AC"},{"$f":"MasterTable[[#This Row],[Generation]]&\"-\"&MasterTable[[#This Row],[CCT/CRI]]&IF(MasterTable[[#This Row],[Lumen Family]]<999,\"0\"&MasterTable[[#This Row],[Lumen Family]],MasterTable[[#This Row],[Lumen Family]])&\"-\"&MasterTable[[#This Row],[Arrangement]]&\"-xx\"","v":"BXRC-35A2001-C-xx"},2894,{"$f":"MasterTable[[#This Row],[Typical Lumens]]/(MasterTable[[#This Row],[Typical Voltage]]*MasterTable[[#This Row],[Typical Current]]/1000)","v":132.00145958766649},0.19873333333333335,34.799999999999997,630,1260,84,null,null,-8.9999999999999996E-7,5.7999999999999996E-3,31.425999999999998,2.6496999999999999E-11,-2.6230000000000001E-7,1.7424999999999999E-3,-9.9999999999999995E-8,null,null,null,null,null,null,-3.5848E-6,-1.1148865E-3,1.0260294071,null,null,null,null,7.8291000000000004,47.475999999999999,574.44000000000005,-9.9999999999999995E-8]
["Vero 13-C","40C","C",2001,"BXRC",{"$f":"MasterTable[[#This Row],[Product Family]]&\"-\"&MasterTable[[#This Row],[CCT/CRI]]&MasterTable[[#This Row],[Arrangement]]","v":"Vero 13-C-40CC"},{"$f":"MasterTable[[#This Row],[Generation]]&\"-\"&MasterTable[[#This Row],[CCT/CRI]]&IF(MasterTable[[#This Row],[Lumen Family]]<999,\"0\"&MasterTable[[#This Row],[Lumen Family]],MasterTable[[#This Row],[Lumen Family]])&\"-\"&MasterTable[[#This Row],[Arrangement]]&\"-xx\"","v":"BXRC-40C2001-C-xx"},4012,{"$f":"MasterTable[[#This Row],[Typical Lumens]]/(MasterTable[[#This Row],[Typical Voltage]]*MasterTable[[#This Row],[Typical Current]]/1000)","v":182.99580368545887},0.19873333333333335,34.799999999999997,630,1260,84,null,null,-8.9999999999999996E-7,5.7999999999999996E-3,31.425999999999998,2.6496999999999999E-11,-2.6230000000000001E-7,1.7424999999999999E-3,-9.9999999999999995E-8,null,null,null,null,null,null,-3.5848E-6,-1.1148865E-3,1.0260294071,null,null,null,null,7.8291000000000004,47.475999999999999,574.44000000000005,-9.9999999999999995E-8]
["Vero 13-C","40E","C",2000,"BXRC",{"$f":"MasterTable[[#This Row],[Product Family]]&\"-\"&MasterTable[[#This Row],[CCT/CRI]]&MasterTable[[#This Row],[Arrangement]]","v":"Vero 13-C-40EC"},{"$f":"MasterTable[[#This Row],[Generation]]&\"-\"&MasterTable[[#This Row],[CCT/CRI]]&IF(MasterTable[[#This Row],[Lumen Family]]<999,\"0\"&MasterTable[[#This Row],[Lumen Family]],MasterTable[[#This Row],[Lumen Family]])&\"-\"&MasterTable[[#This Row],[Arrangement]]&\"-xx\"","v":"BXRC-40E2000-C-xx"},3836.7,{"$f":"MasterTable[[#This Row],[Typical Lumens]]/(MasterTable[[#This Row],[Typical Voltage]]*MasterTable[[#This Row],[Typical Current]]/1000)","v":175},0.19873333333333335,34.799999999999997,630,1260,84,null,null,-8.9999999999999996E-7,5.7999999999999996E-3,31.425999999999998,2.6496999999999999E-11,-2.6230000000000001E-7,1.7424999999999999E-3,-9.9999999999999995E-8,null,null,null,null,null,null,-3.5848E-6,-1.1148865E-3,1.0260294071,null,null,null,null,7.8291000000000004,47.475999999999999,574.44000000000005,-9.9999999999999995E-8]
["Vero 13-C","40G","C",2000,"BXRC",{"$f":"MasterTable[[#This Row],[Product Family]]&\"-\"&MasterTable[[#This Row],[CCT/CRI]]&MasterTable[[#This Row],[Arrangement]]","v":"Vero 13-C-40GC"},{"$f":"MasterTable[[#This Row],[Generation]]&\"-\"&MasterTable[[#This Row],[CCT/CRI]]&IF(MasterTable[[#This Row],[Lumen Family]]<999,\"0\"&MasterTable[[#This Row],[Lumen Family]],MasterTable[[#This Row],[Lumen Family]])&\"-\"&MasterTable[[#This Row],[Arrangement]]&\"-xx\"","v":"BXRC-40G2000-C-xx"},3200.904,{"$f":"MasterTable[[#This Row],[Typical Lumens]]/(MasterTable[[#This Row],[Typical Voltage]]*MasterTable[[#This Row],[Typical Current]]/1000)","v":146},0.19873333333333335,34.799999999999997,630,1260,84,null,null,-8.9999999999999996E-7,5.7999999999999996E-3,31.425999999999998,2.6496999999999999E-11,-2.6230000000000001E-7,1.7424999999999999E-3,-9.9999999999999995E-8,null,null,null,null,null,null,-3.5848E-6,-1.1148865E-3,1.0260294071,null,null,null,null,7.8291000000000004,47.475999999999999,574.44000000000005,-9.9999999999999995E-8]
["Vero 13-C","40A","C",2001,"BXRC",{"$f":"MasterTable[[#This Row],[Product Family]]&\"-\"&MasterTable[[#This Row],[CCT/CRI]]&MasterTable[[#This Row],[Arrangement]]","v":"Vero 13-C-40AC"},{"$f":"MasterTable[[#This Row],[Generation]]&\"-\"&MasterTable[[#This Row],[CCT/CRI]]&IF(MasterTable[[#This Row],[Lumen Family]]<999,\"0\"&MasterTable[[#This Row],[Lumen Family]],MasterTable[[#This Row],[Lumen Family]])&\"-\"&MasterTable[[#This Row],[Arrangement]]&\"-xx\"","v":"BXRC-40A2001-C-xx"},3135.1320000000001,{"$f":"MasterTable[[#This Row],[Typical Lumens]]/(MasterTable[[#This Row],[Typical Voltage]]*MasterTable[[#This Row],[Typical Current]]/1000)","v":143},0.19873333333333335,34.799999999999997,630,1260,84,null,null,-8.9999999999999996E-7,5.7999999999999996E-3,31.425999999999998,2.6496999999999999E-11,-2.6230000000000001E-7,1.7424999999999999E-3,-9.9999999999999995E-8,null,null,null,null,null,null,-3.5848E-6,-1.1148865E-3,1.0260294071,null,null,null,null,7.8291000000000004,47.475999999999999,574.44000000000005,-9.9999999999999995E-8]
["Vero 13-C","50C","C",2001,"BXRC",{"$f":"MasterTable[[#This Row],[Product Family]]&\"-\"&MasterTable[[#This Row],[CCT/CRI]]&MasterTable[[#This Row],[Arrangement]]","v":"Vero 13-C-50CC"},{"$f":"MasterTable[[#This Row],[Generation]]&\"-\"&MasterTable[[#This Row],[CCT/CRI]]&IF(MasterTable[[#This Row],[Lumen Family]]<999,\"0\"&MasterTable[[#This Row],[Lumen Family]],MasterTable[[#This Row],[Lumen Family]])&\"-\"&MasterTable[[#This Row],[Arrangement]]&\"-xx\"","v":"BXRC-50C2001-C-xx"},4034.0160000000001,{"$f":"MasterTable[[#This Row],[Typical Lumens]]/(MasterTable[[#This Row],[Typical Voltage]]*MasterTable[[#This Row],[Typical Current]]/1000)","v":184},0.19873333333333335,34.799999999999997,630,1260,84,null,null,-8.9999999999999996E-7,5.7999999999999996E-3,31.425999999999998,2.6496999999999999E-11,-2.6230000000000001E-7,1.7424999999999999E-3,-9.9999999999999995E-8,null,null,null,null,null,null,-6.9999999999999999E-6,-1E-3,1.0237000000000001,null,null,null,null,7.8291000000000004,47.475999999999999,574.44000000000005,-9.9999999999999995E-8]
["Vero 13-C","50E","C",2001,"BXRC",{"$f":"MasterTable[[#This Row],[Product Family]]&\"-\"&MasterTable[[#This Row],[CCT/CRI]]&MasterTable[[#This Row],[Arrangement]]","v":"Vero 13-C-50EC"},{"$f":"MasterTable[[#This Row],[Generation]]&\"-\"&MasterTable[[#This Row],[CCT/CRI]]&IF(MasterTable[[#This Row],[Lumen Family]]<999,\"0\"&MasterTable[[#This Row],[Lumen Family]],MasterTable[[#This Row],[Lumen Family]])&\"-\"&MasterTable[[#This Row],[Arrangement]]&\"-xx\"","v":"BXRC-50E2001-C-xx"},3880.5479999999998,{"$f":"MasterTable[[#This Row],[Typical Lumens]]/(MasterTable[[#This Row],[Typical Voltage]]*MasterTable[[#This Row],[Typical Current]]/1000)","v":177},0.19873333333333335,34.799999999999997,630,1260,84,null,null,-8.9999999999999996E-7,5.7999999999999996E-3,31.425999999999998,2.6496999999999999E-11,-2.6230000000000001E-7,1.7424999999999999E-3,-9.9999999999999995E-8,null,null,null,null,null,null,-6.9999999999999999E-6,-1E-3,1.0237000000000001,null,null,null,null,7.8291000000000004,47.475999999999999,574.44000000000005,-9.9999999999999995E-8]
["Vero 13-C","50G","C",2001,"BXRC",{"$f":"MasterTable[[#This Row],[Product Family]]&\"-\"&MasterTable[[#This Row],[CCT/CRI]]&MasterTable[[#This Row],[Arrangement]]","v":"Vero 13-C-50GC"},{"$f":"MasterTable[[#This Row],[Generation]]&\"-\"&MasterTable[[#This Row],[CCT/CRI]]&IF(MasterTable[[#This Row],[Lumen Family]]<999,\"0\"&MasterTable[[#This Row],[Lumen Family]],MasterTable[[#This Row],[Lumen Family]])&\"-\"&MasterTable[[#This Row],[Arrangement]]&\"-xx\"","v":"BXRC-50G2001-C-xx"},3354.3719999999998,{"$f":"MasterTable[[#This Row],[Typical Lumens]]/(MasterTable[[#This Row],[Typical Voltage]]*MasterTable[[#This Row],[Typical Current]]/1000)","v":153},0.19873333333333335,34.799999999999997,630,1260,84,null,null,-8.9999999999999996E-7,5.7999999999999996E-3,31.425999999999998,2.6496999999999999E-11,-2.6230000000000001E-7,1.7424999999999999E-3,-9.9999999999999995E-8,null,null,null,null,null,null,-6.9999999999999999E-6,-1E-3,1.0237000000000001,null,null,null,null,7.8291000000000004,47.475999999999999,574.44000000000005,-9.9999999999999995E-8]
["Vero 13-C","57C","C",2001,"BXRC",{"$f":"MasterTable[[#This Row],[Product Family]]&\"-\"&MasterTable[[#This Row],[CCT/CRI]]&MasterTable[[#This Row],[Arrangement]]","v":"Vero 13-C-57CC"},{"$f":"MasterTable[[#This Row],[Generation]]&\"-\"&MasterTable[[#This Row],[CCT/CRI]]&IF(MasterTable[[#This Row],[Lumen Family]]<999,\"0\"&MasterTable[[#This Row],[Lumen Family]],MasterTable[[#This Row],[Lumen Family]])&\"-\"&MasterTable[[#This Row],[Arrangement]]&\"-xx\"","v":"BXRC-57C2001-C-xx"},3924.3959999999997,{"$f":"MasterTable[[#This Row],[Typical Lumens]]/(MasterTable[[#This Row],[Typical Voltage]]*MasterTable[[#This Row],[Typical Current]]/1000)","v":179},0.19873333333333335,34.799999999999997,630,1260,84,null,null,-8.9999999999999996E-7,5.7999999999999996E-3,31.425999999999998,2.6496999999999999E-11,-2.6230000000000001E-7,1.7424999999999999E-3,-9.9999999999999995E-8,null,null,null,null,null,null,-6.9999999999999999E-6,-1E-3,1.0237000000000001,null,null,null,null,7.8291000000000004,47.475999999999999,574.44000000000005,-9.9999999999999995E-8]
["Vero 13-C","57E","C",2001,"BXRC",{"$f":"MasterTable[[#This Row],[Product Family]]&\"-\"&MasterTable[[#This Row],[CCT/CRI]]&MasterTable[[#This Row],[Arrangement]]","v":"Vero 13-C-57EC"},{"$f":"MasterTable[[#This Row],[Generation]]&\"-\"&MasterTable[[#This Row],[CCT/CRI]]&IF(MasterTable[[#This Row],[Lumen Family]]<999,\"0\"&MasterTable[[#This Row],[Lumen Family]],MasterTable[[#This Row],[Lumen Family]])&\"-\"&MasterTable[[#This Row],[Arrangement]]&\"-xx\"","v":"BXRC-57E2001-C-xx"},3727.08,{"$f":"MasterTable[[#This Row],[Typical Lumens]]/(MasterTable[[#This Row],[Typical Voltage]]*MasterTable[[#This Row],[Typical Current]]/1000)","v":170},0.19873333333333335,34.799999999999997,630,1260,84,null,null,-8.9999999999999996E-7,5.7999999999999996E-3,31.425999999999998,2.6496999999999999E-11,-2.6230000000000001E-7,1.7424999999999999E-3,-9.9999999999999995E-8,null,null,null,null,null,null,-6.9999999999999999E-6,-1E-3,1.0237000000000001,null,null,null,null,7.8291000000000004,47.475999999999999,574.44000000000005,-9.9999999999999995E-8]
["Vero 13-C","65C","C",2001,"BXRC",{"$f":"MasterTable[[#This Row],[Product Family]]&\"-\"&MasterTable[[#This Row],[CCT/CRI]]&MasterTable[[#This Row],[Arrangement]]","v":"Vero 13-C-65CC"},{"$f":"MasterTable[[#This Row],[Generation]]&\"-\"&MasterTable[[#This Row],[CCT/CRI]]&IF(MasterTable[[#This Row],[Lumen Family]]<999,\"0\"&MasterTable[[#This Row],[Lumen Family]],MasterTable[[#This Row],[Lumen Family]])&\"-\"&MasterTable[[#This Row],[Arrangement]]&\"-xx\"","v":"BXRC-65C2001-C-xx"},3924.3959999999997,{"$f":"MasterTable[[#This Row],[Typical Lumens]]/(MasterTable[[#This Row],[Typical Voltage]]*MasterTable[[#This Row],[Typical Current]]/1000)","v":179},0.19873333333333335,34.799999999999997,630,1260,84,null,null,-8.9999999999999996E-7,5.7999999999999996E-3,31.425999999999998,2.6496999999999999E-11,-2.6230000000000001E-7,1.7424999999999999E-3,-9.9999999999999995E-8,null,null,null,null,null,null,-6.9999999999999999E-6,-1E-3,1.0237000000000001,null,null,null,null,7.8291000000000004,47.475999999999999,574.44000000000005,-9.9999999999999995E-8]
["Vero 13-C","65E","C",2001,"BXRC",{"$f":"MasterTable[[#This Row],[Product Family]]&\"-\"&MasterTable[[#This Row],[CCT/CRI]]&MasterTable[[#This Row],[Arrangement]]","v":"Vero 13-C-65EC"},{"$f":"MasterTable[[#This Row],[Generation]]&\"-\"&MasterTable[[#This Row],[CCT/CRI]]&IF(MasterTable[[#This Row],[Lumen Family]]<999,\"0\"&MasterTable[[#This Row],[Lumen Family]],MasterTable[[#This Row],[Lumen Family]])&\"-\"&MasterTable[[#This Row],[Arrangement]]&\"-xx\"","v":"BXRC-65E2001-C-xx"},3770.9279999999999,{"$f":"MasterTable[[#This Row],[Typical Lumens]]/(MasterTable[[#This Row],[Typical Voltage]]*MasterTable[[#This Row],[Typical Current]]/1000)","v":172},0.19873333333333335,34.799999999999997,630,1260,84,null,null,-8.9999999999999996E-7,5.7999999999999996E-3,31.425999999999998,2.6496999999999999E-11,-2.6230000000000001E-7,1.7424999999999999E-3,-9.9999999999999995E-8,null,null,null,null,null,null,-6.9999999999999999E-6,-1E-3,1.0237000000000001,null,null,null,null,7.8291000000000004,47.475999999999999,574.44000000000005,-9.9999999999999995E-8]
["Vero 13-D","30E","D",2000,"BXRC",{"$f":"MasterTable[[#This Row],[Product Family]]&\"-\"&MasterTable[[#This Row],[CCT/CRI]]&MasterTable[[#This Row],[Arrangement]]","v":"Vero 13-D-30ED"},{"$f":"MasterTable[[#This Row],[Generation]]&\"-\"&MasterTable[[#This Row],[CCT/CRI]]&IF(MasterTable[[#This Row],[Lumen Family]]<999,\"0\"&MasterTable[[#This Row],[Lumen Family]],MasterTable[[#This Row],[Lumen Family]])&\"-\"&MasterTable[[#This Row],[Arrangement]]&\"-xx\"","v":"BXRC-30E2000-D-xx"},2703,{"$f":"MasterTable[[#This Row],[Typical Lumens]]/(MasterTable[[#This Row],[Typical Voltage]]*MasterTable[[#This Row],[Typical Current]]/1000)","v":170},0.28036666666666665,31.8,500,1000,66,null,1.9000000000000001E-9,-4.4818E-6,8.2648797999999996E-3,28.743142711499999,2.3511E-11,-3.8892000000000002E-7,2.1708000000000001E-3,-9.9999999999999995E-8,null,null,null,null,null,null,-3.6592E-6,-1.0345506E-3,1.0240956264000001,null,null,-1.7000000000000001E-2,32.725000000000001,11.154,29.829000000000001,463.69,-9.9999999999999995E-8]
["Vero 13-D","27E","D",2000,"BXRC",{"$f":"MasterTable[[#This Row],[Product Family]]&\"-\"&MasterTable[[#This Row],[CCT/CRI]]&MasterTable[[#This Row],[Arrangement]]","v":"Vero 13-D-27ED"},{"$f":"MasterTable[[#This Row],[Generation]]&\"-\"&MasterTable[[#This Row],[CCT/CRI]]&IF(MasterTable[[#This Row],[Lumen Family]]<999,\"0\"&MasterTable[[#This Row],[Lumen Family]],MasterTable[[#This Row],[Lumen Family]])&\"-\"&MasterTable[[#This Row],[Arrangement]]&\"-xx\"","v":"BXRC-27E2000-D-xx"},2544,{"$f":"MasterTable[[#This Row],[Typical Lumens]]/(MasterTable[[#This Row],[Typical Voltage]]*MasterTable[[#This Row],[Typical Current]]/1000)","v":160},0.28036666666666665,31.8,500,1000,66,null,1.9000000000000001E-9,-4.4818E-6,8.2648797999999996E-3,28.743142711499999,2.3511E-11,-3.8892000000000002E-7,2.1708000000000001E-3,-9.9999999999999995E-8,null,null,null,null,null,null,-3.6592E-6,-1.0345506E-3,1.0240956264000001,null,null,-1.7000000000000001E-2,32.725000000000001,11.154,29.829000000000001,463.69,-9.9999999999999995E-8]
["Vero 13-D","27G","D",2000,"BXRC",{"$f":"MasterTable[[#This Row],[Product Family]]&\"-\"&MasterTable[[#This Row],[CCT/CRI]]&MasterTable[[#This Row],[Arrangement]]","v":"Vero 13-D-27GD"},{"$f":"MasterTable[[#This Row],[Generation]]&\"-\"&MasterTable[[#This Row],[CCT/CRI]]&IF(MasterTable[[#This Row],[Lumen Family]]<999,\"0\"&MasterTable[[#This Row],[Lumen Family]],MasterTable[[#This Row],[Lumen Family]])&\"-\"&MasterTable[[#This Row],[Arrangement]]&\"-xx\"","v":"BXRC-27G2000-D-xx"},2099,{"$f":"MasterTable[[#This Row],[Typical Lumens]]/(MasterTable[[#This Row],[Typical Voltage]]*MasterTable[[#This Row],[Typical Current]]/1000)","v":132.01257861635219},0.28036666666666665,31.8,500,1000,66,null,1.9000000000000001E-9,-4.4818E-6,8.2648797999999996E-3,28.743142711499999,2.3511E-11,-3.8892000000000002E-7,2.1708000000000001E-3,-9.9999999999999995E-8,null,null,null,null,null,null,-3.6592E-6,-1.0345506E-3,1.0240956264000001,null,null,-1.7000000000000001E-2,32.725000000000001,11.154,29.829000000000001,463.69,-9.9999999999999995E-8]
["Vero 13-D","27H","D",2000,"BXRC",{"$f":"MasterTable[[#This Row],[Product Family]]&\"-\"&MasterTable[[#This Row],[CCT/CRI]]&MasterTable[[#This Row],[Arrangement]]","v":"Vero 13-D-27HD"},{"$f":"MasterTable[[#This Row],[Generation]]&\"-\"&MasterTable[[#This Row],[CCT/CRI]]&IF(MasterTable[[#This Row],[Lumen Family]]<999,\"0\"&MasterTable[[#This Row],[Lumen Family]],MasterTable[[#This Row],[Lumen Family]])&\"-\"&MasterTable[[#This Row],[Arrangement]]&\"-xx\"","v":"BXRC-27H2000-D-xx"},1860.3,{"$f":"MasterTable[[#This Row],[Typical Lumens]]/(MasterTable[[#This Row],[Typical Voltage]]*MasterTable[[#This Row],[Typical Current]]/1000)","v":117},0.28036666666666665,31.8,500,1000,66,null,1.9000000000000001E-9,-4.4818E-6,8.2648797999999996E-3,28.743142711499999,2.3511E-11,-3.8892000000000002E-7,2.1708000000000001E-3,-9.9999999999999995E-8,null,null,null,null,null,null,-3.6592E-6,-1.0345506E-3,1.0240956264000001,null,null,null,null,11.154,29.829000000000001,463.69,-9.9999999999999995E-8]
["Vero 13-D","27G-H","D","20H0","BXRC",{"$f":"MasterTable[[#This Row],[Product Family]]&\"-\"&MasterTable[[#This Row],[CCT/CRI]]&MasterTable[[#This Row],[Arrangement]]","v":"Vero 13-D-27G-HD"},"BXRC-27G-20H0-D-xx",2178,{"$f":"MasterTable[[#This Row],[Typical Lumens]]/(MasterTable[[#This Row],[Typical Voltage]]*MasterTable[[#This Row],[Typical Current]]/1000)","v":136.98113207547169},0.28036666666666665,31.8,500,{"$f":"L567*2","v":1000},66,null,1.9000000000000001E-9,-4.4818E-6,8.2648797999999996E-3,28.743142711499999,2.3511E-11,-3.8892000000000002E-7,2.1708000000000001E-3,-9.9999999999999995E-8,null,null,null,null,null,null,-3.6592E-6,-1.0345506E-3,1.0240956264000001,null,null,null,null,11.154,29.829000000000001,463.69,-9.9999999999999995E-8]
["Vero 13-D","30G-H","D","20H0","BXRC",{"$f":"MasterTable[[#This Row],[Product Family]]&\"-\"&MasterTable[[#This Row],[CCT/CRI]]&MasterTable[[#This Row],[Arrangement]]","v":"Vero 13-D-30G-HD"},"BXRC-30G-20H0-D-xx",2290,{"$f":"MasterTable[[#This Row],[Typical Lumens]]/(MasterTable[[#This Row],[Typical Voltage]]*MasterTable[[#This Row],[Typical Current]]/1000)","v":144.0251572327044},0.28036666666666665,31.8,500,1000,66,null,1.9000000000000001E-9,-4.4818E-6,8.2648797999999996E-3,28.743142711499999,2.3511E-11,-3.8892000000000002E-7,2.1708000000000001E-3,-9.9999999999999995E-8,null,null,null,null,null,null,-3.6592E-6,-1.0345506E-3,1.0240956264000001,null,null,null,null,11.154,29.829000000000001,463.69,-9.9999999999999995E-8]
["Vero 13-D","30C","D",2001,"BXRC",{"$f":"MasterTable[[#This Row],[Product Family]]&\"-\"&MasterTable[[#This Row],[CCT/CRI]]&MasterTable[[#This Row],[Arrangement]]","v":"Vero 13-D-30CD"},{"$f":"MasterTable[[#This Row],[Generation]]&\"-\"&MasterTable[[#This Row],[CCT/CRI]]&IF(MasterTable[[#This Row],[Lumen Family]]<999,\"0\"&MasterTable[[#This Row],[Lumen Family]],MasterTable[[#This Row],[Lumen Family]])&\"-\"&MasterTable[[#This Row],[Arrangement]]&\"-xx\"","v":"BXRC-30C2001-D-xx"},2830,{"$f":"MasterTable[[#This Row],[Typical Lumens]]/(MasterTable[[#This Row],[Typical Voltage]]*MasterTable[[#This Row],[Typical Current]]/1000)","v":177.98742138364778},1.28036666666667,31.8,500,{"$f":"L569*2","v":1000},66,null,1.9000000000000001E-9,-4.4818E-6,8.2648797999999996E-3,28.743142711499999,2.3511E-11,-3.8892000000000002E-7,2.1708000000000001E-3,-9.9999999999999995E-8,null,null,null,null,null,null,-3.6592E-6,-1.0345506E-3,1.0240956264000001,null,null,null,null,11.154,29.829000000000001,463.69,-9.9999999999999995E-8]
["Vero 13-D","30G","D",2000,"BXRC",{"$f":"MasterTable[[#This Row],[Product Family]]&\"-\"&MasterTable[[#This Row],[CCT/CRI]]&MasterTable[[#This Row],[Arrangement]]","v":"Vero 13-D-30GD"},{"$f":"MasterTable[[#This Row],[Generation]]&\"-\"&MasterTable[[#This Row],[CCT/CRI]]&IF(MasterTable[[#This Row],[Lumen Family]]<999,\"0\"&MasterTable[[#This Row],[Lumen Family]],MasterTable[[#This Row],[Lumen Family]])&\"-\"&MasterTable[[#This Row],[Arrangement]]&\"-xx\"","v":"BXRC-30G2000-D-xx"},2194,{"$f":"MasterTable[[#This Row],[Typical Lumens]]/(MasterTable[[#This Row],[Typical Voltage]]*MasterTable[[#This Row],[Typical Current]]/1000)","v":137.98742138364778},0.28036666666666665,31.8,500,1000,66,null,1.9000000000000001E-9,-4.4818E-6,8.2648797999999996E-3,28.743142711499999,2.3511E-11,-3.8892000000000002E-7,2.1708000000000001E-3,-9.9999999999999995E-8,null,null,null,null,null,null,-3.6592E-6,-1.0345506E-3,1.0240956264000001,null,null,-1.7000000000000001E-2,32.725000000000001,11.154,29.829000000000001,463.69,-9.9999999999999995E-8]
["Vero 13-D","30G-C","D","200C","BXRC",{"$f":"MasterTable[[#This Row],[Product Family]]&\"-\"&MasterTable[[#This Row],[CCT/CRI]]&MasterTable[[#This Row],[Arrangement]]","v":"Vero 13-D-30G-CD"},"BXRC-30G200C-D-xx",2115,{"$f":"MasterTable[[#This Row],[Typical Lumens]]/(MasterTable[[#This Row],[Typical Voltage]]*MasterTable[[#This Row],[Typical Current]]/1000)","v":133.01886792452831},0.28036666666666665,31.8,500,1000,66,null,1.9000000000000001E-9,-4.4818E-6,8.2648797999999996E-3,28.743142711499999,2.3511E-11,-3.8892000000000002E-7,2.1708000000000001E-3,-9.9999999999999995E-8,null,null,null,null,null,null,-3.6592E-6,-1.0345506E-3,1.0240956264000001,null,null,-1.7000000000000001E-2,32.725000000000001,11.154,29.829000000000001,463.69,-9.9999999999999995E-8]
["Vero 13-D","30H","D",2000,"BXRC",{"$f":"MasterTable[[#This Row],[Product Family]]&\"-\"&MasterTable[[#This Row],[CCT/CRI]]&MasterTable[[#This Row],[Arrangement]]","v":"Vero 13-D-30HD"},{"$f":"MasterTable[[#This Row],[Generation]]&\"-\"&MasterTable[[#This Row],[CCT/CRI]]&IF(MasterTable[[#This Row],[Lumen Family]]<999,\"0\"&MasterTable[[#This Row],[Lumen Family]],MasterTable[[#This Row],[Lumen Family]])&\"-\"&MasterTable[[#This Row],[Arrangement]]&\"-xx\"","v":"BXRC-30H2000-D-xx"},1988,{"$f":"MasterTable[[#This Row],[Typical Lumens]]/(MasterTable[[#This Row],[Typical Voltage]]*MasterTable[[#This Row],[Typical Current]]/1000)","v":125.03144654088049},0.28036666666666665,31.8,500,1000,66,null,1.9000000000000001E-9,-4.4818E-6,8.2648797999999996E-3,28.743142711499999,2.3511E-11,-3.8892000000000002E-7,2.1708000000000001E-3,-9.9999999999999995E-8,null,null,null,null,null,null,-3.6592E-6,-1.0345506E-3,1.0240956264000001,null,null,-1.7000000000000001E-2,32.725000000000001,11.154,29.829000000000001,463.69,-9.9999999999999995E-8]
["Vero 13-D","30A","D",2001,"BXRC",{"$f":"MasterTable[[#This Row],[Product Family]]&\"-\"&MasterTable[[#This Row],[CCT/CRI]]&MasterTable[[#This Row],[Arrangement]]","v":"Vero 13-D-30AD"},{"$f":"MasterTable[[#This Row],[Generation]]&\"-\"&MasterTable[[#This Row],[CCT/CRI]]&IF(MasterTable[[#This Row],[Lumen Family]]<999,\"0\"&MasterTable[[#This Row],[Lumen Family]],MasterTable[[#This Row],[Lumen Family]])&\"-\"&MasterTable[[#This Row],[Arrangement]]&\"-xx\"","v":"BXRC-30A2001-D-xx"},1972,{"$f":"MasterTable[[#This Row],[Typical Lumens]]/(MasterTable[[#This Row],[Typical Voltage]]*MasterTable[[#This Row],[Typical Current]]/1000)","v":124.0251572327044},0.28036666666666665,31.8,500,1000,66,null,1.9000000000000001E-9,-4.4818E-6,8.2648797999999996E-3,28.743142711499999,2.3511E-11,-3.8892000000000002E-7,2.1708000000000001E-3,-9.9999999999999995E-8,null,null,null,null,null,null,-3.6592E-6,-1.0345506E-3,1.0240956264000001,null,null,null,null,11.154,29.829000000000001,463.69,-9.9999999999999995E-8]
["Vero 13-D","35E","D",2000,"BXRC",{"$f":"MasterTable[[#This Row],[Product Family]]&\"-\"&MasterTable[[#This Row],[CCT/CRI]]&MasterTable[[#This Row],[Arrangement]]","v":"Vero 13-D-35ED"},{"$f":"MasterTable[[#This Row],[Generation]]&\"-\"&MasterTable[[#This Row],[CCT/CRI]]&IF(MasterTable[[#This Row],[Lumen Family]]<999,\"0\"&MasterTable[[#This Row],[Lumen Family]],MasterTable[[#This Row],[Lumen Family]])&\"-\"&MasterTable[[#This Row],[Arrangement]]&\"-xx\"","v":"BXRC-35E2000-D-xx"},2766.6,{"$f":"MasterTable[[#This Row],[Typical Lumens]]/(MasterTable[[#This Row],[Typical Voltage]]*MasterTable[[#This Row],[Typical Current]]/1000)","v":174},0.28036666666666665,31.8,500,1000,66,null,1.9000000000000001E-9,-4.4818E-6,8.2648797999999996E-3,28.743142711499999,2.3511E-11,-3.8892000000000002E-7,2.1708000000000001E-3,-9.9999999999999995E-8,null,null,null,null,null,null,-3.6592E-6,-1.0345506E-3,1.0240956264000001,null,null,-1.7000000000000001E-2,32.725000000000001,11.154,29.829000000000001,463.69,-9.9999999999999995E-8]
["Vero 13-D","35G","D",2000,"BXRC",{"$f":"MasterTable[[#This Row],[Product Family]]&\"-\"&MasterTable[[#This Row],[CCT/CRI]]&MasterTable[[#This Row],[Arrangement]]","v":"Vero 13-D-35GD"},{"$f":"MasterTable[[#This Row],[Generation]]&\"-\"&MasterTable[[#This Row],[CCT/CRI]]&IF(MasterTable[[#This Row],[Lumen Family]]<999,\"0\"&MasterTable[[#This Row],[Lumen Family]],MasterTable[[#This Row],[Lumen Family]])&\"-\"&MasterTable[[#This Row],[Arrangement]]&\"-xx\"","v":"BXRC-35G2000-D-xx"},2273.7000000000003,{"$f":"MasterTable[[#This Row],[Typical Lumens]]/(MasterTable[[#This Row],[Typical Voltage]]*MasterTable[[#This Row],[Typical Current]]/1000)","v":143},0.28036666666666665,31.8,500,1000,66,null,1.9000000000000001E-9,-4.4818E-6,8.2648797999999996E-3,28.743142711499999,2.3511E-11,-3.8892000000000002E-7,2.1708000000000001E-3,-9.9999999999999995E-8,null,null,null,null,null,null,-3.6592E-6,-1.0345506E-3,1.0240956264000001,null,null,null,null,11.154,29.829000000000001,463.69,-9.9999999999999995E-8]
["Vero 13-D","35A","D",2001,"BXRC",{"$f":"MasterTable[[#This Row],[Product Family]]&\"-\"&MasterTable[[#This Row],[CCT/CRI]]&MasterTable[[#This Row],[Arrangement]]","v":"Vero 13-D-35AD"},{"$f":"MasterTable[[#This Row],[Generation]]&\"-\"&MasterTable[[#This Row],[CCT/CRI]]&IF(MasterTable[[#This Row],[Lumen Family]]<999,\"0\"&MasterTable[[#This Row],[Lumen Family]],MasterTable[[#This Row],[Lumen Family]])&\"-\"&MasterTable[[#This Row],[Arrangement]]&\"-xx\"","v":"BXRC-35A2001-D-xx"},2098.8000000000002,{"$f":"MasterTable[[#This Row],[Typical Lumens]]/(MasterTable[[#This Row],[Typical Voltage]]*MasterTable[[#This Row],[Typical Current]]/1000)","v":132},0.28036666666666665,31.8,500,1000,66,null,1.9000000000000001E-9,-4.4818E-6,8.2648797999999996E-3,28.743142711499999,2.3511E-11,-3.8892000000000002E-7,2.1708000000000001E-3,-9.9999999999999995E-8,null,null,null,null,null,null,-3.6592E-6,-1.0345506E-3,1.0240956264000001,null,null,null,null,11.154,29.829000000000001,463.69,-9.9999999999999995E-8]
["Vero 13-D","40C","D",2001,"BXRC",{"$f":"MasterTable[[#This Row],[Product Family]]&\"-\"&MasterTable[[#This Row],[CCT/CRI]]&MasterTable[[#This Row],[Arrangement]]","v":"Vero 13-D-40CD"},{"$f":"MasterTable[[#This Row],[Generation]]&\"-\"&MasterTable[[#This Row],[CCT/CRI]]&IF(MasterTable[[#This Row],[Lumen Family]]<999,\"0\"&MasterTable[[#This Row],[Lumen Family]],MasterTable[[#This Row],[Lumen Family]])&\"-\"&MasterTable[[#This Row],[Arrangement]]&\"-xx\"","v":"BXRC-40C2001-D-xx"},2910,{"$f":"MasterTable[[#This Row],[Typical Lumens]]/(MasterTable[[#This Row],[Typical Voltage]]*MasterTable[[#This Row],[Typical Current]]/1000)","v":183.01886792452831},1.28036666666667,31.8,500,1000,66,null,1.9000000000000001E-9,-4.4818E-6,8.2648797999999996E-3,28.743142711499999,2.3511E-11,-3.8892000000000002E-7,2.1708000000000001E-3,-9.9999999999999995E-8,null,null,null,null,null,null,-3.6592E-6,-1.0345506E-3,1.0240956264000001,null,null,null,null,11.154,29.829000000000001,463.69,-9.9999999999999995E-8]
["Vero 13-D","40E","D",2000,"BXRC",{"$f":"MasterTable[[#This Row],[Product Family]]&\"-\"&MasterTable[[#This Row],[CCT/CRI]]&MasterTable[[#This Row],[Arrangement]]","v":"Vero 13-D-40ED"},{"$f":"MasterTable[[#This Row],[Generation]]&\"-\"&MasterTable[[#This Row],[CCT/CRI]]&IF(MasterTable[[#This Row],[Lumen Family]]<999,\"0\"&MasterTable[[#This Row],[Lumen Family]],MasterTable[[#This Row],[Lumen Family]])&\"-\"&MasterTable[[#This Row],[Arrangement]]&\"-xx\"","v":"BXRC-40E2000-D-xx"},2782.5,{"$f":"MasterTable[[#This Row],[Typical Lumens]]/(MasterTable[[#This Row],[Typical Voltage]]*MasterTable[[#This Row],[Typical Current]]/1000)","v":175},0.28036666666666665,31.8,500,1000,66,null,1.9000000000000001E-9,-4.4818E-6,8.2648797999999996E-3,28.743142711499999,2.3511E-11,-3.8892000000000002E-7,2.1708000000000001E-3,-9.9999999999999995E-8,null,null,null,null,null,null,-3.5848E-6,-1.1148865E-3,1.0260294071,null,null,-1.7000000000000001E-2,32.725000000000001,11.154,29.829000000000001,463.69,-9.9999999999999995E-8]
["Vero 13-D","40G","D",2000,"BXRC",{"$f":"MasterTable[[#This Row],[Product Family]]&\"-\"&MasterTable[[#This Row],[CCT/CRI]]&MasterTable[[#This Row],[Arrangement]]","v":"Vero 13-D-40GD"},{"$f":"MasterTable[[#This Row],[Generation]]&\"-\"&MasterTable[[#This Row],[CCT/CRI]]&IF(MasterTable[[#This Row],[Lumen Family]]<999,\"0\"&MasterTable[[#This Row],[Lumen Family]],MasterTable[[#This Row],[Lumen Family]])&\"-\"&MasterTable[[#This Row],[Arrangement]]&\"-xx\"","v":"BXRC-40G2000-D-xx"},2321.4,{"$f":"MasterTable[[#This Row],[Typical Lumens]]/(MasterTable[[#This Row],[Typical Voltage]]*MasterTable[[#This Row],[Typical Current]]/1000)","v":146},0.28036666666666665,31.8,500,1000,66,null,1.9000000000000001E-9,-4.4818E-6,8.2648797999999996E-3,28.743142711499999,2.3511E-11,-3.8892000000000002E-7,2.1708000000000001E-3,-9.9999999999999995E-8,null,null,null,null,null,null,-3.5848E-6,-1.1148865E-3,1.0260294071,null,null,null,null,11.154,29.829000000000001,463.69,-9.9999999999999995E-8]
["Vero 13-D","40A","D",2001,"BXRC",{"$f":"MasterTable[[#This Row],[Product Family]]&\"-\"&MasterTable[[#This Row],[CCT/CRI]]&MasterTable[[#This Row],[Arrangement]]","v":"Vero 13-D-40AD"},{"$f":"MasterTable[[#This Row],[Generation]]&\"-\"&MasterTable[[#This Row],[CCT/CRI]]&IF(MasterTable[[#This Row],[Lumen Family]]<999,\"0\"&MasterTable[[#This Row],[Lumen Family]],MasterTable[[#This Row],[Lumen Family]])&\"-\"&MasterTable[[#This Row],[Arrangement]]&\"-xx\"","v":"BXRC-40A2001-D-xx"},2273.7000000000003,{"$f":"MasterTable[[#This Row],[Typical Lumens]]/(MasterTable[[#This Row],[Typical Voltage]]*MasterTable[[#This Row],[Typical Current]]/1000)","v":143},0.28036666666666665,31.8,500,1000,66,null,1.9000000000000001E-9,-4.4818E-6,8.2648797999999996E-3,28.743142711499999,2.3511E-11,-3.8892000000000002E-7,2.1708000000000001E-3,-9.9999999999999995E-8,null,null,null,null,null,null,-3.5848E-6,-1.1148865E-3,1.0260294071,null,null,null,null,11.154,29.829000000000001,463.69,-9.9999999999999995E-8]
["Vero 13-D","50C","D",2001,"BXRC",{"$f":"MasterTable[[#This Row],[Product Family]]&\"-\"&MasterTable[[#This Row],[CCT/CRI]]&MasterTable[[#This Row],[Arrangement]]","v":"Vero 13-D-50CD"},{"$f":"MasterTable[[#This Row],[Generation]]&\"-\"&MasterTable[[#This Row],[CCT/CRI]]&IF(MasterTable[[#This Row],[Lumen Family]]<999,\"0\"&MasterTable[[#This Row],[Lumen Family]],MasterTable[[#This Row],[Lumen Family]])&\"-\"&MasterTable[[#This Row],[Arrangement]]&\"-xx\"","v":"BXRC-50C2001-D-xx"},2925.6,{"$f":"MasterTable[[#This Row],[Typical Lumens]]/(MasterTable[[#This Row],[Typical Voltage]]*MasterTable[[#This Row],[Typical Current]]/1000)","v":184},0.28036666666666665,31.8,500,1000,66,null,1.9000000000000001E-9,-4.4818E-6,8.2648797999999996E-3,28.743142711499999,2.3511E-11,-3.8892000000000002E-7,2.1708000000000001E-3,-9.9999999999999995E-8,null,null,null,null,null,null,-3.5848E-6,-1.1148865E-3,1.0260294071,null,null,-1.7000000000000001E-2,32.725000000000001,11.154,29.829000000000001,463.69,-9.9999999999999995E-8]
["Vero 13-D","50E","D",2001,"BXRC",{"$f":"MasterTable[[#This Row],[Product Family]]&\"-\"&MasterTable[[#This Row],[CCT/CRI]]&MasterTable[[#This Row],[Arrangement]]","v":"Vero 13-D-50ED"},{"$f":"MasterTable[[#This Row],[Generation]]&\"-\"&MasterTable[[#This Row],[CCT/CRI]]&IF(MasterTable[[#This Row],[Lumen Family]]<999,\"0\"&MasterTable[[#This Row],[Lumen Family]],MasterTable[[#This Row],[Lumen Family]])&\"-\"&MasterTable[[#This Row],[Arrangement]]&\"-xx\"","v":"BXRC-50E2001-D-xx"},2814.3,{"$f":"MasterTable[[#This Row],[Typical Lumens]]/(MasterTable[[#This Row],[Typical Voltage]]*MasterTable[[#This Row],[Typical Current]]/1000)","v":177},0.28036666666666665,31.8,500,1000,66,null,1.9000000000000001E-9,-4.4818E-6,8.2648797999999996E-3,28.743142711499999,2.3511E-11,-3.8892000000000002E-7,2.1708000000000001E-3,-9.9999999999999995E-8,null,null,null,null,null,null,-3.5848E-6,-1.1148865E-3,1.0260294071,null,null,-1.7000000000000001E-2,32.725000000000001,11.154,29.829000000000001,463.69,-9.9999999999999995E-8]
["Vero 13-D","50G","D",2001,"BXRC",{"$f":"MasterTable[[#This Row],[Product Family]]&\"-\"&MasterTable[[#This Row],[CCT/CRI]]&MasterTable[[#This Row],[Arrangement]]","v":"Vero 13-D-50GD"},{"$f":"MasterTable[[#This Row],[Generation]]&\"-\"&MasterTable[[#This Row],[CCT/CRI]]&IF(MasterTable[[#This Row],[Lumen Family]]<999,\"0\"&MasterTable[[#This Row],[Lumen Family]],MasterTable[[#This Row],[Lumen Family]])&\"-\"&MasterTable[[#This Row],[Arrangement]]&\"-xx\"","v":"BXRC-50G2001-D-xx"},2432.7000000000003,{"$f":"MasterTable[[#This Row],[Typical Lumens]]/(MasterTable[[#This Row],[Typical Voltage]]*MasterTable[[#This Row],[Typical Current]]/1000)","v":153},0.28036666666666665,31.8,500,1000,66,null,1.9000000000000001E-9,-4.4818E-6,8.2648797999999996E-3,28.743142711499999,2.3511E-11,-3.8892000000000002E-7,2.1708000000000001E-3,-9.9999999999999995E-8,null,null,null,null,null,null,-3.5848E-6,-1.1148865E-3,1.0260294071,null,null,null,null,11.154,29.829000000000001,463.69,-9.9999999999999995E-8]
["Vero 13-D","57C","D",2001,"BXRC",{"$f":"MasterTable[[#This Row],[Product Family]]&\"-\"&MasterTable[[#This Row],[CCT/CRI]]&MasterTable[[#This Row],[Arrangement]]","v":"Vero 13-D-57CD"},{"$f":"MasterTable[[#This Row],[Generation]]&\"-\"&MasterTable[[#This Row],[CCT/CRI]]&IF(MasterTable[[#This Row],[Lumen Family]]<999,\"0\"&MasterTable[[#This Row],[Lumen Family]],MasterTable[[#This Row],[Lumen Family]])&\"-\"&MasterTable[[#This Row],[Arrangement]]&\"-xx\"","v":"BXRC-57C2001-D-xx"},2846,{"$f":"MasterTable[[#This Row],[Typical Lumens]]/(MasterTable[[#This Row],[Typical Voltage]]*MasterTable[[#This Row],[Typical Current]]/1000)","v":178.99371069182391},0.28036666666666665,31.8,500,1000,66,null,1.9000000000000001E-9,-4.4818E-6,8.2648797999999996E-3,28.743142711499999,2.3511E-11,-3.8892000000000002E-7,2.1708000000000001E-3,-9.9999999999999995E-8,null,null,null,null,null,null,-6.9999999999999999E-6,-1E-3,1.0237000000000001,null,null,null,null,11.154,29.829000000000001,463.69,-9.9999999999999995E-8]
["Vero 13-D","57E","D",2001,"BXRC",{"$f":"MasterTable[[#This Row],[Product Family]]&\"-\"&MasterTable[[#This Row],[CCT/CRI]]&MasterTable[[#This Row],[Arrangement]]","v":"Vero 13-D-57ED"},{"$f":"MasterTable[[#This Row],[Generation]]&\"-\"&MasterTable[[#This Row],[CCT/CRI]]&IF(MasterTable[[#This Row],[Lumen Family]]<999,\"0\"&MasterTable[[#This Row],[Lumen Family]],MasterTable[[#This Row],[Lumen Family]])&\"-\"&MasterTable[[#This Row],[Arrangement]]&\"-xx\"","v":"BXRC-57E2001-D-xx"},2703,{"$f":"MasterTable[[#This Row],[Typical Lumens]]/(MasterTable[[#This Row],[Typical Voltage]]*MasterTable[[#This Row],[Typical Current]]/1000)","v":170},0.28036666666666665,31.8,500,1000,66,null,1.9000000000000001E-9,-4.4818E-6,8.2648797999999996E-3,28.743142711499999,2.3511E-11,-3.8892000000000002E-7,2.1708000000000001E-3,-9.9999999999999995E-8,null,null,null,null,null,null,-6.9999999999999999E-6,-1E-3,1.0237000000000001,null,null,null,null,11.154,29.829000000000001,463.69,-9.9999999999999995E-8]
["Vero 13-D","65C","D",2001,"BXRC",{"$f":"MasterTable[[#This Row],[Product Family]]&\"-\"&MasterTable[[#This Row],[CCT/CRI]]&MasterTable[[#This Row],[Arrangement]]","v":"Vero 13-D-65CD"},{"$f":"MasterTable[[#This Row],[Generation]]&\"-\"&MasterTable[[#This Row],[CCT/CRI]]&IF(MasterTable[[#This Row],[Lumen Family]]<999,\"0\"&MasterTable[[#This Row],[Lumen Family]],MasterTable[[#This Row],[Lumen Family]])&\"-\"&MasterTable[[#This Row],[Arrangement]]&\"-xx\"","v":"BXRC-65C2001-D-xx"},2846.1,{"$f":"MasterTable[[#This Row],[Typical Lumens]]/(MasterTable[[#This Row],[Typical Voltage]]*MasterTable[[#This Row],[Typical Current]]/1000)","v":179},0.28036666666666665,31.8,500,1000,66,null,1.9000000000000001E-9,-4.4818E-6,8.2648797999999996E-3,28.743142711499999,2.3511E-11,-3.8892000000000002E-7,2.1708000000000001E-3,-9.9999999999999995E-8,null,null,null,null,null,null,-6.9999999999999999E-6,-1E-3,1.0237000000000001,null,null,null,null,11.154,29.829000000000001,463.69,-9.9999999999999995E-8]
["Vero 13-D","65E","D",2001,"BXRC",{"$f":"MasterTable[[#This Row],[Product Family]]&\"-\"&MasterTable[[#This Row],[CCT/CRI]]&MasterTable[[#This Row],[Arrangement]]","v":"Vero 13-D-65ED"},{"$f":"MasterTable[[#This Row],[Generation]]&\"-\"&MasterTable[[#This Row],[CCT/CRI]]&IF(MasterTable[[#This Row],[Lumen Family]]<999,\"0\"&MasterTable[[#This Row],[Lumen Family]],MasterTable[[#This Row],[Lumen Family]])&\"-\"&MasterTable[[#This Row],[Arrangement]]&\"-xx\"","v":"BXRC-65E2001-D-xx"},2734.8,{"$f":"MasterTable[[#This Row],[Typical Lumens]]/(MasterTable[[#This Row],[Typical Voltage]]*MasterTable[[#This Row],[Typical Current]]/1000)","v":172},0.28036666666666665,31.8,500,1000,66,null,1.9000000000000001E-9,-4.4818E-6,8.2648797999999996E-3,28.743142711499999,2.3511E-11,-3.8892000000000002E-7,2.1708000000000001E-3,-9.9999999999999995E-8,null,null,null,null,null,null,-6.9999999999999999E-6,-1E-3,1.0237000000000001,null,null,null,null,11.154,29.829000000000001,463.69,-9.9999999999999995E-8]
["Vero 18-B","30E","B",4000,"BXRC",{"$f":"MasterTable[[#This Row],[Product Family]]&\"-\"&MasterTable[[#This Row],[CCT/CRI]]&MasterTable[[#This Row],[Arrangement]]","v":"Vero 18-B-30EB"},{"$f":"MasterTable[[#This Row],[Generation]]&\"-\"&MasterTable[[#This Row],[CCT/CRI]]&IF(MasterTable[[#This Row],[Lumen Family]]<999,\"0\"&MasterTable[[#This Row],[Lumen Family]],MasterTable[[#This Row],[Lumen Family]])&\"-\"&MasterTable[[#This Row],[Arrangement]]&\"-xx\"","v":"BXRC-30E4000-B-xx"},5324.4,{"$f":"MasterTable[[#This Row],[Typical Lumens]]/(MasterTable[[#This Row],[Typical Voltage]]*MasterTable[[#This Row],[Typical Current]]/1000)","v":170},0.15453333333333333,34.799999999999997,900,1800,120,null,4.0000000000000001E-10,-1.6286E-6,5.4556379E-3,30.922791431899999,2.4036999999999999E-11,-1.3944999999999999E-7,1.238E-3,-9.9999999999999995E-8,null,null,null,null,null,null,-3.6592E-6,-1.0345506E-3,1.0240956264000001,null,null,null,null,-10.468,92.061999999999998,801.04,-9.9999999999999995E-8]
["Vero 18-B","17E","B",4000,"BXRC",{"$f":"MasterTable[[#This Row],[Product Family]]&\"-\"&MasterTable[[#This Row],[CCT/CRI]]&MasterTable[[#This Row],[Arrangement]]","v":"Vero 18-B-17EB"},{"$f":"MasterTable[[#This Row],[Generation]]&\"-\"&MasterTable[[#This Row],[CCT/CRI]]&IF(MasterTable[[#This Row],[Lumen Family]]<999,\"0\"&MasterTable[[#This Row],[Lumen Family]],MasterTable[[#This Row],[Lumen Family]])&\"-\"&MasterTable[[#This Row],[Arrangement]]&\"-xx\"","v":"BXRC-17E4000-B-xx"},2881.4399999999996,{"$f":"MasterTable[[#This Row],[Typical Lumens]]/(MasterTable[[#This Row],[Typical Voltage]]*MasterTable[[#This Row],[Typical Current]]/1000)","v":92},0.15453333333333333,34.799999999999997,900,1800,120,null,4.0000000000000001E-10,-1.6286E-6,5.4556379E-3,30.922791431899999,2.4036999999999999E-11,-1.3944999999999999E-7,1.238E-3,-9.9999999999999995E-8,null,null,null,null,null,null,-3.6592E-6,-1.0345506E-3,1.0240956264000001,null,null,null,null,-10.468,92.061999999999998,801.04,-9.9999999999999995E-8]
["Vero 18-B","25E","B",4000,"BXRC",{"$f":"MasterTable[[#This Row],[Product Family]]&\"-\"&MasterTable[[#This Row],[CCT/CRI]]&MasterTable[[#This Row],[Arrangement]]","v":"Vero 18-B-25EB"},{"$f":"MasterTable[[#This Row],[Generation]]&\"-\"&MasterTable[[#This Row],[CCT/CRI]]&IF(MasterTable[[#This Row],[Lumen Family]]<999,\"0\"&MasterTable[[#This Row],[Lumen Family]],MasterTable[[#This Row],[Lumen Family]])&\"-\"&MasterTable[[#This Row],[Arrangement]]&\"-xx\"","v":"BXRC-25E4000-B-xx"},4791.9599999999991,{"$f":"MasterTable[[#This Row],[Typical Lumens]]/(MasterTable[[#This Row],[Typical Voltage]]*MasterTable[[#This Row],[Typical Current]]/1000)","v":153},0.15453333333333333,34.799999999999997,900,1800,120,null,4.0000000000000001E-10,-1.6286E-6,5.4556379E-3,30.922791431899999,2.4036999999999999E-11,-1.3944999999999999E-7,1.238E-3,-9.9999999999999995E-8,null,null,null,null,null,null,-3.6592E-6,-1.0345506E-3,1.0240956264000001,null,null,null,null,-10.468,92.061999999999998,801.04,-9.9999999999999995E-8]
["Vero 18-B","27E","B",4000,"BXRC",{"$f":"MasterTable[[#This Row],[Product Family]]&\"-\"&MasterTable[[#This Row],[CCT/CRI]]&MasterTable[[#This Row],[Arrangement]]","v":"Vero 18-B-27EB"},{"$f":"MasterTable[[#This Row],[Generation]]&\"-\"&MasterTable[[#This Row],[CCT/CRI]]&IF(MasterTable[[#This Row],[Lumen Family]]<999,\"0\"&MasterTable[[#This Row],[Lumen Family]],MasterTable[[#This Row],[Lumen Family]])&\"-\"&MasterTable[[#This Row],[Arrangement]]&\"-xx\"","v":"BXRC-27E4000-B-xx"},5011.2,{"$f":"MasterTable[[#This Row],[Typical Lumens]]/(MasterTable[[#This Row],[Typical Voltage]]*MasterTable[[#This Row],[Typical Current]]/1000)","v":160},0.15453333333333333,34.799999999999997,900,1800,120,null,4.0000000000000001E-10,-1.6286E-6,5.4556379E-3,30.922791431899999,2.4036999999999999E-11,-1.3944999999999999E-7,1.238E-3,-9.9999999999999995E-8,null,null,null,null,null,null,-3.6592E-6,-1.0345506E-3,1.0240956264000001,null,null,null,null,-10.468,92.061999999999998,801.04,-9.9999999999999995E-8]
["Vero 18-B","27G","B",4000,"BXRC",{"$f":"MasterTable[[#This Row],[Product Family]]&\"-\"&MasterTable[[#This Row],[CCT/CRI]]&MasterTable[[#This Row],[Arrangement]]","v":"Vero 18-B-27GB"},{"$f":"MasterTable[[#This Row],[Generation]]&\"-\"&MasterTable[[#This Row],[CCT/CRI]]&IF(MasterTable[[#This Row],[Lumen Family]]<999,\"0\"&MasterTable[[#This Row],[Lumen Family]],MasterTable[[#This Row],[Lumen Family]])&\"-\"&MasterTable[[#This Row],[Arrangement]]&\"-xx\"","v":"BXRC-27G4000-B-xx"},4134,{"$f":"MasterTable[[#This Row],[Typical Lumens]]/(MasterTable[[#This Row],[Typical Voltage]]*MasterTable[[#This Row],[Typical Current]]/1000)","v":131.99233716475098},0.15453333333333333,34.799999999999997,900,1800,120,null,4.0000000000000001E-10,-1.6286E-6,5.4556379E-3,30.922791431899999,2.4036999999999999E-11,-1.3944999999999999E-7,1.238E-3,-9.9999999999999995E-8,null,null,null,null,null,null,-3.6592E-6,-1.0345506E-3,1.0240956264000001,null,null,null,null,-10.468,92.061999999999998,801.04,-9.9999999999999995E-8]
["Vero 18-B","27H","B",4000,"BXRC",{"$f":"MasterTable[[#This Row],[Product Family]]&\"-\"&MasterTable[[#This Row],[CCT/CRI]]&MasterTable[[#This Row],[Arrangement]]","v":"Vero 18-B-27HB"},{"$f":"MasterTable[[#This Row],[Generation]]&\"-\"&MasterTable[[#This Row],[CCT/CRI]]&IF(MasterTable[[#This Row],[Lumen Family]]<999,\"0\"&MasterTable[[#This Row],[Lumen Family]],MasterTable[[#This Row],[Lumen Family]])&\"-\"&MasterTable[[#This Row],[Arrangement]]&\"-xx\"","v":"BXRC-27H4000-B-xx"},3664,{"$f":"MasterTable[[#This Row],[Typical Lumens]]/(MasterTable[[#This Row],[Typical Voltage]]*MasterTable[[#This Row],[Typical Current]]/1000)","v":116.9859514687101},0.15453333333333333,34.799999999999997,900,1800,120,null,4.0000000000000001E-10,-1.6286E-6,5.4556379E-3,30.922791431899999,2.4036999999999999E-11,-1.3944999999999999E-7,1.238E-3,-9.9999999999999995E-8,null,null,null,null,null,null,-3.6592E-6,-1.0345506E-3,1.0240956264000001,null,null,null,null,-10.468,92.061999999999998,801.04,-9.9999999999999995E-8]
["Vero 18-B","27G-H","B","40H0","BXRC",{"$f":"MasterTable[[#This Row],[Product Family]]&\"-\"&MasterTable[[#This Row],[CCT/CRI]]&MasterTable[[#This Row],[Arrangement]]","v":"Vero 18-B-27G-HB"},"BXRC-27G-40H0-B-xx",4291,{"$f":"MasterTable[[#This Row],[Typical Lumens]]/(MasterTable[[#This Row],[Typical Voltage]]*MasterTable[[#This Row],[Typical Current]]/1000)","v":137.00510855683271},0.15453333333333333,34.799999999999997,900,{"$f":"L594*2","v":1800},120,null,4.0000000000000001E-10,-1.6286E-6,5.4556379E-3,30.922791431899999,2.4036999999999999E-11,-1.3944999999999999E-7,1.238E-3,-9.9999999999999995E-8,null,null,null,null,null,null,-3.6592E-6,-1.0345506E-3,1.0240956264000001,null,null,null,null,-10.468,92.061999999999998,801.04,-9.9999999999999995E-8]
["Vero 18-B","30G-H","B","40H0","BXRC",{"$f":"MasterTable[[#This Row],[Product Family]]&\"-\"&MasterTable[[#This Row],[CCT/CRI]]&MasterTable[[#This Row],[Arrangement]]","v":"Vero 18-B-30G-HB"},"BXRC-30G-40H0-B-xx",4322,{"$f":"MasterTable[[#This Row],[Typical Lumens]]/(MasterTable[[#This Row],[Typical Voltage]]*MasterTable[[#This Row],[Typical Current]]/1000)","v":137.99489144316732},0.15453333333333333,34.799999999999997,900,1800,120,null,4.0000000000000001E-10,-1.6286E-6,5.4556379E-3,30.922791431899999,2.4036999999999999E-11,-1.3944999999999999E-7,1.238E-3,-9.9999999999999995E-8,null,null,null,null,null,null,-3.6592E-6,-1.0345506E-3,1.0240956264000001,null,null,null,null,-10.468,92.061999999999998,801.04,-9.9999999999999995E-8]
["Vero 18-B","30C","B",4001,"BXRC",{"$f":"MasterTable[[#This Row],[Product Family]]&\"-\"&MasterTable[[#This Row],[CCT/CRI]]&MasterTable[[#This Row],[Arrangement]]","v":"Vero 18-B-30CB"},{"$f":"MasterTable[[#This Row],[Generation]]&\"-\"&MasterTable[[#This Row],[CCT/CRI]]&IF(MasterTable[[#This Row],[Lumen Family]]<999,\"0\"&MasterTable[[#This Row],[Lumen Family]],MasterTable[[#This Row],[Lumen Family]])&\"-\"&MasterTable[[#This Row],[Arrangement]]&\"-xx\"","v":"BXRC-30C4001-B-xx"},5575,{"$f":"MasterTable[[#This Row],[Typical Lumens]]/(MasterTable[[#This Row],[Typical Voltage]]*MasterTable[[#This Row],[Typical Current]]/1000)","v":178.00127713920818},0.15453333333333333,34.799999999999997,900,{"$f":"L596*2","v":1800},120,null,4.0000000000000001E-10,-1.6286E-6,5.4556379E-3,30.922791431899999,2.4036999999999999E-11,-1.3944999999999999E-7,1.238E-3,-9.9999999999999995E-8,null,null,null,null,null,null,-3.6592E-6,-1.0345506E-3,1.0240956264000001,null,null,null,null,-10.468,92.061999999999998,801.04,-9.9999999999999995E-8]
["Vero 18-B","30G","B",4000,"BXRC",{"$f":"MasterTable[[#This Row],[Product Family]]&\"-\"&MasterTable[[#This Row],[CCT/CRI]]&MasterTable[[#This Row],[Arrangement]]","v":"Vero 18-B-30GB"},{"$f":"MasterTable[[#This Row],[Generation]]&\"-\"&MasterTable[[#This Row],[CCT/CRI]]&IF(MasterTable[[#This Row],[Lumen Family]]<999,\"0\"&MasterTable[[#This Row],[Lumen Family]],MasterTable[[#This Row],[Lumen Family]])&\"-\"&MasterTable[[#This Row],[Arrangement]]&\"-xx\"","v":"BXRC-30G4000-B-xx"},4510,{"$f":"MasterTable[[#This Row],[Typical Lumens]]/(MasterTable[[#This Row],[Typical Voltage]]*MasterTable[[#This Row],[Typical Current]]/1000)","v":143.99744572158366},0.15453333333333333,34.799999999999997,900,1800,120,null,4.0000000000000001E-10,-1.6286E-6,5.4556379E-3,30.922791431899999,2.4036999999999999E-11,-1.3944999999999999E-7,1.238E-3,-9.9999999999999995E-8,null,null,null,null,null,null,-3.6592E-6,-1.0345506E-3,1.0240956264000001,null,null,null,null,-10.468,92.061999999999998,801.04,-9.9999999999999995E-8]
["Vero 18-B","30G-C","B","400C","BXRC",{"$f":"MasterTable[[#This Row],[Product Family]]&\"-\"&MasterTable[[#This Row],[CCT/CRI]]&MasterTable[[#This Row],[Arrangement]]","v":"Vero 18-B-30G-CB"},"BXRC-30G400C-B-xx",4166,{"$f":"MasterTable[[#This Row],[Typical Lumens]]/(MasterTable[[#This Row],[Typical Voltage]]*MasterTable[[#This Row],[Typical Current]]/1000)","v":133.01404853128992},0.15453333333333333,34.799999999999997,900,1800,120,null,4.0000000000000001E-10,-1.6286E-6,5.4556379E-3,30.922791431899999,2.4036999999999999E-11,-1.3944999999999999E-7,1.238E-3,-9.9999999999999995E-8,null,null,null,null,null,null,-3.6592E-6,-1.0345506E-3,1.0240956264000001,null,null,null,null,-10.468,92.061999999999998,801.04,-9.9999999999999995E-8]
["Vero 18-B","30H","B",4000,"BXRC",{"$f":"MasterTable[[#This Row],[Product Family]]&\"-\"&MasterTable[[#This Row],[CCT/CRI]]&MasterTable[[#This Row],[Arrangement]]","v":"Vero 18-B-30HB"},{"$f":"MasterTable[[#This Row],[Generation]]&\"-\"&MasterTable[[#This Row],[CCT/CRI]]&IF(MasterTable[[#This Row],[Lumen Family]]<999,\"0\"&MasterTable[[#This Row],[Lumen Family]],MasterTable[[#This Row],[Lumen Family]])&\"-\"&MasterTable[[#This Row],[Arrangement]]&\"-xx\"","v":"BXRC-30H4000-B-xx"},3915,{"$f":"MasterTable[[#This Row],[Typical Lumens]]/(MasterTable[[#This Row],[Typical Voltage]]*MasterTable[[#This Row],[Typical Current]]/1000)","v":125.00000000000001},0.15453333333333333,34.799999999999997,900,1800,120,null,4.0000000000000001E-10,-1.6286E-6,5.4556379E-3,30.922791431899999,2.4036999999999999E-11,-1.3944999999999999E-7,1.238E-3,-9.9999999999999995E-8,null,null,null,null,null,null,-3.6592E-6,-1.0345506E-3,1.0240956264000001,null,null,null,null,-10.468,92.061999999999998,801.04,-9.9999999999999995E-8]
["Vero 18-B","30A","B",4001,"BXRC",{"$f":"MasterTable[[#This Row],[Product Family]]&\"-\"&MasterTable[[#This Row],[CCT/CRI]]&MasterTable[[#This Row],[Arrangement]]","v":"Vero 18-B-30AB"},{"$f":"MasterTable[[#This Row],[Generation]]&\"-\"&MasterTable[[#This Row],[CCT/CRI]]&IF(MasterTable[[#This Row],[Lumen Family]]<999,\"0\"&MasterTable[[#This Row],[Lumen Family]],MasterTable[[#This Row],[Lumen Family]])&\"-\"&MasterTable[[#This Row],[Arrangement]]&\"-xx\"","v":"BXRC-30A4001-B-xx"},3883.6799999999994,{"$f":"MasterTable[[#This Row],[Typical Lumens]]/(MasterTable[[#This Row],[Typical Voltage]]*MasterTable[[#This Row],[Typical Current]]/1000)","v":124},0.15453333333333333,34.799999999999997,900,1800,120,null,4.0000000000000001E-10,-1.6286E-6,5.4556379E-3,30.922791431899999,2.4036999999999999E-11,-1.3944999999999999E-7,1.238E-3,-9.9999999999999995E-8,null,null,null,null,null,null,-3.6592E-6,-1.0345506E-3,1.0240956264000001,null,null,null,null,-10.468,92.061999999999998,801.04,-9.9999999999999995E-8]
["Vero 18-B","35E","B",4000,"BXRC",{"$f":"MasterTable[[#This Row],[Product Family]]&\"-\"&MasterTable[[#This Row],[CCT/CRI]]&MasterTable[[#This Row],[Arrangement]]","v":"Vero 18-B-35EB"},{"$f":"MasterTable[[#This Row],[Generation]]&\"-\"&MasterTable[[#This Row],[CCT/CRI]]&IF(MasterTable[[#This Row],[Lumen Family]]<999,\"0\"&MasterTable[[#This Row],[Lumen Family]],MasterTable[[#This Row],[Lumen Family]])&\"-\"&MasterTable[[#This Row],[Arrangement]]&\"-xx\"","v":"BXRC-35E4000-B-xx"},5449.6799999999994,{"$f":"MasterTable[[#This Row],[Typical Lumens]]/(MasterTable[[#This Row],[Typical Voltage]]*MasterTable[[#This Row],[Typical Current]]/1000)","v":174},0.15453333333333333,34.799999999999997,900,1800,120,null,4.0000000000000001E-10,-1.6286E-6,5.4556379E-3,30.922791431899999,2.4036999999999999E-11,-1.3944999999999999E-7,1.238E-3,-9.9999999999999995E-8,null,null,null,null,null,null,-3.6592E-6,-1.0345506E-3,1.0240956264000001,null,null,null,null,-10.468,92.061999999999998,801.04,-9.9999999999999995E-8]
["Vero 18-B","35G","B",4000,"BXRC",{"$f":"MasterTable[[#This Row],[Product Family]]&\"-\"&MasterTable[[#This Row],[CCT/CRI]]&MasterTable[[#This Row],[Arrangement]]","v":"Vero 18-B-35GB"},{"$f":"MasterTable[[#This Row],[Generation]]&\"-\"&MasterTable[[#This Row],[CCT/CRI]]&IF(MasterTable[[#This Row],[Lumen Family]]<999,\"0\"&MasterTable[[#This Row],[Lumen Family]],MasterTable[[#This Row],[Lumen Family]])&\"-\"&MasterTable[[#This Row],[Arrangement]]&\"-xx\"","v":"BXRC-35G4000-B-xx"},4479,{"$f":"MasterTable[[#This Row],[Typical Lumens]]/(MasterTable[[#This Row],[Typical Voltage]]*MasterTable[[#This Row],[Typical Current]]/1000)","v":143.00766283524905},0.15453333333333333,34.799999999999997,900,1800,120,null,4.0000000000000001E-10,-1.6286E-6,5.4556379E-3,30.922791431899999,2.4036999999999999E-11,-1.3944999999999999E-7,1.238E-3,-9.9999999999999995E-8,null,null,null,null,null,null,-3.6592E-6,-1.0345506E-3,1.0240956264000001,null,null,null,null,-10.468,92.061999999999998,801.04,-9.9999999999999995E-8]
["Vero 18-B","35A","B",4001,"BXRC",{"$f":"MasterTable[[#This Row],[Product Family]]&\"-\"&MasterTable[[#This Row],[CCT/CRI]]&MasterTable[[#This Row],[Arrangement]]","v":"Vero 18-B-35AB"},{"$f":"MasterTable[[#This Row],[Generation]]&\"-\"&MasterTable[[#This Row],[CCT/CRI]]&IF(MasterTable[[#This Row],[Lumen Family]]<999,\"0\"&MasterTable[[#This Row],[Lumen Family]],MasterTable[[#This Row],[Lumen Family]])&\"-\"&MasterTable[[#This Row],[Arrangement]]&\"-xx\"","v":"BXRC-35A4001-B-xx"},4134.24,{"$f":"MasterTable[[#This Row],[Typical Lumens]]/(MasterTable[[#This Row],[Typical Voltage]]*MasterTable[[#This Row],[Typical Current]]/1000)","v":132},0.15453333333333333,34.799999999999997,900,1800,120,null,4.0000000000000001E-10,-1.6286E-6,5.4556379E-3,30.922791431899999,2.4036999999999999E-11,-1.3944999999999999E-7,1.238E-3,-9.9999999999999995E-8,null,null,null,null,null,null,-3.6592E-6,-1.0345506E-3,1.0240956264000001,null,null,null,null,-10.468,92.061999999999998,801.04,-9.9999999999999995E-8]
["Vero 18-B","40C","B",4001,"BXRC",{"$f":"MasterTable[[#This Row],[Product Family]]&\"-\"&MasterTable[[#This Row],[CCT/CRI]]&MasterTable[[#This Row],[Arrangement]]","v":"Vero 18-B-40CB"},{"$f":"MasterTable[[#This Row],[Generation]]&\"-\"&MasterTable[[#This Row],[CCT/CRI]]&IF(MasterTable[[#This Row],[Lumen Family]]<999,\"0\"&MasterTable[[#This Row],[Lumen Family]],MasterTable[[#This Row],[Lumen Family]])&\"-\"&MasterTable[[#This Row],[Arrangement]]&\"-xx\"","v":"BXRC-40C4001-B-xx"},5732,{"$f":"MasterTable[[#This Row],[Typical Lumens]]/(MasterTable[[#This Row],[Typical Voltage]]*MasterTable[[#This Row],[Typical Current]]/1000)","v":183.01404853128992},0.15453333333333333,34.799999999999997,900,1800,120,null,4.0000000000000001E-10,-1.6286E-6,5.4556379E-3,30.922791431899999,2.4036999999999999E-11,-1.3944999999999999E-7,1.238E-3,-9.9999999999999995E-8,null,null,null,null,null,null,-3.6592E-6,-1.0345506E-3,1.0240956264000001,null,null,null,null,-10.468,92.061999999999998,801.04,-9.9999999999999995E-8]
["Vero 18-B","40E","B",4000,"BXRC",{"$f":"MasterTable[[#This Row],[Product Family]]&\"-\"&MasterTable[[#This Row],[CCT/CRI]]&MasterTable[[#This Row],[Arrangement]]","v":"Vero 18-B-40EB"},{"$f":"MasterTable[[#This Row],[Generation]]&\"-\"&MasterTable[[#This Row],[CCT/CRI]]&IF(MasterTable[[#This Row],[Lumen Family]]<999,\"0\"&MasterTable[[#This Row],[Lumen Family]],MasterTable[[#This Row],[Lumen Family]])&\"-\"&MasterTable[[#This Row],[Arrangement]]&\"-xx\"","v":"BXRC-40E4000-B-xx"},5480.9999999999991,{"$f":"MasterTable[[#This Row],[Typical Lumens]]/(MasterTable[[#This Row],[Typical Voltage]]*MasterTable[[#This Row],[Typical Current]]/1000)","v":175},0.15453333333333333,34.799999999999997,900,1800,120,null,4.0000000000000001E-10,-1.6286E-6,5.4556379E-3,30.922791431899999,2.4036999999999999E-11,-1.3944999999999999E-7,1.238E-3,-9.9999999999999995E-8,null,null,null,null,null,null,-3.5848E-6,-1.1148865E-3,1.0260294071,null,null,null,null,-10.468,92.061999999999998,801.04,-9.9999999999999995E-8]
["Vero 18-B","40G","B",4000,"BXRC",{"$f":"MasterTable[[#This Row],[Product Family]]&\"-\"&MasterTable[[#This Row],[CCT/CRI]]&MasterTable[[#This Row],[Arrangement]]","v":"Vero 18-B-40GB"},{"$f":"MasterTable[[#This Row],[Generation]]&\"-\"&MasterTable[[#This Row],[CCT/CRI]]&IF(MasterTable[[#This Row],[Lumen Family]]<999,\"0\"&MasterTable[[#This Row],[Lumen Family]],MasterTable[[#This Row],[Lumen Family]])&\"-\"&MasterTable[[#This Row],[Arrangement]]&\"-xx\"","v":"BXRC-40G4000-B-xx"},4572.7199999999993,{"$f":"MasterTable[[#This Row],[Typical Lumens]]/(MasterTable[[#This Row],[Typical Voltage]]*MasterTable[[#This Row],[Typical Current]]/1000)","v":146},0.15453333333333333,34.799999999999997,900,1800,120,null,4.0000000000000001E-10,-1.6286E-6,5.4556379E-3,30.922791431899999,2.4036999999999999E-11,-1.3944999999999999E-7,1.238E-3,-9.9999999999999995E-8,null,null,null,null,null,null,-3.5848E-6,-1.1148865E-3,1.0260294071,null,null,null,null,-10.468,92.061999999999998,801.04,-9.9999999999999995E-8]
["Vero 18-B","40A","B",4001,"BXRC",{"$f":"MasterTable[[#This Row],[Product Family]]&\"-\"&MasterTable[[#This Row],[CCT/CRI]]&MasterTable[[#This Row],[Arrangement]]","v":"Vero 18-B-40AB"},{"$f":"MasterTable[[#This Row],[Generation]]&\"-\"&MasterTable[[#This Row],[CCT/CRI]]&IF(MasterTable[[#This Row],[Lumen Family]]<999,\"0\"&MasterTable[[#This Row],[Lumen Family]],MasterTable[[#This Row],[Lumen Family]])&\"-\"&MasterTable[[#This Row],[Arrangement]]&\"-xx\"","v":"BXRC-40A4001-B-xx"},4478.7599999999993,{"$f":"MasterTable[[#This Row],[Typical Lumens]]/(MasterTable[[#This Row],[Typical Voltage]]*MasterTable[[#This Row],[Typical Current]]/1000)","v":143},0.15453333333333333,34.799999999999997,900,1800,120,null,4.0000000000000001E-10,-1.6286E-6,5.4556379E-3,30.922791431899999,2.4036999999999999E-11,-1.3944999999999999E-7,1.238E-3,-9.9999999999999995E-8,null,null,null,null,null,null,-3.5848E-6,-1.1148865E-3,1.0260294071,null,null,null,null,-10.468,92.061999999999998,801.04,-9.9999999999999995E-8]
["Vero 18-B","50C","B",4001,"BXRC",{"$f":"MasterTable[[#This Row],[Product Family]]&\"-\"&MasterTable[[#This Row],[CCT/CRI]]&MasterTable[[#This Row],[Arrangement]]","v":"Vero 18-B-50CB"},{"$f":"MasterTable[[#This Row],[Generation]]&\"-\"&MasterTable[[#This Row],[CCT/CRI]]&IF(MasterTable[[#This Row],[Lumen Family]]<999,\"0\"&MasterTable[[#This Row],[Lumen Family]],MasterTable[[#This Row],[Lumen Family]])&\"-\"&MasterTable[[#This Row],[Arrangement]]&\"-xx\"","v":"BXRC-50C4001-B-xx"},5762.8799999999992,{"$f":"MasterTable[[#This Row],[Typical Lumens]]/(MasterTable[[#This Row],[Typical Voltage]]*MasterTable[[#This Row],[Typical Current]]/1000)","v":184},0.15453333333333333,34.799999999999997,900,1800,120,null,4.0000000000000001E-10,-1.6286E-6,5.4556379E-3,30.922791431899999,2.4036999999999999E-11,-1.3944999999999999E-7,1.238E-3,-9.9999999999999995E-8,null,null,null,null,null,null,-6.9999999999999999E-6,-1E-3,1.0237000000000001,null,null,null,null,-10.468,92.061999999999998,801.04,-9.9999999999999995E-8]
["Vero 18-B","50E","B",4001,"BXRC",{"$f":"MasterTable[[#This Row],[Product Family]]&\"-\"&MasterTable[[#This Row],[CCT/CRI]]&MasterTable[[#This Row],[Arrangement]]","v":"Vero 18-B-50EB"},{"$f":"MasterTable[[#This Row],[Generation]]&\"-\"&MasterTable[[#This Row],[CCT/CRI]]&IF(MasterTable[[#This Row],[Lumen Family]]<999,\"0\"&MasterTable[[#This Row],[Lumen Family]],MasterTable[[#This Row],[Lumen Family]])&\"-\"&MasterTable[[#This Row],[Arrangement]]&\"-xx\"","v":"BXRC-50E4001-B-xx"},5543.6399999999994,{"$f":"MasterTable[[#This Row],[Typical Lumens]]/(MasterTable[[#This Row],[Typical Voltage]]*MasterTable[[#This Row],[Typical Current]]/1000)","v":177},0.15453333333333333,34.799999999999997,900,1800,120,null,4.0000000000000001E-10,-1.6286E-6,5.4556379E-3,30.922791431899999,2.4036999999999999E-11,-1.3944999999999999E-7,1.238E-3,-9.9999999999999995E-8,null,null,null,null,null,null,-6.9999999999999999E-6,-1E-3,1.0237000000000001,null,null,null,null,-10.468,92.061999999999998,801.04,-9.9999999999999995E-8]
["Vero 18-B","50G","B",4001,"BXRC",{"$f":"MasterTable[[#This Row],[Product Family]]&\"-\"&MasterTable[[#This Row],[CCT/CRI]]&MasterTable[[#This Row],[Arrangement]]","v":"Vero 18-B-50GB"},{"$f":"MasterTable[[#This Row],[Generation]]&\"-\"&MasterTable[[#This Row],[CCT/CRI]]&IF(MasterTable[[#This Row],[Lumen Family]]<999,\"0\"&MasterTable[[#This Row],[Lumen Family]],MasterTable[[#This Row],[Lumen Family]])&\"-\"&MasterTable[[#This Row],[Arrangement]]&\"-xx\"","v":"BXRC-50G4001-B-xx"},4791.9599999999991,{"$f":"MasterTable[[#This Row],[Typical Lumens]]/(MasterTable[[#This Row],[Typical Voltage]]*MasterTable[[#This Row],[Typical Current]]/1000)","v":153},0.15453333333333333,34.799999999999997,900,1800,120,null,4.0000000000000001E-10,-1.6286E-6,5.4556379E-3,30.922791431899999,2.4036999999999999E-11,-1.3944999999999999E-7,1.238E-3,-9.9999999999999995E-8,null,null,null,null,null,null,-6.9999999999999999E-6,-1E-3,1.0237000000000001,null,null,null,null,-10.468,92.061999999999998,801.04,-9.9999999999999995E-8]
["Vero 18-B","56G","B",4001,"BXRC",{"$f":"MasterTable[[#This Row],[Product Family]]&\"-\"&MasterTable[[#This Row],[CCT/CRI]]&MasterTable[[#This Row],[Arrangement]]","v":"Vero 18-B-56GB"},{"$f":"MasterTable[[#This Row],[Generation]]&\"-\"&MasterTable[[#This Row],[CCT/CRI]]&IF(MasterTable[[#This Row],[Lumen Family]]<999,\"0\"&MasterTable[[#This Row],[Lumen Family]],MasterTable[[#This Row],[Lumen Family]])&\"-\"&MasterTable[[#This Row],[Arrangement]]&\"-xx\"","v":"BXRC-56G4001-B-xx"},4823.28,{"$f":"MasterTable[[#This Row],[Typical Lumens]]/(MasterTable[[#This Row],[Typical Voltage]]*MasterTable[[#This Row],[Typical Current]]/1000)","v":154},0.15453333333333333,34.799999999999997,900,1800,120,null,4.0000000000000001E-10,-1.6286E-6,5.4556379E-3,30.922791431899999,2.4036999999999999E-11,-1.3944999999999999E-7,1.238E-3,-9.9999999999999995E-8,null,null,null,null,null,null,-6.9999999999999999E-6,-1E-3,1.0237000000000001,null,null,null,null,-10.468,92.061999999999998,801.04,-9.9999999999999995E-8]
["Vero 18-B","57C","B",4001,"BXRC",{"$f":"MasterTable[[#This Row],[Product Family]]&\"-\"&MasterTable[[#This Row],[CCT/CRI]]&MasterTable[[#This Row],[Arrangement]]","v":"Vero 18-B-57CB"},{"$f":"MasterTable[[#This Row],[Generation]]&\"-\"&MasterTable[[#This Row],[CCT/CRI]]&IF(MasterTable[[#This Row],[Lumen Family]]<999,\"0\"&MasterTable[[#This Row],[Lumen Family]],MasterTable[[#This Row],[Lumen Family]])&\"-\"&MasterTable[[#This Row],[Arrangement]]&\"-xx\"","v":"BXRC-57C4001-B-xx"},5606.28,{"$f":"MasterTable[[#This Row],[Typical Lumens]]/(MasterTable[[#This Row],[Typical Voltage]]*MasterTable[[#This Row],[Typical Current]]/1000)","v":179},0.15453333333333333,34.799999999999997,900,1800,120,null,4.0000000000000001E-10,-1.6286E-6,5.4556379E-3,30.922791431899999,2.4036999999999999E-11,-1.3944999999999999E-7,1.238E-3,-9.9999999999999995E-8,null,null,null,null,null,null,-6.9999999999999999E-6,-1E-3,1.0237000000000001,null,null,null,null,-10.468,92.061999999999998,801.04,-9.9999999999999995E-8]
["Vero 18-B","57E","B",4001,"BXRC",{"$f":"MasterTable[[#This Row],[Product Family]]&\"-\"&MasterTable[[#This Row],[CCT/CRI]]&MasterTable[[#This Row],[Arrangement]]","v":"Vero 18-B-57EB"},{"$f":"MasterTable[[#This Row],[Generation]]&\"-\"&MasterTable[[#This Row],[CCT/CRI]]&IF(MasterTable[[#This Row],[Lumen Family]]<999,\"0\"&MasterTable[[#This Row],[Lumen Family]],MasterTable[[#This Row],[Lumen Family]])&\"-\"&MasterTable[[#This Row],[Arrangement]]&\"-xx\"","v":"BXRC-57E4001-B-xx"},5324.4,{"$f":"MasterTable[[#This Row],[Typical Lumens]]/(MasterTable[[#This Row],[Typical Voltage]]*MasterTable[[#This Row],[Typical Current]]/1000)","v":170},0.15453333333333333,34.799999999999997,900,1800,120,null,4.0000000000000001E-10,-1.6286E-6,5.4556379E-3,30.922791431899999,2.4036999999999999E-11,-1.3944999999999999E-7,1.238E-3,-9.9999999999999995E-8,null,null,null,null,null,null,-6.9999999999999999E-6,-1E-3,1.0237000000000001,null,null,null,null,-10.468,92.061999999999998,801.04,-9.9999999999999995E-8]
["Vero 18-B","65C","B",4001,"BXRC",{"$f":"MasterTable[[#This Row],[Product Family]]&\"-\"&MasterTable[[#This Row],[CCT/CRI]]&MasterTable[[#This Row],[Arrangement]]","v":"Vero 18-B-65CB"},{"$f":"MasterTable[[#This Row],[Generation]]&\"-\"&MasterTable[[#This Row],[CCT/CRI]]&IF(MasterTable[[#This Row],[Lumen Family]]<999,\"0\"&MasterTable[[#This Row],[Lumen Family]],MasterTable[[#This Row],[Lumen Family]])&\"-\"&MasterTable[[#This Row],[Arrangement]]&\"-xx\"","v":"BXRC-65C4001-B-xx"},5606.28,{"$f":"MasterTable[[#This Row],[Typical Lumens]]/(MasterTable[[#This Row],[Typical Voltage]]*MasterTable[[#This Row],[Typical Current]]/1000)","v":179},0.15453333333333333,34.799999999999997,900,1800,120,null,4.0000000000000001E-10,-1.6286E-6,5.4556379E-3,30.922791431899999,2.4036999999999999E-11,-1.3944999999999999E-7,1.238E-3,-9.9999999999999995E-8,null,null,null,null,null,null,-6.9999999999999999E-6,-1E-3,1.0237000000000001,null,null,null,null,-10.468,92.061999999999998,801.04,-9.9999999999999995E-8]
["Vero 18-B","65E","B",4001,"BXRC",{"$f":"MasterTable[[#This Row],[Product Family]]&\"-\"&MasterTable[[#This Row],[CCT/CRI]]&MasterTable[[#This Row],[Arrangement]]","v":"Vero 18-B-65EB"},{"$f":"MasterTable[[#This Row],[Generation]]&\"-\"&MasterTable[[#This Row],[CCT/CRI]]&IF(MasterTable[[#This Row],[Lumen Family]]<999,\"0\"&MasterTable[[#This Row],[Lumen Family]],MasterTable[[#This Row],[Lumen Family]])&\"-\"&MasterTable[[#This Row],[Arrangement]]&\"-xx\"","v":"BXRC-65E4001-B-xx"},5387.0399999999991,{"$f":"MasterTable[[#This Row],[Typical Lumens]]/(MasterTable[[#This Row],[Typical Voltage]]*MasterTable[[#This Row],[Typical Current]]/1000)","v":172},0.15453333333333333,34.799999999999997,900,{"$f":"L615*2","v":1800},120,null,4.0000000000000001E-10,-1.6286E-6,5.4556379E-3,30.922791431899999,2.4036999999999999E-11,-1.3944999999999999E-7,1.238E-3,-9.9999999999999995E-8,null,null,null,null,null,null,-6.9999999999999999E-6,-1E-3,1.0237000000000001,null,null,null,null,-10.468,92.061999999999998,801.04,-9.9999999999999995E-8]
["Vero 18-C","30E","C",4000,"BXRC",{"$f":"MasterTable[[#This Row],[Product Family]]&\"-\"&MasterTable[[#This Row],[CCT/CRI]]&MasterTable[[#This Row],[Arrangement]]","v":"Vero 18-C-30EC"},{"$f":"MasterTable[[#This Row],[Generation]]&\"-\"&MasterTable[[#This Row],[CCT/CRI]]&IF(MasterTable[[#This Row],[Lumen Family]]<999,\"0\"&MasterTable[[#This Row],[Lumen Family]],MasterTable[[#This Row],[Lumen Family]])&\"-\"&MasterTable[[#This Row],[Arrangement]]&\"-xx\"","v":"BXRC-30E4000-C-xx"},6922,{"$f":"MasterTable[[#This Row],[Typical Lumens]]/(MasterTable[[#This Row],[Typical Voltage]]*MasterTable[[#This Row],[Typical Current]]/1000)","v":170.00687690342863},0.11206666666666666,34.799999999999997,1170,2340,156,null,null,-2.9999999999999999E-7,3.3E-3,31.373999999999999,4.7731999999999999E-12,-7.2907999999999993E-8,9.3304E-4,-9.9999999999999995E-8,null,null,null,null,null,null,-3.6592E-6,-1.0345506E-3,1.0240956264000001,null,null,null,null,8.4052000000000007,91.317999999999998,1071,-9.9999999999999995E-8]
["Vero 18-C","17E","C",4000,"BXRC",{"$f":"MasterTable[[#This Row],[Product Family]]&\"-\"&MasterTable[[#This Row],[CCT/CRI]]&MasterTable[[#This Row],[Arrangement]]","v":"Vero 18-C-17EC"},{"$f":"MasterTable[[#This Row],[Generation]]&\"-\"&MasterTable[[#This Row],[CCT/CRI]]&IF(MasterTable[[#This Row],[Lumen Family]]<999,\"0\"&MasterTable[[#This Row],[Lumen Family]],MasterTable[[#This Row],[Lumen Family]])&\"-\"&MasterTable[[#This Row],[Arrangement]]&\"-xx\"","v":"BXRC-17E4000-C-xx"},3624,{"$f":"MasterTable[[#This Row],[Typical Lumens]]/(MasterTable[[#This Row],[Typical Voltage]]*MasterTable[[#This Row],[Typical Current]]/1000)","v":89.006778661951074},0.11206666666666666,34.799999999999997,1170,2340,156,null,null,-2.9999999999999999E-7,3.3E-3,31.373999999999999,4.7731999999999999E-12,-7.2907999999999993E-8,9.3304E-4,-9.9999999999999995E-8,null,null,null,null,null,null,-3.6592E-6,-1.0345506E-3,1.0240956264000001,null,null,null,null,8.4052000000000007,91.317999999999998,1071,-9.9999999999999995E-8]
["Vero 18-C","20B","C",4001,"BXRC",{"$f":"MasterTable[[#This Row],[Product Family]]&\"-\"&MasterTable[[#This Row],[CCT/CRI]]&MasterTable[[#This Row],[Arrangement]]","v":"Vero 18-C-20BC"},{"$f":"MasterTable[[#This Row],[Generation]]&\"-\"&MasterTable[[#This Row],[CCT/CRI]]&IF(MasterTable[[#This Row],[Lumen Family]]<999,\"0\"&MasterTable[[#This Row],[Lumen Family]],MasterTable[[#This Row],[Lumen Family]])&\"-\"&MasterTable[[#This Row],[Arrangement]]&\"-xx\"","v":"BXRC-20B4001-C-xx"},6392.4120000000003,{"$f":"MasterTable[[#This Row],[Typical Lumens]]/(MasterTable[[#This Row],[Typical Voltage]]*MasterTable[[#This Row],[Typical Current]]/1000)","v":157},0.11206666666666666,34.799999999999997,1170,{"$f":"L618*2","v":2340},156,null,null,-2.9999999999999999E-7,3.3E-3,31.373999999999999,4.7731999999999999E-12,-7.2907999999999993E-8,9.3304E-4,-9.9999999999999995E-8,null,null,null,null,null,null,-3.6592E-6,-1.0345506E-3,1.0240956264000001,null,null,null,null,8.4052000000000007,91.317999999999998,1071,-9.9999999999999995E-8]
["Vero 18-C","25E","C",4000,"BXRC",{"$f":"MasterTable[[#This Row],[Product Family]]&\"-\"&MasterTable[[#This Row],[CCT/CRI]]&MasterTable[[#This Row],[Arrangement]]","v":"Vero 18-C-25EC"},{"$f":"MasterTable[[#This Row],[Generation]]&\"-\"&MasterTable[[#This Row],[CCT/CRI]]&IF(MasterTable[[#This Row],[Lumen Family]]<999,\"0\"&MasterTable[[#This Row],[Lumen Family]],MasterTable[[#This Row],[Lumen Family]])&\"-\"&MasterTable[[#This Row],[Arrangement]]&\"-xx\"","v":"BXRC-25E4000-C-xx"},6229.5479999999998,{"$f":"MasterTable[[#This Row],[Typical Lumens]]/(MasterTable[[#This Row],[Typical Voltage]]*MasterTable[[#This Row],[Typical Current]]/1000)","v":153},0.11206666666666666,34.799999999999997,1170,2340,156,null,null,-2.9999999999999999E-7,3.3E-3,31.373999999999999,4.7731999999999999E-12,-7.2907999999999993E-8,9.3304E-4,-9.9999999999999995E-8,null,null,null,null,null,null,-3.6592E-6,-1.0345506E-3,1.0240956264000001,null,null,null,null,8.4052000000000007,91.317999999999998,1071,-9.9999999999999995E-8]
["Vero 18-C","27E","C",4000,"BXRC",{"$f":"MasterTable[[#This Row],[Product Family]]&\"-\"&MasterTable[[#This Row],[CCT/CRI]]&MasterTable[[#This Row],[Arrangement]]","v":"Vero 18-C-27EC"},{"$f":"MasterTable[[#This Row],[Generation]]&\"-\"&MasterTable[[#This Row],[CCT/CRI]]&IF(MasterTable[[#This Row],[Lumen Family]]<999,\"0\"&MasterTable[[#This Row],[Lumen Family]],MasterTable[[#This Row],[Lumen Family]])&\"-\"&MasterTable[[#This Row],[Arrangement]]&\"-xx\"","v":"BXRC-27E4000-C-xx"},6514.56,{"$f":"MasterTable[[#This Row],[Typical Lumens]]/(MasterTable[[#This Row],[Typical Voltage]]*MasterTable[[#This Row],[Typical Current]]/1000)","v":160},0.11206666666666666,34.799999999999997,1170,2340,156,null,null,-2.9999999999999999E-7,3.3E-3,31.373999999999999,4.7731999999999999E-12,-7.2907999999999993E-8,9.3304E-4,-9.9999999999999995E-8,null,null,null,null,null,null,-3.6592E-6,-1.0345506E-3,1.0240956264000001,null,null,null,null,8.4052000000000007,91.317999999999998,1071,-9.9999999999999995E-8]
["Vero 18-C","27G","C",4000,"BXRC",{"$f":"MasterTable[[#This Row],[Product Family]]&\"-\"&MasterTable[[#This Row],[CCT/CRI]]&MasterTable[[#This Row],[Arrangement]]","v":"Vero 18-C-27GC"},{"$f":"MasterTable[[#This Row],[Generation]]&\"-\"&MasterTable[[#This Row],[CCT/CRI]]&IF(MasterTable[[#This Row],[Lumen Family]]<999,\"0\"&MasterTable[[#This Row],[Lumen Family]],MasterTable[[#This Row],[Lumen Family]])&\"-\"&MasterTable[[#This Row],[Arrangement]]&\"-xx\"","v":"BXRC-27G4000-C-xx"},5375,{"$f":"MasterTable[[#This Row],[Typical Lumens]]/(MasterTable[[#This Row],[Typical Voltage]]*MasterTable[[#This Row],[Typical Current]]/1000)","v":132.01198546026131},0.11206666666666666,34.799999999999997,1170,2340,156,null,null,-2.9999999999999999E-7,3.3E-3,31.373999999999999,4.7731999999999999E-12,-7.2907999999999993E-8,9.3304E-4,-9.9999999999999995E-8,null,null,null,null,null,null,-3.6592E-6,-1.0345506E-3,1.0240956264000001,null,null,null,null,8.4052000000000007,91.317999999999998,1071,-9.9999999999999995E-8]
["Vero 18-C","27H","C",4000,"BXRC",{"$f":"MasterTable[[#This Row],[Product Family]]&\"-\"&MasterTable[[#This Row],[CCT/CRI]]&MasterTable[[#This Row],[Arrangement]]","v":"Vero 18-C-27HC"},{"$f":"MasterTable[[#This Row],[Generation]]&\"-\"&MasterTable[[#This Row],[CCT/CRI]]&IF(MasterTable[[#This Row],[Lumen Family]]<999,\"0\"&MasterTable[[#This Row],[Lumen Family]],MasterTable[[#This Row],[Lumen Family]])&\"-\"&MasterTable[[#This Row],[Arrangement]]&\"-xx\"","v":"BXRC-27H4000-C-xx"},4763.7719999999999,{"$f":"MasterTable[[#This Row],[Typical Lumens]]/(MasterTable[[#This Row],[Typical Voltage]]*MasterTable[[#This Row],[Typical Current]]/1000)","v":117},0.11206666666666666,34.799999999999997,1170,2340,156,null,null,-2.9999999999999999E-7,3.3E-3,31.373999999999999,4.7731999999999999E-12,-7.2907999999999993E-8,9.3304E-4,-9.9999999999999995E-8,null,null,null,null,null,null,-3.6592E-6,-1.0345506E-3,1.0240956264000001,null,null,null,null,8.4052000000000007,91.317999999999998,1071,-9.9999999999999995E-8,null,"y = 116.7353116006x2 + 1048.9836527428x + 6.1038145953"]
["Vero 18-C","27G-H","C","40H0","BXRC",{"$f":"MasterTable[[#This Row],[Product Family]]&\"-\"&MasterTable[[#This Row],[CCT/CRI]]&MasterTable[[#This Row],[Arrangement]]","v":"Vero 18-C-27G-HC"},"BXRC-27G-40H0-C-xx",5578,{"$f":"MasterTable[[#This Row],[Typical Lumens]]/(MasterTable[[#This Row],[Typical Voltage]]*MasterTable[[#This Row],[Typical Current]]/1000)","v":136.99774044601631},0.11206666666666666,34.799999999999997,1170,{"$f":"L623*2","v":2340},156,null,null,-2.9999999999999999E-7,3.3E-3,31.373999999999999,4.7731999999999999E-12,-7.2907999999999993E-8,9.3304E-4,-9.9999999999999995E-8,null,null,null,null,null,null,-3.6592E-6,-1.0345506E-3,1.0240956264000001,null,null,null,null,8.4052000000000007,91.317999999999998,1071,-9.9999999999999995E-8]
["Vero 18-C","30G-H","C","40H0","BXRC",{"$f":"MasterTable[[#This Row],[Product Family]]&\"-\"&MasterTable[[#This Row],[CCT/CRI]]&MasterTable[[#This Row],[Arrangement]]","v":"Vero 18-C-30G-HC"},"BXRC-30G-40H0-C-xx",5619,{"$f":"MasterTable[[#This Row],[Typical Lumens]]/(MasterTable[[#This Row],[Typical Voltage]]*MasterTable[[#This Row],[Typical Current]]/1000)","v":138.00471559092247},0.11206666666666666,34.799999999999997,1170,2340,156,null,null,-2.9999999999999999E-7,3.3E-3,31.373999999999999,4.7731999999999999E-12,-7.2907999999999993E-8,9.3304E-4,-9.9999999999999995E-8,null,null,null,null,null,null,-3.6592E-6,-1.0345506E-3,1.0240956264000001,null,null,null,null,8.4052000000000007,91.317999999999998,1071,-9.9999999999999995E-8]
["Vero 18-C","30C","C",4001,"BXRC",{"$f":"MasterTable[[#This Row],[Product Family]]&\"-\"&MasterTable[[#This Row],[CCT/CRI]]&MasterTable[[#This Row],[Arrangement]]","v":"Vero 18-C-30CC"},{"$f":"MasterTable[[#This Row],[Generation]]&\"-\"&MasterTable[[#This Row],[CCT/CRI]]&IF(MasterTable[[#This Row],[Lumen Family]]<999,\"0\"&MasterTable[[#This Row],[Lumen Family]],MasterTable[[#This Row],[Lumen Family]])&\"-\"&MasterTable[[#This Row],[Arrangement]]&\"-xx\"","v":"BXRC-30C4001-C-xx"},7247,{"$f":"MasterTable[[#This Row],[Typical Lumens]]/(MasterTable[[#This Row],[Typical Voltage]]*MasterTable[[#This Row],[Typical Current]]/1000)","v":177.98899695451419},0.11206666666666666,34.799999999999997,1170,{"$f":"L625*2","v":2340},156,null,null,-2.9999999999999999E-7,3.3E-3,31.373999999999999,4.7731999999999999E-12,-7.2907999999999993E-8,9.3304E-4,-9.9999999999999995E-8,null,null,null,null,null,null,-3.6592E-6,-1.0345506E-3,1.0240956264000001,null,null,null,null,8.4052000000000007,91.317999999999998,1071,-9.9999999999999995E-8]
["Vero 18-C","30G","C",4000,"BXRC",{"$f":"MasterTable[[#This Row],[Product Family]]&\"-\"&MasterTable[[#This Row],[CCT/CRI]]&MasterTable[[#This Row],[Arrangement]]","v":"Vero 18-C-30GC"},{"$f":"MasterTable[[#This Row],[Generation]]&\"-\"&MasterTable[[#This Row],[CCT/CRI]]&IF(MasterTable[[#This Row],[Lumen Family]]<999,\"0\"&MasterTable[[#This Row],[Lumen Family]],MasterTable[[#This Row],[Lumen Family]])&\"-\"&MasterTable[[#This Row],[Arrangement]]&\"-xx\"","v":"BXRC-30G4000-C-xx"},5863,{"$f":"MasterTable[[#This Row],[Typical Lumens]]/(MasterTable[[#This Row],[Typical Voltage]]*MasterTable[[#This Row],[Typical Current]]/1000)","v":143.99744572158366},0.11206666666666666,34.799999999999997,1170,2340,156,null,null,-2.9999999999999999E-7,3.3E-3,31.373999999999999,4.7731999999999999E-12,-7.2907999999999993E-8,9.3304E-4,-9.9999999999999995E-8,null,null,null,null,null,null,-3.6592E-6,-1.0345506E-3,1.0240956264000001,null,null,null,null,8.4052000000000007,91.317999999999998,1071,-9.9999999999999995E-8]
["Vero 18-C","30H","C",4000,"BXRC",{"$f":"MasterTable[[#This Row],[Product Family]]&\"-\"&MasterTable[[#This Row],[CCT/CRI]]&MasterTable[[#This Row],[Arrangement]]","v":"Vero 18-C-30HC"},{"$f":"MasterTable[[#This Row],[Generation]]&\"-\"&MasterTable[[#This Row],[CCT/CRI]]&IF(MasterTable[[#This Row],[Lumen Family]]<999,\"0\"&MasterTable[[#This Row],[Lumen Family]],MasterTable[[#This Row],[Lumen Family]])&\"-\"&MasterTable[[#This Row],[Arrangement]]&\"-xx\"","v":"BXRC-30H4000-C-xx"},5089.5,{"$f":"MasterTable[[#This Row],[Typical Lumens]]/(MasterTable[[#This Row],[Typical Voltage]]*MasterTable[[#This Row],[Typical Current]]/1000)","v":125},0.11206666666666666,34.799999999999997,1170,2340,156,null,null,-2.9999999999999999E-7,3.3E-3,31.373999999999999,4.7731999999999999E-12,-7.2907999999999993E-8,9.3304E-4,-9.9999999999999995E-8,null,null,null,null,null,null,-3.6592E-6,-1.0345506E-3,1.0240956264000001,null,null,null,null,8.4052000000000007,91.317999999999998,1071,-9.9999999999999995E-8]
["Vero 18-C","30A","C",4001,"BXRC",{"$f":"MasterTable[[#This Row],[Product Family]]&\"-\"&MasterTable[[#This Row],[CCT/CRI]]&MasterTable[[#This Row],[Arrangement]]","v":"Vero 18-C-30AC"},{"$f":"MasterTable[[#This Row],[Generation]]&\"-\"&MasterTable[[#This Row],[CCT/CRI]]&IF(MasterTable[[#This Row],[Lumen Family]]<999,\"0\"&MasterTable[[#This Row],[Lumen Family]],MasterTable[[#This Row],[Lumen Family]])&\"-\"&MasterTable[[#This Row],[Arrangement]]&\"-xx\"","v":"BXRC-30A4001-C-xx"},5048.7840000000006,{"$f":"MasterTable[[#This Row],[Typical Lumens]]/(MasterTable[[#This Row],[Typical Voltage]]*MasterTable[[#This Row],[Typical Current]]/1000)","v":124.00000000000001},0.11206666666666666,34.799999999999997,1170,2340,156,null,null,-2.9999999999999999E-7,3.3E-3,31.373999999999999,4.7731999999999999E-12,-7.2907999999999993E-8,9.3304E-4,-9.9999999999999995E-8,null,null,null,null,null,null,-3.6592E-6,-1.0345506E-3,1.0240956264000001,null,null,null,null,8.4052000000000007,91.317999999999998,1071,-9.9999999999999995E-8]
["Vero 18-C","35E","C",4000,"BXRC",{"$f":"MasterTable[[#This Row],[Product Family]]&\"-\"&MasterTable[[#This Row],[CCT/CRI]]&MasterTable[[#This Row],[Arrangement]]","v":"Vero 18-C-35EC"},{"$f":"MasterTable[[#This Row],[Generation]]&\"-\"&MasterTable[[#This Row],[CCT/CRI]]&IF(MasterTable[[#This Row],[Lumen Family]]<999,\"0\"&MasterTable[[#This Row],[Lumen Family]],MasterTable[[#This Row],[Lumen Family]])&\"-\"&MasterTable[[#This Row],[Arrangement]]&\"-xx\"","v":"BXRC-35E4000-C-xx"},7084.5839999999998,{"$f":"MasterTable[[#This Row],[Typical Lumens]]/(MasterTable[[#This Row],[Typical Voltage]]*MasterTable[[#This Row],[Typical Current]]/1000)","v":174},0.11206666666666666,34.799999999999997,1170,2340,156,null,null,-2.9999999999999999E-7,3.3E-3,31.373999999999999,4.7731999999999999E-12,-7.2907999999999993E-8,9.3304E-4,-9.9999999999999995E-8,null,null,null,null,null,null,-3.6592E-6,-1.0345506E-3,1.0240956264000001,null,null,null,null,8.4052000000000007,91.317999999999998,1071,-9.9999999999999995E-8]
["Vero 18-C","35G","C",4000,"BXRC",{"$f":"MasterTable[[#This Row],[Product Family]]&\"-\"&MasterTable[[#This Row],[CCT/CRI]]&MasterTable[[#This Row],[Arrangement]]","v":"Vero 18-C-35GC"},{"$f":"MasterTable[[#This Row],[Generation]]&\"-\"&MasterTable[[#This Row],[CCT/CRI]]&IF(MasterTable[[#This Row],[Lumen Family]]<999,\"0\"&MasterTable[[#This Row],[Lumen Family]],MasterTable[[#This Row],[Lumen Family]])&\"-\"&MasterTable[[#This Row],[Arrangement]]&\"-xx\"","v":"BXRC-35G4000-C-xx"},5822.3879999999999,{"$f":"MasterTable[[#This Row],[Typical Lumens]]/(MasterTable[[#This Row],[Typical Voltage]]*MasterTable[[#This Row],[Typical Current]]/1000)","v":143},0.11206666666666666,34.799999999999997,1170,2340,156,null,null,-2.9999999999999999E-7,3.3E-3,31.373999999999999,4.7731999999999999E-12,-7.2907999999999993E-8,9.3304E-4,-9.9999999999999995E-8,null,null,null,null,null,null,-3.6592E-6,-1.0345506E-3,1.0240956264000001,null,null,null,null,8.4052000000000007,91.317999999999998,1071,-9.9999999999999995E-8]
["Vero 18-C","35A","C",4001,"BXRC",{"$f":"MasterTable[[#This Row],[Product Family]]&\"-\"&MasterTable[[#This Row],[CCT/CRI]]&MasterTable[[#This Row],[Arrangement]]","v":"Vero 18-C-35AC"},{"$f":"MasterTable[[#This Row],[Generation]]&\"-\"&MasterTable[[#This Row],[CCT/CRI]]&IF(MasterTable[[#This Row],[Lumen Family]]<999,\"0\"&MasterTable[[#This Row],[Lumen Family]],MasterTable[[#This Row],[Lumen Family]])&\"-\"&MasterTable[[#This Row],[Arrangement]]&\"-xx\"","v":"BXRC-35A4001-C-xx"},5374.5119999999997,{"$f":"MasterTable[[#This Row],[Typical Lumens]]/(MasterTable[[#This Row],[Typical Voltage]]*MasterTable[[#This Row],[Typical Current]]/1000)","v":132},0.11206666666666666,34.799999999999997,1170,2340,156,null,null,-2.9999999999999999E-7,3.3E-3,31.373999999999999,4.7731999999999999E-12,-7.2907999999999993E-8,9.3304E-4,-9.9999999999999995E-8,null,null,null,null,null,null,-3.6592E-6,-1.0345506E-3,1.0240956264000001,null,null,null,null,8.4052000000000007,91.317999999999998,1071,-9.9999999999999995E-8]
["Vero 18-C","40C","C",4001,"BXRC",{"$f":"MasterTable[[#This Row],[Product Family]]&\"-\"&MasterTable[[#This Row],[CCT/CRI]]&MasterTable[[#This Row],[Arrangement]]","v":"Vero 18-C-40CC"},{"$f":"MasterTable[[#This Row],[Generation]]&\"-\"&MasterTable[[#This Row],[CCT/CRI]]&IF(MasterTable[[#This Row],[Lumen Family]]<999,\"0\"&MasterTable[[#This Row],[Lumen Family]],MasterTable[[#This Row],[Lumen Family]])&\"-\"&MasterTable[[#This Row],[Arrangement]]&\"-xx\"","v":"BXRC-40C4001-C-xx"},7451,{"$f":"MasterTable[[#This Row],[Typical Lumens]]/(MasterTable[[#This Row],[Typical Voltage]]*MasterTable[[#This Row],[Typical Current]]/1000)","v":182.99931230965714},0.11206666666666666,34.799999999999997,1170,2340,156,null,null,-2.9999999999999999E-7,3.3E-3,31.373999999999999,4.7731999999999999E-12,-7.2907999999999993E-8,9.3304E-4,-9.9999999999999995E-8,null,null,null,null,null,null,-3.6592E-6,-1.0345506E-3,1.0240956264000001,null,null,null,null,8.4052000000000007,91.317999999999998,1071,-9.9999999999999995E-8]
["Vero 18-C","40E","C",4000,"BXRC",{"$f":"MasterTable[[#This Row],[Product Family]]&\"-\"&MasterTable[[#This Row],[CCT/CRI]]&MasterTable[[#This Row],[Arrangement]]","v":"Vero 18-C-40EC"},{"$f":"MasterTable[[#This Row],[Generation]]&\"-\"&MasterTable[[#This Row],[CCT/CRI]]&IF(MasterTable[[#This Row],[Lumen Family]]<999,\"0\"&MasterTable[[#This Row],[Lumen Family]],MasterTable[[#This Row],[Lumen Family]])&\"-\"&MasterTable[[#This Row],[Arrangement]]&\"-xx\"","v":"BXRC-40E4000-C-xx"},7125,{"$f":"MasterTable[[#This Row],[Typical Lumens]]/(MasterTable[[#This Row],[Typical Voltage]]*MasterTable[[#This Row],[Typical Current]]/1000)","v":174.9926318891836},0.11206666666666666,34.799999999999997,1170,2340,156,null,null,-2.9999999999999999E-7,3.3E-3,31.373999999999999,4.7731999999999999E-12,-7.2907999999999993E-8,9.3304E-4,-9.9999999999999995E-8,null,null,null,null,null,null,-3.5848E-6,-1.1148865E-3,1.0260294071,null,null,null,null,8.4052000000000007,91.317999999999998,1071,-9.9999999999999995E-8]
["Vero 18-C","40G","C",4000,"BXRC",{"$f":"MasterTable[[#This Row],[Product Family]]&\"-\"&MasterTable[[#This Row],[CCT/CRI]]&MasterTable[[#This Row],[Arrangement]]","v":"Vero 18-C-40GC"},{"$f":"MasterTable[[#This Row],[Generation]]&\"-\"&MasterTable[[#This Row],[CCT/CRI]]&IF(MasterTable[[#This Row],[Lumen Family]]<999,\"0\"&MasterTable[[#This Row],[Lumen Family]],MasterTable[[#This Row],[Lumen Family]])&\"-\"&MasterTable[[#This Row],[Arrangement]]&\"-xx\"","v":"BXRC-40G4000-C-xx"},5945,{"$f":"MasterTable[[#This Row],[Typical Lumens]]/(MasterTable[[#This Row],[Typical Voltage]]*MasterTable[[#This Row],[Typical Current]]/1000)","v":146.01139601139602},0.11206666666666666,34.799999999999997,1170,2340,156,null,null,-2.9999999999999999E-7,3.3E-3,31.373999999999999,4.7731999999999999E-12,-7.2907999999999993E-8,9.3304E-4,-9.9999999999999995E-8,null,null,null,null,null,null,-3.5848E-6,-1.1148865E-3,1.0260294071,null,null,null,null,8.4052000000000007,91.317999999999998,1071,-9.9999999999999995E-8]
["Vero 18-C","40A","C",4001,"BXRC",{"$f":"MasterTable[[#This Row],[Product Family]]&\"-\"&MasterTable[[#This Row],[CCT/CRI]]&MasterTable[[#This Row],[Arrangement]]","v":"Vero 18-C-40AC"},{"$f":"MasterTable[[#This Row],[Generation]]&\"-\"&MasterTable[[#This Row],[CCT/CRI]]&IF(MasterTable[[#This Row],[Lumen Family]]<999,\"0\"&MasterTable[[#This Row],[Lumen Family]],MasterTable[[#This Row],[Lumen Family]])&\"-\"&MasterTable[[#This Row],[Arrangement]]&\"-xx\"","v":"BXRC-40A4001-C-xx"},5822.3879999999999,{"$f":"MasterTable[[#This Row],[Typical Lumens]]/(MasterTable[[#This Row],[Typical Voltage]]*MasterTable[[#This Row],[Typical Current]]/1000)","v":143},0.11206666666666666,34.799999999999997,1170,2340,156,null,null,-2.9999999999999999E-7,3.3E-3,31.373999999999999,4.7731999999999999E-12,-7.2907999999999993E-8,9.3304E-4,-9.9999999999999995E-8,null,null,null,null,null,null,-3.5848E-6,-1.1148865E-3,1.0260294071,null,null,null,null,8.4052000000000007,91.317999999999998,1071,-9.9999999999999995E-8]
["Vero 18-C","50C","C",4001,"BXRC",{"$f":"MasterTable[[#This Row],[Product Family]]&\"-\"&MasterTable[[#This Row],[CCT/CRI]]&MasterTable[[#This Row],[Arrangement]]","v":"Vero 18-C-50CC"},{"$f":"MasterTable[[#This Row],[Generation]]&\"-\"&MasterTable[[#This Row],[CCT/CRI]]&IF(MasterTable[[#This Row],[Lumen Family]]<999,\"0\"&MasterTable[[#This Row],[Lumen Family]],MasterTable[[#This Row],[Lumen Family]])&\"-\"&MasterTable[[#This Row],[Arrangement]]&\"-xx\"","v":"BXRC-50C4001-C-xx"},7491.7440000000006,{"$f":"MasterTable[[#This Row],[Typical Lumens]]/(MasterTable[[#This Row],[Typical Voltage]]*MasterTable[[#This Row],[Typical Current]]/1000)","v":184},0.11206666666666666,34.799999999999997,1170,2340,156,null,null,-2.9999999999999999E-7,3.3E-3,31.373999999999999,4.7731999999999999E-12,-7.2907999999999993E-8,9.3304E-4,-9.9999999999999995E-8,null,null,null,null,null,null,-6.9999999999999999E-6,-1E-3,1.0237000000000001,null,null,null,null,8.4052000000000007,91.317999999999998,1071,-9.9999999999999995E-8]
["Vero 18-C","50E","C",4001,"BXRC",{"$f":"MasterTable[[#This Row],[Product Family]]&\"-\"&MasterTable[[#This Row],[CCT/CRI]]&MasterTable[[#This Row],[Arrangement]]","v":"Vero 18-C-50EC"},{"$f":"MasterTable[[#This Row],[Generation]]&\"-\"&MasterTable[[#This Row],[CCT/CRI]]&IF(MasterTable[[#This Row],[Lumen Family]]<999,\"0\"&MasterTable[[#This Row],[Lumen Family]],MasterTable[[#This Row],[Lumen Family]])&\"-\"&MasterTable[[#This Row],[Arrangement]]&\"-xx\"","v":"BXRC-50E4001-C-xx"},7206.732,{"$f":"MasterTable[[#This Row],[Typical Lumens]]/(MasterTable[[#This Row],[Typical Voltage]]*MasterTable[[#This Row],[Typical Current]]/1000)","v":177},0.11206666666666666,34.799999999999997,1170,2340,156,null,null,-2.9999999999999999E-7,3.3E-3,31.373999999999999,4.7731999999999999E-12,-7.2907999999999993E-8,9.3304E-4,-9.9999999999999995E-8,null,null,null,null,null,null,-6.9999999999999999E-6,-1E-3,1.0237000000000001,null,null,null,null,8.4052000000000007,91.317999999999998,1071,-9.9999999999999995E-8]
["Vero 18-C","50G","C",4001,"BXRC",{"$f":"MasterTable[[#This Row],[Product Family]]&\"-\"&MasterTable[[#This Row],[CCT/CRI]]&MasterTable[[#This Row],[Arrangement]]","v":"Vero 18-C-50GC"},{"$f":"MasterTable[[#This Row],[Generation]]&\"-\"&MasterTable[[#This Row],[CCT/CRI]]&IF(MasterTable[[#This Row],[Lumen Family]]<999,\"0\"&MasterTable[[#This Row],[Lumen Family]],MasterTable[[#This Row],[Lumen Family]])&\"-\"&MasterTable[[#This Row],[Arrangement]]&\"-xx\"","v":"BXRC-50G4001-C-xx"},6229.5479999999998,{"$f":"MasterTable[[#This Row],[Typical Lumens]]/(MasterTable[[#This Row],[Typical Voltage]]*MasterTable[[#This Row],[Typical Current]]/1000)","v":153},0.11206666666666666,34.799999999999997,1170,2340,156,null,null,-2.9999999999999999E-7,3.3E-3,31.373999999999999,4.7731999999999999E-12,-7.2907999999999993E-8,9.3304E-4,-9.9999999999999995E-8,null,null,null,null,null,null,-6.9999999999999999E-6,-1E-3,1.0237000000000001,null,null,null,null,8.4052000000000007,91.317999999999998,1071,-9.9999999999999995E-8]
["Vero 18-C","56G","C",4001,"BXRC",{"$f":"MasterTable[[#This Row],[Product Family]]&\"-\"&MasterTable[[#This Row],[CCT/CRI]]&MasterTable[[#This Row],[Arrangement]]","v":"Vero 18-C-56GC"},{"$f":"MasterTable[[#This Row],[Generation]]&\"-\"&MasterTable[[#This Row],[CCT/CRI]]&IF(MasterTable[[#This Row],[Lumen Family]]<999,\"0\"&MasterTable[[#This Row],[Lumen Family]],MasterTable[[#This Row],[Lumen Family]])&\"-\"&MasterTable[[#This Row],[Arrangement]]&\"-xx\"","v":"BXRC-56G4001-C-xx"},6270.2640000000001,{"$f":"MasterTable[[#This Row],[Typical Lumens]]/(MasterTable[[#This Row],[Typical Voltage]]*MasterTable[[#This Row],[Typical Current]]/1000)","v":154},0.11206666666666666,34.799999999999997,1170,2340,156,null,null,-2.9999999999999999E-7,3.3E-3,31.373999999999999,4.7731999999999999E-12,-7.2907999999999993E-8,9.3304E-4,-9.9999999999999995E-8,null,null,null,null,null,null,-6.9999999999999999E-6,-1E-3,1.0237000000000001,null,null,null,null,8.4052000000000007,91.317999999999998,1071,-9.9999999999999995E-8]
["Vero 18-C","57C","C",4001,"BXRC",{"$f":"MasterTable[[#This Row],[Product Family]]&\"-\"&MasterTable[[#This Row],[CCT/CRI]]&MasterTable[[#This Row],[Arrangement]]","v":"Vero 18-C-57CC"},{"$f":"MasterTable[[#This Row],[Generation]]&\"-\"&MasterTable[[#This Row],[CCT/CRI]]&IF(MasterTable[[#This Row],[Lumen Family]]<999,\"0\"&MasterTable[[#This Row],[Lumen Family]],MasterTable[[#This Row],[Lumen Family]])&\"-\"&MasterTable[[#This Row],[Arrangement]]&\"-xx\"","v":"BXRC-57C4001-C-xx"},7288.1639999999998,{"$f":"MasterTable[[#This Row],[Typical Lumens]]/(MasterTable[[#This Row],[Typical Voltage]]*MasterTable[[#This Row],[Typical Current]]/1000)","v":179},0.11206666666666666,34.799999999999997,1170,2340,156,null,null,-2.9999999999999999E-7,3.3E-3,31.373999999999999,4.7731999999999999E-12,-7.2907999999999993E-8,9.3304E-4,-9.9999999999999995E-8,null,null,null,null,null,null,-6.9999999999999999E-6,-1E-3,1.0237000000000001,null,null,null,null,8.4052000000000007,91.317999999999998,1071,-9.9999999999999995E-8]
["Vero 18-C","57E","C",4001,"BXRC",{"$f":"MasterTable[[#This Row],[Product Family]]&\"-\"&MasterTable[[#This Row],[CCT/CRI]]&MasterTable[[#This Row],[Arrangement]]","v":"Vero 18-C-57EC"},{"$f":"MasterTable[[#This Row],[Generation]]&\"-\"&MasterTable[[#This Row],[CCT/CRI]]&IF(MasterTable[[#This Row],[Lumen Family]]<999,\"0\"&MasterTable[[#This Row],[Lumen Family]],MasterTable[[#This Row],[Lumen Family]])&\"-\"&MasterTable[[#This Row],[Arrangement]]&\"-xx\"","v":"BXRC-57E4001-C-xx"},6921.72,{"$f":"MasterTable[[#This Row],[Typical Lumens]]/(MasterTable[[#This Row],[Typical Voltage]]*MasterTable[[#This Row],[Typical Current]]/1000)","v":170},0.11206666666666666,34.799999999999997,1170,2340,156,null,null,-2.9999999999999999E-7,3.3E-3,31.373999999999999,4.7731999999999999E-12,-7.2907999999999993E-8,9.3304E-4,-9.9999999999999995E-8,null,null,null,null,null,null,-6.9999999999999999E-6,-1E-3,1.0237000000000001,null,null,null,null,8.4052000000000007,91.317999999999998,1071,-9.9999999999999995E-8]
["Vero 18-C","65C","C",4001,"BXRC",{"$f":"MasterTable[[#This Row],[Product Family]]&\"-\"&MasterTable[[#This Row],[CCT/CRI]]&MasterTable[[#This Row],[Arrangement]]","v":"Vero 18-C-65CC"},{"$f":"MasterTable[[#This Row],[Generation]]&\"-\"&MasterTable[[#This Row],[CCT/CRI]]&IF(MasterTable[[#This Row],[Lumen Family]]<999,\"0\"&MasterTable[[#This Row],[Lumen Family]],MasterTable[[#This Row],[Lumen Family]])&\"-\"&MasterTable[[#This Row],[Arrangement]]&\"-xx\"","v":"BXRC-65C4001-C-xx"},7288.1639999999998,{"$f":"MasterTable[[#This Row],[Typical Lumens]]/(MasterTable[[#This Row],[Typical Voltage]]*MasterTable[[#This Row],[Typical Current]]/1000)","v":179},0.11206666666666666,34.799999999999997,1170,2340,156,null,null,-2.9999999999999999E-7,3.3E-3,31.373999999999999,4.7731999999999999E-12,-7.2907999999999993E-8,9.3304E-4,-9.9999999999999995E-8,null,null,null,null,null,null,-6.9999999999999999E-6,-1E-3,1.0237000000000001,null,null,null,null,8.4052000000000007,91.317999999999998,1071,-9.9999999999999995E-8]
["Vero 18-C","65E","C",4001,"BXRC",{"$f":"MasterTable[[#This Row],[Product Family]]&\"-\"&MasterTable[[#This Row],[CCT/CRI]]&MasterTable[[#This Row],[Arrangement]]","v":"Vero 18-C-65EC"},{"$f":"MasterTable[[#This Row],[Generation]]&\"-\"&MasterTable[[#This Row],[CCT/CRI]]&IF(MasterTable[[#This Row],[Lumen Family]]<999,\"0\"&MasterTable[[#This Row],[Lumen Family]],MasterTable[[#This Row],[Lumen Family]])&\"-\"&MasterTable[[#This Row],[Arrangement]]&\"-xx\"","v":"BXRC-65E4001-C-xx"},7003.152,{"$f":"MasterTable[[#This Row],[Typical Lumens]]/(MasterTable[[#This Row],[Typical Voltage]]*MasterTable[[#This Row],[Typical Current]]/1000)","v":172},0.11206666666666666,34.799999999999997,1170,2340,156,null,null,-2.9999999999999999E-7,3.3E-3,31.373999999999999,4.7731999999999999E-12,-7.2907999999999993E-8,9.3304E-4,-9.9999999999999995E-8,null,null,null,null,null,null,-6.9999999999999999E-6,-1E-3,1.0237000000000001,null,null,null,null,8.4052000000000007,91.317999999999998,1071,-9.9999999999999995E-8]
["Vero 18-D","30E","D",4000,"BXRC",{"$f":"MasterTable[[#This Row],[Product Family]]&\"-\"&MasterTable[[#This Row],[CCT/CRI]]&MasterTable[[#This Row],[Arrangement]]","v":"Vero 18-D-30ED"},{"$f":"MasterTable[[#This Row],[Generation]]&\"-\"&MasterTable[[#This Row],[CCT/CRI]]&IF(MasterTable[[#This Row],[Lumen Family]]<999,\"0\"&MasterTable[[#This Row],[Lumen Family]],MasterTable[[#This Row],[Lumen Family]])&\"-\"&MasterTable[[#This Row],[Arrangement]]&\"-xx\"","v":"BXRC-30E4000-D-xx"},5176.5,{"$f":"MasterTable[[#This Row],[Typical Lumens]]/(MasterTable[[#This Row],[Typical Voltage]]*MasterTable[[#This Row],[Typical Current]]/1000)","v":170},0.15453333333333333,29,1050,2100,120,null,1E-10,-7.3689999999999999E-7,3.5548380999999999E-3,25.943295943100001,1.4932000000000001E-11,-1.3107E-7,1.0753E-3,-9.9999999999999995E-8,null,null,null,null,null,null,-3.6592E-6,-1.0345506E-3,1.0240956264000001,null,null,-1.4999999999999999E-2,29.875,2.1145999999999998,124.15,922.15,-9.9999999999999995E-8]
["Vero 18-D","17E","D",4000,"BXRC",{"$f":"MasterTable[[#This Row],[Product Family]]&\"-\"&MasterTable[[#This Row],[CCT/CRI]]&MasterTable[[#This Row],[Arrangement]]","v":"Vero 18-D-17ED"},{"$f":"MasterTable[[#This Row],[Generation]]&\"-\"&MasterTable[[#This Row],[CCT/CRI]]&IF(MasterTable[[#This Row],[Lumen Family]]<999,\"0\"&MasterTable[[#This Row],[Lumen Family]],MasterTable[[#This Row],[Lumen Family]])&\"-\"&MasterTable[[#This Row],[Arrangement]]&\"-xx\"","v":"BXRC-17E4000-D-xx"},2710.0499999999997,{"$f":"MasterTable[[#This Row],[Typical Lumens]]/(MasterTable[[#This Row],[Typical Voltage]]*MasterTable[[#This Row],[Typical Current]]/1000)","v":89},0.15453333333333333,29,1050,2100,120,null,1E-10,-7.3689999999999999E-7,3.5548380999999999E-3,25.943295943100001,1.4932000000000001E-11,-1.3107E-7,1.0753E-3,-9.9999999999999995E-8,null,null,null,null,null,null,-3.6592E-6,-1.0345506E-3,1.0240956264000001,null,null,null,null,2.1145999999999998,124.15,922.15,-9.9999999999999995E-8]
["Vero 18-D","20B","D",4001,"BXRC",{"$f":"MasterTable[[#This Row],[Product Family]]&\"-\"&MasterTable[[#This Row],[CCT/CRI]]&MasterTable[[#This Row],[Arrangement]]","v":"Vero 18-D-20BD"},{"$f":"MasterTable[[#This Row],[Generation]]&\"-\"&MasterTable[[#This Row],[CCT/CRI]]&IF(MasterTable[[#This Row],[Lumen Family]]<999,\"0\"&MasterTable[[#This Row],[Lumen Family]],MasterTable[[#This Row],[Lumen Family]])&\"-\"&MasterTable[[#This Row],[Arrangement]]&\"-xx\"","v":"BXRC-20B4001-D-xx"},4780.6499999999996,{"$f":"MasterTable[[#This Row],[Typical Lumens]]/(MasterTable[[#This Row],[Typical Voltage]]*MasterTable[[#This Row],[Typical Current]]/1000)","v":157},0.15453333333333333,29,1050,{"$f":"L646*2","v":2100},120,null,1E-10,-7.3689999999999999E-7,3.5548380999999999E-3,25.943295943100001,1.4932000000000001E-11,-1.3107E-7,1.0753E-3,-9.9999999999999995E-8,null,null,null,null,null,null,-3.6592E-6,-1.0345506E-3,1.0240956264000001,null,null,null,null,2.1145999999999998,124.15,922.15,-9.9999999999999995E-8]
["Vero 18-D","25E","D",4000,"BXRC",{"$f":"MasterTable[[#This Row],[Product Family]]&\"-\"&MasterTable[[#This Row],[CCT/CRI]]&MasterTable[[#This Row],[Arrangement]]","v":"Vero 18-D-25ED"},{"$f":"MasterTable[[#This Row],[Generation]]&\"-\"&MasterTable[[#This Row],[CCT/CRI]]&IF(MasterTable[[#This Row],[Lumen Family]]<999,\"0\"&MasterTable[[#This Row],[Lumen Family]],MasterTable[[#This Row],[Lumen Family]])&\"-\"&MasterTable[[#This Row],[Arrangement]]&\"-xx\"","v":"BXRC-25E4000-D-xx"},4658.8499999999995,{"$f":"MasterTable[[#This Row],[Typical Lumens]]/(MasterTable[[#This Row],[Typical Voltage]]*MasterTable[[#This Row],[Typical Current]]/1000)","v":152.99999999999997},0.15453333333333333,29,1050,2100,120,null,1E-10,-7.3689999999999999E-7,3.5548380999999999E-3,25.943295943100001,1.4932000000000001E-11,-1.3107E-7,1.0753E-3,-9.9999999999999995E-8,null,null,null,null,null,null,-3.6592E-6,-1.0345506E-3,1.0240956264000001,null,null,null,null,2.1145999999999998,124.15,922.15,-9.9999999999999995E-8]
["Vero 18-D","27E","D",4000,"BXRC",{"$f":"MasterTable[[#This Row],[Product Family]]&\"-\"&MasterTable[[#This Row],[CCT/CRI]]&MasterTable[[#This Row],[Arrangement]]","v":"Vero 18-D-27ED"},{"$f":"MasterTable[[#This Row],[Generation]]&\"-\"&MasterTable[[#This Row],[CCT/CRI]]&IF(MasterTable[[#This Row],[Lumen Family]]<999,\"0\"&MasterTable[[#This Row],[Lumen Family]],MasterTable[[#This Row],[Lumen Family]])&\"-\"&MasterTable[[#This Row],[Arrangement]]&\"-xx\"","v":"BXRC-27E4000-D-xx"},4872,{"$f":"MasterTable[[#This Row],[Typical Lumens]]/(MasterTable[[#This Row],[Typical Voltage]]*MasterTable[[#This Row],[Typical Current]]/1000)","v":160},0.15453333333333333,29,1050,2100,120,null,1E-10,-7.3689999999999999E-7,3.5548380999999999E-3,25.943295943100001,1.4932000000000001E-11,-1.3107E-7,1.0753E-3,-9.9999999999999995E-8,null,null,null,null,null,null,-3.6592E-6,-1.0345506E-3,1.0240956264000001,null,null,null,null,2.1145999999999998,124.15,922.15,-9.9999999999999995E-8]
["Vero 18-D","27G","D",4000,"BXRC",{"$f":"MasterTable[[#This Row],[Product Family]]&\"-\"&MasterTable[[#This Row],[CCT/CRI]]&MasterTable[[#This Row],[Arrangement]]","v":"Vero 18-D-27GD"},{"$f":"MasterTable[[#This Row],[Generation]]&\"-\"&MasterTable[[#This Row],[CCT/CRI]]&IF(MasterTable[[#This Row],[Lumen Family]]<999,\"0\"&MasterTable[[#This Row],[Lumen Family]],MasterTable[[#This Row],[Lumen Family]])&\"-\"&MasterTable[[#This Row],[Arrangement]]&\"-xx\"","v":"BXRC-27G4000-D-xx"},4171.6499999999996,{"$f":"MasterTable[[#This Row],[Typical Lumens]]/(MasterTable[[#This Row],[Typical Voltage]]*MasterTable[[#This Row],[Typical Current]]/1000)","v":137},0.15453333333333333,29,1050,2100,120,null,1E-10,-7.3689999999999999E-7,3.5548380999999999E-3,25.943295943100001,1.4932000000000001E-11,-1.3107E-7,1.0753E-3,-9.9999999999999995E-8,null,null,null,null,null,null,-3.6592E-6,-1.0345506E-3,1.0240956264000001,null,null,null,null,2.1145999999999998,124.15,922.15,-9.9999999999999995E-8,null,"y = 128.65x2 + 921.02x - 0.8805"]
["Vero 18-D","27H","D",4000,"BXRC",{"$f":"MasterTable[[#This Row],[Product Family]]&\"-\"&MasterTable[[#This Row],[CCT/CRI]]&MasterTable[[#This Row],[Arrangement]]","v":"Vero 18-D-27HD"},{"$f":"MasterTable[[#This Row],[Generation]]&\"-\"&MasterTable[[#This Row],[CCT/CRI]]&IF(MasterTable[[#This Row],[Lumen Family]]<999,\"0\"&MasterTable[[#This Row],[Lumen Family]],MasterTable[[#This Row],[Lumen Family]])&\"-\"&MasterTable[[#This Row],[Arrangement]]&\"-xx\"","v":"BXRC-27H4000-D-xx"},3563,{"$f":"MasterTable[[#This Row],[Typical Lumens]]/(MasterTable[[#This Row],[Typical Voltage]]*MasterTable[[#This Row],[Typical Current]]/1000)","v":117.01149425287356},0.15453333333333333,29,1050,2100,120,null,1E-10,-7.3689999999999999E-7,3.5548380999999999E-3,25.943295943100001,1.4932000000000001E-11,-1.3107E-7,1.0753E-3,-9.9999999999999995E-8,null,null,null,null,null,null,-3.6592E-6,-1.0345506E-3,1.0240956264000001,null,null,null,null,2.1145999999999998,124.15,922.15,-9.9999999999999995E-8]
["Vero 18-D","27G-H","D","40H0","BXRC",{"$f":"MasterTable[[#This Row],[Product Family]]&\"-\"&MasterTable[[#This Row],[CCT/CRI]]&MasterTable[[#This Row],[Arrangement]]","v":"Vero 18-D-27G-HD"},"BXRC-27G-40H0-D-xx",4172,{"$f":"MasterTable[[#This Row],[Typical Lumens]]/(MasterTable[[#This Row],[Typical Voltage]]*MasterTable[[#This Row],[Typical Current]]/1000)","v":137.01149425287358},0.15453333333333333,29,1050,{"$f":"L651*2","v":2100},120,null,1E-10,-7.3689999999999999E-7,3.5548380999999999E-3,25.943295943100001,1.4932000000000001E-11,-1.3107E-7,1.0753E-3,-9.9999999999999995E-8,null,null,null,null,null,null,-3.6592E-6,-1.0345506E-3,1.0240956264000001,null,null,null,null,2.1145999999999998,124.15,922.15,-9.9999999999999995E-8]
["Vero 18-D","30G-H","D","40H0","BXRC",{"$f":"MasterTable[[#This Row],[Product Family]]&\"-\"&MasterTable[[#This Row],[CCT/CRI]]&MasterTable[[#This Row],[Arrangement]]","v":"Vero 18-D-30G-HD"},"BXRC-30G-40H0-D-xx",4202,{"$f":"MasterTable[[#This Row],[Typical Lumens]]/(MasterTable[[#This Row],[Typical Voltage]]*MasterTable[[#This Row],[Typical Current]]/1000)","v":137.99671592775042},0.15453333333333333,29,1050,2100,120,null,1E-10,-7.3689999999999999E-7,3.5548380999999999E-3,25.943295943100001,1.4932000000000001E-11,-1.3107E-7,1.0753E-3,-9.9999999999999995E-8,null,null,null,null,null,null,-3.6592E-6,-1.0345506E-3,1.0240956264000001,null,null,null,null,2.1145999999999998,124.15,922.15,-9.9999999999999995E-8]
["Vero 18-D","30C","D",4001,"BXRC",{"$f":"MasterTable[[#This Row],[Product Family]]&\"-\"&MasterTable[[#This Row],[CCT/CRI]]&MasterTable[[#This Row],[Arrangement]]","v":"Vero 18-D-30CD"},{"$f":"MasterTable[[#This Row],[Generation]]&\"-\"&MasterTable[[#This Row],[CCT/CRI]]&IF(MasterTable[[#This Row],[Lumen Family]]<999,\"0\"&MasterTable[[#This Row],[Lumen Family]],MasterTable[[#This Row],[Lumen Family]])&\"-\"&MasterTable[[#This Row],[Arrangement]]&\"-xx\"","v":"BXRC-30C4001-D-xx"},5420,{"$f":"MasterTable[[#This Row],[Typical Lumens]]/(MasterTable[[#This Row],[Typical Voltage]]*MasterTable[[#This Row],[Typical Current]]/1000)","v":177.99671592775042},0.15453333333333333,29,1050,{"$f":"L653*2","v":2100},120,null,1E-10,-7.3689999999999999E-7,3.5548380999999999E-3,25.943295943100001,1.4932000000000001E-11,-1.3107E-7,1.0753E-3,-9.9999999999999995E-8,null,null,null,null,null,null,-3.6592E-6,-1.0345506E-3,1.0240956264000001,null,null,null,null,2.1145999999999998,124.15,922.15,-9.9999999999999995E-8]
["Vero 18-D","30G","D",4000,"BXRC",{"$f":"MasterTable[[#This Row],[Product Family]]&\"-\"&MasterTable[[#This Row],[CCT/CRI]]&MasterTable[[#This Row],[Arrangement]]","v":"Vero 18-D-30GD"},{"$f":"MasterTable[[#This Row],[Generation]]&\"-\"&MasterTable[[#This Row],[CCT/CRI]]&IF(MasterTable[[#This Row],[Lumen Family]]<999,\"0\"&MasterTable[[#This Row],[Lumen Family]],MasterTable[[#This Row],[Lumen Family]])&\"-\"&MasterTable[[#This Row],[Arrangement]]&\"-xx\"","v":"BXRC-30G4000-D-xx"},4385,{"$f":"MasterTable[[#This Row],[Typical Lumens]]/(MasterTable[[#This Row],[Typical Voltage]]*MasterTable[[#This Row],[Typical Current]]/1000)","v":144.00656814449917},0.15453333333333333,29,1050,2100,120,null,1E-10,-7.3689999999999999E-7,3.5548380999999999E-3,25.943295943100001,1.4932000000000001E-11,-1.3107E-7,1.0753E-3,-9.9999999999999995E-8,null,null,null,null,null,null,-3.6592E-6,-1.0345506E-3,1.0240956264000001,null,null,null,null,2.1145999999999998,124.15,922.15,-9.9999999999999995E-8]
["Vero 18-D","30G-C","D","400C","BXRC",{"$f":"MasterTable[[#This Row],[Product Family]]&\"-\"&MasterTable[[#This Row],[CCT/CRI]]&MasterTable[[#This Row],[Arrangement]]","v":"Vero 18-D-30G-CD"},"BXRC-30G400C-D-xx",4050,{"$f":"MasterTable[[#This Row],[Typical Lumens]]/(MasterTable[[#This Row],[Typical Voltage]]*MasterTable[[#This Row],[Typical Current]]/1000)","v":133.00492610837438},0.15453333333333333,29,1050,2100,120,null,1E-10,-7.3689999999999999E-7,3.5548380999999999E-3,25.943295943100001,1.4932000000000001E-11,-1.3107E-7,1.0753E-3,-9.9999999999999995E-8,null,null,null,null,null,null,-3.6592E-6,-1.0345506E-3,1.0240956264000001,null,null,null,null,2.1145999999999998,124.15,922.15,-9.9999999999999995E-8]
["Vero 18-D","30H","D",4000,"BXRC",{"$f":"MasterTable[[#This Row],[Product Family]]&\"-\"&MasterTable[[#This Row],[CCT/CRI]]&MasterTable[[#This Row],[Arrangement]]","v":"Vero 18-D-30HD"},{"$f":"MasterTable[[#This Row],[Generation]]&\"-\"&MasterTable[[#This Row],[CCT/CRI]]&IF(MasterTable[[#This Row],[Lumen Family]]<999,\"0\"&MasterTable[[#This Row],[Lumen Family]],MasterTable[[#This Row],[Lumen Family]])&\"-\"&MasterTable[[#This Row],[Arrangement]]&\"-xx\"","v":"BXRC-30H4000-D-xx"},3806.25,{"$f":"MasterTable[[#This Row],[Typical Lumens]]/(MasterTable[[#This Row],[Typical Voltage]]*MasterTable[[#This Row],[Typical Current]]/1000)","v":125},0.15453333333333333,29,1050,2100,120,null,1E-10,-7.3689999999999999E-7,3.5548380999999999E-3,25.943295943100001,1.4932000000000001E-11,-1.3107E-7,1.0753E-3,-9.9999999999999995E-8,null,null,null,null,null,null,-3.6592E-6,-1.0345506E-3,1.0240956264000001,null,null,null,null,2.1145999999999998,124.15,922.15,-9.9999999999999995E-8]
["Vero 18-D","30A","D",4001,"BXRC",{"$f":"MasterTable[[#This Row],[Product Family]]&\"-\"&MasterTable[[#This Row],[CCT/CRI]]&MasterTable[[#This Row],[Arrangement]]","v":"Vero 18-D-30AD"},{"$f":"MasterTable[[#This Row],[Generation]]&\"-\"&MasterTable[[#This Row],[CCT/CRI]]&IF(MasterTable[[#This Row],[Lumen Family]]<999,\"0\"&MasterTable[[#This Row],[Lumen Family]],MasterTable[[#This Row],[Lumen Family]])&\"-\"&MasterTable[[#This Row],[Arrangement]]&\"-xx\"","v":"BXRC-30A4001-D-xx"},3775.7999999999997,{"$f":"MasterTable[[#This Row],[Typical Lumens]]/(MasterTable[[#This Row],[Typical Voltage]]*MasterTable[[#This Row],[Typical Current]]/1000)","v":124},0.15453333333333333,29,1050,2100,120,null,1E-10,-7.3689999999999999E-7,3.5548380999999999E-3,25.943295943100001,1.4932000000000001E-11,-1.3107E-7,1.0753E-3,-9.9999999999999995E-8,null,null,null,null,null,null,-3.6592E-6,-1.0345506E-3,1.0240956264000001,null,null,null,null,2.1145999999999998,124.15,922.15,-9.9999999999999995E-8]
["Vero 18-D","35E","D",4000,"BXRC",{"$f":"MasterTable[[#This Row],[Product Family]]&\"-\"&MasterTable[[#This Row],[CCT/CRI]]&MasterTable[[#This Row],[Arrangement]]","v":"Vero 18-D-35ED"},{"$f":"MasterTable[[#This Row],[Generation]]&\"-\"&MasterTable[[#This Row],[CCT/CRI]]&IF(MasterTable[[#This Row],[Lumen Family]]<999,\"0\"&MasterTable[[#This Row],[Lumen Family]],MasterTable[[#This Row],[Lumen Family]])&\"-\"&MasterTable[[#This Row],[Arrangement]]&\"-xx\"","v":"BXRC-35E4000-D-xx"},5298.3,{"$f":"MasterTable[[#This Row],[Typical Lumens]]/(MasterTable[[#This Row],[Typical Voltage]]*MasterTable[[#This Row],[Typical Current]]/1000)","v":174},0.15453333333333333,29,1050,2100,120,null,1E-10,-7.3689999999999999E-7,3.5548380999999999E-3,25.943295943100001,1.4932000000000001E-11,-1.3107E-7,1.0753E-3,-9.9999999999999995E-8,null,null,null,null,null,null,-3.6592E-6,-1.0345506E-3,1.0240956264000001,null,null,-1.4999999999999999E-2,29.875,2.1145999999999998,124.15,922.15,-9.9999999999999995E-8]
["Vero 18-D","35G","D",4000,"BXRC",{"$f":"MasterTable[[#This Row],[Product Family]]&\"-\"&MasterTable[[#This Row],[CCT/CRI]]&MasterTable[[#This Row],[Arrangement]]","v":"Vero 18-D-35GD"},{"$f":"MasterTable[[#This Row],[Generation]]&\"-\"&MasterTable[[#This Row],[CCT/CRI]]&IF(MasterTable[[#This Row],[Lumen Family]]<999,\"0\"&MasterTable[[#This Row],[Lumen Family]],MasterTable[[#This Row],[Lumen Family]])&\"-\"&MasterTable[[#This Row],[Arrangement]]&\"-xx\"","v":"BXRC-35G4000-D-xx"},4354.3499999999995,{"$f":"MasterTable[[#This Row],[Typical Lumens]]/(MasterTable[[#This Row],[Typical Voltage]]*MasterTable[[#This Row],[Typical Current]]/1000)","v":142.99999999999997},0.15453333333333333,29,1050,2100,120,null,1E-10,-7.3689999999999999E-7,3.5548380999999999E-3,25.943295943100001,1.4932000000000001E-11,-1.3107E-7,1.0753E-3,-9.9999999999999995E-8,null,null,null,null,null,null,-3.6592E-6,-1.0345506E-3,1.0240956264000001,null,null,null,null,2.1145999999999998,124.15,922.15,-9.9999999999999995E-8]
["Vero 18-D","35A","D",4001,"BXRC",{"$f":"MasterTable[[#This Row],[Product Family]]&\"-\"&MasterTable[[#This Row],[CCT/CRI]]&MasterTable[[#This Row],[Arrangement]]","v":"Vero 18-D-35AD"},{"$f":"MasterTable[[#This Row],[Generation]]&\"-\"&MasterTable[[#This Row],[CCT/CRI]]&IF(MasterTable[[#This Row],[Lumen Family]]<999,\"0\"&MasterTable[[#This Row],[Lumen Family]],MasterTable[[#This Row],[Lumen Family]])&\"-\"&MasterTable[[#This Row],[Arrangement]]&\"-xx\"","v":"BXRC-35A4001-D-xx"},4019,{"$f":"MasterTable[[#This Row],[Typical Lumens]]/(MasterTable[[#This Row],[Typical Voltage]]*MasterTable[[#This Row],[Typical Current]]/1000)","v":131.98686371100163},0.15453333333333333,29,1050,2100,120,null,1E-10,-7.3689999999999999E-7,3.5548380999999999E-3,25.943295943100001,1.4932000000000001E-11,-1.3107E-7,1.0753E-3,-9.9999999999999995E-8,null,null,null,null,null,null,-3.6592E-6,-1.0345506E-3,1.0240956264000001,null,null,null,null,2.1145999999999998,124.15,922.15,-9.9999999999999995E-8]
["Vero 18-D","40C","D",4001,"BXRC",{"$f":"MasterTable[[#This Row],[Product Family]]&\"-\"&MasterTable[[#This Row],[CCT/CRI]]&MasterTable[[#This Row],[Arrangement]]","v":"Vero 18-D-40CD"},{"$f":"MasterTable[[#This Row],[Generation]]&\"-\"&MasterTable[[#This Row],[CCT/CRI]]&IF(MasterTable[[#This Row],[Lumen Family]]<999,\"0\"&MasterTable[[#This Row],[Lumen Family]],MasterTable[[#This Row],[Lumen Family]])&\"-\"&MasterTable[[#This Row],[Arrangement]]&\"-xx\"","v":"BXRC-40C4001-D-xx"},5572,{"$f":"MasterTable[[#This Row],[Typical Lumens]]/(MasterTable[[#This Row],[Typical Voltage]]*MasterTable[[#This Row],[Typical Current]]/1000)","v":182.98850574712645},0.15453333333333333,29,1050,2100,120,null,1E-10,-7.3689999999999999E-7,3.5548380999999999E-3,25.943295943100001,1.4932000000000001E-11,-1.3107E-7,1.0753E-3,-9.9999999999999995E-8,null,null,null,null,null,null,-3.6592E-6,-1.0345506E-3,1.0240956264000001,null,null,null,null,2.1145999999999998,124.15,922.15,-9.9999999999999995E-8]
["Vero 18-D","40E","D",4000,"BXRC",{"$f":"MasterTable[[#This Row],[Product Family]]&\"-\"&MasterTable[[#This Row],[CCT/CRI]]&MasterTable[[#This Row],[Arrangement]]","v":"Vero 18-D-40ED"},{"$f":"MasterTable[[#This Row],[Generation]]&\"-\"&MasterTable[[#This Row],[CCT/CRI]]&IF(MasterTable[[#This Row],[Lumen Family]]<999,\"0\"&MasterTable[[#This Row],[Lumen Family]],MasterTable[[#This Row],[Lumen Family]])&\"-\"&MasterTable[[#This Row],[Arrangement]]&\"-xx\"","v":"BXRC-40E4000-D-xx"},5328.75,{"$f":"MasterTable[[#This Row],[Typical Lumens]]/(MasterTable[[#This Row],[Typical Voltage]]*MasterTable[[#This Row],[Typical Current]]/1000)","v":175},0.15453333333333333,29,1050,2100,120,null,1E-10,-7.3689999999999999E-7,3.5548380999999999E-3,25.943295943100001,1.4932000000000001E-11,-1.3107E-7,1.0753E-3,-9.9999999999999995E-8,null,null,null,null,null,null,-3.5848E-6,-1.1148865E-3,1.0260294071,null,null,-1.4999999999999999E-2,29.875,2.1145999999999998,124.15,922.15,-9.9999999999999995E-8]
["Vero 18-D","40G","D",4000,"BXRC",{"$f":"MasterTable[[#This Row],[Product Family]]&\"-\"&MasterTable[[#This Row],[CCT/CRI]]&MasterTable[[#This Row],[Arrangement]]","v":"Vero 18-D-40GD"},{"$f":"MasterTable[[#This Row],[Generation]]&\"-\"&MasterTable[[#This Row],[CCT/CRI]]&IF(MasterTable[[#This Row],[Lumen Family]]<999,\"0\"&MasterTable[[#This Row],[Lumen Family]],MasterTable[[#This Row],[Lumen Family]])&\"-\"&MasterTable[[#This Row],[Arrangement]]&\"-xx\"","v":"BXRC-40G4000-D-xx"},4446,{"$f":"MasterTable[[#This Row],[Typical Lumens]]/(MasterTable[[#This Row],[Typical Voltage]]*MasterTable[[#This Row],[Typical Current]]/1000)","v":146.00985221674878},0.15453333333333333,29,1050,2100,120,null,1E-10,-7.3689999999999999E-7,3.5548380999999999E-3,25.943295943100001,1.4932000000000001E-11,-1.3107E-7,1.0753E-3,-9.9999999999999995E-8,null,null,null,null,null,null,-3.5848E-6,-1.1148865E-3,1.0260294071,null,null,null,null,2.1145999999999998,124.15,922.15,-9.9999999999999995E-8]
["Vero 18-D","40A","D",4001,"BXRC",{"$f":"MasterTable[[#This Row],[Product Family]]&\"-\"&MasterTable[[#This Row],[CCT/CRI]]&MasterTable[[#This Row],[Arrangement]]","v":"Vero 18-D-40AD"},{"$f":"MasterTable[[#This Row],[Generation]]&\"-\"&MasterTable[[#This Row],[CCT/CRI]]&IF(MasterTable[[#This Row],[Lumen Family]]<999,\"0\"&MasterTable[[#This Row],[Lumen Family]],MasterTable[[#This Row],[Lumen Family]])&\"-\"&MasterTable[[#This Row],[Arrangement]]&\"-xx\"","v":"BXRC-40A4001-D-xx"},4354.3499999999995,{"$f":"MasterTable[[#This Row],[Typical Lumens]]/(MasterTable[[#This Row],[Typical Voltage]]*MasterTable[[#This Row],[Typical Current]]/1000)","v":142.99999999999997},0.15453333333333333,29,1050,2100,120,null,1E-10,-7.3689999999999999E-7,3.5548380999999999E-3,25.943295943100001,1.4932000000000001E-11,-1.3107E-7,1.0753E-3,-9.9999999999999995E-8,null,null,null,null,null,null,-3.5848E-6,-1.1148865E-3,1.0260294071,null,null,null,null,2.1145999999999998,124.15,922.15,-9.9999999999999995E-8]
["Vero 18-D","50C","D",4001,"BXRC",{"$f":"MasterTable[[#This Row],[Product Family]]&\"-\"&MasterTable[[#This Row],[CCT/CRI]]&MasterTable[[#This Row],[Arrangement]]","v":"Vero 18-D-50CD"},{"$f":"MasterTable[[#This Row],[Generation]]&\"-\"&MasterTable[[#This Row],[CCT/CRI]]&IF(MasterTable[[#This Row],[Lumen Family]]<999,\"0\"&MasterTable[[#This Row],[Lumen Family]],MasterTable[[#This Row],[Lumen Family]])&\"-\"&MasterTable[[#This Row],[Arrangement]]&\"-xx\"","v":"BXRC-50C4001-D-xx"},5602.8,{"$f":"MasterTable[[#This Row],[Typical Lumens]]/(MasterTable[[#This Row],[Typical Voltage]]*MasterTable[[#This Row],[Typical Current]]/1000)","v":184},0.15453333333333333,29,1050,2100,120,null,1E-10,-7.3689999999999999E-7,3.5548380999999999E-3,25.943295943100001,1.4932000000000001E-11,-1.3107E-7,1.0753E-3,-9.9999999999999995E-8,null,null,null,null,null,null,-6.9999999999999999E-6,-1E-3,1.0237000000000001,null,null,-1.4999999999999999E-2,29.875,2.1145999999999998,124.15,922.15,-9.9999999999999995E-8]
["Vero 18-D","50E","D",4001,"BXRC",{"$f":"MasterTable[[#This Row],[Product Family]]&\"-\"&MasterTable[[#This Row],[CCT/CRI]]&MasterTable[[#This Row],[Arrangement]]","v":"Vero 18-D-50ED"},{"$f":"MasterTable[[#This Row],[Generation]]&\"-\"&MasterTable[[#This Row],[CCT/CRI]]&IF(MasterTable[[#This Row],[Lumen Family]]<999,\"0\"&MasterTable[[#This Row],[Lumen Family]],MasterTable[[#This Row],[Lumen Family]])&\"-\"&MasterTable[[#This Row],[Arrangement]]&\"-xx\"","v":"BXRC-50E4001-D-xx"},5389.65,{"$f":"MasterTable[[#This Row],[Typical Lumens]]/(MasterTable[[#This Row],[Typical Voltage]]*MasterTable[[#This Row],[Typical Current]]/1000)","v":177},0.15453333333333333,29,1050,2100,120,null,1E-10,-7.3689999999999999E-7,3.5548380999999999E-3,25.943295943100001,1.4932000000000001E-11,-1.3107E-7,1.0753E-3,-9.9999999999999995E-8,null,null,null,null,null,null,-6.9999999999999999E-6,-1E-3,1.0237000000000001,null,null,-1.4999999999999999E-2,29.875,2.1145999999999998,124.15,922.15,-9.9999999999999995E-8]
["Vero 18-D","50G","D",4001,"BXRC",{"$f":"MasterTable[[#This Row],[Product Family]]&\"-\"&MasterTable[[#This Row],[CCT/CRI]]&MasterTable[[#This Row],[Arrangement]]","v":"Vero 18-D-50GD"},{"$f":"MasterTable[[#This Row],[Generation]]&\"-\"&MasterTable[[#This Row],[CCT/CRI]]&IF(MasterTable[[#This Row],[Lumen Family]]<999,\"0\"&MasterTable[[#This Row],[Lumen Family]],MasterTable[[#This Row],[Lumen Family]])&\"-\"&MasterTable[[#This Row],[Arrangement]]&\"-xx\"","v":"BXRC-50G4001-D-xx"},4658.8499999999995,{"$f":"MasterTable[[#This Row],[Typical Lumens]]/(MasterTable[[#This Row],[Typical Voltage]]*MasterTable[[#This Row],[Typical Current]]/1000)","v":152.99999999999997},0.15453333333333333,29,1050,2100,120,null,1E-10,-7.3689999999999999E-7,3.5548380999999999E-3,25.943295943100001,1.4932000000000001E-11,-1.3107E-7,1.0753E-3,-9.9999999999999995E-8,null,null,null,null,null,null,-6.9999999999999999E-6,-1E-3,1.0237000000000001,null,null,null,null,2.1145999999999998,124.15,922.15,-9.9999999999999995E-8]
["Vero 18-D","56G","D",4001,"BXRC",{"$f":"MasterTable[[#This Row],[Product Family]]&\"-\"&MasterTable[[#This Row],[CCT/CRI]]&MasterTable[[#This Row],[Arrangement]]","v":"Vero 18-D-56GD"},{"$f":"MasterTable[[#This Row],[Generation]]&\"-\"&MasterTable[[#This Row],[CCT/CRI]]&IF(MasterTable[[#This Row],[Lumen Family]]<999,\"0\"&MasterTable[[#This Row],[Lumen Family]],MasterTable[[#This Row],[Lumen Family]])&\"-\"&MasterTable[[#This Row],[Arrangement]]&\"-xx\"","v":"BXRC-56G4001-D-xx"},4689.3,{"$f":"MasterTable[[#This Row],[Typical Lumens]]/(MasterTable[[#This Row],[Typical Voltage]]*MasterTable[[#This Row],[Typical Current]]/1000)","v":154},0.15453333333333333,29,1050,2100,120,null,1E-10,-7.3689999999999999E-7,3.5548380999999999E-3,25.943295943100001,1.4932000000000001E-11,-1.3107E-7,1.0753E-3,-9.9999999999999995E-8,null,null,null,null,null,null,-6.9999999999999999E-6,-1E-3,1.0237000000000001,null,null,null,null,2.1145999999999998,124.15,922.15,-9.9999999999999995E-8]
["Vero 18-D","56H","D",4001,"BXRC",{"$f":"MasterTable[[#This Row],[Product Family]]&\"-\"&MasterTable[[#This Row],[CCT/CRI]]&MasterTable[[#This Row],[Arrangement]]","v":"Vero 18-D-56HD"},{"$f":"MasterTable[[#This Row],[Generation]]&\"-\"&MasterTable[[#This Row],[CCT/CRI]]&IF(MasterTable[[#This Row],[Lumen Family]]<999,\"0\"&MasterTable[[#This Row],[Lumen Family]],MasterTable[[#This Row],[Lumen Family]])&\"-\"&MasterTable[[#This Row],[Arrangement]]&\"-xx\"","v":"BXRC-56H4001-D-xx"},4232.55,{"$f":"MasterTable[[#This Row],[Typical Lumens]]/(MasterTable[[#This Row],[Typical Voltage]]*MasterTable[[#This Row],[Typical Current]]/1000)","v":139},0.15453333333333333,29,1050,{"$f":"L669*2","v":2100},120,null,1E-10,-7.3689999999999999E-7,3.5548380999999999E-3,25.943295943100001,1.4932000000000001E-11,-1.3107E-7,1.0753E-3,-9.9999999999999995E-8,null,null,null,null,null,null,-6.9999999999999999E-6,-1E-3,1.0237000000000001,null,null,null,null,2.1145999999999998,124.15,922.15,-9.9999999999999995E-8]
["Vero 18-D","57C","D",4001,"BXRC",{"$f":"MasterTable[[#This Row],[Product Family]]&\"-\"&MasterTable[[#This Row],[CCT/CRI]]&MasterTable[[#This Row],[Arrangement]]","v":"Vero 18-D-57CD"},{"$f":"MasterTable[[#This Row],[Generation]]&\"-\"&MasterTable[[#This Row],[CCT/CRI]]&IF(MasterTable[[#This Row],[Lumen Family]]<999,\"0\"&MasterTable[[#This Row],[Lumen Family]],MasterTable[[#This Row],[Lumen Family]])&\"-\"&MasterTable[[#This Row],[Arrangement]]&\"-xx\"","v":"BXRC-57C4001-D-xx"},5450.55,{"$f":"MasterTable[[#This Row],[Typical Lumens]]/(MasterTable[[#This Row],[Typical Voltage]]*MasterTable[[#This Row],[Typical Current]]/1000)","v":179},0.15453333333333333,29,1050,2100,120,null,1E-10,-7.3689999999999999E-7,3.5548380999999999E-3,25.943295943100001,1.4932000000000001E-11,-1.3107E-7,1.0753E-3,-9.9999999999999995E-8,null,null,null,null,null,null,-6.9999999999999999E-6,-1E-3,1.0237000000000001,null,null,null,null,2.1145999999999998,124.15,922.15,-9.9999999999999995E-8]
["Vero 18-D","57E","D",4001,"BXRC",{"$f":"MasterTable[[#This Row],[Product Family]]&\"-\"&MasterTable[[#This Row],[CCT/CRI]]&MasterTable[[#This Row],[Arrangement]]","v":"Vero 18-D-57ED"},{"$f":"MasterTable[[#This Row],[Generation]]&\"-\"&MasterTable[[#This Row],[CCT/CRI]]&IF(MasterTable[[#This Row],[Lumen Family]]<999,\"0\"&MasterTable[[#This Row],[Lumen Family]],MasterTable[[#This Row],[Lumen Family]])&\"-\"&MasterTable[[#This Row],[Arrangement]]&\"-xx\"","v":"BXRC-57E4001-D-xx"},5176.5,{"$f":"MasterTable[[#This Row],[Typical Lumens]]/(MasterTable[[#This Row],[Typical Voltage]]*MasterTable[[#This Row],[Typical Current]]/1000)","v":170},0.15453333333333333,29,1050,2100,120,null,1E-10,-7.3689999999999999E-7,3.5548380999999999E-3,25.943295943100001,1.4932000000000001E-11,-1.3107E-7,1.0753E-3,-9.9999999999999995E-8,null,null,null,null,null,null,-6.9999999999999999E-6,-1E-3,1.0237000000000001,null,null,null,null,2.1145999999999998,124.15,922.15,-9.9999999999999995E-8]
["Vero 18-D","65C","D",4001,"BXRC",{"$f":"MasterTable[[#This Row],[Product Family]]&\"-\"&MasterTable[[#This Row],[CCT/CRI]]&MasterTable[[#This Row],[Arrangement]]","v":"Vero 18-D-65CD"},{"$f":"MasterTable[[#This Row],[Generation]]&\"-\"&MasterTable[[#This Row],[CCT/CRI]]&IF(MasterTable[[#This Row],[Lumen Family]]<999,\"0\"&MasterTable[[#This Row],[Lumen Family]],MasterTable[[#This Row],[Lumen Family]])&\"-\"&MasterTable[[#This Row],[Arrangement]]&\"-xx\"","v":"BXRC-65C4001-D-xx"},5450.55,{"$f":"MasterTable[[#This Row],[Typical Lumens]]/(MasterTable[[#This Row],[Typical Voltage]]*MasterTable[[#This Row],[Typical Current]]/1000)","v":179},0.15453333333333333,29,1050,2100,120,null,1E-10,-7.3689999999999999E-7,3.5548380999999999E-3,25.943295943100001,1.4932000000000001E-11,-1.3107E-7,1.0753E-3,-9.9999999999999995E-8,null,null,null,null,null,null,-6.9999999999999999E-6,-1E-3,1.0237000000000001,null,null,null,null,2.1145999999999998,124.15,922.15,-9.9999999999999995E-8]
["Vero 18-D","65E","D",4001,"BXRC",{"$f":"MasterTable[[#This Row],[Product Family]]&\"-\"&MasterTable[[#This Row],[CCT/CRI]]&MasterTable[[#This Row],[Arrangement]]","v":"Vero 18-D-65ED"},{"$f":"MasterTable[[#This Row],[Generation]]&\"-\"&MasterTable[[#This Row],[CCT/CRI]]&IF(MasterTable[[#This Row],[Lumen Family]]<999,\"0\"&MasterTable[[#This Row],[Lumen Family]],MasterTable[[#This Row],[Lumen Family]])&\"-\"&MasterTable[[#This Row],[Arrangement]]&\"-xx\"","v":"BXRC-65E4001-D-xx"},5237.3999999999996,{"$f":"MasterTable[[#This Row],[Typical Lumens]]/(MasterTable[[#This Row],[Typical Voltage]]*MasterTable[[#This Row],[Typical Current]]/1000)","v":172},0.15453333333333333,29,1050,2100,120,null,1E-10,-7.3689999999999999E-7,3.5548380999999999E-3,25.943295943100001,1.4932000000000001E-11,-1.3107E-7,1.0753E-3,-9.9999999999999995E-8,null,null,null,null,null,null,-6.9999999999999999E-6,-1E-3,1.0237000000000001,null,null,null,null,2.1145999999999998,124.15,922.15,-9.9999999999999995E-8]
["Vero 29-B","30E","B","10K0","BXRC",{"$f":"MasterTable[[#This Row],[Product Family]]&\"-\"&MasterTable[[#This Row],[CCT/CRI]]&MasterTable[[#This Row],[Arrangement]]","v":"Vero 29-B-30EB"},{"$f":"MasterTable[[#This Row],[Generation]]&\"-\"&MasterTable[[#This Row],[CCT/CRI]]&IF(MasterTable[[#This Row],[Lumen Family]]<999,\"0\"&MasterTable[[#This Row],[Lumen Family]],MasterTable[[#This Row],[Lumen Family]])&\"-\"&MasterTable[[#This Row],[Arrangement]]&\"-xx\"","v":"BXRC-30E10K0-B-xx"},15911.999999999998,{"$f":"MasterTable[[#This Row],[Typical Lumens]]/(MasterTable[[#This Row],[Typical Voltage]]*MasterTable[[#This Row],[Typical Current]]/1000)","v":170},6.2849999999999989E-2,52,1800,3600,360,null,null,-1.9999999999999999E-7,3.2000000000000002E-3,46.912999999999997,-6.3152999999999999E-15,-2.3811999999999998E-8,5.9827999999999997E-4,-9.9999999999999995E-8,null,null,null,null,null,null,-3.6592E-6,-1.0345506E-3,1.0240956264000001,null,null,null,null,32.515999999999998,86.605000000000004,1680.8,-9.9999999999999995E-8,null,"y = 150.76x2 + 1593.6x + 24.912"]
["Vero 29-B","17E","B","10K0","BXRC",{"$f":"MasterTable[[#This Row],[Product Family]]&\"-\"&MasterTable[[#This Row],[CCT/CRI]]&MasterTable[[#This Row],[Arrangement]]","v":"Vero 29-B-17EB"},{"$f":"MasterTable[[#This Row],[Generation]]&\"-\"&MasterTable[[#This Row],[CCT/CRI]]&IF(MasterTable[[#This Row],[Lumen Family]]<999,\"0\"&MasterTable[[#This Row],[Lumen Family]],MasterTable[[#This Row],[Lumen Family]])&\"-\"&MasterTable[[#This Row],[Arrangement]]&\"-xx\"","v":"BXRC-17E10K0-B-xx"},8611.1999999999989,{"$f":"MasterTable[[#This Row],[Typical Lumens]]/(MasterTable[[#This Row],[Typical Voltage]]*MasterTable[[#This Row],[Typical Current]]/1000)","v":92},6.2849999999999989E-2,52,1800,3600,360,null,null,-1.9999999999999999E-7,3.2000000000000002E-3,46.912999999999997,-6.3152999999999999E-15,-2.3811999999999998E-8,5.9827999999999997E-4,-9.9999999999999995E-8,null,null,null,null,null,null,-3.6592E-6,-1.0345506E-3,1.0240956264000001,null,null,null,null,32.515999999999998,86.605000000000004,1680.8,-9.9999999999999995E-8]
["Vero 29-B","25E","B","10K0","BXRC",{"$f":"MasterTable[[#This Row],[Product Family]]&\"-\"&MasterTable[[#This Row],[CCT/CRI]]&MasterTable[[#This Row],[Arrangement]]","v":"Vero 29-B-25EB"},{"$f":"MasterTable[[#This Row],[Generation]]&\"-\"&MasterTable[[#This Row],[CCT/CRI]]&IF(MasterTable[[#This Row],[Lumen Family]]<999,\"0\"&MasterTable[[#This Row],[Lumen Family]],MasterTable[[#This Row],[Lumen Family]])&\"-\"&MasterTable[[#This Row],[Arrangement]]&\"-xx\"","v":"BXRC-25E10K0-B-xx"},14320.8,{"$f":"MasterTable[[#This Row],[Typical Lumens]]/(MasterTable[[#This Row],[Typical Voltage]]*MasterTable[[#This Row],[Typical Current]]/1000)","v":153},6.2849999999999989E-2,52,1800,3600,360,null,null,-1.9999999999999999E-7,3.2000000000000002E-3,46.912999999999997,-6.3152999999999999E-15,-2.3811999999999998E-8,5.9827999999999997E-4,-9.9999999999999995E-8,null,null,null,null,null,null,-3.6592E-6,-1.0345506E-3,1.0240956264000001,null,null,null,null,32.515999999999998,86.605000000000004,1680.8,-9.9999999999999995E-8]
["Vero 29-B","27E","B","10K0","BXRC",{"$f":"MasterTable[[#This Row],[Product Family]]&\"-\"&MasterTable[[#This Row],[CCT/CRI]]&MasterTable[[#This Row],[Arrangement]]","v":"Vero 29-B-27EB"},{"$f":"MasterTable[[#This Row],[Generation]]&\"-\"&MasterTable[[#This Row],[CCT/CRI]]&IF(MasterTable[[#This Row],[Lumen Family]]<999,\"0\"&MasterTable[[#This Row],[Lumen Family]],MasterTable[[#This Row],[Lumen Family]])&\"-\"&MasterTable[[#This Row],[Arrangement]]&\"-xx\"","v":"BXRC-27E10K0-B-xx"},14976,{"$f":"MasterTable[[#This Row],[Typical Lumens]]/(MasterTable[[#This Row],[Typical Voltage]]*MasterTable[[#This Row],[Typical Current]]/1000)","v":160},6.2849999999999989E-2,52,1800,3600,360,null,null,-1.9999999999999999E-7,3.2000000000000002E-3,46.912999999999997,-6.3152999999999999E-15,-2.3811999999999998E-8,5.9827999999999997E-4,-9.9999999999999995E-8,null,null,null,null,null,null,-3.6592E-6,-1.0345506E-3,1.0240956264000001,null,null,null,null,32.515999999999998,86.605000000000004,1680.8,-9.9999999999999995E-8]
["Vero 29-B","27G","B","10K0","BXRC",{"$f":"MasterTable[[#This Row],[Product Family]]&\"-\"&MasterTable[[#This Row],[CCT/CRI]]&MasterTable[[#This Row],[Arrangement]]","v":"Vero 29-B-27GB"},{"$f":"MasterTable[[#This Row],[Generation]]&\"-\"&MasterTable[[#This Row],[CCT/CRI]]&IF(MasterTable[[#This Row],[Lumen Family]]<999,\"0\"&MasterTable[[#This Row],[Lumen Family]],MasterTable[[#This Row],[Lumen Family]])&\"-\"&MasterTable[[#This Row],[Arrangement]]&\"-xx\"","v":"BXRC-27G10K0-B-xx"},12355,{"$f":"MasterTable[[#This Row],[Typical Lumens]]/(MasterTable[[#This Row],[Typical Voltage]]*MasterTable[[#This Row],[Typical Current]]/1000)","v":131.99786324786325},6.2849999999999989E-2,52,1800,3600,360,null,null,-1.9999999999999999E-7,3.2000000000000002E-3,46.912999999999997,-6.3152999999999999E-15,-2.3811999999999998E-8,5.9827999999999997E-4,-9.9999999999999995E-8,null,null,null,null,null,null,-3.6592E-6,-1.0345506E-3,1.0240956264000001,null,null,null,null,32.515999999999998,86.605000000000004,1680.8,-9.9999999999999995E-8]
["Vero 29-B","27G-H","B","1KH0","BXRC",{"$f":"MasterTable[[#This Row],[Product Family]]&\"-\"&MasterTable[[#This Row],[CCT/CRI]]&MasterTable[[#This Row],[Arrangement]]","v":"Vero 29-B-27G-HB"},"BXRC-27G-1KH0-B-xx",12823,{"$f":"MasterTable[[#This Row],[Typical Lumens]]/(MasterTable[[#This Row],[Typical Voltage]]*MasterTable[[#This Row],[Typical Current]]/1000)","v":136.99786324786325},6.2849999999999989E-2,52,1800,{"$f":"L679*2","v":3600},360,null,null,-1.9999999999999999E-7,3.2000000000000002E-3,46.912999999999997,-6.3152999999999999E-15,-2.3811999999999998E-8,5.9827999999999997E-4,-9.9999999999999995E-8,null,null,null,null,null,null,-3.6592E-6,-1.0345506E-3,1.0240956264000001,null,null,null,null,32.515999999999998,86.605000000000004,1680.8,-9.9999999999999995E-8]
["Vero 29-B","30G-H","B","1KH0","BXRC",{"$f":"MasterTable[[#This Row],[Product Family]]&\"-\"&MasterTable[[#This Row],[CCT/CRI]]&MasterTable[[#This Row],[Arrangement]]","v":"Vero 29-B-30G-HB"},"BXRC-30G-1KH0-B-xx",13478,{"$f":"MasterTable[[#This Row],[Typical Lumens]]/(MasterTable[[#This Row],[Typical Voltage]]*MasterTable[[#This Row],[Typical Current]]/1000)","v":143.9957264957265},6.2849999999999989E-2,52,1800,3600,360,null,null,-1.9999999999999999E-7,3.2000000000000002E-3,46.912999999999997,-6.3152999999999999E-15,-2.3811999999999998E-8,5.9827999999999997E-4,-9.9999999999999995E-8,null,null,null,null,null,null,-3.6592E-6,-1.0345506E-3,1.0240956264000001,null,null,null,null,32.515999999999998,86.605000000000004,1680.8,-9.9999999999999995E-8]
["Vero 29-B","30C","B","10K1","BXRC",{"$f":"MasterTable[[#This Row],[Product Family]]&\"-\"&MasterTable[[#This Row],[CCT/CRI]]&MasterTable[[#This Row],[Arrangement]]","v":"Vero 29-B-30CB"},{"$f":"MasterTable[[#This Row],[Generation]]&\"-\"&MasterTable[[#This Row],[CCT/CRI]]&IF(MasterTable[[#This Row],[Lumen Family]]<999,\"0\"&MasterTable[[#This Row],[Lumen Family]],MasterTable[[#This Row],[Lumen Family]])&\"-\"&MasterTable[[#This Row],[Arrangement]]&\"-xx\"","v":"BXRC-30C10K1-B-xx"},16661,{"$f":"MasterTable[[#This Row],[Typical Lumens]]/(MasterTable[[#This Row],[Typical Voltage]]*MasterTable[[#This Row],[Typical Current]]/1000)","v":178.00213675213675},6.2849999999999989E-2,52,1800,{"$f":"L681*2","v":3600},360,null,null,-1.9999999999999999E-7,3.2000000000000002E-3,46.912999999999997,-6.3152999999999999E-15,-2.3811999999999998E-8,5.9827999999999997E-4,-9.9999999999999995E-8,null,null,null,null,null,null,-3.6592E-6,-1.0345506E-3,1.0240956264000001,null,null,null,null,32.515999999999998,86.605000000000004,1680.8,-9.9999999999999995E-8]
["Vero 29-B","30G","B","10K0","BXRC",{"$f":"MasterTable[[#This Row],[Product Family]]&\"-\"&MasterTable[[#This Row],[CCT/CRI]]&MasterTable[[#This Row],[Arrangement]]","v":"Vero 29-B-30GB"},{"$f":"MasterTable[[#This Row],[Generation]]&\"-\"&MasterTable[[#This Row],[CCT/CRI]]&IF(MasterTable[[#This Row],[Lumen Family]]<999,\"0\"&MasterTable[[#This Row],[Lumen Family]],MasterTable[[#This Row],[Lumen Family]])&\"-\"&MasterTable[[#This Row],[Arrangement]]&\"-xx\"","v":"BXRC-30G10K0-B-xx"},12917,{"$f":"MasterTable[[#This Row],[Typical Lumens]]/(MasterTable[[#This Row],[Typical Voltage]]*MasterTable[[#This Row],[Typical Current]]/1000)","v":138.00213675213675},6.2849999999999989E-2,52,1800,3600,360,null,null,-1.9999999999999999E-7,3.2000000000000002E-3,46.912999999999997,-6.3152999999999999E-15,-2.3811999999999998E-8,5.9827999999999997E-4,-9.9999999999999995E-8,null,null,null,null,null,null,-3.6592E-6,-1.0345506E-3,1.0240956264000001,null,null,null,null,32.515999999999998,86.605000000000004,1680.8,-9.9999999999999995E-8]
["Vero 29-B","30A","B","10K1","BXRC",{"$f":"MasterTable[[#This Row],[Product Family]]&\"-\"&MasterTable[[#This Row],[CCT/CRI]]&MasterTable[[#This Row],[Arrangement]]","v":"Vero 29-B-30AB"},{"$f":"MasterTable[[#This Row],[Generation]]&\"-\"&MasterTable[[#This Row],[CCT/CRI]]&IF(MasterTable[[#This Row],[Lumen Family]]<999,\"0\"&MasterTable[[#This Row],[Lumen Family]],MasterTable[[#This Row],[Lumen Family]])&\"-\"&MasterTable[[#This Row],[Arrangement]]&\"-xx\"","v":"BXRC-30A10K1-B-xx"},11606,{"$f":"MasterTable[[#This Row],[Typical Lumens]]/(MasterTable[[#This Row],[Typical Voltage]]*MasterTable[[#This Row],[Typical Current]]/1000)","v":123.9957264957265},6.2849999999999989E-2,52,1800,3600,360,null,null,-1.9999999999999999E-7,3.2000000000000002E-3,46.912999999999997,-6.3152999999999999E-15,-2.3811999999999998E-8,5.9827999999999997E-4,-9.9999999999999995E-8,null,null,null,null,null,null,-3.6592E-6,-1.0345506E-3,1.0240956264000001,null,null,null,null,32.515999999999998,86.605000000000004,1680.8,-9.9999999999999995E-8]
["Vero 29-B","35E","B","10K0","BXRC",{"$f":"MasterTable[[#This Row],[Product Family]]&\"-\"&MasterTable[[#This Row],[CCT/CRI]]&MasterTable[[#This Row],[Arrangement]]","v":"Vero 29-B-35EB"},{"$f":"MasterTable[[#This Row],[Generation]]&\"-\"&MasterTable[[#This Row],[CCT/CRI]]&IF(MasterTable[[#This Row],[Lumen Family]]<999,\"0\"&MasterTable[[#This Row],[Lumen Family]],MasterTable[[#This Row],[Lumen Family]])&\"-\"&MasterTable[[#This Row],[Arrangement]]&\"-xx\"","v":"BXRC-35E10K0-B-xx"},16286.4,{"$f":"MasterTable[[#This Row],[Typical Lumens]]/(MasterTable[[#This Row],[Typical Voltage]]*MasterTable[[#This Row],[Typical Current]]/1000)","v":174},6.2849999999999989E-2,52,1800,3600,360,null,null,-1.9999999999999999E-7,3.2000000000000002E-3,46.912999999999997,-6.3152999999999999E-15,-2.3811999999999998E-8,5.9827999999999997E-4,-9.9999999999999995E-8,null,null,null,null,null,null,-3.6592E-6,-1.0345506E-3,1.0240956264000001,null,null,null,null,32.515999999999998,86.605000000000004,1680.8,-9.9999999999999995E-8]
["Vero 29-B","35G","B","10K0","BXRC",{"$f":"MasterTable[[#This Row],[Product Family]]&\"-\"&MasterTable[[#This Row],[CCT/CRI]]&MasterTable[[#This Row],[Arrangement]]","v":"Vero 29-B-35GB"},{"$f":"MasterTable[[#This Row],[Generation]]&\"-\"&MasterTable[[#This Row],[CCT/CRI]]&IF(MasterTable[[#This Row],[Lumen Family]]<999,\"0\"&MasterTable[[#This Row],[Lumen Family]],MasterTable[[#This Row],[Lumen Family]])&\"-\"&MasterTable[[#This Row],[Arrangement]]&\"-xx\"","v":"BXRC-35G10K0-B-xx"},13384.8,{"$f":"MasterTable[[#This Row],[Typical Lumens]]/(MasterTable[[#This Row],[Typical Voltage]]*MasterTable[[#This Row],[Typical Current]]/1000)","v":143},6.2849999999999989E-2,52,1800,3600,360,null,null,-1.9999999999999999E-7,3.2000000000000002E-3,46.912999999999997,-6.3152999999999999E-15,-2.3811999999999998E-8,5.9827999999999997E-4,-9.9999999999999995E-8,null,null,null,null,null,null,-3.6592E-6,-1.0345506E-3,1.0240956264000001,null,null,null,null,32.515999999999998,86.605000000000004,1680.8,-9.9999999999999995E-8]
["Vero 29-B","35A","B","10K1","BXRC",{"$f":"MasterTable[[#This Row],[Product Family]]&\"-\"&MasterTable[[#This Row],[CCT/CRI]]&MasterTable[[#This Row],[Arrangement]]","v":"Vero 29-B-35AB"},{"$f":"MasterTable[[#This Row],[Generation]]&\"-\"&MasterTable[[#This Row],[CCT/CRI]]&IF(MasterTable[[#This Row],[Lumen Family]]<999,\"0\"&MasterTable[[#This Row],[Lumen Family]],MasterTable[[#This Row],[Lumen Family]])&\"-\"&MasterTable[[#This Row],[Arrangement]]&\"-xx\"","v":"BXRC-35A10K1-B-xx"},12355.199999999999,{"$f":"MasterTable[[#This Row],[Typical Lumens]]/(MasterTable[[#This Row],[Typical Voltage]]*MasterTable[[#This Row],[Typical Current]]/1000)","v":132},6.2849999999999989E-2,52,1800,3600,360,null,null,-1.9999999999999999E-7,3.2000000000000002E-3,46.912999999999997,-6.3152999999999999E-15,-2.3811999999999998E-8,5.9827999999999997E-4,-9.9999999999999995E-8,null,null,null,null,null,null,-3.6592E-6,-1.0345506E-3,1.0240956264000001,null,null,null,null,32.515999999999998,86.605000000000004,1680.8,-9.9999999999999995E-8]
["Vero 29-B","40C","B","10K1","BXRC",{"$f":"MasterTable[[#This Row],[Product Family]]&\"-\"&MasterTable[[#This Row],[CCT/CRI]]&MasterTable[[#This Row],[Arrangement]]","v":"Vero 29-B-40CB"},{"$f":"MasterTable[[#This Row],[Generation]]&\"-\"&MasterTable[[#This Row],[CCT/CRI]]&IF(MasterTable[[#This Row],[Lumen Family]]<999,\"0\"&MasterTable[[#This Row],[Lumen Family]],MasterTable[[#This Row],[Lumen Family]])&\"-\"&MasterTable[[#This Row],[Arrangement]]&\"-xx\"","v":"BXRC-40C10K1-B-xx"},17129,{"$f":"MasterTable[[#This Row],[Typical Lumens]]/(MasterTable[[#This Row],[Typical Voltage]]*MasterTable[[#This Row],[Typical Current]]/1000)","v":183.00213675213675},6.2849999999999989E-2,52,1800,{"$f":"L687*2","v":3600},360,null,null,-1.9999999999999999E-7,3.2000000000000002E-3,46.912999999999997,-6.3152999999999999E-15,-2.3811999999999998E-8,5.9827999999999997E-4,-9.9999999999999995E-8,null,null,null,null,null,null,-3.6592E-6,-1.0345506E-3,1.0240956264000001,null,null,null,null,32.515999999999998,86.605000000000004,1680.8,-9.9999999999999995E-8]
["Vero 29-B","40E","B","10K0","BXRC",{"$f":"MasterTable[[#This Row],[Product Family]]&\"-\"&MasterTable[[#This Row],[CCT/CRI]]&MasterTable[[#This Row],[Arrangement]]","v":"Vero 29-B-40EB"},{"$f":"MasterTable[[#This Row],[Generation]]&\"-\"&MasterTable[[#This Row],[CCT/CRI]]&IF(MasterTable[[#This Row],[Lumen Family]]<999,\"0\"&MasterTable[[#This Row],[Lumen Family]],MasterTable[[#This Row],[Lumen Family]])&\"-\"&MasterTable[[#This Row],[Arrangement]]&\"-xx\"","v":"BXRC-40E10K0-B-xx"},16379.999999999998,{"$f":"MasterTable[[#This Row],[Typical Lumens]]/(MasterTable[[#This Row],[Typical Voltage]]*MasterTable[[#This Row],[Typical Current]]/1000)","v":175},6.2849999999999989E-2,52,1800,3600,360,null,null,-1.9999999999999999E-7,3.2000000000000002E-3,46.912999999999997,-6.3152999999999999E-15,-2.3811999999999998E-8,5.9827999999999997E-4,-9.9999999999999995E-8,null,null,null,null,null,null,-3.5848E-6,-1.1148865E-3,1.0260294071,null,null,null,null,32.515999999999998,86.605000000000004,1680.8,-9.9999999999999995E-8]
["Vero 29-B","40G","B","10K0","BXRC",{"$f":"MasterTable[[#This Row],[Product Family]]&\"-\"&MasterTable[[#This Row],[CCT/CRI]]&MasterTable[[#This Row],[Arrangement]]","v":"Vero 29-B-40GB"},{"$f":"MasterTable[[#This Row],[Generation]]&\"-\"&MasterTable[[#This Row],[CCT/CRI]]&IF(MasterTable[[#This Row],[Lumen Family]]<999,\"0\"&MasterTable[[#This Row],[Lumen Family]],MasterTable[[#This Row],[Lumen Family]])&\"-\"&MasterTable[[#This Row],[Arrangement]]&\"-xx\"","v":"BXRC-40G10K0-B-xx"},13665.599999999999,{"$f":"MasterTable[[#This Row],[Typical Lumens]]/(MasterTable[[#This Row],[Typical Voltage]]*MasterTable[[#This Row],[Typical Current]]/1000)","v":146},6.2849999999999989E-2,52,1800,3600,360,null,null,-1.9999999999999999E-7,3.2000000000000002E-3,46.912999999999997,-6.3152999999999999E-15,-2.3811999999999998E-8,5.9827999999999997E-4,-9.9999999999999995E-8,null,null,null,null,null,null,-3.5848E-6,-1.1148865E-3,1.0260294071,null,null,null,null,32.515999999999998,86.605000000000004,1680.8,-9.9999999999999995E-8]
["Vero 29-B","40A","B","10K1","BXRC",{"$f":"MasterTable[[#This Row],[Product Family]]&\"-\"&MasterTable[[#This Row],[CCT/CRI]]&MasterTable[[#This Row],[Arrangement]]","v":"Vero 29-B-40AB"},{"$f":"MasterTable[[#This Row],[Generation]]&\"-\"&MasterTable[[#This Row],[CCT/CRI]]&IF(MasterTable[[#This Row],[Lumen Family]]<999,\"0\"&MasterTable[[#This Row],[Lumen Family]],MasterTable[[#This Row],[Lumen Family]])&\"-\"&MasterTable[[#This Row],[Arrangement]]&\"-xx\"","v":"BXRC-40A10K1-B-xx"},13384.8,{"$f":"MasterTable[[#This Row],[Typical Lumens]]/(MasterTable[[#This Row],[Typical Voltage]]*MasterTable[[#This Row],[Typical Current]]/1000)","v":143},6.2849999999999989E-2,52,1800,3600,360,null,null,-1.9999999999999999E-7,3.2000000000000002E-3,46.912999999999997,-6.3152999999999999E-15,-2.3811999999999998E-8,5.9827999999999997E-4,-9.9999999999999995E-8,null,null,null,null,null,null,-3.5848E-6,-1.1148865E-3,1.0260294071,null,null,null,null,32.515999999999998,86.605000000000004,1680.8,-9.9999999999999995E-8]
["Vero 29-B","50C","B","10K1","BXRC",{"$f":"MasterTable[[#This Row],[Product Family]]&\"-\"&MasterTable[[#This Row],[CCT/CRI]]&MasterTable[[#This Row],[Arrangement]]","v":"Vero 29-B-50CB"},{"$f":"MasterTable[[#This Row],[Generation]]&\"-\"&MasterTable[[#This Row],[CCT/CRI]]&IF(MasterTable[[#This Row],[Lumen Family]]<999,\"0\"&MasterTable[[#This Row],[Lumen Family]],MasterTable[[#This Row],[Lumen Family]])&\"-\"&MasterTable[[#This Row],[Arrangement]]&\"-xx\"","v":"BXRC-50C10K1-B-xx"},17222.399999999998,{"$f":"MasterTable[[#This Row],[Typical Lumens]]/(MasterTable[[#This Row],[Typical Voltage]]*MasterTable[[#This Row],[Typical Current]]/1000)","v":184},6.2849999999999989E-2,52,1800,3600,360,null,null,-1.9999999999999999E-7,3.2000000000000002E-3,46.912999999999997,-6.3152999999999999E-15,-2.3811999999999998E-8,5.9827999999999997E-4,-9.9999999999999995E-8,null,null,null,null,null,null,-6.9999999999999999E-6,-1E-3,1.0237000000000001,null,null,null,null,32.515999999999998,86.605000000000004,1680.8,-9.9999999999999995E-8]
["Vero 29-B","50E","B","10K1","BXRC",{"$f":"MasterTable[[#This Row],[Product Family]]&\"-\"&MasterTable[[#This Row],[CCT/CRI]]&MasterTable[[#This Row],[Arrangement]]","v":"Vero 29-B-50EB"},{"$f":"MasterTable[[#This Row],[Generation]]&\"-\"&MasterTable[[#This Row],[CCT/CRI]]&IF(MasterTable[[#This Row],[Lumen Family]]<999,\"0\"&MasterTable[[#This Row],[Lumen Family]],MasterTable[[#This Row],[Lumen Family]])&\"-\"&MasterTable[[#This Row],[Arrangement]]&\"-xx\"","v":"BXRC-50E10K1-B-xx"},16567.2,{"$f":"MasterTable[[#This Row],[Typical Lumens]]/(MasterTable[[#This Row],[Typical Voltage]]*MasterTable[[#This Row],[Typical Current]]/1000)","v":177.00000000000003},6.2849999999999989E-2,52,1800,3600,360,null,null,-1.9999999999999999E-7,3.2000000000000002E-3,46.912999999999997,-6.3152999999999999E-15,-2.3811999999999998E-8,5.9827999999999997E-4,-9.9999999999999995E-8,null,null,null,null,null,null,-6.9999999999999999E-6,-1E-3,1.0237000000000001,null,null,null,null,32.515999999999998,86.605000000000004,1680.8,-9.9999999999999995E-8]
["Vero 29-B","50G","B","10K1","BXRC",{"$f":"MasterTable[[#This Row],[Product Family]]&\"-\"&MasterTable[[#This Row],[CCT/CRI]]&MasterTable[[#This Row],[Arrangement]]","v":"Vero 29-B-50GB"},{"$f":"MasterTable[[#This Row],[Generation]]&\"-\"&MasterTable[[#This Row],[CCT/CRI]]&IF(MasterTable[[#This Row],[Lumen Family]]<999,\"0\"&MasterTable[[#This Row],[Lumen Family]],MasterTable[[#This Row],[Lumen Family]])&\"-\"&MasterTable[[#This Row],[Arrangement]]&\"-xx\"","v":"BXRC-50G10K1-B-xx"},14320.8,{"$f":"MasterTable[[#This Row],[Typical Lumens]]/(MasterTable[[#This Row],[Typical Voltage]]*MasterTable[[#This Row],[Typical Current]]/1000)","v":153},6.2849999999999989E-2,52,1800,3600,360,null,null,-1.9999999999999999E-7,3.2000000000000002E-3,46.912999999999997,-6.3152999999999999E-15,-2.3811999999999998E-8,5.9827999999999997E-4,-9.9999999999999995E-8,null,null,null,null,null,null,-6.9999999999999999E-6,-1E-3,1.0237000000000001,null,null,null,null,32.515999999999998,86.605000000000004,1680.8,-9.9999999999999995E-8]
["Vero 29-B","56G","B","10K1","BXRC",{"$f":"MasterTable[[#This Row],[Product Family]]&\"-\"&MasterTable[[#This Row],[CCT/CRI]]&MasterTable[[#This Row],[Arrangement]]","v":"Vero 29-B-56GB"},{"$f":"MasterTable[[#This Row],[Generation]]&\"-\"&MasterTable[[#This Row],[CCT/CRI]]&IF(MasterTable[[#This Row],[Lumen Family]]<999,\"0\"&MasterTable[[#This Row],[Lumen Family]],MasterTable[[#This Row],[Lumen Family]])&\"-\"&MasterTable[[#This Row],[Arrangement]]&\"-xx\"","v":"BXRC-56G10K1-B-xx"},14414.4,{"$f":"MasterTable[[#This Row],[Typical Lumens]]/(MasterTable[[#This Row],[Typical Voltage]]*MasterTable[[#This Row],[Typical Current]]/1000)","v":154},6.2849999999999989E-2,52,1800,3600,360,null,null,-1.9999999999999999E-7,3.2000000000000002E-3,46.912999999999997,-6.3152999999999999E-15,-2.3811999999999998E-8,5.9827999999999997E-4,-9.9999999999999995E-8,null,null,null,null,null,null,-6.9999999999999999E-6,-1E-3,1.0237000000000001,null,null,null,null,32.515999999999998,86.605000000000004,1680.8,-9.9999999999999995E-8]
["Vero 29-B","57C","B","10K1","BXRC",{"$f":"MasterTable[[#This Row],[Product Family]]&\"-\"&MasterTable[[#This Row],[CCT/CRI]]&MasterTable[[#This Row],[Arrangement]]","v":"Vero 29-B-57CB"},{"$f":"MasterTable[[#This Row],[Generation]]&\"-\"&MasterTable[[#This Row],[CCT/CRI]]&IF(MasterTable[[#This Row],[Lumen Family]]<999,\"0\"&MasterTable[[#This Row],[Lumen Family]],MasterTable[[#This Row],[Lumen Family]])&\"-\"&MasterTable[[#This Row],[Arrangement]]&\"-xx\"","v":"BXRC-57C10K1-B-xx"},16754.399999999998,{"$f":"MasterTable[[#This Row],[Typical Lumens]]/(MasterTable[[#This Row],[Typical Voltage]]*MasterTable[[#This Row],[Typical Current]]/1000)","v":179},6.2849999999999989E-2,52,1800,3600,360,null,null,-1.9999999999999999E-7,3.2000000000000002E-3,46.912999999999997,-6.3152999999999999E-15,-2.3811999999999998E-8,5.9827999999999997E-4,-9.9999999999999995E-8,null,null,null,null,null,null,-6.9999999999999999E-6,-1E-3,1.0237000000000001,null,null,null,null,32.515999999999998,86.605000000000004,1680.8,-9.9999999999999995E-8]
["Vero 29-B","57E","B","10K1","BXRC",{"$f":"MasterTable[[#This Row],[Product Family]]&\"-\"&MasterTable[[#This Row],[CCT/CRI]]&MasterTable[[#This Row],[Arrangement]]","v":"Vero 29-B-57EB"},{"$f":"MasterTable[[#This Row],[Generation]]&\"-\"&MasterTable[[#This Row],[CCT/CRI]]&IF(MasterTable[[#This Row],[Lumen Family]]<999,\"0\"&MasterTable[[#This Row],[Lumen Family]],MasterTable[[#This Row],[Lumen Family]])&\"-\"&MasterTable[[#This Row],[Arrangement]]&\"-xx\"","v":"BXRC-57E10K1-B-xx"},15911.999999999998,{"$f":"MasterTable[[#This Row],[Typical Lumens]]/(MasterTable[[#This Row],[Typical Voltage]]*MasterTable[[#This Row],[Typical Current]]/1000)","v":170},6.2849999999999989E-2,52,1800,3600,360,null,null,-1.9999999999999999E-7,3.2000000000000002E-3,46.912999999999997,-6.3152999999999999E-15,-2.3811999999999998E-8,5.9827999999999997E-4,-9.9999999999999995E-8,null,null,null,null,null,null,-6.9999999999999999E-6,-1E-3,1.0237000000000001,null,null,null,null,32.515999999999998,86.605000000000004,1680.8,-9.9999999999999995E-8]
["Vero 29-B","65C","B","10K1","BXRC",{"$f":"MasterTable[[#This Row],[Product Family]]&\"-\"&MasterTable[[#This Row],[CCT/CRI]]&MasterTable[[#This Row],[Arrangement]]","v":"Vero 29-B-65CB"},{"$f":"MasterTable[[#This Row],[Generation]]&\"-\"&MasterTable[[#This Row],[CCT/CRI]]&IF(MasterTable[[#This Row],[Lumen Family]]<999,\"0\"&MasterTable[[#This Row],[Lumen Family]],MasterTable[[#This Row],[Lumen Family]])&\"-\"&MasterTable[[#This Row],[Arrangement]]&\"-xx\"","v":"BXRC-65C10K1-B-xx"},16754.399999999998,{"$f":"MasterTable[[#This Row],[Typical Lumens]]/(MasterTable[[#This Row],[Typical Voltage]]*MasterTable[[#This Row],[Typical Current]]/1000)","v":179},6.2849999999999989E-2,52,1800,3600,360,null,null,-1.9999999999999999E-7,3.2000000000000002E-3,46.912999999999997,-6.3152999999999999E-15,-2.3811999999999998E-8,5.9827999999999997E-4,-9.9999999999999995E-8,null,null,null,null,null,null,-6.9999999999999999E-6,-1E-3,1.0237000000000001,null,null,null,null,32.515999999999998,86.605000000000004,1680.8,-9.9999999999999995E-8]
["Vero 29-B","65E","B","10K1","BXRC",{"$f":"MasterTable[[#This Row],[Product Family]]&\"-\"&MasterTable[[#This Row],[CCT/CRI]]&MasterTable[[#This Row],[Arrangement]]","v":"Vero 29-B-65EB"},{"$f":"MasterTable[[#This Row],[Generation]]&\"-\"&MasterTable[[#This Row],[CCT/CRI]]&IF(MasterTable[[#This Row],[Lumen Family]]<999,\"0\"&MasterTable[[#This Row],[Lumen Family]],MasterTable[[#This Row],[Lumen Family]])&\"-\"&MasterTable[[#This Row],[Arrangement]]&\"-xx\"","v":"BXRC-65E10K1-B-xx"},16099.199999999999,{"$f":"MasterTable[[#This Row],[Typical Lumens]]/(MasterTable[[#This Row],[Typical Voltage]]*MasterTable[[#This Row],[Typical Current]]/1000)","v":172},6.2849999999999989E-2,52,1800,3600,360,null,null,-1.9999999999999999E-7,3.2000000000000002E-3,46.912999999999997,-6.3152999999999999E-15,-2.3811999999999998E-8,5.9827999999999997E-4,-9.9999999999999995E-8,null,null,null,null,null,null,-6.9999999999999999E-6,-1E-3,1.0237000000000001,null,null,null,null,32.515999999999998,86.605000000000004,1680.8,-9.9999999999999995E-8]
["Vero 29-C","30E","C","10K0","BXRC",{"$f":"MasterTable[[#This Row],[Product Family]]&\"-\"&MasterTable[[#This Row],[CCT/CRI]]&MasterTable[[#This Row],[Arrangement]]","v":"Vero 29-C-30EC"},{"$f":"MasterTable[[#This Row],[Generation]]&\"-\"&MasterTable[[#This Row],[CCT/CRI]]&IF(MasterTable[[#This Row],[Lumen Family]]<999,\"0\"&MasterTable[[#This Row],[Lumen Family]],MasterTable[[#This Row],[Lumen Family]])&\"-\"&MasterTable[[#This Row],[Arrangement]]&\"-xx\"","v":"BXRC-30E10K0-C-xx"},20175,{"$f":"MasterTable[[#This Row],[Typical Lumens]]/(MasterTable[[#This Row],[Typical Voltage]]*MasterTable[[#This Row],[Typical Current]]/1000)","v":170.0035391071338},4.1266666666666667E-2,69.400000000000006,1710,3420,456,-9.9999999999999996E-24,6.0000000000000006E-20,-2.9999999999999999E-7,4.4999999999999997E-3,62.55,1.0877999999999999E-11,-9.8527999999999994E-8,7.3035999999999999E-4,-9.9999999999999995E-8,null,null,null,null,null,null,-3.6592E-6,-1.0345506E-3,1.0240956264000001,null,null,null,null,-60.183,469.14,1276.5,-9.9999999999999995E-8]
["Vero 29-C","17E","C","10K0","BXRC",{"$f":"MasterTable[[#This Row],[Product Family]]&\"-\"&MasterTable[[#This Row],[CCT/CRI]]&MasterTable[[#This Row],[Arrangement]]","v":"Vero 29-C-17EC"},{"$f":"MasterTable[[#This Row],[Generation]]&\"-\"&MasterTable[[#This Row],[CCT/CRI]]&IF(MasterTable[[#This Row],[Lumen Family]]<999,\"0\"&MasterTable[[#This Row],[Lumen Family]],MasterTable[[#This Row],[Lumen Family]])&\"-\"&MasterTable[[#This Row],[Arrangement]]&\"-xx\"","v":"BXRC-17E10K0-C-xx"},10918.008000000002,{"$f":"MasterTable[[#This Row],[Typical Lumens]]/(MasterTable[[#This Row],[Typical Voltage]]*MasterTable[[#This Row],[Typical Current]]/1000)","v":92},4.1266666666666667E-2,69.400000000000006,1710,3420,456,-9.9999999999999996E-24,6.0000000000000006E-20,-2.9999999999999999E-7,4.4999999999999997E-3,62.55,1.0877999999999999E-11,-9.8527999999999994E-8,7.3035999999999999E-4,-9.9999999999999995E-8,null,null,null,null,null,null,-3.6592E-6,-1.0345506E-3,1.0240956264000001,null,null,null,null,-60.183,469.14,1276.5,-9.9999999999999995E-8]
["Vero 29-C","25E","C","10K0","BXRC",{"$f":"MasterTable[[#This Row],[Product Family]]&\"-\"&MasterTable[[#This Row],[CCT/CRI]]&MasterTable[[#This Row],[Arrangement]]","v":"Vero 29-C-25EC"},{"$f":"MasterTable[[#This Row],[Generation]]&\"-\"&MasterTable[[#This Row],[CCT/CRI]]&IF(MasterTable[[#This Row],[Lumen Family]]<999,\"0\"&MasterTable[[#This Row],[Lumen Family]],MasterTable[[#This Row],[Lumen Family]])&\"-\"&MasterTable[[#This Row],[Arrangement]]&\"-xx\"","v":"BXRC-25E10K0-C-xx"},18157.122000000003,{"$f":"MasterTable[[#This Row],[Typical Lumens]]/(MasterTable[[#This Row],[Typical Voltage]]*MasterTable[[#This Row],[Typical Current]]/1000)","v":153},4.1266666666666667E-2,69.400000000000006,1710,3420,456,-9.9999999999999996E-24,6.0000000000000006E-20,-2.9999999999999999E-7,4.4999999999999997E-3,62.55,1.0877999999999999E-11,-9.8527999999999994E-8,7.3035999999999999E-4,-9.9999999999999995E-8,null,null,null,null,null,null,-3.6592E-6,-1.0345506E-3,1.0240956264000001,null,null,null,null,-60.183,469.14,1276.5,-9.9999999999999995E-8]
["Vero 29-C","27E","C","10K0","BXRC",{"$f":"MasterTable[[#This Row],[Product Family]]&\"-\"&MasterTable[[#This Row],[CCT/CRI]]&MasterTable[[#This Row],[Arrangement]]","v":"Vero 29-C-27EC"},{"$f":"MasterTable[[#This Row],[Generation]]&\"-\"&MasterTable[[#This Row],[CCT/CRI]]&IF(MasterTable[[#This Row],[Lumen Family]]<999,\"0\"&MasterTable[[#This Row],[Lumen Family]],MasterTable[[#This Row],[Lumen Family]])&\"-\"&MasterTable[[#This Row],[Arrangement]]&\"-xx\"","v":"BXRC-27E10K0-C-xx"},18987.840000000004,{"$f":"MasterTable[[#This Row],[Typical Lumens]]/(MasterTable[[#This Row],[Typical Voltage]]*MasterTable[[#This Row],[Typical Current]]/1000)","v":160},4.1266666666666667E-2,69.400000000000006,1710,3420,456,-9.9999999999999996E-24,6.0000000000000006E-20,-2.9999999999999999E-7,4.4999999999999997E-3,62.55,1.0877999999999999E-11,-9.8527999999999994E-8,7.3035999999999999E-4,-9.9999999999999995E-8,null,null,null,null,null,null,-3.6592E-6,-1.0345506E-3,1.0240956264000001,null,null,null,null,-60.183,469.14,1276.5,-9.9999999999999995E-8]
["Vero 29-C","27G","C","10K0","BXRC",{"$f":"MasterTable[[#This Row],[Product Family]]&\"-\"&MasterTable[[#This Row],[CCT/CRI]]&MasterTable[[#This Row],[Arrangement]]","v":"Vero 29-C-27GC"},{"$f":"MasterTable[[#This Row],[Generation]]&\"-\"&MasterTable[[#This Row],[CCT/CRI]]&IF(MasterTable[[#This Row],[Lumen Family]]<999,\"0\"&MasterTable[[#This Row],[Lumen Family]],MasterTable[[#This Row],[Lumen Family]])&\"-\"&MasterTable[[#This Row],[Arrangement]]&\"-xx\"","v":"BXRC-27G10K0-C-xx"},15665,{"$f":"MasterTable[[#This Row],[Typical Lumens]]/(MasterTable[[#This Row],[Typical Voltage]]*MasterTable[[#This Row],[Typical Current]]/1000)","v":132.00026964625781},4.1266666666666667E-2,69.400000000000006,1710,3420,456,-9.9999999999999996E-24,6.0000000000000006E-20,-2.9999999999999999E-7,4.4999999999999997E-3,62.55,1.0877999999999999E-11,-9.8527999999999994E-8,7.3035999999999999E-4,-9.9999999999999995E-8,null,null,null,null,null,null,-3.6592E-6,-1.0345506E-3,1.0240956264000001,null,null,null,null,-60.183,469.14,1276.5,-9.9999999999999995E-8]
["Vero 29-C","30G","C","10K0","BXRC",{"$f":"MasterTable[[#This Row],[Product Family]]&\"-\"&MasterTable[[#This Row],[CCT/CRI]]&MasterTable[[#This Row],[Arrangement]]","v":"Vero 29-C-30GC"},{"$f":"MasterTable[[#This Row],[Generation]]&\"-\"&MasterTable[[#This Row],[CCT/CRI]]&IF(MasterTable[[#This Row],[Lumen Family]]<999,\"0\"&MasterTable[[#This Row],[Lumen Family]],MasterTable[[#This Row],[Lumen Family]])&\"-\"&MasterTable[[#This Row],[Arrangement]]&\"-xx\"","v":"BXRC-30G10K0-C-xx"},16377,{"$f":"MasterTable[[#This Row],[Typical Lumens]]/(MasterTable[[#This Row],[Typical Voltage]]*MasterTable[[#This Row],[Typical Current]]/1000)","v":137.9998988826533},4.1266666666666667E-2,69.400000000000006,1710,{"$f":"L704*2","v":3420},456,-9.9999999999999996E-24,6.0000000000000006E-20,-2.9999999999999999E-7,4.4999999999999997E-3,62.55,1.0877999999999999E-11,-9.8527999999999994E-8,7.3035999999999999E-4,-9.9999999999999995E-8,null,null,null,null,null,null,-3.6592E-6,-1.0345506E-3,1.0240956264000001,null,null,null,null,-60.183,469.14,1276.5,-9.9999999999999995E-8]
["Vero 29-C","20B","C","10K1","BXRC",{"$f":"MasterTable[[#This Row],[Product Family]]&\"-\"&MasterTable[[#This Row],[CCT/CRI]]&MasterTable[[#This Row],[Arrangement]]","v":"Vero 29-C-20BC"},{"$f":"MasterTable[[#This Row],[Generation]]&\"-\"&MasterTable[[#This Row],[CCT/CRI]]&IF(MasterTable[[#This Row],[Lumen Family]]<999,\"0\"&MasterTable[[#This Row],[Lumen Family]],MasterTable[[#This Row],[Lumen Family]])&\"-\"&MasterTable[[#This Row],[Arrangement]]&\"-xx\"","v":"BXRC-20B10K1-C-xx"},18631.818000000003,{"$f":"MasterTable[[#This Row],[Typical Lumens]]/(MasterTable[[#This Row],[Typical Voltage]]*MasterTable[[#This Row],[Typical Current]]/1000)","v":157},4.1266666666666667E-2,69.400000000000006,1710,3420,456,-9.9999999999999996E-24,6.0000000000000006E-20,-2.9999999999999999E-7,4.4999999999999997E-3,62.55,1.0877999999999999E-11,-9.8527999999999994E-8,7.3035999999999999E-4,-9.9999999999999995E-8,null,null,null,null,null,null,-3.6592E-6,-1.0345506E-3,1.0240956264000001,null,null,null,null,-60.183,469.14,1276.5,-9.9999999999999995E-8]
["Vero 29-C","27G-H","C","1KH0","BXRC",{"$f":"MasterTable[[#This Row],[Product Family]]&\"-\"&MasterTable[[#This Row],[CCT/CRI]]&MasterTable[[#This Row],[Arrangement]]","v":"Vero 29-C-27G-HC"},"BXRC-27G-1KH0-C-xx",16258,{"$f":"MasterTable[[#This Row],[Typical Lumens]]/(MasterTable[[#This Row],[Typical Voltage]]*MasterTable[[#This Row],[Typical Current]]/1000)","v":136.99715186140179},4.1266666666666667E-2,69.400000000000006,1710,{"$f":"L706*2","v":3420},456,-9.9999999999999996E-24,6.0000000000000006E-20,-2.9999999999999999E-7,4.4999999999999997E-3,62.55,1.0877999999999999E-11,-9.8527999999999994E-8,7.3035999999999999E-4,-9.9999999999999995E-8,null,null,null,null,null,null,-3.6592E-6,-1.0345506E-3,1.0240956264000001,null,null,null,null,-60.183,469.14,1276.5,-9.9999999999999995E-8]
["Vero 29-C","30G-H","C","1KH0","BXRC",{"$f":"MasterTable[[#This Row],[Product Family]]&\"-\"&MasterTable[[#This Row],[CCT/CRI]]&MasterTable[[#This Row],[Arrangement]]","v":"Vero 29-C-30G-HC"},"BXRC-30G-1KH0-C-xx",17089,{"$f":"MasterTable[[#This Row],[Typical Lumens]]/(MasterTable[[#This Row],[Typical Voltage]]*MasterTable[[#This Row],[Typical Current]]/1000)","v":143.99952811904879},4.1266666666666667E-2,69.400000000000006,1710,3420,456,-9.9999999999999996E-24,6.0000000000000006E-20,-2.9999999999999999E-7,4.4999999999999997E-3,62.55,1.0877999999999999E-11,-9.8527999999999994E-8,7.3035999999999999E-4,-9.9999999999999995E-8,null,null,null,null,null,null,-3.6592E-6,-1.0345506E-3,1.0240956264000001,null,null,null,null,-60.183,469.14,1276.5,-9.9999999999999995E-8]
["Vero 29-C","30C","C","10K1","BXRC",{"$f":"MasterTable[[#This Row],[Product Family]]&\"-\"&MasterTable[[#This Row],[CCT/CRI]]&MasterTable[[#This Row],[Arrangement]]","v":"Vero 29-C-30CC"},{"$f":"MasterTable[[#This Row],[Generation]]&\"-\"&MasterTable[[#This Row],[CCT/CRI]]&IF(MasterTable[[#This Row],[Lumen Family]]<999,\"0\"&MasterTable[[#This Row],[Lumen Family]],MasterTable[[#This Row],[Lumen Family]])&\"-\"&MasterTable[[#This Row],[Arrangement]]&\"-xx\"","v":"BXRC-30C10K1-C-xx"},21124,{"$f":"MasterTable[[#This Row],[Typical Lumens]]/(MasterTable[[#This Row],[Typical Voltage]]*MasterTable[[#This Row],[Typical Current]]/1000)","v":178.00023594047556},4.1266666666666667E-2,69.400000000000006,1710,{"$f":"L708*2","v":3420},456,-9.9999999999999996E-24,6.0000000000000006E-20,-2.9999999999999999E-7,4.4999999999999997E-3,62.55,1.0877999999999999E-11,-9.8527999999999994E-8,7.3035999999999999E-4,-9.9999999999999995E-8,null,null,null,null,null,null,-3.6592E-6,-1.0345506E-3,1.0240956264000001,null,null,null,null,-60.183,469.14,1276.5,-9.9999999999999995E-8]
["Vero 29-C","30A","C","10K1","BXRC",{"$f":"MasterTable[[#This Row],[Product Family]]&\"-\"&MasterTable[[#This Row],[CCT/CRI]]&MasterTable[[#This Row],[Arrangement]]","v":"Vero 29-C-30AC"},{"$f":"MasterTable[[#This Row],[Generation]]&\"-\"&MasterTable[[#This Row],[CCT/CRI]]&IF(MasterTable[[#This Row],[Lumen Family]]<999,\"0\"&MasterTable[[#This Row],[Lumen Family]],MasterTable[[#This Row],[Lumen Family]])&\"-\"&MasterTable[[#This Row],[Arrangement]]&\"-xx\"","v":"BXRC-30A10K1-C-xx"},14715.576000000003,{"$f":"MasterTable[[#This Row],[Typical Lumens]]/(MasterTable[[#This Row],[Typical Voltage]]*MasterTable[[#This Row],[Typical Current]]/1000)","v":124},4.1266666666666667E-2,69.400000000000006,1710,3420,456,-9.9999999999999996E-24,6.0000000000000006E-20,-2.9999999999999999E-7,4.4999999999999997E-3,62.55,1.0877999999999999E-11,-9.8527999999999994E-8,7.3035999999999999E-4,-9.9999999999999995E-8,null,null,null,null,null,null,-3.6592E-6,-1.0345506E-3,1.0240956264000001,null,null,null,null,-60.183,469.14,1276.5,-9.9999999999999995E-8,null,null,"y = 285.4400664946x2 + 1,445.9385281198x - 55.5472683550"]
["Vero 29-C","35E","C","10K0","BXRC",{"$f":"MasterTable[[#This Row],[Product Family]]&\"-\"&MasterTable[[#This Row],[CCT/CRI]]&MasterTable[[#This Row],[Arrangement]]","v":"Vero 29-C-35EC"},{"$f":"MasterTable[[#This Row],[Generation]]&\"-\"&MasterTable[[#This Row],[CCT/CRI]]&IF(MasterTable[[#This Row],[Lumen Family]]<999,\"0\"&MasterTable[[#This Row],[Lumen Family]],MasterTable[[#This Row],[Lumen Family]])&\"-\"&MasterTable[[#This Row],[Arrangement]]&\"-xx\"","v":"BXRC-35E10K0-C-xx"},20649.276000000005,{"$f":"MasterTable[[#This Row],[Typical Lumens]]/(MasterTable[[#This Row],[Typical Voltage]]*MasterTable[[#This Row],[Typical Current]]/1000)","v":174},4.1266666666666667E-2,69.400000000000006,1710,3420,456,-9.9999999999999996E-24,6.0000000000000006E-20,-2.9999999999999999E-7,4.4999999999999997E-3,62.55,1.0877999999999999E-11,-9.8527999999999994E-8,7.3035999999999999E-4,-9.9999999999999995E-8,null,null,null,null,null,null,-3.6592E-6,-1.0345506E-3,1.0240956264000001,null,null,null,null,-60.183,469.14,1276.5,-9.9999999999999995E-8]
["Vero 29-C","35G","C","10K0","BXRC",{"$f":"MasterTable[[#This Row],[Product Family]]&\"-\"&MasterTable[[#This Row],[CCT/CRI]]&MasterTable[[#This Row],[Arrangement]]","v":"Vero 29-C-35GC"},{"$f":"MasterTable[[#This Row],[Generation]]&\"-\"&MasterTable[[#This Row],[CCT/CRI]]&IF(MasterTable[[#This Row],[Lumen Family]]<999,\"0\"&MasterTable[[#This Row],[Lumen Family]],MasterTable[[#This Row],[Lumen Family]])&\"-\"&MasterTable[[#This Row],[Arrangement]]&\"-xx\"","v":"BXRC-35G10K0-C-xx"},16970.382000000001,{"$f":"MasterTable[[#This Row],[Typical Lumens]]/(MasterTable[[#This Row],[Typical Voltage]]*MasterTable[[#This Row],[Typical Current]]/1000)","v":143},4.1266666666666667E-2,69.400000000000006,1710,3420,456,-9.9999999999999996E-24,6.0000000000000006E-20,-2.9999999999999999E-7,4.4999999999999997E-3,62.55,1.0877999999999999E-11,-9.8527999999999994E-8,7.3035999999999999E-4,-9.9999999999999995E-8,null,null,null,null,null,null,-3.6592E-6,-1.0345506E-3,1.0240956264000001,null,null,null,null,-60.183,469.14,1276.5,-9.9999999999999995E-8]
["Vero 29-C","35A","C","10K1","BXRC",{"$f":"MasterTable[[#This Row],[Product Family]]&\"-\"&MasterTable[[#This Row],[CCT/CRI]]&MasterTable[[#This Row],[Arrangement]]","v":"Vero 29-C-35AC"},{"$f":"MasterTable[[#This Row],[Generation]]&\"-\"&MasterTable[[#This Row],[CCT/CRI]]&IF(MasterTable[[#This Row],[Lumen Family]]<999,\"0\"&MasterTable[[#This Row],[Lumen Family]],MasterTable[[#This Row],[Lumen Family]])&\"-\"&MasterTable[[#This Row],[Arrangement]]&\"-xx\"","v":"BXRC-35A10K1-C-xx"},15664.968000000003,{"$f":"MasterTable[[#This Row],[Typical Lumens]]/(MasterTable[[#This Row],[Typical Voltage]]*MasterTable[[#This Row],[Typical Current]]/1000)","v":132},4.1266666666666667E-2,69.400000000000006,1710,3420,456,-9.9999999999999996E-24,6.0000000000000006E-20,-2.9999999999999999E-7,4.4999999999999997E-3,62.55,1.0877999999999999E-11,-9.8527999999999994E-8,7.3035999999999999E-4,-9.9999999999999995E-8,null,null,null,null,null,null,-3.6592E-6,-1.0345506E-3,1.0240956264000001,null,null,null,null,-60.183,469.14,1276.5,-9.9999999999999995E-8]
["Vero 29-C","40C","C","10K1","BXRC",{"$f":"MasterTable[[#This Row],[Product Family]]&\"-\"&MasterTable[[#This Row],[CCT/CRI]]&MasterTable[[#This Row],[Arrangement]]","v":"Vero 29-C-40CC"},{"$f":"MasterTable[[#This Row],[Generation]]&\"-\"&MasterTable[[#This Row],[CCT/CRI]]&IF(MasterTable[[#This Row],[Lumen Family]]<999,\"0\"&MasterTable[[#This Row],[Lumen Family]],MasterTable[[#This Row],[Lumen Family]])&\"-\"&MasterTable[[#This Row],[Arrangement]]&\"-xx\"","v":"BXRC-40C10K1-C-xx"},21717,{"$f":"MasterTable[[#This Row],[Typical Lumens]]/(MasterTable[[#This Row],[Typical Voltage]]*MasterTable[[#This Row],[Typical Current]]/1000)","v":182.99711815561957},4.1266666666666667E-2,69.400000000000006,1710,3420,456,-9.9999999999999996E-24,6.0000000000000006E-20,-2.9999999999999999E-7,4.4999999999999997E-3,62.55,1.0877999999999999E-11,-9.8527999999999994E-8,7.3035999999999999E-4,-9.9999999999999995E-8,null,null,null,null,null,null,-3.6592E-6,-1.0345506E-3,1.0240956264000001,null,null,null,null,-60.183,469.14,1276.5,-9.9999999999999995E-8]
["Vero 29-C","40E","C","10K0","BXRC",{"$f":"MasterTable[[#This Row],[Product Family]]&\"-\"&MasterTable[[#This Row],[CCT/CRI]]&MasterTable[[#This Row],[Arrangement]]","v":"Vero 29-C-40EC"},{"$f":"MasterTable[[#This Row],[Generation]]&\"-\"&MasterTable[[#This Row],[CCT/CRI]]&IF(MasterTable[[#This Row],[Lumen Family]]<999,\"0\"&MasterTable[[#This Row],[Lumen Family]],MasterTable[[#This Row],[Lumen Family]])&\"-\"&MasterTable[[#This Row],[Arrangement]]&\"-xx\"","v":"BXRC-40E10K0-C-xx"},20767.950000000004,{"$f":"MasterTable[[#This Row],[Typical Lumens]]/(MasterTable[[#This Row],[Typical Voltage]]*MasterTable[[#This Row],[Typical Current]]/1000)","v":175},4.1266666666666667E-2,69.400000000000006,1710,3420,456,-9.9999999999999996E-24,6.0000000000000006E-20,-2.9999999999999999E-7,4.4999999999999997E-3,62.55,1.0877999999999999E-11,-9.8527999999999994E-8,7.3035999999999999E-4,-9.9999999999999995E-8,null,null,null,null,null,null,-3.5848E-6,-1.1148865E-3,1.0260294071,null,null,null,null,-60.183,469.14,1276.5,-9.9999999999999995E-8,null,null,"y = 285.44x2 + 1445.9x - 55.547"]
["Vero 29-C","40G","C","10K0","BXRC",{"$f":"MasterTable[[#This Row],[Product Family]]&\"-\"&MasterTable[[#This Row],[CCT/CRI]]&MasterTable[[#This Row],[Arrangement]]","v":"Vero 29-C-40GC"},{"$f":"MasterTable[[#This Row],[Generation]]&\"-\"&MasterTable[[#This Row],[CCT/CRI]]&IF(MasterTable[[#This Row],[Lumen Family]]<999,\"0\"&MasterTable[[#This Row],[Lumen Family]],MasterTable[[#This Row],[Lumen Family]])&\"-\"&MasterTable[[#This Row],[Arrangement]]&\"-xx\"","v":"BXRC-40G10K0-C-xx"},17326.404000000002,{"$f":"MasterTable[[#This Row],[Typical Lumens]]/(MasterTable[[#This Row],[Typical Voltage]]*MasterTable[[#This Row],[Typical Current]]/1000)","v":146},4.1266666666666667E-2,69.400000000000006,1710,3420,456,-9.9999999999999996E-24,6.0000000000000006E-20,-2.9999999999999999E-7,4.4999999999999997E-3,62.55,1.0877999999999999E-11,-9.8527999999999994E-8,7.3035999999999999E-4,-9.9999999999999995E-8,null,null,null,null,null,null,-3.5848E-6,-1.1148865E-3,1.0260294071,null,null,null,null,-60.183,469.14,1276.5,-9.9999999999999995E-8]
["Vero 29-C","40A","C","10K1","BXRC",{"$f":"MasterTable[[#This Row],[Product Family]]&\"-\"&MasterTable[[#This Row],[CCT/CRI]]&MasterTable[[#This Row],[Arrangement]]","v":"Vero 29-C-40AC"},{"$f":"MasterTable[[#This Row],[Generation]]&\"-\"&MasterTable[[#This Row],[CCT/CRI]]&IF(MasterTable[[#This Row],[Lumen Family]]<999,\"0\"&MasterTable[[#This Row],[Lumen Family]],MasterTable[[#This Row],[Lumen Family]])&\"-\"&MasterTable[[#This Row],[Arrangement]]&\"-xx\"","v":"BXRC-40A10K1-C-xx"},16970.382000000001,{"$f":"MasterTable[[#This Row],[Typical Lumens]]/(MasterTable[[#This Row],[Typical Voltage]]*MasterTable[[#This Row],[Typical Current]]/1000)","v":143},4.1266666666666667E-2,69.400000000000006,1710,3420,456,-9.9999999999999996E-24,6.0000000000000006E-20,-2.9999999999999999E-7,4.4999999999999997E-3,62.55,1.0877999999999999E-11,-9.8527999999999994E-8,7.3035999999999999E-4,-9.9999999999999995E-8,null,null,null,null,null,null,-3.5848E-6,-1.1148865E-3,1.0260294071,null,null,null,null,-60.183,469.14,1276.5,-9.9999999999999995E-8]
["Vero 29-C","50C","C","10K1","BXRC",{"$f":"MasterTable[[#This Row],[Product Family]]&\"-\"&MasterTable[[#This Row],[CCT/CRI]]&MasterTable[[#This Row],[Arrangement]]","v":"Vero 29-C-50CC"},{"$f":"MasterTable[[#This Row],[Generation]]&\"-\"&MasterTable[[#This Row],[CCT/CRI]]&IF(MasterTable[[#This Row],[Lumen Family]]<999,\"0\"&MasterTable[[#This Row],[Lumen Family]],MasterTable[[#This Row],[Lumen Family]])&\"-\"&MasterTable[[#This Row],[Arrangement]]&\"-xx\"","v":"BXRC-50C10K1-C-xx"},21836.016000000003,{"$f":"MasterTable[[#This Row],[Typical Lumens]]/(MasterTable[[#This Row],[Typical Voltage]]*MasterTable[[#This Row],[Typical Current]]/1000)","v":184},4.1266666666666667E-2,69.400000000000006,1710,3420,456,-9.9999999999999996E-24,6.0000000000000006E-20,-2.9999999999999999E-7,4.4999999999999997E-3,62.55,1.0877999999999999E-11,-9.8527999999999994E-8,7.3035999999999999E-4,-9.9999999999999995E-8,null,null,null,null,null,null,-3.5848E-6,-1.1148865E-3,1.0260294071,null,null,null,null,-60.183,469.14,1276.5,-9.9999999999999995E-8]
["Vero 29-C","50E","C","10K1","BXRC",{"$f":"MasterTable[[#This Row],[Product Family]]&\"-\"&MasterTable[[#This Row],[CCT/CRI]]&MasterTable[[#This Row],[Arrangement]]","v":"Vero 29-C-50EC"},{"$f":"MasterTable[[#This Row],[Generation]]&\"-\"&MasterTable[[#This Row],[CCT/CRI]]&IF(MasterTable[[#This Row],[Lumen Family]]<999,\"0\"&MasterTable[[#This Row],[Lumen Family]],MasterTable[[#This Row],[Lumen Family]])&\"-\"&MasterTable[[#This Row],[Arrangement]]&\"-xx\"","v":"BXRC-50E10K1-C-xx"},21005.298000000003,{"$f":"MasterTable[[#This Row],[Typical Lumens]]/(MasterTable[[#This Row],[Typical Voltage]]*MasterTable[[#This Row],[Typical Current]]/1000)","v":177},4.1266666666666667E-2,69.400000000000006,1710,3420,456,-9.9999999999999996E-24,6.0000000000000006E-20,-2.9999999999999999E-7,4.4999999999999997E-3,62.55,1.0877999999999999E-11,-9.8527999999999994E-8,7.3035999999999999E-4,-9.9999999999999995E-8,null,null,null,null,null,null,-3.5848E-6,-1.1148865E-3,1.0260294071,null,null,null,null,-60.183,469.14,1276.5,-9.9999999999999995E-8]
["Vero 29-C","50G","C","10K1","BXRC",{"$f":"MasterTable[[#This Row],[Product Family]]&\"-\"&MasterTable[[#This Row],[CCT/CRI]]&MasterTable[[#This Row],[Arrangement]]","v":"Vero 29-C-50GC"},{"$f":"MasterTable[[#This Row],[Generation]]&\"-\"&MasterTable[[#This Row],[CCT/CRI]]&IF(MasterTable[[#This Row],[Lumen Family]]<999,\"0\"&MasterTable[[#This Row],[Lumen Family]],MasterTable[[#This Row],[Lumen Family]])&\"-\"&MasterTable[[#This Row],[Arrangement]]&\"-xx\"","v":"BXRC-50G10K1-C-xx"},18157.122000000003,{"$f":"MasterTable[[#This Row],[Typical Lumens]]/(MasterTable[[#This Row],[Typical Voltage]]*MasterTable[[#This Row],[Typical Current]]/1000)","v":153},4.1266666666666667E-2,69.400000000000006,1710,3420,456,-9.9999999999999996E-24,6.0000000000000006E-20,-2.9999999999999999E-7,4.4999999999999997E-3,62.55,1.0877999999999999E-11,-9.8527999999999994E-8,7.3035999999999999E-4,-9.9999999999999995E-8,null,null,null,null,null,null,-3.5848E-6,-1.1148865E-3,1.0260294071,null,null,null,null,-60.183,469.14,1276.5,-9.9999999999999995E-8]
["Vero 29-C","56G","C","10K1","BXRC",{"$f":"MasterTable[[#This Row],[Product Family]]&\"-\"&MasterTable[[#This Row],[CCT/CRI]]&MasterTable[[#This Row],[Arrangement]]","v":"Vero 29-C-56GC"},{"$f":"MasterTable[[#This Row],[Generation]]&\"-\"&MasterTable[[#This Row],[CCT/CRI]]&IF(MasterTable[[#This Row],[Lumen Family]]<999,\"0\"&MasterTable[[#This Row],[Lumen Family]],MasterTable[[#This Row],[Lumen Family]])&\"-\"&MasterTable[[#This Row],[Arrangement]]&\"-xx\"","v":"BXRC-56G10K1-C-xx"},18275.796000000002,{"$f":"MasterTable[[#This Row],[Typical Lumens]]/(MasterTable[[#This Row],[Typical Voltage]]*MasterTable[[#This Row],[Typical Current]]/1000)","v":154},4.1266666666666667E-2,69.400000000000006,1710,3420,456,-9.9999999999999996E-24,6.0000000000000006E-20,-2.9999999999999999E-7,4.4999999999999997E-3,62.55,1.0877999999999999E-11,-9.8527999999999994E-8,7.3035999999999999E-4,-9.9999999999999995E-8,null,null,null,null,null,null,-3.5848E-6,-1.1148865E-3,1.0260294071,null,null,null,null,-60.183,469.14,1276.5,-9.9999999999999995E-8]
["Vero 29-C","57C","C","10K1","BXRC",{"$f":"MasterTable[[#This Row],[Product Family]]&\"-\"&MasterTable[[#This Row],[CCT/CRI]]&MasterTable[[#This Row],[Arrangement]]","v":"Vero 29-C-57CC"},{"$f":"MasterTable[[#This Row],[Generation]]&\"-\"&MasterTable[[#This Row],[CCT/CRI]]&IF(MasterTable[[#This Row],[Lumen Family]]<999,\"0\"&MasterTable[[#This Row],[Lumen Family]],MasterTable[[#This Row],[Lumen Family]])&\"-\"&MasterTable[[#This Row],[Arrangement]]&\"-xx\"","v":"BXRC-57C10K1-C-xx"},21242.646000000004,{"$f":"MasterTable[[#This Row],[Typical Lumens]]/(MasterTable[[#This Row],[Typical Voltage]]*MasterTable[[#This Row],[Typical Current]]/1000)","v":179},4.1266666666666667E-2,69.400000000000006,1710,3420,456,-9.9999999999999996E-24,6.0000000000000006E-20,-2.9999999999999999E-7,4.4999999999999997E-3,62.55,1.0877999999999999E-11,-9.8527999999999994E-8,7.3035999999999999E-4,-9.9999999999999995E-8,null,null,null,null,null,null,-3.5848E-6,-1.1148865E-3,1.0260294071,null,null,null,null,-60.183,469.14,1276.5,-9.9999999999999995E-8]
["Vero 29-C","57E","C","10K1","BXRC",{"$f":"MasterTable[[#This Row],[Product Family]]&\"-\"&MasterTable[[#This Row],[CCT/CRI]]&MasterTable[[#This Row],[Arrangement]]","v":"Vero 29-C-57EC"},{"$f":"MasterTable[[#This Row],[Generation]]&\"-\"&MasterTable[[#This Row],[CCT/CRI]]&IF(MasterTable[[#This Row],[Lumen Family]]<999,\"0\"&MasterTable[[#This Row],[Lumen Family]],MasterTable[[#This Row],[Lumen Family]])&\"-\"&MasterTable[[#This Row],[Arrangement]]&\"-xx\"","v":"BXRC-57E10K1-C-xx"},20174.580000000002,{"$f":"MasterTable[[#This Row],[Typical Lumens]]/(MasterTable[[#This Row],[Typical Voltage]]*MasterTable[[#This Row],[Typical Current]]/1000)","v":169.99999999999997},4.1266666666666667E-2,69.400000000000006,1710,3420,456,-9.9999999999999996E-24,6.0000000000000006E-20,-2.9999999999999999E-7,4.4999999999999997E-3,62.55,1.0877999999999999E-11,-9.8527999999999994E-8,7.3035999999999999E-4,-9.9999999999999995E-8,null,null,null,null,null,null,-3.5848E-6,-1.1148865E-3,1.0260294071,null,null,null,null,-60.183,469.14,1276.5,-9.9999999999999995E-8]
["Vero 29-C","65C","C","10K1","BXRC",{"$f":"MasterTable[[#This Row],[Product Family]]&\"-\"&MasterTable[[#This Row],[CCT/CRI]]&MasterTable[[#This Row],[Arrangement]]","v":"Vero 29-C-65CC"},{"$f":"MasterTable[[#This Row],[Generation]]&\"-\"&MasterTable[[#This Row],[CCT/CRI]]&IF(MasterTable[[#This Row],[Lumen Family]]<999,\"0\"&MasterTable[[#This Row],[Lumen Family]],MasterTable[[#This Row],[Lumen Family]])&\"-\"&MasterTable[[#This Row],[Arrangement]]&\"-xx\"","v":"BXRC-65C10K1-C-xx"},21242.646000000004,{"$f":"MasterTable[[#This Row],[Typical Lumens]]/(MasterTable[[#This Row],[Typical Voltage]]*MasterTable[[#This Row],[Typical Current]]/1000)","v":179},4.1266666666666667E-2,69.400000000000006,1710,3420,456,-9.9999999999999996E-24,6.0000000000000006E-20,-2.9999999999999999E-7,4.4999999999999997E-3,62.55,1.0877999999999999E-11,-9.8527999999999994E-8,7.3035999999999999E-4,-9.9999999999999995E-8,null,null,null,null,null,null,-3.5848E-6,-1.1148865E-3,1.0260294071,null,null,null,null,-60.183,469.14,1276.5,-9.9999999999999995E-8]
["Vero 29-C","65E","C","10K1","BXRC",{"$f":"MasterTable[[#This Row],[Product Family]]&\"-\"&MasterTable[[#This Row],[CCT/CRI]]&MasterTable[[#This Row],[Arrangement]]","v":"Vero 29-C-65EC"},{"$f":"MasterTable[[#This Row],[Generation]]&\"-\"&MasterTable[[#This Row],[CCT/CRI]]&IF(MasterTable[[#This Row],[Lumen Family]]<999,\"0\"&MasterTable[[#This Row],[Lumen Family]],MasterTable[[#This Row],[Lumen Family]])&\"-\"&MasterTable[[#This Row],[Arrangement]]&\"-xx\"","v":"BXRC-65E10K1-C-xx"},20411.928000000004,{"$f":"MasterTable[[#This Row],[Typical Lumens]]/(MasterTable[[#This Row],[Typical Voltage]]*MasterTable[[#This Row],[Typical Current]]/1000)","v":172},4.1266666666666667E-2,69.400000000000006,1710,3420,456,-9.9999999999999996E-24,6.0000000000000006E-20,-2.9999999999999999E-7,4.4999999999999997E-3,62.55,1.0877999999999999E-11,-9.8527999999999994E-8,7.3035999999999999E-4,-9.9999999999999995E-8,null,null,null,null,null,null,-3.5848E-6,-1.1148865E-3,1.0260294071,null,null,null,null,-60.183,469.14,1276.5,-9.9999999999999995E-8]
["Vero 29-D","30E","D","10K0","BXRC",{"$f":"MasterTable[[#This Row],[Product Family]]&\"-\"&MasterTable[[#This Row],[CCT/CRI]]&MasterTable[[#This Row],[Arrangement]]","v":"Vero 29-D-30ED"},{"$f":"MasterTable[[#This Row],[Generation]]&\"-\"&MasterTable[[#This Row],[CCT/CRI]]&IF(MasterTable[[#This Row],[Lumen Family]]<999,\"0\"&MasterTable[[#This Row],[Lumen Family]],MasterTable[[#This Row],[Lumen Family]])&\"-\"&MasterTable[[#This Row],[Arrangement]]&\"-xx\"","v":"BXRC-30E10K0-D-xx"},13423.199999999999,{"$f":"MasterTable[[#This Row],[Typical Lumens]]/(MasterTable[[#This Row],[Typical Voltage]]*MasterTable[[#This Row],[Typical Current]]/1000)","v":170},6.2849999999999989E-2,37.6,2100,4200,312,null,0,-1.9579999999999999E-7,2.6016281E-3,33.921009404300001,3.5695000000000001E-12,-4.7692000000000001E-8,5.6490000000000002E-4,-9.9999999999999995E-8,null,null,null,null,null,null,-3.6592E-6,-1.0345506E-3,1.0240956264000001,null,null,-0.02,38.5,-21.628,383.61,1719.8,-9.9999999999999995E-8]
["Vero 29-D","17E","D","10K0","BXRC",{"$f":"MasterTable[[#This Row],[Product Family]]&\"-\"&MasterTable[[#This Row],[CCT/CRI]]&MasterTable[[#This Row],[Arrangement]]","v":"Vero 29-D-17ED"},{"$f":"MasterTable[[#This Row],[Generation]]&\"-\"&MasterTable[[#This Row],[CCT/CRI]]&IF(MasterTable[[#This Row],[Lumen Family]]<999,\"0\"&MasterTable[[#This Row],[Lumen Family]],MasterTable[[#This Row],[Lumen Family]])&\"-\"&MasterTable[[#This Row],[Arrangement]]&\"-xx\"","v":"BXRC-17E10K0-D-xx"},7264,{"$f":"MasterTable[[#This Row],[Typical Lumens]]/(MasterTable[[#This Row],[Typical Voltage]]*MasterTable[[#This Row],[Typical Current]]/1000)","v":91.995947315096259},6.2849999999999989E-2,37.6,2100,4200,312,null,0,-1.9579999999999999E-7,2.6016281E-3,33.921009404300001,3.5695000000000001E-12,-4.7692000000000001E-8,5.6490000000000002E-4,-9.9999999999999995E-8,null,null,null,null,null,null,-3.6592E-6,-1.0345506E-3,1.0240956264000001,null,null,null,null,-21.628,383.61,1719.8,-9.9999999999999995E-8]
["Vero 29-D","25E","D","10K0","BXRC",{"$f":"MasterTable[[#This Row],[Product Family]]&\"-\"&MasterTable[[#This Row],[CCT/CRI]]&MasterTable[[#This Row],[Arrangement]]","v":"Vero 29-D-25ED"},{"$f":"MasterTable[[#This Row],[Generation]]&\"-\"&MasterTable[[#This Row],[CCT/CRI]]&IF(MasterTable[[#This Row],[Lumen Family]]<999,\"0\"&MasterTable[[#This Row],[Lumen Family]],MasterTable[[#This Row],[Lumen Family]])&\"-\"&MasterTable[[#This Row],[Arrangement]]&\"-xx\"","v":"BXRC-25E10K0-D-xx"},12080.88,{"$f":"MasterTable[[#This Row],[Typical Lumens]]/(MasterTable[[#This Row],[Typical Voltage]]*MasterTable[[#This Row],[Typical Current]]/1000)","v":153},6.2849999999999989E-2,37.6,2100,4200,312,null,0,-1.9579999999999999E-7,2.6016281E-3,33.921009404300001,3.5695000000000001E-12,-4.7692000000000001E-8,5.6490000000000002E-4,-9.9999999999999995E-8,null,null,null,null,null,null,-3.6592E-6,-1.0345506E-3,1.0240956264000001,null,null,null,null,-21.628,383.61,1719.8,-9.9999999999999995E-8]
["Vero 29-D","27E","D","10K0","BXRC",{"$f":"MasterTable[[#This Row],[Product Family]]&\"-\"&MasterTable[[#This Row],[CCT/CRI]]&MasterTable[[#This Row],[Arrangement]]","v":"Vero 29-D-27ED"},{"$f":"MasterTable[[#This Row],[Generation]]&\"-\"&MasterTable[[#This Row],[CCT/CRI]]&IF(MasterTable[[#This Row],[Lumen Family]]<999,\"0\"&MasterTable[[#This Row],[Lumen Family]],MasterTable[[#This Row],[Lumen Family]])&\"-\"&MasterTable[[#This Row],[Arrangement]]&\"-xx\"","v":"BXRC-27E10K0-D-xx"},12633.599999999999,{"$f":"MasterTable[[#This Row],[Typical Lumens]]/(MasterTable[[#This Row],[Typical Voltage]]*MasterTable[[#This Row],[Typical Current]]/1000)","v":160},6.2849999999999989E-2,37.6,2100,4200,312,null,0,-1.9579999999999999E-7,2.6016281E-3,33.921009404300001,3.5695000000000001E-12,-4.7692000000000001E-8,5.6490000000000002E-4,-9.9999999999999995E-8,null,null,null,null,null,null,-3.6592E-6,-1.0345506E-3,1.0240956264000001,null,null,-0.02,38.5,-21.628,383.61,1719.8,-9.9999999999999995E-8]
["Vero 29-D","27G","D","10K0","BXRC",{"$f":"MasterTable[[#This Row],[Product Family]]&\"-\"&MasterTable[[#This Row],[CCT/CRI]]&MasterTable[[#This Row],[Arrangement]]","v":"Vero 29-D-27GD"},{"$f":"MasterTable[[#This Row],[Generation]]&\"-\"&MasterTable[[#This Row],[CCT/CRI]]&IF(MasterTable[[#This Row],[Lumen Family]]<999,\"0\"&MasterTable[[#This Row],[Lumen Family]],MasterTable[[#This Row],[Lumen Family]])&\"-\"&MasterTable[[#This Row],[Arrangement]]&\"-xx\"","v":"BXRC-27G10K0-D-xx"},10423,{"$f":"MasterTable[[#This Row],[Typical Lumens]]/(MasterTable[[#This Row],[Typical Voltage]]*MasterTable[[#This Row],[Typical Current]]/1000)","v":132.00354609929079},6.2849999999999989E-2,37.6,2100,4200,312,null,0,-1.9579999999999999E-7,2.6016281E-3,33.921009404300001,3.5695000000000001E-12,-4.7692000000000001E-8,5.6490000000000002E-4,-9.9999999999999995E-8,null,null,null,null,null,null,-3.6592E-6,-1.0345506E-3,1.0240956264000001,null,null,-0.02,38.5,-21.628,383.61,1719.8,-9.9999999999999995E-8,"y = 582.55x2 + 1496.2x - 119.35"]
["Vero 29-D","27H","D","10K0","BXRC",{"$f":"MasterTable[[#This Row],[Product Family]]&\"-\"&MasterTable[[#This Row],[CCT/CRI]]&MasterTable[[#This Row],[Arrangement]]","v":"Vero 29-D-27HD"},{"$f":"MasterTable[[#This Row],[Generation]]&\"-\"&MasterTable[[#This Row],[CCT/CRI]]&IF(MasterTable[[#This Row],[Lumen Family]]<999,\"0\"&MasterTable[[#This Row],[Lumen Family]],MasterTable[[#This Row],[Lumen Family]])&\"-\"&MasterTable[[#This Row],[Arrangement]]&\"-xx\"","v":"BXRC-27H10K0-D-xx"},9243,{"$f":"MasterTable[[#This Row],[Typical Lumens]]/(MasterTable[[#This Row],[Typical Voltage]]*MasterTable[[#This Row],[Typical Current]]/1000)","v":117.05927051671733},6.2849999999999989E-2,37.6,2100,{"$f":"L730*2","v":4200},312,null,0,-1.9579999999999999E-7,2.6016281E-3,33.921009404300001,3.5695000000000001E-12,-4.7692000000000001E-8,5.6490000000000002E-4,-9.9999999999999995E-8,null,null,null,null,null,null,-3.6592E-6,-1.0345506E-3,1.0240956264000001,null,null,null,null,-21.628,383.61,1719.8,-9.9999999999999995E-8]
["Vero 29-D","27G-H","D","1KH0","BXRC",{"$f":"MasterTable[[#This Row],[Product Family]]&\"-\"&MasterTable[[#This Row],[CCT/CRI]]&MasterTable[[#This Row],[Arrangement]]","v":"Vero 29-D-27G-HD"},"BXRC-27G-1KH0-D-xx",10818,{"$f":"MasterTable[[#This Row],[Typical Lumens]]/(MasterTable[[#This Row],[Typical Voltage]]*MasterTable[[#This Row],[Typical Current]]/1000)","v":137.00607902735564},6.2849999999999989E-2,37.6,2100,{"$f":"L731*2","v":4200},312,null,0,-1.9579999999999999E-7,2.6016281E-3,33.921009404300001,3.5695000000000001E-12,-4.7692000000000001E-8,5.6490000000000002E-4,-9.9999999999999995E-8,null,null,null,null,null,null,-3.6592E-6,-1.0345506E-3,1.0240956264000001,null,null,null,null,-21.628,383.61,1719.8,-9.9999999999999995E-8]
["Vero 29-D","30G-H","D","1KH0","BXRC",{"$f":"MasterTable[[#This Row],[Product Family]]&\"-\"&MasterTable[[#This Row],[CCT/CRI]]&MasterTable[[#This Row],[Arrangement]]","v":"Vero 29-D-30G-HD"},"BXRC-30G-1KH0-D-xx",11370,{"$f":"MasterTable[[#This Row],[Typical Lumens]]/(MasterTable[[#This Row],[Typical Voltage]]*MasterTable[[#This Row],[Typical Current]]/1000)","v":143.99696048632219},6.2849999999999989E-2,37.6,2100,{"$f":"L732*2","v":4200},312,null,0,-1.9579999999999999E-7,2.6016281E-3,33.921009404300001,3.5695000000000001E-12,-4.7692000000000001E-8,5.6490000000000002E-4,-9.9999999999999995E-8,null,null,null,null,null,null,-3.6592E-6,-1.0345506E-3,1.0240956264000001,null,null,null,null,-21.628,383.61,1719.8,-9.9999999999999995E-8]
["Vero 29-D","30C","D","10K1","BXRC",{"$f":"MasterTable[[#This Row],[Product Family]]&\"-\"&MasterTable[[#This Row],[CCT/CRI]]&MasterTable[[#This Row],[Arrangement]]","v":"Vero 29-D-30CD"},{"$f":"MasterTable[[#This Row],[Generation]]&\"-\"&MasterTable[[#This Row],[CCT/CRI]]&IF(MasterTable[[#This Row],[Lumen Family]]<999,\"0\"&MasterTable[[#This Row],[Lumen Family]],MasterTable[[#This Row],[Lumen Family]])&\"-\"&MasterTable[[#This Row],[Arrangement]]&\"-xx\"","v":"BXRC-30C10K1-D-xx"},14055,{"$f":"MasterTable[[#This Row],[Typical Lumens]]/(MasterTable[[#This Row],[Typical Voltage]]*MasterTable[[#This Row],[Typical Current]]/1000)","v":178.00151975683892},6.2849999999999989E-2,37.6,2100,{"$f":"L733*2","v":4200},312,null,0,-1.9579999999999999E-7,2.6016281E-3,33.921009404300001,3.5695000000000001E-12,-4.7692000000000001E-8,5.6490000000000002E-4,-9.9999999999999995E-8,null,null,null,null,null,null,-3.6592E-6,-1.0345506E-3,1.0240956264000001,null,null,null,null,-21.628,383.61,1719.8,-9.9999999999999995E-8]
["Vero 29-D","30G","D","10K0","BXRC",{"$f":"MasterTable[[#This Row],[Product Family]]&\"-\"&MasterTable[[#This Row],[CCT/CRI]]&MasterTable[[#This Row],[Arrangement]]","v":"Vero 29-D-30GD"},{"$f":"MasterTable[[#This Row],[Generation]]&\"-\"&MasterTable[[#This Row],[CCT/CRI]]&IF(MasterTable[[#This Row],[Lumen Family]]<999,\"0\"&MasterTable[[#This Row],[Lumen Family]],MasterTable[[#This Row],[Lumen Family]])&\"-\"&MasterTable[[#This Row],[Arrangement]]&\"-xx\"","v":"BXRC-30G10K0-D-xx"},10896,{"$f":"MasterTable[[#This Row],[Typical Lumens]]/(MasterTable[[#This Row],[Typical Voltage]]*MasterTable[[#This Row],[Typical Current]]/1000)","v":137.99392097264439},6.2849999999999989E-2,37.6,2100,4200,312,null,0,-1.9579999999999999E-7,2.6016281E-3,33.921009404300001,3.5695000000000001E-12,-4.7692000000000001E-8,5.6490000000000002E-4,-9.9999999999999995E-8,null,null,null,null,null,null,-3.6592E-6,-1.0345506E-3,1.0240956264000001,null,null,-0.02,38.5,-21.628,383.61,1719.8,-9.9999999999999995E-8,null,"y = 582.5493755013x2 + 1,496.1696505998x - 119.3497926181"]
["Vero 29-D","20B","D","10K1","BXRC",{"$f":"MasterTable[[#This Row],[Product Family]]&\"-\"&MasterTable[[#This Row],[CCT/CRI]]&MasterTable[[#This Row],[Arrangement]]","v":"Vero 29-D-20BD"},{"$f":"MasterTable[[#This Row],[Generation]]&\"-\"&MasterTable[[#This Row],[CCT/CRI]]&IF(MasterTable[[#This Row],[Lumen Family]]<999,\"0\"&MasterTable[[#This Row],[Lumen Family]],MasterTable[[#This Row],[Lumen Family]])&\"-\"&MasterTable[[#This Row],[Arrangement]]&\"-xx\"","v":"BXRC-20B10K1-D-xx"},12396.72,{"$f":"MasterTable[[#This Row],[Typical Lumens]]/(MasterTable[[#This Row],[Typical Voltage]]*MasterTable[[#This Row],[Typical Current]]/1000)","v":157},6.2849999999999989E-2,37.6,2100,4200,312,null,0,-1.9579999999999999E-7,2.6016281E-3,33.921009404300001,3.5695000000000001E-12,-4.7692000000000001E-8,5.6490000000000002E-4,-9.9999999999999995E-8,null,null,null,null,null,null,-3.6592E-6,-1.0345506E-3,1.0240956264000001,null,null,-0.02,38.5,-21.628,383.61,1719.8,-9.9999999999999995E-8]
["Vero 29-D","30A","D","10K1","BXRC",{"$f":"MasterTable[[#This Row],[Product Family]]&\"-\"&MasterTable[[#This Row],[CCT/CRI]]&MasterTable[[#This Row],[Arrangement]]","v":"Vero 29-D-30AD"},{"$f":"MasterTable[[#This Row],[Generation]]&\"-\"&MasterTable[[#This Row],[CCT/CRI]]&IF(MasterTable[[#This Row],[Lumen Family]]<999,\"0\"&MasterTable[[#This Row],[Lumen Family]],MasterTable[[#This Row],[Lumen Family]])&\"-\"&MasterTable[[#This Row],[Arrangement]]&\"-xx\"","v":"BXRC-30A10K1-D-xx"},9791.0399999999991,{"$f":"MasterTable[[#This Row],[Typical Lumens]]/(MasterTable[[#This Row],[Typical Voltage]]*MasterTable[[#This Row],[Typical Current]]/1000)","v":124},6.2849999999999989E-2,37.6,2100,4200,312,null,0,-1.9579999999999999E-7,2.6016281E-3,33.921009404300001,3.5695000000000001E-12,-4.7692000000000001E-8,5.6490000000000002E-4,-9.9999999999999995E-8,null,null,null,null,null,null,-3.6592E-6,-1.0345506E-3,1.0240956264000001,null,null,-0.02,38.5,-21.628,383.61,1719.8,-9.9999999999999995E-8]
["Vero 29-D","30H","D","10K0","BXRC",{"$f":"MasterTable[[#This Row],[Product Family]]&\"-\"&MasterTable[[#This Row],[CCT/CRI]]&MasterTable[[#This Row],[Arrangement]]","v":"Vero 29-D-30HD"},{"$f":"MasterTable[[#This Row],[Generation]]&\"-\"&MasterTable[[#This Row],[CCT/CRI]]&IF(MasterTable[[#This Row],[Lumen Family]]<999,\"0\"&MasterTable[[#This Row],[Lumen Family]],MasterTable[[#This Row],[Lumen Family]])&\"-\"&MasterTable[[#This Row],[Arrangement]]&\"-xx\"","v":"BXRC-30H10K0-D-xx"},9870,{"$f":"MasterTable[[#This Row],[Typical Lumens]]/(MasterTable[[#This Row],[Typical Voltage]]*MasterTable[[#This Row],[Typical Current]]/1000)","v":125.00000000000001},6.2849999999999989E-2,37.6,2100,4200,312,null,0,-1.9579999999999999E-7,2.6016281E-3,33.921009404300001,3.5695000000000001E-12,-4.7692000000000001E-8,5.6490000000000002E-4,-9.9999999999999995E-8,null,null,null,null,null,null,-3.6592E-6,-1.0345506E-3,1.0240956264000001,null,null,null,null,-21.628,383.61,1719.8,-9.9999999999999995E-8]
["Vero 29-D","35E","D","10K0","BXRC",{"$f":"MasterTable[[#This Row],[Product Family]]&\"-\"&MasterTable[[#This Row],[CCT/CRI]]&MasterTable[[#This Row],[Arrangement]]","v":"Vero 29-D-35ED"},{"$f":"MasterTable[[#This Row],[Generation]]&\"-\"&MasterTable[[#This Row],[CCT/CRI]]&IF(MasterTable[[#This Row],[Lumen Family]]<999,\"0\"&MasterTable[[#This Row],[Lumen Family]],MasterTable[[#This Row],[Lumen Family]])&\"-\"&MasterTable[[#This Row],[Arrangement]]&\"-xx\"","v":"BXRC-35E10K0-D-xx"},13739.039999999999,{"$f":"MasterTable[[#This Row],[Typical Lumens]]/(MasterTable[[#This Row],[Typical Voltage]]*MasterTable[[#This Row],[Typical Current]]/1000)","v":174},6.2849999999999989E-2,37.6,2100,4200,312,null,0,-1.9579999999999999E-7,2.6016281E-3,33.921009404300001,3.5695000000000001E-12,-4.7692000000000001E-8,5.6490000000000002E-4,-9.9999999999999995E-8,null,null,null,null,null,null,-3.5848E-6,-1.1148865E-3,1.0260294071,null,null,-0.02,38.5,-21.628,383.61,1719.8,-9.9999999999999995E-8]
["Vero 29-D","35G","D","10K0","BXRC",{"$f":"MasterTable[[#This Row],[Product Family]]&\"-\"&MasterTable[[#This Row],[CCT/CRI]]&MasterTable[[#This Row],[Arrangement]]","v":"Vero 29-D-35GD"},{"$f":"MasterTable[[#This Row],[Generation]]&\"-\"&MasterTable[[#This Row],[CCT/CRI]]&IF(MasterTable[[#This Row],[Lumen Family]]<999,\"0\"&MasterTable[[#This Row],[Lumen Family]],MasterTable[[#This Row],[Lumen Family]])&\"-\"&MasterTable[[#This Row],[Arrangement]]&\"-xx\"","v":"BXRC-35G10K0-D-xx"},11291.279999999999,{"$f":"MasterTable[[#This Row],[Typical Lumens]]/(MasterTable[[#This Row],[Typical Voltage]]*MasterTable[[#This Row],[Typical Current]]/1000)","v":143},6.2849999999999989E-2,37.6,2100,4200,312,null,0,-1.9579999999999999E-7,2.6016281E-3,33.921009404300001,3.5695000000000001E-12,-4.7692000000000001E-8,5.6490000000000002E-4,-9.9999999999999995E-8,null,null,null,null,null,null,-3.5848E-6,-1.1148865E-3,1.0260294071,null,null,null,null,-21.628,383.61,1719.8,-9.9999999999999995E-8,null,"y = 251.49x2 + 1811.2x + 38.396"]
["Vero 29-D","35A","D","10K1","BXRC",{"$f":"MasterTable[[#This Row],[Product Family]]&\"-\"&MasterTable[[#This Row],[CCT/CRI]]&MasterTable[[#This Row],[Arrangement]]","v":"Vero 29-D-35AD"},{"$f":"MasterTable[[#This Row],[Generation]]&\"-\"&MasterTable[[#This Row],[CCT/CRI]]&IF(MasterTable[[#This Row],[Lumen Family]]<999,\"0\"&MasterTable[[#This Row],[Lumen Family]],MasterTable[[#This Row],[Lumen Family]])&\"-\"&MasterTable[[#This Row],[Arrangement]]&\"-xx\"","v":"BXRC-35A10K1-D-xx"},10422.719999999999,{"$f":"MasterTable[[#This Row],[Typical Lumens]]/(MasterTable[[#This Row],[Typical Voltage]]*MasterTable[[#This Row],[Typical Current]]/1000)","v":132},6.2849999999999989E-2,37.6,2100,4200,312,null,0,-1.9579999999999999E-7,2.6016281E-3,33.921009404300001,3.5695000000000001E-12,-4.7692000000000001E-8,5.6490000000000002E-4,-9.9999999999999995E-8,null,null,null,null,null,null,-3.5848E-6,-1.1148865E-3,1.0260294071,null,null,null,null,-21.628,383.61,1719.8,-9.9999999999999995E-8,null,"y = 251.49x2 + 1811.2x + 38.396"]
["Vero 29-D","40C","D","10K1","BXRC",{"$f":"MasterTable[[#This Row],[Product Family]]&\"-\"&MasterTable[[#This Row],[CCT/CRI]]&MasterTable[[#This Row],[Arrangement]]","v":"Vero 29-D-40CD"},{"$f":"MasterTable[[#This Row],[Generation]]&\"-\"&MasterTable[[#This Row],[CCT/CRI]]&IF(MasterTable[[#This Row],[Lumen Family]]<999,\"0\"&MasterTable[[#This Row],[Lumen Family]],MasterTable[[#This Row],[Lumen Family]])&\"-\"&MasterTable[[#This Row],[Arrangement]]&\"-xx\"","v":"BXRC-40C10K1-D-xx"},14450,{"$f":"MasterTable[[#This Row],[Typical Lumens]]/(MasterTable[[#This Row],[Typical Voltage]]*MasterTable[[#This Row],[Typical Current]]/1000)","v":183.00405268490377},6.2849999999999989E-2,37.6,2100,4200,312,null,0,-1.9579999999999999E-7,2.6016281E-3,33.921009404300001,3.5695000000000001E-12,-4.7692000000000001E-8,5.6490000000000002E-4,-9.9999999999999995E-8,null,null,null,null,null,null,-3.5848E-6,-1.1148865E-3,1.0260294071,null,null,null,null,-21.628,383.61,1719.8,-9.9999999999999995E-8]
["Vero 29-D","40E","D","10K0","BXRC",{"$f":"MasterTable[[#This Row],[Product Family]]&\"-\"&MasterTable[[#This Row],[CCT/CRI]]&MasterTable[[#This Row],[Arrangement]]","v":"Vero 29-D-40ED"},{"$f":"MasterTable[[#This Row],[Generation]]&\"-\"&MasterTable[[#This Row],[CCT/CRI]]&IF(MasterTable[[#This Row],[Lumen Family]]<999,\"0\"&MasterTable[[#This Row],[Lumen Family]],MasterTable[[#This Row],[Lumen Family]])&\"-\"&MasterTable[[#This Row],[Arrangement]]&\"-xx\"","v":"BXRC-40E10K0-D-xx"},13817.999999999998,{"$f":"MasterTable[[#This Row],[Typical Lumens]]/(MasterTable[[#This Row],[Typical Voltage]]*MasterTable[[#This Row],[Typical Current]]/1000)","v":175},6.2849999999999989E-2,37.6,2100,4200,312,null,0,-1.9579999999999999E-7,2.6016281E-3,33.921009404300001,3.5695000000000001E-12,-4.7692000000000001E-8,5.6490000000000002E-4,-9.9999999999999995E-8,null,null,null,null,null,null,-3.5848E-6,-1.1148865E-3,1.0260294071,null,null,-0.02,38.5,-21.628,383.61,1719.8,-9.9999999999999995E-8]
["Vero 29-D","40G","D","10K0","BXRC",{"$f":"MasterTable[[#This Row],[Product Family]]&\"-\"&MasterTable[[#This Row],[CCT/CRI]]&MasterTable[[#This Row],[Arrangement]]","v":"Vero 29-D-40GD"},{"$f":"MasterTable[[#This Row],[Generation]]&\"-\"&MasterTable[[#This Row],[CCT/CRI]]&IF(MasterTable[[#This Row],[Lumen Family]]<999,\"0\"&MasterTable[[#This Row],[Lumen Family]],MasterTable[[#This Row],[Lumen Family]])&\"-\"&MasterTable[[#This Row],[Arrangement]]&\"-xx\"","v":"BXRC-40G10K0-D-xx"},11528.16,{"$f":"MasterTable[[#This Row],[Typical Lumens]]/(MasterTable[[#This Row],[Typical Voltage]]*MasterTable[[#This Row],[Typical Current]]/1000)","v":146},6.2849999999999989E-2,37.6,2100,4200,312,null,0,-1.9579999999999999E-7,2.6016281E-3,33.921009404300001,3.5695000000000001E-12,-4.7692000000000001E-8,5.6490000000000002E-4,-9.9999999999999995E-8,null,null,null,null,null,null,-3.5848E-6,-1.1148865E-3,1.0260294071,null,null,null,null,-21.628,383.61,1719.8,-9.9999999999999995E-8]
["Vero 29-D","40A","D","10K0","BXRC",{"$f":"MasterTable[[#This Row],[Product Family]]&\"-\"&MasterTable[[#This Row],[CCT/CRI]]&MasterTable[[#This Row],[Arrangement]]","v":"Vero 29-D-40AD"},{"$f":"MasterTable[[#This Row],[Generation]]&\"-\"&MasterTable[[#This Row],[CCT/CRI]]&IF(MasterTable[[#This Row],[Lumen Family]]<999,\"0\"&MasterTable[[#This Row],[Lumen Family]],MasterTable[[#This Row],[Lumen Family]])&\"-\"&MasterTable[[#This Row],[Arrangement]]&\"-xx\"","v":"BXRC-40A10K0-D-xx"},11291.279999999999,{"$f":"MasterTable[[#This Row],[Typical Lumens]]/(MasterTable[[#This Row],[Typical Voltage]]*MasterTable[[#This Row],[Typical Current]]/1000)","v":143},6.2849999999999989E-2,37.6,2100,4200,312,null,0,-1.9579999999999999E-7,2.6016281E-3,33.921009404300001,3.5695000000000001E-12,-4.7692000000000001E-8,5.6490000000000002E-4,-9.9999999999999995E-8,null,null,null,null,null,null,-3.5848E-6,-1.1148865E-3,1.0260294071,null,null,null,null,-21.628,383.61,1719.8,-9.9999999999999995E-8]
["Vero 29-D","50C","D","10K1","BXRC",{"$f":"MasterTable[[#This Row],[Product Family]]&\"-\"&MasterTable[[#This Row],[CCT/CRI]]&MasterTable[[#This Row],[Arrangement]]","v":"Vero 29-D-50CD"},{"$f":"MasterTable[[#This Row],[Generation]]&\"-\"&MasterTable[[#This Row],[CCT/CRI]]&IF(MasterTable[[#This Row],[Lumen Family]]<999,\"0\"&MasterTable[[#This Row],[Lumen Family]],MasterTable[[#This Row],[Lumen Family]])&\"-\"&MasterTable[[#This Row],[Arrangement]]&\"-xx\"","v":"BXRC-50C10K1-D-xx"},14529,{"$f":"MasterTable[[#This Row],[Typical Lumens]]/(MasterTable[[#This Row],[Typical Voltage]]*MasterTable[[#This Row],[Typical Current]]/1000)","v":184.00455927051672},6.2850000000000003E-2,37.6,2100,4200,312,null,0,-1.9579999999999999E-7,2.6016281E-3,33.921009404300001,3.5695000000000001E-12,-4.7692000000000001E-8,5.6490000000000002E-4,-9.9999999999999995E-8,null,null,null,null,null,null,-6.9999999999999999E-6,-1E-3,1.0237000000000001,null,null,-0.02,38.5,-21.628,383.61,1719.8,-9.9999999999999995E-8]
["Vero 29-D","50E","D","10K1","BXRC",{"$f":"MasterTable[[#This Row],[Product Family]]&\"-\"&MasterTable[[#This Row],[CCT/CRI]]&MasterTable[[#This Row],[Arrangement]]","v":"Vero 29-D-50ED"},{"$f":"MasterTable[[#This Row],[Generation]]&\"-\"&MasterTable[[#This Row],[CCT/CRI]]&IF(MasterTable[[#This Row],[Lumen Family]]<999,\"0\"&MasterTable[[#This Row],[Lumen Family]],MasterTable[[#This Row],[Lumen Family]])&\"-\"&MasterTable[[#This Row],[Arrangement]]&\"-xx\"","v":"BXRC-50E10K1-D-xx"},13976,{"$f":"MasterTable[[#This Row],[Typical Lumens]]/(MasterTable[[#This Row],[Typical Voltage]]*MasterTable[[#This Row],[Typical Current]]/1000)","v":177.00101317122596},6.2849999999999989E-2,37.6,2100,4200,312,null,0,-1.9579999999999999E-7,2.6016281E-3,33.921009404300001,3.5695000000000001E-12,-4.7692000000000001E-8,5.6490000000000002E-4,-9.9999999999999995E-8,null,null,null,null,null,null,-6.9999999999999999E-6,-1E-3,1.0237000000000001,null,null,-0.02,38.5,-21.628,383.61,1719.8,-9.9999999999999995E-8]
["Vero 29-D","50G","D","10K1","BXRC",{"$f":"MasterTable[[#This Row],[Product Family]]&\"-\"&MasterTable[[#This Row],[CCT/CRI]]&MasterTable[[#This Row],[Arrangement]]","v":"Vero 29-D-50GD"},{"$f":"MasterTable[[#This Row],[Generation]]&\"-\"&MasterTable[[#This Row],[CCT/CRI]]&IF(MasterTable[[#This Row],[Lumen Family]]<999,\"0\"&MasterTable[[#This Row],[Lumen Family]],MasterTable[[#This Row],[Lumen Family]])&\"-\"&MasterTable[[#This Row],[Arrangement]]&\"-xx\"","v":"BXRC-50G10K1-D-xx"},12080.88,{"$f":"MasterTable[[#This Row],[Typical Lumens]]/(MasterTable[[#This Row],[Typical Voltage]]*MasterTable[[#This Row],[Typical Current]]/1000)","v":153},6.2849999999999989E-2,37.6,2100,4200,312,null,0,-1.9579999999999999E-7,2.6016281E-3,33.921009404300001,3.5695000000000001E-12,-4.7692000000000001E-8,5.6490000000000002E-4,-9.9999999999999995E-8,null,null,null,null,null,null,-6.9999999999999999E-6,-1E-3,1.0237000000000001,null,null,null,null,-21.628,383.61,1719.8,-9.9999999999999995E-8]
["Vero 29-D","56G","D","10K1","BXRC",{"$f":"MasterTable[[#This Row],[Product Family]]&\"-\"&MasterTable[[#This Row],[CCT/CRI]]&MasterTable[[#This Row],[Arrangement]]","v":"Vero 29-D-56GD"},{"$f":"MasterTable[[#This Row],[Generation]]&\"-\"&MasterTable[[#This Row],[CCT/CRI]]&IF(MasterTable[[#This Row],[Lumen Family]]<999,\"0\"&MasterTable[[#This Row],[Lumen Family]],MasterTable[[#This Row],[Lumen Family]])&\"-\"&MasterTable[[#This Row],[Arrangement]]&\"-xx\"","v":"BXRC-56G10K1-D-xx"},12159.839999999998,{"$f":"MasterTable[[#This Row],[Typical Lumens]]/(MasterTable[[#This Row],[Typical Voltage]]*MasterTable[[#This Row],[Typical Current]]/1000)","v":154},6.2849999999999989E-2,37.6,2100,4200,312,null,0,-1.9579999999999999E-7,2.6016281E-3,33.921009404300001,3.5695000000000001E-12,-4.7692000000000001E-8,5.6490000000000002E-4,-9.9999999999999995E-8,null,null,null,null,null,null,-6.9999999999999999E-6,-1E-3,1.0237000000000001,null,null,null,null,-21.628,383.61,1719.8,-9.9999999999999995E-8]
["Vero 29-D","56H","D","10K1","BXRC",{"$f":"MasterTable[[#This Row],[Product Family]]&\"-\"&MasterTable[[#This Row],[CCT/CRI]]&MasterTable[[#This Row],[Arrangement]]","v":"Vero 29-D-56HD"},{"$f":"MasterTable[[#This Row],[Generation]]&\"-\"&MasterTable[[#This Row],[CCT/CRI]]&IF(MasterTable[[#This Row],[Lumen Family]]<999,\"0\"&MasterTable[[#This Row],[Lumen Family]],MasterTable[[#This Row],[Lumen Family]])&\"-\"&MasterTable[[#This Row],[Arrangement]]&\"-xx\"","v":"BXRC-56H10K1-D-xx"},10975.439999999999,{"$f":"MasterTable[[#This Row],[Typical Lumens]]/(MasterTable[[#This Row],[Typical Voltage]]*MasterTable[[#This Row],[Typical Current]]/1000)","v":139},6.2849999999999989E-2,37.6,2100,{"$f":"L749*2","v":4200},312,null,0,-1.9579999999999999E-7,2.6016281E-3,33.921009404300001,3.5695000000000001E-12,-4.7692000000000001E-8,5.6490000000000002E-4,-9.9999999999999995E-8,null,null,null,null,null,null,-6.9999999999999999E-6,-1E-3,1.0237000000000001,null,null,null,null,-21.628,383.61,1719.8,-9.9999999999999995E-8]
["Vero 29-D","57C","D","10K1","BXRC",{"$f":"MasterTable[[#This Row],[Product Family]]&\"-\"&MasterTable[[#This Row],[CCT/CRI]]&MasterTable[[#This Row],[Arrangement]]","v":"Vero 29-D-57CD"},{"$f":"MasterTable[[#This Row],[Generation]]&\"-\"&MasterTable[[#This Row],[CCT/CRI]]&IF(MasterTable[[#This Row],[Lumen Family]]<999,\"0\"&MasterTable[[#This Row],[Lumen Family]],MasterTable[[#This Row],[Lumen Family]])&\"-\"&MasterTable[[#This Row],[Arrangement]]&\"-xx\"","v":"BXRC-57C10K1-D-xx"},14133.839999999998,{"$f":"MasterTable[[#This Row],[Typical Lumens]]/(MasterTable[[#This Row],[Typical Voltage]]*MasterTable[[#This Row],[Typical Current]]/1000)","v":179},6.2850000000000003E-2,37.6,2100,4200,312,null,0,-1.9579999999999999E-7,2.6016281E-3,33.921009404300001,3.5695000000000001E-12,-4.7692000000000001E-8,5.6490000000000002E-4,-9.9999999999999995E-8,null,null,null,null,null,null,-6.9999999999999999E-6,-1E-3,1.0237000000000001,null,null,null,null,-21.628,383.61,1719.8,-9.9999999999999995E-8]
["Vero 29-D","57E","D","10K1","BXRC",{"$f":"MasterTable[[#This Row],[Product Family]]&\"-\"&MasterTable[[#This Row],[CCT/CRI]]&MasterTable[[#This Row],[Arrangement]]","v":"Vero 29-D-57ED"},{"$f":"MasterTable[[#This Row],[Generation]]&\"-\"&MasterTable[[#This Row],[CCT/CRI]]&IF(MasterTable[[#This Row],[Lumen Family]]<999,\"0\"&MasterTable[[#This Row],[Lumen Family]],MasterTable[[#This Row],[Lumen Family]])&\"-\"&MasterTable[[#This Row],[Arrangement]]&\"-xx\"","v":"BXRC-57E10K1-D-xx"},13423.199999999999,{"$f":"MasterTable[[#This Row],[Typical Lumens]]/(MasterTable[[#This Row],[Typical Voltage]]*MasterTable[[#This Row],[Typical Current]]/1000)","v":170},6.2849999999999989E-2,37.6,2100,4200,312,null,0,-1.9579999999999999E-7,2.6016281E-3,33.921009404300001,3.5695000000000001E-12,-4.7692000000000001E-8,5.6490000000000002E-4,-9.9999999999999995E-8,null,null,null,null,null,null,-6.9999999999999999E-6,-1E-3,1.0237000000000001,null,null,null,null,-21.628,383.61,1719.8,-9.9999999999999995E-8]
["Vero 29-D","65C","D","10K1","BXRC",{"$f":"MasterTable[[#This Row],[Product Family]]&\"-\"&MasterTable[[#This Row],[CCT/CRI]]&MasterTable[[#This Row],[Arrangement]]","v":"Vero 29-D-65CD"},{"$f":"MasterTable[[#This Row],[Generation]]&\"-\"&MasterTable[[#This Row],[CCT/CRI]]&IF(MasterTable[[#This Row],[Lumen Family]]<999,\"0\"&MasterTable[[#This Row],[Lumen Family]],MasterTable[[#This Row],[Lumen Family]])&\"-\"&MasterTable[[#This Row],[Arrangement]]&\"-xx\"","v":"BXRC-65C10K1-D-xx"},14133.839999999998,{"$f":"MasterTable[[#This Row],[Typical Lumens]]/(MasterTable[[#This Row],[Typical Voltage]]*MasterTable[[#This Row],[Typical Current]]/1000)","v":179},6.2849999999999989E-2,37.6,2100,4200,312,null,0,-1.9579999999999999E-7,2.6016281E-3,33.921009404300001,3.5695000000000001E-12,-4.7692000000000001E-8,5.6490000000000002E-4,-9.9999999999999995E-8,null,null,null,null,null,null,-6.9999999999999999E-6,-1E-3,1.0237000000000001,null,null,null,null,-21.628,383.61,1719.8,-9.9999999999999995E-8]
["Vero 29-D","65E","D","10K1","BXRC",{"$f":"MasterTable[[#This Row],[Product Family]]&\"-\"&MasterTable[[#This Row],[CCT/CRI]]&MasterTable[[#This Row],[Arrangement]]","v":"Vero 29-D-65ED"},{"$f":"MasterTable[[#This Row],[Generation]]&\"-\"&MasterTable[[#This Row],[CCT/CRI]]&IF(MasterTable[[#This Row],[Lumen Family]]<999,\"0\"&MasterTable[[#This Row],[Lumen Family]],MasterTable[[#This Row],[Lumen Family]])&\"-\"&MasterTable[[#This Row],[Arrangement]]&\"-xx\"","v":"BXRC-65E10K1-D-xx"},13581.119999999999,{"$f":"MasterTable[[#This Row],[Typical Lumens]]/(MasterTable[[#This Row],[Typical Voltage]]*MasterTable[[#This Row],[Typical Current]]/1000)","v":172},6.2849999999999989E-2,37.6,2100,4200,312,null,0,-1.9579999999999999E-7,2.6016281E-3,33.921009404300001,3.5695000000000001E-12,-4.7692000000000001E-8,5.6490000000000002E-4,-9.9999999999999995E-8,null,null,null,null,null,null,-6.9999999999999999E-6,-1E-3,1.0237000000000001,null,null,null,null,-21.628,383.61,1719.8,-9.9999999999999995E-8]
["V4 HD","27E","A","0600","BXRH",{"$f":"MasterTable[[#This Row],[Product Family]]&\"-\"&MasterTable[[#This Row],[CCT/CRI]]&MasterTable[[#This Row],[Arrangement]]","v":"V4 HD-27EA"},{"$f":"MasterTable[[#This Row],[Generation]]&\"-\"&MasterTable[[#This Row],[CCT/CRI]]&IF(MasterTable[[#This Row],[Lumen Family]]<999,\"0\"&MasterTable[[#This Row],[Lumen Family]],MasterTable[[#This Row],[Lumen Family]])&\"-\"&MasterTable[[#This Row],[Arrangement]]&\"-xx\"","v":"BXRH-27E0600-A-xx"},726.75,{"$f":"MasterTable[[#This Row],[Typical Lumens]]/(MasterTable[[#This Row],[Typical Voltage]]*MasterTable[[#This Row],[Typical Current]]/1000)","v":114.0894819466248},0.72,36.4,175,240,12,null,4.51E-8,-4.5243700000000002E-5,3.4480803099999999E-2,31.484613049099998,4.3422000000000002E-9,-5.9939999999999997E-6,6.6293000000000003E-3,-9.9999999999999995E-8,null,null,null,null,null,-2.36E-8,-1.814E-7,-1.4753277E-3,1.028029267,-4.9520000000000004E-7,1.4426829999999999E-4,-2.6561671799999999E-2,36.771805885299997,3.2319,21.225999999999999,150.58000000000001,-9.9999999999999995E-8]
["V4 HD","27G","A","0600","BXRH",{"$f":"MasterTable[[#This Row],[Product Family]]&\"-\"&MasterTable[[#This Row],[CCT/CRI]]&MasterTable[[#This Row],[Arrangement]]","v":"V4 HD-27GA"},{"$f":"MasterTable[[#This Row],[Generation]]&\"-\"&MasterTable[[#This Row],[CCT/CRI]]&IF(MasterTable[[#This Row],[Lumen Family]]<999,\"0\"&MasterTable[[#This Row],[Lumen Family]],MasterTable[[#This Row],[Lumen Family]])&\"-\"&MasterTable[[#This Row],[Arrangement]]&\"-xx\"","v":"BXRH-27G0600-A-xx"},604.35,{"$f":"MasterTable[[#This Row],[Typical Lumens]]/(MasterTable[[#This Row],[Typical Voltage]]*MasterTable[[#This Row],[Typical Current]]/1000)","v":94.874411302982736},0.72,36.4,175,240,12,null,4.51E-8,-4.5243700000000002E-5,3.4480803099999999E-2,31.484613049099998,4.3422000000000002E-9,-5.9939999999999997E-6,6.6293000000000003E-3,-9.9999999999999995E-8,null,null,null,null,null,-2.36E-8,-1.814E-7,-1.4753277E-3,1.028029267,-4.9520000000000004E-7,1.4426829999999999E-4,-2.6561671799999999E-2,36.771805885299997,3.2319,21.225999999999999,150.58000000000001,-9.9999999999999995E-8]
["V4 HD","27H","A","0600","BXRH",{"$f":"MasterTable[[#This Row],[Product Family]]&\"-\"&MasterTable[[#This Row],[CCT/CRI]]&MasterTable[[#This Row],[Arrangement]]","v":"V4 HD-27HA"},{"$f":"MasterTable[[#This Row],[Generation]]&\"-\"&MasterTable[[#This Row],[CCT/CRI]]&IF(MasterTable[[#This Row],[Lumen Family]]<999,\"0\"&MasterTable[[#This Row],[Lumen Family]],MasterTable[[#This Row],[Lumen Family]])&\"-\"&MasterTable[[#This Row],[Arrangement]]&\"-xx\"","v":"BXRH-27H0600-A-xx"},535.5,{"$f":"MasterTable[[#This Row],[Typical Lumens]]/(MasterTable[[#This Row],[Typical Voltage]]*MasterTable[[#This Row],[Typical Current]]/1000)","v":84.065934065934059},0.72,36.4,175,240,12,null,4.51E-8,-4.5243700000000002E-5,3.4480803099999999E-2,31.484613049099998,4.3422000000000002E-9,-5.9939999999999997E-6,6.6293000000000003E-3,-9.9999999999999995E-8,null,null,null,null,null,-2.36E-8,-1.814E-7,-1.4753277E-3,1.028029267,-4.9520000000000004E-7,1.4426829999999999E-4,-2.6561671799999999E-2,36.771805885299997,3.2319,21.225999999999999,150.58000000000001,-9.9999999999999995E-8]
["V4 HD","30E","A","0600","BXRH",{"$f":"MasterTable[[#This Row],[Product Family]]&\"-\"&MasterTable[[#This Row],[CCT/CRI]]&MasterTable[[#This Row],[Arrangement]]","v":"V4 HD-30EA"},{"$f":"MasterTable[[#This Row],[Generation]]&\"-\"&MasterTable[[#This Row],[CCT/CRI]]&IF(MasterTable[[#This Row],[Lumen Family]]<999,\"0\"&MasterTable[[#This Row],[Lumen Family]],MasterTable[[#This Row],[Lumen Family]])&\"-\"&MasterTable[[#This Row],[Arrangement]]&\"-xx\"","v":"BXRH-30E0600-A-xx"},765,{"$f":"MasterTable[[#This Row],[Typical Lumens]]/(MasterTable[[#This Row],[Typical Voltage]]*MasterTable[[#This Row],[Typical Current]]/1000)","v":120.09419152276296},0.72,36.4,175,240,12,null,4.51E-8,-4.5243700000000002E-5,3.4480803099999999E-2,31.484613049099998,4.3422000000000002E-9,-5.9939999999999997E-6,6.6293000000000003E-3,-9.9999999999999995E-8,null,null,null,null,null,-2.36E-8,-1.814E-7,-1.4753277E-3,1.028029267,-4.9520000000000004E-7,1.4426829999999999E-4,-2.6561671799999999E-2,36.771805885299997,3.2319,21.225999999999999,150.58000000000001,-9.9999999999999995E-8]
["V4 HD","30G","A","0600","BXRH",{"$f":"MasterTable[[#This Row],[Product Family]]&\"-\"&MasterTable[[#This Row],[CCT/CRI]]&MasterTable[[#This Row],[Arrangement]]","v":"V4 HD-30GA"},{"$f":"MasterTable[[#This Row],[Generation]]&\"-\"&MasterTable[[#This Row],[CCT/CRI]]&IF(MasterTable[[#This Row],[Lumen Family]]<999,\"0\"&MasterTable[[#This Row],[Lumen Family]],MasterTable[[#This Row],[Lumen Family]])&\"-\"&MasterTable[[#This Row],[Arrangement]]&\"-xx\"","v":"BXRH-30G0600-A-xx"},642.6,{"$f":"MasterTable[[#This Row],[Typical Lumens]]/(MasterTable[[#This Row],[Typical Voltage]]*MasterTable[[#This Row],[Typical Current]]/1000)","v":100.87912087912088},0.72,36.4,175,240,12,null,4.51E-8,-4.5243700000000002E-5,3.4480803099999999E-2,31.484613049099998,4.3422000000000002E-9,-5.9939999999999997E-6,6.6293000000000003E-3,-9.9999999999999995E-8,null,null,null,null,null,-2.36E-8,-1.814E-7,-1.4753277E-3,1.028029267,-4.9520000000000004E-7,1.4426829999999999E-4,-2.6561671799999999E-2,36.771805885299997,3.2319,21.225999999999999,150.58000000000001,-9.9999999999999995E-8]
["V4 HD","30G-C","A","060C","BXRH",{"$f":"MasterTable[[#This Row],[Product Family]]&\"-\"&MasterTable[[#This Row],[CCT/CRI]]&MasterTable[[#This Row],[Arrangement]]","v":"V4 HD-30G-CA"},"BXRH-30G060C-A-xx",589.05000000000007,{"$f":"MasterTable[[#This Row],[Typical Lumens]]/(MasterTable[[#This Row],[Typical Voltage]]*MasterTable[[#This Row],[Typical Current]]/1000)","v":92.472527472527489},0.72,36.4,175,240,12,null,4.51E-8,-4.5243700000000002E-5,3.4480803099999999E-2,31.484613049099998,4.3422000000000002E-9,-5.9939999999999997E-6,6.6293000000000003E-3,-9.9999999999999995E-8,null,null,null,null,null,-2.36E-8,-1.814E-7,-1.4753277E-3,1.028029267,-4.9520000000000004E-7,1.4426829999999999E-4,-2.6561671799999999E-2,36.771805885299997,3.2319,21.225999999999999,150.58000000000001,-9.9999999999999995E-8]
["V4 HD","30H","A","0600","BXRH",{"$f":"MasterTable[[#This Row],[Product Family]]&\"-\"&MasterTable[[#This Row],[CCT/CRI]]&MasterTable[[#This Row],[Arrangement]]","v":"V4 HD-30HA"},{"$f":"MasterTable[[#This Row],[Generation]]&\"-\"&MasterTable[[#This Row],[CCT/CRI]]&IF(MasterTable[[#This Row],[Lumen Family]]<999,\"0\"&MasterTable[[#This Row],[Lumen Family]],MasterTable[[#This Row],[Lumen Family]])&\"-\"&MasterTable[[#This Row],[Arrangement]]&\"-xx\"","v":"BXRH-30H0600-A-xx"},566.1,{"$f":"MasterTable[[#This Row],[Typical Lumens]]/(MasterTable[[#This Row],[Typical Voltage]]*MasterTable[[#This Row],[Typical Current]]/1000)","v":88.869701726844582},0.72,36.4,175,240,12,null,4.51E-8,-4.5243700000000002E-5,3.4480803099999999E-2,31.484613049099998,4.3422000000000002E-9,-5.9939999999999997E-6,6.6293000000000003E-3,-9.9999999999999995E-8,null,null,null,null,null,-2.36E-8,-1.814E-7,-1.4753277E-3,1.028029267,-4.9520000000000004E-7,1.4426829999999999E-4,-2.6561671799999999E-2,36.771805885299997,3.2319,21.225999999999999,150.58000000000001,-9.9999999999999995E-8]
["V4 HD","35A","A","0601","BXRH",{"$f":"MasterTable[[#This Row],[Product Family]]&\"-\"&MasterTable[[#This Row],[CCT/CRI]]&MasterTable[[#This Row],[Arrangement]]","v":"V4 HD-35AA"},{"$f":"MasterTable[[#This Row],[Generation]]&\"-\"&MasterTable[[#This Row],[CCT/CRI]]&IF(MasterTable[[#This Row],[Lumen Family]]<999,\"0\"&MasterTable[[#This Row],[Lumen Family]],MasterTable[[#This Row],[Lumen Family]])&\"-\"&MasterTable[[#This Row],[Arrangement]]&\"-xx\"","v":"BXRH-35A0601-A-xx"},642.6,{"$f":"MasterTable[[#This Row],[Typical Lumens]]/(MasterTable[[#This Row],[Typical Voltage]]*MasterTable[[#This Row],[Typical Current]]/1000)","v":100.87912087912088},0.72,36.4,175,240,12,null,4.51E-8,-4.5243700000000002E-5,3.4480803099999999E-2,31.484613049099998,4.3422000000000002E-9,-5.9939999999999997E-6,6.6293000000000003E-3,-9.9999999999999995E-8,null,null,null,null,null,-2.36E-8,-1.814E-7,-1.4753277E-3,1.028029267,-4.9520000000000004E-7,1.4426829999999999E-4,-2.6561671799999999E-2,36.771805885299997,3.2319,21.225999999999999,150.58000000000001,-9.9999999999999995E-8]
["V4 HD","35G","A","0600","BXRH",{"$f":"MasterTable[[#This Row],[Product Family]]&\"-\"&MasterTable[[#This Row],[CCT/CRI]]&MasterTable[[#This Row],[Arrangement]]","v":"V4 HD-35GA"},{"$f":"MasterTable[[#This Row],[Generation]]&\"-\"&MasterTable[[#This Row],[CCT/CRI]]&IF(MasterTable[[#This Row],[Lumen Family]]<999,\"0\"&MasterTable[[#This Row],[Lumen Family]],MasterTable[[#This Row],[Lumen Family]])&\"-\"&MasterTable[[#This Row],[Arrangement]]&\"-xx\"","v":"BXRH-35G0600-A-xx"},657.9,{"$f":"MasterTable[[#This Row],[Typical Lumens]]/(MasterTable[[#This Row],[Typical Voltage]]*MasterTable[[#This Row],[Typical Current]]/1000)","v":103.28100470957614},0.72,36.4,175,240,12,null,4.51E-8,-4.5243700000000002E-5,3.4480803099999999E-2,31.484613049099998,4.3422000000000002E-9,-5.9939999999999997E-6,6.6293000000000003E-3,-9.9999999999999995E-8,null,null,null,null,null,-2.36E-8,-1.814E-7,-1.4753277E-3,1.028029267,-4.9520000000000004E-7,1.4426829999999999E-4,-2.6561671799999999E-2,36.771805885299997,3.2319,21.225999999999999,150.58000000000001,-9.9999999999999995E-8]
["V4 HD","40E","A","0600","BXRH",{"$f":"MasterTable[[#This Row],[Product Family]]&\"-\"&MasterTable[[#This Row],[CCT/CRI]]&MasterTable[[#This Row],[Arrangement]]","v":"V4 HD-40EA"},{"$f":"MasterTable[[#This Row],[Generation]]&\"-\"&MasterTable[[#This Row],[CCT/CRI]]&IF(MasterTable[[#This Row],[Lumen Family]]<999,\"0\"&MasterTable[[#This Row],[Lumen Family]],MasterTable[[#This Row],[Lumen Family]])&\"-\"&MasterTable[[#This Row],[Arrangement]]&\"-xx\"","v":"BXRH-40E0600-A-xx"},795.6,{"$f":"MasterTable[[#This Row],[Typical Lumens]]/(MasterTable[[#This Row],[Typical Voltage]]*MasterTable[[#This Row],[Typical Current]]/1000)","v":124.89795918367346},0.72,36.4,175,240,12,null,4.51E-8,-4.5243700000000002E-5,3.4480803099999999E-2,31.484613049099998,4.3422000000000002E-9,-5.9939999999999997E-6,6.6293000000000003E-3,-9.9999999999999995E-8,null,null,null,null,null,-2.36E-8,-1.814E-7,-1.4753277E-3,1.028029267,-4.9520000000000004E-7,1.4426829999999999E-4,-2.6561671799999999E-2,36.771805885299997,3.2319,21.225999999999999,150.58000000000001,-9.9999999999999995E-8]
["V4 HD","40G","A","0600","BXRH",{"$f":"MasterTable[[#This Row],[Product Family]]&\"-\"&MasterTable[[#This Row],[CCT/CRI]]&MasterTable[[#This Row],[Arrangement]]","v":"V4 HD-40GA"},{"$f":"MasterTable[[#This Row],[Generation]]&\"-\"&MasterTable[[#This Row],[CCT/CRI]]&IF(MasterTable[[#This Row],[Lumen Family]]<999,\"0\"&MasterTable[[#This Row],[Lumen Family]],MasterTable[[#This Row],[Lumen Family]])&\"-\"&MasterTable[[#This Row],[Arrangement]]&\"-xx\"","v":"BXRH-40G0600-A-xx"},673.2,{"$f":"MasterTable[[#This Row],[Typical Lumens]]/(MasterTable[[#This Row],[Typical Voltage]]*MasterTable[[#This Row],[Typical Current]]/1000)","v":105.6828885400314},0.72,36.4,175,240,12,null,4.51E-8,-4.5243700000000002E-5,3.4480803099999999E-2,31.484613049099998,4.3422000000000002E-9,-5.9939999999999997E-6,6.6293000000000003E-3,-9.9999999999999995E-8,null,null,null,null,null,-2.36E-8,-1.814E-7,-1.4753277E-3,1.028029267,-4.9520000000000004E-7,1.4426829999999999E-4,-2.6561671799999999E-2,36.771805885299997,3.2319,21.225999999999999,150.58000000000001,-9.9999999999999995E-8]
["V6 HD","27E","B",1000,"BXRH",{"$f":"MasterTable[[#This Row],[Product Family]]&\"-\"&MasterTable[[#This Row],[CCT/CRI]]&MasterTable[[#This Row],[Arrangement]]","v":"V6 HD-27EB"},{"$f":"MasterTable[[#This Row],[Generation]]&\"-\"&MasterTable[[#This Row],[CCT/CRI]]&IF(MasterTable[[#This Row],[Lumen Family]]<999,\"0\"&MasterTable[[#This Row],[Lumen Family]],MasterTable[[#This Row],[Lumen Family]])&\"-\"&MasterTable[[#This Row],[Arrangement]]&\"-xx\"","v":"BXRH-27E1000-B-xx"},1507.6499999999999,{"$f":"MasterTable[[#This Row],[Typical Lumens]]/(MasterTable[[#This Row],[Typical Voltage]]*MasterTable[[#This Row],[Typical Current]]/1000)","v":118.33987441130297},0.36,36.4,350,480,24,null,7.0999999999999999E-9,-1.48731E-5,2.10941823E-2,30.554811519400001,7.1311000000000003E-10,-1.6307999999999999E-6,3.3419000000000001E-3,-9.9999999999999995E-8,null,null,null,null,null,-6.6000000000000004E-9,-3.8314000000000003E-6,-1.3420341E-3,1.0238966412999999,-2.973E-7,1.4002040000000001E-4,-3.4713817700000003E-2,38.202206605500002,3.07,49.6,297,-9.9999999999999995E-8]
["V6 HD","27G","B",1000,"BXRH",{"$f":"MasterTable[[#This Row],[Product Family]]&\"-\"&MasterTable[[#This Row],[CCT/CRI]]&MasterTable[[#This Row],[Arrangement]]","v":"V6 HD-27GB"},{"$f":"MasterTable[[#This Row],[Generation]]&\"-\"&MasterTable[[#This Row],[CCT/CRI]]&IF(MasterTable[[#This Row],[Lumen Family]]<999,\"0\"&MasterTable[[#This Row],[Lumen Family]],MasterTable[[#This Row],[Lumen Family]])&\"-\"&MasterTable[[#This Row],[Arrangement]]&\"-xx\"","v":"BXRH-27G1000-B-xx"},1253.73,{"$f":"MasterTable[[#This Row],[Typical Lumens]]/(MasterTable[[#This Row],[Typical Voltage]]*MasterTable[[#This Row],[Typical Current]]/1000)","v":98.408948194662486},0.36,36.4,350,480,24,null,7.0999999999999999E-9,-1.48731E-5,2.10941823E-2,30.554811519400001,7.1311000000000003E-10,-1.6307999999999999E-6,3.3419000000000001E-3,-9.9999999999999995E-8,null,null,null,null,null,-6.6000000000000004E-9,-3.8314000000000003E-6,-1.3420341E-3,1.0238966412999999,-2.973E-7,1.4002040000000001E-4,-3.4713817700000003E-2,38.202206605500002,3.07,49.6,297,-9.9999999999999995E-8]
["V6 HD","27H","B",1000,"BXRH",{"$f":"MasterTable[[#This Row],[Product Family]]&\"-\"&MasterTable[[#This Row],[CCT/CRI]]&MasterTable[[#This Row],[Arrangement]]","v":"V6 HD-27HB"},{"$f":"MasterTable[[#This Row],[Generation]]&\"-\"&MasterTable[[#This Row],[CCT/CRI]]&IF(MasterTable[[#This Row],[Lumen Family]]<999,\"0\"&MasterTable[[#This Row],[Lumen Family]],MasterTable[[#This Row],[Lumen Family]])&\"-\"&MasterTable[[#This Row],[Arrangement]]&\"-xx\"","v":"BXRH-27H1000-B-xx"},1110.8999999999999,{"$f":"MasterTable[[#This Row],[Typical Lumens]]/(MasterTable[[#This Row],[Typical Voltage]]*MasterTable[[#This Row],[Typical Current]]/1000)","v":87.19780219780219},0.36,36.4,350,480,24,null,7.0999999999999999E-9,-1.48731E-5,2.10941823E-2,30.554811519400001,7.1311000000000003E-10,-1.6307999999999999E-6,3.3419000000000001E-3,-9.9999999999999995E-8,null,null,null,null,null,-6.6000000000000004E-9,-3.8314000000000003E-6,-1.3420341E-3,1.0238966412999999,-2.973E-7,1.4002040000000001E-4,-3.4713817700000003E-2,38.202206605500002,3.07,49.6,297,-9.9999999999999995E-8]
["V6 HD","30E","B",1000,"BXRH",{"$f":"MasterTable[[#This Row],[Product Family]]&\"-\"&MasterTable[[#This Row],[CCT/CRI]]&MasterTable[[#This Row],[Arrangement]]","v":"V6 HD-30EB"},{"$f":"MasterTable[[#This Row],[Generation]]&\"-\"&MasterTable[[#This Row],[CCT/CRI]]&IF(MasterTable[[#This Row],[Lumen Family]]<999,\"0\"&MasterTable[[#This Row],[Lumen Family]],MasterTable[[#This Row],[Lumen Family]])&\"-\"&MasterTable[[#This Row],[Arrangement]]&\"-xx\"","v":"BXRH-30E1000-B-xx"},1587,{"$f":"MasterTable[[#This Row],[Typical Lumens]]/(MasterTable[[#This Row],[Typical Voltage]]*MasterTable[[#This Row],[Typical Current]]/1000)","v":124.56828885400314},0.36,36.4,350,480,24,null,7.0999999999999999E-9,-1.48731E-5,2.10941823E-2,30.554811519400001,7.1311000000000003E-10,-1.6307999999999999E-6,3.3419000000000001E-3,-9.9999999999999995E-8,null,null,null,null,null,-6.6000000000000004E-9,-3.8314000000000003E-6,-1.3420341E-3,1.0238966412999999,-2.973E-7,1.4002040000000001E-4,-3.4713817700000003E-2,38.202206605500002,3.07,49.6,297,-9.9999999999999995E-8]
["V6 HD","30G","B",1000,"BXRH",{"$f":"MasterTable[[#This Row],[Product Family]]&\"-\"&MasterTable[[#This Row],[CCT/CRI]]&MasterTable[[#This Row],[Arrangement]]","v":"V6 HD-30GB"},{"$f":"MasterTable[[#This Row],[Generation]]&\"-\"&MasterTable[[#This Row],[CCT/CRI]]&IF(MasterTable[[#This Row],[Lumen Family]]<999,\"0\"&MasterTable[[#This Row],[Lumen Family]],MasterTable[[#This Row],[Lumen Family]])&\"-\"&MasterTable[[#This Row],[Arrangement]]&\"-xx\"","v":"BXRH-30G1000-B-xx"},1333.08,{"$f":"MasterTable[[#This Row],[Typical Lumens]]/(MasterTable[[#This Row],[Typical Voltage]]*MasterTable[[#This Row],[Typical Current]]/1000)","v":104.63736263736263},0.36,36.4,350,480,24,null,7.0999999999999999E-9,-1.48731E-5,2.10941823E-2,30.554811519400001,7.1311000000000003E-10,-1.6307999999999999E-6,3.3419000000000001E-3,-9.9999999999999995E-8,null,null,null,null,null,-6.6000000000000004E-9,-3.8314000000000003E-6,-1.3420341E-3,1.0238966412999999,-2.973E-7,1.4002040000000001E-4,-3.4713817700000003E-2,38.202206605500002,3.07,49.6,297,-9.9999999999999995E-8]
["V6 HD","30G-C","B","100C","BXRH",{"$f":"MasterTable[[#This Row],[Product Family]]&\"-\"&MasterTable[[#This Row],[CCT/CRI]]&MasterTable[[#This Row],[Arrangement]]","v":"V6 HD-30G-CB"},"BXRH-30G100C-B-xx",1221.99,{"$f":"MasterTable[[#This Row],[Typical Lumens]]/(MasterTable[[#This Row],[Typical Voltage]]*MasterTable[[#This Row],[Typical Current]]/1000)","v":95.917582417582423},0.36,36.4,350,480,24,null,7.0999999999999999E-9,-1.48731E-5,2.10941823E-2,30.554811519400001,7.1311000000000003E-10,-1.6307999999999999E-6,3.3419000000000001E-3,-9.9999999999999995E-8,null,null,null,null,null,-6.6000000000000004E-9,-3.8314000000000003E-6,-1.3420341E-3,1.0238966412999999,-2.973E-7,1.4002040000000001E-4,-3.4713817700000003E-2,38.202206605500002,3.07,49.6,297,-9.9999999999999995E-8]
["V6 HD","30H","B",1000,"BXRH",{"$f":"MasterTable[[#This Row],[Product Family]]&\"-\"&MasterTable[[#This Row],[CCT/CRI]]&MasterTable[[#This Row],[Arrangement]]","v":"V6 HD-30HB"},{"$f":"MasterTable[[#This Row],[Generation]]&\"-\"&MasterTable[[#This Row],[CCT/CRI]]&IF(MasterTable[[#This Row],[Lumen Family]]<999,\"0\"&MasterTable[[#This Row],[Lumen Family]],MasterTable[[#This Row],[Lumen Family]])&\"-\"&MasterTable[[#This Row],[Arrangement]]&\"-xx\"","v":"BXRH-30H1000-B-xx"},1174.3799999999999,{"$f":"MasterTable[[#This Row],[Typical Lumens]]/(MasterTable[[#This Row],[Typical Voltage]]*MasterTable[[#This Row],[Typical Current]]/1000)","v":92.180533751962315},0.36,36.4,350,480,24,null,7.0999999999999999E-9,-1.48731E-5,2.10941823E-2,30.554811519400001,7.1311000000000003E-10,-1.6307999999999999E-6,3.3419000000000001E-3,-9.9999999999999995E-8,null,null,null,null,null,-6.6000000000000004E-9,-3.8314000000000003E-6,-1.3420341E-3,1.0238966412999999,-2.973E-7,1.4002040000000001E-4,-3.4713817700000003E-2,38.202206605500002,3.07,49.6,297,-9.9999999999999995E-8]
["V6 HD","35A","B",1001,"BXRH",{"$f":"MasterTable[[#This Row],[Product Family]]&\"-\"&MasterTable[[#This Row],[CCT/CRI]]&MasterTable[[#This Row],[Arrangement]]","v":"V6 HD-35AB"},{"$f":"MasterTable[[#This Row],[Generation]]&\"-\"&MasterTable[[#This Row],[CCT/CRI]]&IF(MasterTable[[#This Row],[Lumen Family]]<999,\"0\"&MasterTable[[#This Row],[Lumen Family]],MasterTable[[#This Row],[Lumen Family]])&\"-\"&MasterTable[[#This Row],[Arrangement]]&\"-xx\"","v":"BXRH-35A1001-B-xx"},1333.08,{"$f":"MasterTable[[#This Row],[Typical Lumens]]/(MasterTable[[#This Row],[Typical Voltage]]*MasterTable[[#This Row],[Typical Current]]/1000)","v":104.63736263736263},0.36,36.4,350,480,24,null,7.0999999999999999E-9,-1.48731E-5,2.10941823E-2,30.554811519400001,7.1311000000000003E-10,-1.6307999999999999E-6,3.3419000000000001E-3,-9.9999999999999995E-8,null,null,null,null,null,-6.6000000000000004E-9,-3.8314000000000003E-6,-1.3420341E-3,1.0238966412999999,-2.973E-7,1.4002040000000001E-4,-3.4713817700000003E-2,38.202206605500002,3.07,49.6,297,-9.9999999999999995E-8]
["V6 HD","35G","B",1000,"BXRH",{"$f":"MasterTable[[#This Row],[Product Family]]&\"-\"&MasterTable[[#This Row],[CCT/CRI]]&MasterTable[[#This Row],[Arrangement]]","v":"V6 HD-35GB"},{"$f":"MasterTable[[#This Row],[Generation]]&\"-\"&MasterTable[[#This Row],[CCT/CRI]]&IF(MasterTable[[#This Row],[Lumen Family]]<999,\"0\"&MasterTable[[#This Row],[Lumen Family]],MasterTable[[#This Row],[Lumen Family]])&\"-\"&MasterTable[[#This Row],[Arrangement]]&\"-xx\"","v":"BXRH-35G1000-B-xx"},1364.82,{"$f":"MasterTable[[#This Row],[Typical Lumens]]/(MasterTable[[#This Row],[Typical Voltage]]*MasterTable[[#This Row],[Typical Current]]/1000)","v":107.12872841444269},0.36,36.4,350,480,24,null,7.0999999999999999E-9,-1.48731E-5,2.10941823E-2,30.554811519400001,7.1311000000000003E-10,-1.6307999999999999E-6,3.3419000000000001E-3,-9.9999999999999995E-8,null,null,null,null,null,-6.6000000000000004E-9,-3.8314000000000003E-6,-1.3420341E-3,1.0238966412999999,-2.973E-7,1.4002040000000001E-4,-3.4713817700000003E-2,38.202206605500002,3.07,49.6,297,-9.9999999999999995E-8]
["V6 HD","40E","B",1000,"BXRH",{"$f":"MasterTable[[#This Row],[Product Family]]&\"-\"&MasterTable[[#This Row],[CCT/CRI]]&MasterTable[[#This Row],[Arrangement]]","v":"V6 HD-40EB"},{"$f":"MasterTable[[#This Row],[Generation]]&\"-\"&MasterTable[[#This Row],[CCT/CRI]]&IF(MasterTable[[#This Row],[Lumen Family]]<999,\"0\"&MasterTable[[#This Row],[Lumen Family]],MasterTable[[#This Row],[Lumen Family]])&\"-\"&MasterTable[[#This Row],[Arrangement]]&\"-xx\"","v":"BXRH-40E1000-B-xx"},1650.48,{"$f":"MasterTable[[#This Row],[Typical Lumens]]/(MasterTable[[#This Row],[Typical Voltage]]*MasterTable[[#This Row],[Typical Current]]/1000)","v":129.55102040816325},0.36,36.4,350,480,24,null,7.0999999999999999E-9,-1.48731E-5,2.10941823E-2,30.554811519400001,7.1311000000000003E-10,-1.6307999999999999E-6,3.3419000000000001E-3,-9.9999999999999995E-8,null,null,null,null,null,-6.6000000000000004E-9,-3.8314000000000003E-6,-1.3420341E-3,1.0238966412999999,-2.973E-7,1.4002040000000001E-4,-3.4713817700000003E-2,38.202206605500002,3.07,49.6,297,-9.9999999999999995E-8]
["V6 HD","40G","B",1000,"BXRH",{"$f":"MasterTable[[#This Row],[Product Family]]&\"-\"&MasterTable[[#This Row],[CCT/CRI]]&MasterTable[[#This Row],[Arrangement]]","v":"V6 HD-40GB"},{"$f":"MasterTable[[#This Row],[Generation]]&\"-\"&MasterTable[[#This Row],[CCT/CRI]]&IF(MasterTable[[#This Row],[Lumen Family]]<999,\"0\"&MasterTable[[#This Row],[Lumen Family]],MasterTable[[#This Row],[Lumen Family]])&\"-\"&MasterTable[[#This Row],[Arrangement]]&\"-xx\"","v":"BXRH-40G1000-B-xx"},1396.56,{"$f":"MasterTable[[#This Row],[Typical Lumens]]/(MasterTable[[#This Row],[Typical Voltage]]*MasterTable[[#This Row],[Typical Current]]/1000)","v":109.62009419152275},0.36,36.4,350,480,24,null,7.0999999999999999E-9,-1.48731E-5,2.10941823E-2,30.554811519400001,7.1311000000000003E-10,-1.6307999999999999E-6,3.3419000000000001E-3,-9.9999999999999995E-8,null,null,null,null,null,-6.6000000000000004E-9,-3.8314000000000003E-6,-1.3420341E-3,1.0238966412999999,-2.973E-7,1.4002040000000001E-4,-3.4713817700000003E-2,38.202206605500002,3.07,49.6,297,-9.9999999999999995E-8]
["V9 HD","27E","D",3000,"BXRH",{"$f":"MasterTable[[#This Row],[Product Family]]&\"-\"&MasterTable[[#This Row],[CCT/CRI]]&MasterTable[[#This Row],[Arrangement]]","v":"V9 HD-27ED"},{"$f":"MasterTable[[#This Row],[Generation]]&\"-\"&MasterTable[[#This Row],[CCT/CRI]]&IF(MasterTable[[#This Row],[Lumen Family]]<999,\"0\"&MasterTable[[#This Row],[Lumen Family]],MasterTable[[#This Row],[Lumen Family]])&\"-\"&MasterTable[[#This Row],[Arrangement]]&\"-xx\"","v":"BXRH-27E3000-D-xx"},3246.1499999999996,{"$f":"MasterTable[[#This Row],[Typical Lumens]]/(MasterTable[[#This Row],[Typical Voltage]]*MasterTable[[#This Row],[Typical Current]]/1000)","v":127.39992150706435},0.18,36.4,700,960,48,-4.9999999999999997E-12,1E-8,-1.0000000000000001E-5,1.18E-2,31.195,2.183E-11,-2.7159000000000001E-7,1.6087E-3,-9.9999999999999995E-8,null,null,null,null,null,4.3100000000000002E-8,-1.44669E-5,-7.5929980000000001E-4,1.0176676109,-4.467E-7,1.202214E-4,-2.25191091E-2,36.896294534399999,18.597999999999999,56.865000000000002,624.15,-9.9999999999999995E-8]
["V9 HD","27G","D",3000,"BXRH",{"$f":"MasterTable[[#This Row],[Product Family]]&\"-\"&MasterTable[[#This Row],[CCT/CRI]]&MasterTable[[#This Row],[Arrangement]]","v":"V9 HD-27GD"},{"$f":"MasterTable[[#This Row],[Generation]]&\"-\"&MasterTable[[#This Row],[CCT/CRI]]&IF(MasterTable[[#This Row],[Lumen Family]]<999,\"0\"&MasterTable[[#This Row],[Lumen Family]],MasterTable[[#This Row],[Lumen Family]])&\"-\"&MasterTable[[#This Row],[Arrangement]]&\"-xx\"","v":"BXRH-27G3000-D-xx"},2699.4300000000003,{"$f":"MasterTable[[#This Row],[Typical Lumens]]/(MasterTable[[#This Row],[Typical Voltage]]*MasterTable[[#This Row],[Typical Current]]/1000)","v":105.94309262166406},0.18,36.4,700,960,48,-4.9999999999999997E-12,1E-8,-1.0000000000000001E-5,1.18E-2,31.195,2.183E-11,-2.7159000000000001E-7,1.6087E-3,-9.9999999999999995E-8,null,null,null,null,null,4.3100000000000002E-8,-1.44669E-5,-7.5929980000000001E-4,1.0176676109,-4.467E-7,1.202214E-4,-2.25191091E-2,36.896294534399999,18.597999999999999,56.865000000000002,624.15,-9.9999999999999995E-8]
["V9 HD","27H","D",3000,"BXRH",{"$f":"MasterTable[[#This Row],[Product Family]]&\"-\"&MasterTable[[#This Row],[CCT/CRI]]&MasterTable[[#This Row],[Arrangement]]","v":"V9 HD-27HD"},{"$f":"MasterTable[[#This Row],[Generation]]&\"-\"&MasterTable[[#This Row],[CCT/CRI]]&IF(MasterTable[[#This Row],[Lumen Family]]<999,\"0\"&MasterTable[[#This Row],[Lumen Family]],MasterTable[[#This Row],[Lumen Family]])&\"-\"&MasterTable[[#This Row],[Arrangement]]&\"-xx\"","v":"BXRH-27H3000-D-xx"},2391.8999999999996,{"$f":"MasterTable[[#This Row],[Typical Lumens]]/(MasterTable[[#This Row],[Typical Voltage]]*MasterTable[[#This Row],[Typical Current]]/1000)","v":93.873626373626351},0.18,36.4,700,960,48,-4.9999999999999997E-12,1E-8,-1.0000000000000001E-5,1.18E-2,31.195,2.183E-11,-2.7159000000000001E-7,1.6087E-3,-9.9999999999999995E-8,null,null,null,null,null,4.3100000000000002E-8,-1.44669E-5,-7.5929980000000001E-4,1.0176676109,-4.467E-7,1.202214E-4,-2.25191091E-2,36.896294534399999,18.597999999999999,56.865000000000002,624.15,-9.9999999999999995E-8]
["V9 HD","30E","D",3000,"BXRH",{"$f":"MasterTable[[#This Row],[Product Family]]&\"-\"&MasterTable[[#This Row],[CCT/CRI]]&MasterTable[[#This Row],[Arrangement]]","v":"V9 HD-30ED"},{"$f":"MasterTable[[#This Row],[Generation]]&\"-\"&MasterTable[[#This Row],[CCT/CRI]]&IF(MasterTable[[#This Row],[Lumen Family]]<999,\"0\"&MasterTable[[#This Row],[Lumen Family]],MasterTable[[#This Row],[Lumen Family]])&\"-\"&MasterTable[[#This Row],[Arrangement]]&\"-xx\"","v":"BXRH-30E3000-D-xx"},3417,{"$f":"MasterTable[[#This Row],[Typical Lumens]]/(MasterTable[[#This Row],[Typical Voltage]]*MasterTable[[#This Row],[Typical Current]]/1000)","v":134.10518053375196},0.18,36.4,700,960,48,-4.9999999999999997E-12,1E-8,-1.0000000000000001E-5,1.18E-2,31.195,2.183E-11,-2.7159000000000001E-7,1.6087E-3,-9.9999999999999995E-8,null,null,null,null,null,4.3100000000000002E-8,-1.44669E-5,-7.5929980000000001E-4,1.0176676109,-4.467E-7,1.202214E-4,-2.25191091E-2,36.896294534399999,18.597999999999999,56.865000000000002,624.15,-9.9999999999999995E-8]
["V9 HD","30G","D",3000,"BXRH",{"$f":"MasterTable[[#This Row],[Product Family]]&\"-\"&MasterTable[[#This Row],[CCT/CRI]]&MasterTable[[#This Row],[Arrangement]]","v":"V9 HD-30GD"},{"$f":"MasterTable[[#This Row],[Generation]]&\"-\"&MasterTable[[#This Row],[CCT/CRI]]&IF(MasterTable[[#This Row],[Lumen Family]]<999,\"0\"&MasterTable[[#This Row],[Lumen Family]],MasterTable[[#This Row],[Lumen Family]])&\"-\"&MasterTable[[#This Row],[Arrangement]]&\"-xx\"","v":"BXRH-30G3000-D-xx"},2870.2799999999997,{"$f":"MasterTable[[#This Row],[Typical Lumens]]/(MasterTable[[#This Row],[Typical Voltage]]*MasterTable[[#This Row],[Typical Current]]/1000)","v":112.64835164835164},0.18,36.4,700,960,48,-4.9999999999999997E-12,1E-8,-1.0000000000000001E-5,1.18E-2,31.195,2.183E-11,-2.7159000000000001E-7,1.6087E-3,-9.9999999999999995E-8,null,null,null,null,null,4.3100000000000002E-8,-1.44669E-5,-7.5929980000000001E-4,1.0176676109,-4.467E-7,1.202214E-4,-2.25191091E-2,36.896294534399999,18.597999999999999,56.865000000000002,624.15,-9.9999999999999995E-8]
["V9 HD","30G-C","D","300C","BXRH",{"$f":"MasterTable[[#This Row],[Product Family]]&\"-\"&MasterTable[[#This Row],[CCT/CRI]]&MasterTable[[#This Row],[Arrangement]]","v":"V9 HD-30G-CD"},"BXRH-30G300C-D-xx",2631.09,{"$f":"MasterTable[[#This Row],[Typical Lumens]]/(MasterTable[[#This Row],[Typical Voltage]]*MasterTable[[#This Row],[Typical Current]]/1000)","v":103.26098901098902},0.18,36.4,700,960,48,-4.9999999999999997E-12,1E-8,-1.0000000000000001E-5,1.18E-2,31.195,2.183E-11,-2.7159000000000001E-7,1.6087E-3,-9.9999999999999995E-8,null,null,null,null,null,4.3100000000000002E-8,-1.44669E-5,-7.5929980000000001E-4,1.0176676109,-4.467E-7,1.202214E-4,-2.25191091E-2,36.896294534399999,18.597999999999999,56.865000000000002,624.15,-9.9999999999999995E-8]
["V9 HD","30H","D",3000,"BXRH",{"$f":"MasterTable[[#This Row],[Product Family]]&\"-\"&MasterTable[[#This Row],[CCT/CRI]]&MasterTable[[#This Row],[Arrangement]]","v":"V9 HD-30HD"},{"$f":"MasterTable[[#This Row],[Generation]]&\"-\"&MasterTable[[#This Row],[CCT/CRI]]&IF(MasterTable[[#This Row],[Lumen Family]]<999,\"0\"&MasterTable[[#This Row],[Lumen Family]],MasterTable[[#This Row],[Lumen Family]])&\"-\"&MasterTable[[#This Row],[Arrangement]]&\"-xx\"","v":"BXRH-30H3000-D-xx"},2528.58,{"$f":"MasterTable[[#This Row],[Typical Lumens]]/(MasterTable[[#This Row],[Typical Voltage]]*MasterTable[[#This Row],[Typical Current]]/1000)","v":99.237833594976451},0.18,36.4,700,960,48,-4.9999999999999997E-12,1E-8,-1.0000000000000001E-5,1.18E-2,31.195,2.183E-11,-2.7159000000000001E-7,1.6087E-3,-9.9999999999999995E-8,null,null,null,null,null,4.3100000000000002E-8,-1.44669E-5,-7.5929980000000001E-4,1.0176676109,-4.467E-7,1.202214E-4,-2.25191091E-2,36.896294534399999,18.597999999999999,56.865000000000002,624.15,-9.9999999999999995E-8]
["V9 HD","35A","D",3001,"BXRH",{"$f":"MasterTable[[#This Row],[Product Family]]&\"-\"&MasterTable[[#This Row],[CCT/CRI]]&MasterTable[[#This Row],[Arrangement]]","v":"V9 HD-35AD"},{"$f":"MasterTable[[#This Row],[Generation]]&\"-\"&MasterTable[[#This Row],[CCT/CRI]]&IF(MasterTable[[#This Row],[Lumen Family]]<999,\"0\"&MasterTable[[#This Row],[Lumen Family]],MasterTable[[#This Row],[Lumen Family]])&\"-\"&MasterTable[[#This Row],[Arrangement]]&\"-xx\"","v":"BXRH-35A3001-D-xx"},2870.2799999999997,{"$f":"MasterTable[[#This Row],[Typical Lumens]]/(MasterTable[[#This Row],[Typical Voltage]]*MasterTable[[#This Row],[Typical Current]]/1000)","v":112.64835164835164},0.18,36.4,700,960,48,-4.9999999999999997E-12,1E-8,-1.0000000000000001E-5,1.18E-2,31.195,2.183E-11,-2.7159000000000001E-7,1.6087E-3,-9.9999999999999995E-8,null,null,null,null,null,4.3100000000000002E-8,-1.44669E-5,-7.5929980000000001E-4,1.0176676109,-4.467E-7,1.202214E-4,-2.25191091E-2,36.896294534399999,18.597999999999999,56.865000000000002,624.15,-9.9999999999999995E-8]
["V9 HD","35G","D",3000,"BXRH",{"$f":"MasterTable[[#This Row],[Product Family]]&\"-\"&MasterTable[[#This Row],[CCT/CRI]]&MasterTable[[#This Row],[Arrangement]]","v":"V9 HD-35GD"},{"$f":"MasterTable[[#This Row],[Generation]]&\"-\"&MasterTable[[#This Row],[CCT/CRI]]&IF(MasterTable[[#This Row],[Lumen Family]]<999,\"0\"&MasterTable[[#This Row],[Lumen Family]],MasterTable[[#This Row],[Lumen Family]])&\"-\"&MasterTable[[#This Row],[Arrangement]]&\"-xx\"","v":"BXRH-35G3000-D-xx"},2938.62,{"$f":"MasterTable[[#This Row],[Typical Lumens]]/(MasterTable[[#This Row],[Typical Voltage]]*MasterTable[[#This Row],[Typical Current]]/1000)","v":115.33045525902668},0.18,36.4,700,960,48,-4.9999999999999997E-12,1E-8,-1.0000000000000001E-5,1.18E-2,31.195,2.183E-11,-2.7159000000000001E-7,1.6087E-3,-9.9999999999999995E-8,null,null,null,null,null,4.3100000000000002E-8,-1.44669E-5,-7.5929980000000001E-4,1.0176676109,-4.467E-7,1.202214E-4,-2.25191091E-2,36.896294534399999,18.597999999999999,56.865000000000002,624.15,-9.9999999999999995E-8]
["V9 HD","40E","D",3000,"BXRH",{"$f":"MasterTable[[#This Row],[Product Family]]&\"-\"&MasterTable[[#This Row],[CCT/CRI]]&MasterTable[[#This Row],[Arrangement]]","v":"V9 HD-40ED"},{"$f":"MasterTable[[#This Row],[Generation]]&\"-\"&MasterTable[[#This Row],[CCT/CRI]]&IF(MasterTable[[#This Row],[Lumen Family]]<999,\"0\"&MasterTable[[#This Row],[Lumen Family]],MasterTable[[#This Row],[Lumen Family]])&\"-\"&MasterTable[[#This Row],[Arrangement]]&\"-xx\"","v":"BXRH-40E3000-D-xx"},3553.6800000000003,{"$f":"MasterTable[[#This Row],[Typical Lumens]]/(MasterTable[[#This Row],[Typical Voltage]]*MasterTable[[#This Row],[Typical Current]]/1000)","v":139.46938775510205},0.18,36.4,700,960,48,-4.9999999999999997E-12,1E-8,-1.0000000000000001E-5,1.18E-2,31.195,2.183E-11,-2.7159000000000001E-7,1.6087E-3,-9.9999999999999995E-8,null,null,null,null,null,4.3100000000000002E-8,-1.44669E-5,-7.5929980000000001E-4,1.0176676109,-4.467E-7,1.202214E-4,-2.25191091E-2,36.896294534399999,18.597999999999999,56.865000000000002,624.15,-9.9999999999999995E-8]
["V9 HD","40G","D",3000,"BXRH",{"$f":"MasterTable[[#This Row],[Product Family]]&\"-\"&MasterTable[[#This Row],[CCT/CRI]]&MasterTable[[#This Row],[Arrangement]]","v":"V9 HD-40GD"},{"$f":"MasterTable[[#This Row],[Generation]]&\"-\"&MasterTable[[#This Row],[CCT/CRI]]&IF(MasterTable[[#This Row],[Lumen Family]]<999,\"0\"&MasterTable[[#This Row],[Lumen Family]],MasterTable[[#This Row],[Lumen Family]])&\"-\"&MasterTable[[#This Row],[Arrangement]]&\"-xx\"","v":"BXRH-40G3000-D-xx"},3006.96,{"$f":"MasterTable[[#This Row],[Typical Lumens]]/(MasterTable[[#This Row],[Typical Voltage]]*MasterTable[[#This Row],[Typical Current]]/1000)","v":118.01255886970172},0.18,36.4,700,960,48,-4.9999999999999997E-12,1E-8,-1.0000000000000001E-5,1.18E-2,31.195,2.183E-11,-2.7159000000000001E-7,1.6087E-3,-9.9999999999999995E-8,null,null,null,null,null,4.3100000000000002E-8,-1.44669E-5,-7.5929980000000001E-4,1.0176676109,-4.467E-7,1.202214E-4,-2.25191091E-2,36.896294534399999,18.597999999999999,56.865000000000002,624.15,-9.9999999999999995E-8]

{"sheet":"Calculations","index":3,"n_rows":140,"n_cols":52,"rows_kept":140,"cut":false,"hidden":true,"merged":[[2,46,2,48],[18,38,18,41],[16,46,16,48],[24,31,24,43],[40,46,40,48],[41,2,41,5],[41,7,41,10],[41,16,41,28],[41,31,41,43],[41,46,41,48],[40,2,40,5],[40,7,40,10],[40,16,40,28],[40,31,40,43],[18,23,18,26],[24,46,24,48],[25,2,25,5],[25,7,25,10],[25,16,25,28],[25,31,25,43],[25,46,25,48],[24,2,24,5],[2,31,2,43],[4,23,4,26],[128,17,128,19],[67,31,67,43],[68,31,68,43],[69,17,69,20],[83,17,83,20],[83,38,83,41],[82,31,82,43],[81,31,81,43],[83,33,83,36],[91,17,91,20],[91,23,91,26],[91,33,91,36],[91,38,91,41],[69,23,69,26],[69,33,69,36],[69,38,69,41],[102,31,102,43],[81,16,81,28],[83,23,83,26],[81,46,81,48],[82,46,82,48],[67,46,67,48],[68,46,68,48],[82,2,82,5],[82,7,82,10],[82,16,82,28],[90,31,90,43],[2,0,12,0],[4,17,4,20],[16,0,22,0],[16,2,16,5],[16,7,16,10],[17,2,17,5],[17,7,17,10],[17,46,17,48],[18,17,18,20],[17,31,17,43],[18,33,18,36],[3,46,3,48],[16,16,16,28],[2,2,2,5],[2,7,2,10],[2,16,2,28],[4,33,4,36],[4,38,4,41],[3,2,3,5],[3,7,3,10],[3,16,3,28],[3,31,3,43],[16,31,16,43],[17,16,17,28],[102,0,127,0],[89,0,95,0],[90,2,90,5],[90,7,90,10],[90,16,90,28],[26,33,26,36],[26,38,26,41],[81,0,87,0],[24,0,30,0],[42,17,42,20],[42,23,42,26],[40,0,65,0],[42,33,42,36],[42,38,42,41],[81,2,81,5],[81,7,81,10],[90,46,90,48],[89,2,89,5],[89,7,89,10],[89,16,89,28],[89,31,89,43],[89,46,89,48],[104,17,104,20],[104,23,104,26],[104,33,104,36],[104,38,104,41],[102,46,102,48],[103,2,103,5],[103,7,103,10],[103,16,103,28],[103,31,103,43],[103,46,103,48],[102,2,102,5],[102,7,102,10],[102,16,102,28],[67,2,67,5],[67,7,67,10],[68,2,68,5],[68,7,68,10],[24,7,24,10],[24,16,24,28],[26,17,26,20],[26,23,26,26],[67,0,79,0],[67,16,67,28],[68,16,68,28],[32,2,32,5],[32,7,32,10],[32,16,32,28],[32,31,32,43],[32,46,32,48],[33,2,33,5],[33,7,33,10],[33,16,33,28],[33,31,33,43],[33,46,33,48],[34,17,34,20],[34,23,34,26],[34,33,34,36],[34,38,34,41]]}
[]
[]
["Calculations using Current Input",null,"Converting Tc to Tj",null,null,null,null,"Converting Tj to Tc",null,null,null,null,null,null,null,null,"Calculating Flux",null,null,null,null,null,null,null,null,null,null,null,null,null,null,"Calculating Voltage w/ Tc",null,null,null,null,null,null,null,null,null,null,null,null,null,null,"Calculating Voltage w/ Tj"]
[null,null,"Tj = Tc + Power*Thermal Resistance",null,null,null,null,"Tc = Tj - Power*Thermal Resistance",null,null,null,null,null,null,null,null,"F@Tc&I = Ft*Fr@I*Fr@Tc",null,null,null,null,null,null,null,null,null,null,null,null,null,null,"Vf@Tc&I = Vf@I + Vf@Tc-Vft",null,null,null,null,null,null,null,null,null,null,null,null,null,null,"Vf@Tj&I = Vf@I + Vf@Tj Modifier"]
[null,null,"Tc","Power","Thermal Resistance","Tc>>Tj",null,"Tj","Power","Thermal Resistance","Tj>>Tc",null,"Tc","Tj",{"$f":"IF(Simulator!$D$10=\"Case\",\"Tj\",\"Tc\")","v":"Tj"},null,"Ft","Fr@I Eqn",null,null,null,"Fr@I",null,"Fr@Tc Eqn",null,null,null,"Fr@Tc","F@Tc&I",null,"85 DC Factor","Vft",null,"Vf@I Eqn",null,null,null,"Vf@I","Vf@Tc Eqn",null,null,null,"Vf@Tc","Vf@Tc&I",null,"# of Die","Vf@I","Vf@Tj Modifier, per Die","Vf@Tj&I","Voltage Report"]
[null,"V6",{"$f":"IF(Simulator!$D$10=\"Case\",Simulator!$I$8,M6)","v":25},{"$f":"Simulator!$N$14*AR6/1000","v":{"$error":"#N/A"}},{"$f":"INDEX(MasterTable[],MATCH(Simulator!E17,MasterTable[P/N],0),COLUMN(MasterTable[Thermal Resistance]))","v":{"$error":"#N/A"}},{"$f":"C6+D6*E6","v":{"$error":"#N/A"}},null,{"$f":"IF(Simulator!$D$10=\"Case\",F6,Simulator!$I$8)","v":{"$error":"#N/A"}},{"$f":"Simulator!$N$14*AW6/1000","v":{"$error":"#N/A"}},{"$f":"E6","v":{"$error":"#N/A"}},{"$f":"H6-I6*J6","v":{"$error":"#N/A"}},null,{"$f":"IF(Simulator!$D$10=\"Case\",Simulator!$I$8,K6)","v":25},{"$f":"IF(Simulator!$D$10=\"Case\",H6,Simulator!$I$8)","v":{"$error":"#N/A"}},{"$f":"IF(#REF!=\"Tj\",N6,M6)","v":{"$error":"#REF!"}},null,{"$f":"INDEX(MasterTable[],MATCH(Simulator!E17,MasterTable[P/N],0),COLUMN(MasterTable[Typical Lumens]))","v":{"$error":"#N/A"}},{"$f":"INDEX(MasterTable[],MATCH(Simulator!$E17,MasterTable[P/N],0),COLUMN(MasterTable[I^3]))","v":{"$error":"#N/A"}},{"$f":"INDEX(MasterTable[],MATCH(Simulator!$E17,MasterTable[P/N],0),COLUMN(MasterTable[I^2]))","v":{"$error":"#N/A"}},{"$f":"INDEX(MasterTable[],MATCH(Simulator!$E17,MasterTable[P/N],0),COLUMN(MasterTable[I]))","v":{"$error":"#N/A"}},{"$f":"INDEX(MasterTable[],MATCH(Simulator!$E17,MasterTable[P/N],0),COLUMN(MasterTable[I0]))","v":{"$error":"#N/A"}},{"$f":"IF(Simulator!$N$14=Simulator!H17,1,R6*Simulator!$N$14^3+S6*Simulator!$N$14^2+T6*Simulator!$N$14+U6)","v":{"$error":"#N/A"}},{"$f":"INDEX(MasterTable[],MATCH(Simulator!$E17,MasterTable[P/N],0),COLUMN(MasterTable[F^4]))","v":{"$error":"#N/A"}},{"$f":"INDEX(MasterTable[],MATCH(Simulator!$E17,MasterTable[P/N],0),COLUMN(MasterTable[F^3]))","v":{"$error":"#N/A"}},{"$f":"INDEX(MasterTable[],MATCH(Simulator!$E17,MasterTable[P/N],0),COLUMN(MasterTable[F^2]))","v":{"$error":"#N/A"}},{"$f":"INDEX(MasterTable[],MATCH(Simulator!$E17,MasterTable[P/N],0),COLUMN(MasterTable[F]))","v":{"$error":"#N/A"}},{"$f":"INDEX(MasterTable[],MATCH(Simulator!$E17,MasterTable[P/N],0),COLUMN(MasterTable[F0]))","v":{"$error":"#N/A"}},{"$f":"IF(Simulator!$I$8=85,AE6,W6*M6^4+X6*M6^3+Y6*M6^2+Z6*M6+AA6)","v":{"$error":"#N/A"}},{"$f":"Q6*V6*AB6","v":{"$error":"#N/A"}},{"$f":"IF(AND(Simulator!$I$8=85,Simulator!$N$14=Simulator!H17),Q6*AE6,AC6)","v":{"$error":"#N/A"}},{"$f":"VLOOKUP(MID(Simulator!E17,6,3),V_6_85DC_Factor,2,FALSE)","v":{"$error":"#N/A"}},{"$f":"INDEX(MasterTable[],MATCH(Simulator!$E17,MasterTable[P/N],0),COLUMN(MasterTable[Typical Voltage]))","v":{"$error":"#N/A"}},{"$f":"INDEX(MasterTable[],MATCH(Simulator!$E17,MasterTable[P/N],0),COLUMN(MasterTable[V^4]))","v":{"$error":"#N/A"}},{"$f":"INDEX(MasterTable[],MATCH(Simulator!$E17,MasterTable[P/N],0),COLUMN(MasterTable[V^3]))","v":{"$error":"#N/A"}},{"$f":"INDEX(MasterTable[],MATCH(Simulator!$E17,MasterTable[P/N],0),COLUMN(MasterTable[V^2]))","v":{"$error":"#N/A"}},{"$f":"INDEX(MasterTable[],MATCH(Simulator!$E17,MasterTable[P/N],0),COLUMN(MasterTable[V]))","v":{"$error":"#N/A"}},{"$f":"INDEX(MasterTable[],MATCH(Simulator!$E17,MasterTable[P/N],0),COLUMN(MasterTable[V0]))","v":{"$error":"#N/A"}},{"$f":"AG6*Simulator!$N$14^4+AH6*Simulator!$N$14^3+AI6*Simulator!$N$14^2+AJ6*Simulator!$N$14+AK6","v":{"$error":"#N/A"}},{"$f":"INDEX(MasterTable[],MATCH(Simulator!$E17,MasterTable[P/N],0),COLUMN(MasterTable[T^3]))","v":{"$error":"#N/A"}},{"$f":"INDEX(MasterTable[],MATCH(Simulator!$E17,MasterTable[P/N],0),COLUMN(MasterTable[T^2]))","v":{"$error":"#N/A"}},{"$f":"INDEX(MasterTable[],MATCH(Simulator!$E17,MasterTable[P/N],0),COLUMN(MasterTable[T]))","v":{"$error":"#N/A"}},{"$f":"INDEX(MasterTable[],MATCH(Simulator!$E17,MasterTable[P/N],0),COLUMN(MasterTable[T0]))","v":{"$error":"#N/A"}},{"$f":"AM6*M6^3+AN6*M6^2+AO6*M6+AP6","v":{"$error":"#N/A"}},{"$f":"AL6+AQ6-AF6","v":{"$error":"#N/A"}},null,{"$f":"INDEX(MasterTable[],MATCH(Simulator!$E17,MasterTable[P/N],0),COLUMN(MasterTable['# of Die]))","v":{"$error":"#N/A"}},{"$f":"AL6","v":{"$error":"#N/A"}},{"$f":"INDEX(Tj_to_Vf6[],MATCH(Simulator!$I$8,Tj_to_Vf6[Vf],1),COLUMN(Tj_to_Vf6[Vf]))","v":-0.5},{"$f":"AU6+AV6*AT6","v":{"$error":"#N/A"}},{"$f":"IF(AND(Simulator!$I$8=25,Simulator!$N$14=Simulator!H17),AF6,AR6)","v":{"$error":"#N/A"}}]
[null,"V6",{"$f":"IF(Simulator!$D$10=\"Case\",Simulator!$I$8,M7)","v":25},{"$f":"Simulator!$N$14*AR7/1000","v":{"$error":"#N/A"}},{"$f":"INDEX(MasterTable[],MATCH(Simulator!E18,MasterTable[P/N],0),COLUMN(MasterTable[Thermal Resistance]))","v":{"$error":"#N/A"}},{"$error":"#N/A"},null,{"$f":"IF(Simulator!$D$10=\"Case\",F7,Simulator!$I$8)","v":{"$error":"#N/A"}},{"$f":"Simulator!$N$14*AW7/1000","v":{"$error":"#N/A"}},{"$error":"#N/A"},{"$error":"#N/A"},null,{"$f":"IF(Simulator!$D$10=\"Case\",Simulator!$I$8,K7)","v":25},{"$f":"IF(Simulator!$D$10=\"Case\",H7,Simulator!$I$8)","v":{"$error":"#N/A"}},{"$f":"IF(#REF!=\"Tj\",N7,M7)","v":{"$error":"#REF!"}},null,{"$f":"INDEX(MasterTable[],MATCH(Simulator!E18,MasterTable[P/N],0),COLUMN(MasterTable[Typical Lumens]))","v":{"$error":"#N/A"}},{"$f":"INDEX(MasterTable[],MATCH(Simulator!$E18,MasterTable[P/N],0),COLUMN(MasterTable[I^3]))","v":{"$error":"#N/A"}},{"$f":"INDEX(MasterTable[],MATCH(Simulator!$E18,MasterTable[P/N],0),COLUMN(MasterTable[I^2]))","v":{"$error":"#N/A"}},{"$f":"INDEX(MasterTable[],MATCH(Simulator!$E18,MasterTable[P/N],0),COLUMN(MasterTable[I]))","v":{"$error":"#N/A"}},{"$f":"INDEX(MasterTable[],MATCH(Simulator!$E18,MasterTable[P/N],0),COLUMN(MasterTable[I0]))","v":{"$error":"#N/A"}},{"$f":"IF(Simulator!$N$14=Simulator!H18,1,R7*Simulator!$N$14^3+S7*Simulator!$N$14^2+T7*Simulator!$N$14+U7)","v":{"$error":"#N/A"}},{"$f":"INDEX(MasterTable[],MATCH(Simulator!$E18,MasterTable[P/N],0),COLUMN(MasterTable[F^4]))","v":{"$error":"#N/A"}},{"$f":"INDEX(MasterTable[],MATCH(Simulator!$E18,MasterTable[P/N],0),COLUMN(MasterTable[F^3]))","v":{"$error":"#N/A"}},{"$f":"INDEX(MasterTable[],MATCH(Simulator!$E18,MasterTable[P/N],0),COLUMN(MasterTable[F^2]))","v":{"$error":"#N/A"}},{"$f":"INDEX(MasterTable[],MATCH(Simulator!$E18,MasterTable[P/N],0),COLUMN(MasterTable[F]))","v":{"$error":"#N/A"}},{"$f":"INDEX(MasterTable[],MATCH(Simulator!$E18,MasterTable[P/N],0),COLUMN(MasterTable[F0]))","v":{"$error":"#N/A"}},{"$f":"IF(Simulator!$I$8=85,AE7,W7*M7^4+X7*M7^3+Y7*M7^2+Z7*M7+AA7)","v":{"$error":"#N/A"}},{"$f":"Q7*V7*AB7","v":{"$error":"#N/A"}},{"$f":"IF(AND(Simulator!$I$8=85,Simulator!$N$14=Simulator!H18),Q7*AE7,AC7)","v":{"$error":"#N/A"}},{"$f":"VLOOKUP(MID(Simulator!E18,6,3),V_6_85DC_Factor,2,FALSE)","v":{"$error":"#N/A"}},{"$f":"INDEX(MasterTable[],MATCH(Simulator!$E18,MasterTable[P/N],0),COLUMN(MasterTable[Typical Voltage]))","v":{"$error":"#N/A"}},{"$f":"INDEX(MasterTable[],MATCH(Simulator!$E18,MasterTable[P/N],0),COLUMN(MasterTable[V^4]))","v":{"$error":"#N/A"}},{"$f":"INDEX(MasterTable[],MATCH(Simulator!$E18,MasterTable[P/N],0),COLUMN(MasterTable[V^3]))","v":{"$error":"#N/A"}},{"$f":"INDEX(MasterTable[],MATCH(Simulator!$E18,MasterTable[P/N],0),COLUMN(MasterTable[V^2]))","v":{"$error":"#N/A"}},{"$f":"INDEX(MasterTable[],MATCH(Simulator!$E18,MasterTable[P/N],0),COLUMN(MasterTable[V]))","v":{"$error":"#N/A"}},{"$f":"INDEX(MasterTable[],MATCH(Simulator!$E18,MasterTable[P/N],0),COLUMN(MasterTable[V0]))","v":{"$error":"#N/A"}},{"$f":"AG7*Simulator!$N$14^4+AH7*Simulator!$N$14^3+AI7*Simulator!$N$14^2+AJ7*Simulator!$N$14+AK7","v":{"$error":"#N/A"}},{"$f":"INDEX(MasterTable[],MATCH(Simulator!$E18,MasterTable[P/N],0),COLUMN(MasterTable[T^3]))","v":{"$error":"#N/A"}},{"$f":"INDEX(MasterTable[],MATCH(Simulator!$E18,MasterTable[P/N],0),COLUMN(MasterTable[T^2]))","v":{"$error":"#N/A"}},{"$f":"INDEX(MasterTable[],MATCH(Simulator!$E18,MasterTable[P/N],0),COLUMN(MasterTable[T]))","v":{"$error":"#N/A"}},{"$f":"INDEX(MasterTable[],MATCH(Simulator!$E18,MasterTable[P/N],0),COLUMN(MasterTable[T0]))","v":{"$error":"#N/A"}},{"$error":"#N/A"},{"$error":"#N/A"},null,{"$f":"INDEX(MasterTable[],MATCH(Simulator!$E18,MasterTable[P/N],0),COLUMN(MasterTable['# of Die]))","v":{"$error":"#N/A"}},{"$error":"#N/A"},{"$f":"INDEX(Tj_to_Vf6[],MATCH(Simulator!$I$8,Tj_to_Vf6[Vf],1),COLUMN(Tj_to_Vf6[Vf]))","v":-0.5},{"$error":"#N/A"},{"$f":"IF(AND(Simulator!$I$8=25,Simulator!$N$14=Simulator!H18),AF7,AR7)","v":{"$error":"#N/A"}}]
[null,"V8",{"$f":"IF(Simulator!$D$10=\"Case\",Simulator!$I$8,M8)","v":25},{"$f":"Simulator!$N$14*AR8/1000","v":{"$error":"#N/A"}},{"$f":"INDEX(MasterTable[],MATCH(Simulator!E19,MasterTable[P/N],0),COLUMN(MasterTable[Thermal Resistance]))","v":{"$error":"#N/A"}},{"$error":"#N/A"},null,{"$f":"IF(Simulator!$D$10=\"Case\",F8,Simulator!$I$8)","v":{"$error":"#N/A"}},{"$f":"Simulator!$N$14*AW8/1000","v":{"$error":"#N/A"}},{"$error":"#N/A"},{"$error":"#N/A"},null,{"$f":"IF(Simulator!$D$10=\"Case\",Simulator!$I$8,K8)","v":25},{"$f":"IF(Simulator!$D$10=\"Case\",H8,Simulator!$I$8)","v":{"$error":"#N/A"}},{"$f":"IF(#REF!=\"Tj\",N8,M8)","v":{"$error":"#REF!"}},null,{"$f":"INDEX(MasterTable[],MATCH(Simulator!E19,MasterTable[P/N],0),COLUMN(MasterTable[Typical Lumens]))","v":{"$error":"#N/A"}},{"$f":"INDEX(MasterTable[],MATCH(Simulator!$E19,MasterTable[P/N],0),COLUMN(MasterTable[I^3]))","v":{"$error":"#N/A"}},{"$f":"INDEX(MasterTable[],MATCH(Simulator!$E19,MasterTable[P/N],0),COLUMN(MasterTable[I^2]))","v":{"$error":"#N/A"}},{"$f":"INDEX(MasterTable[],MATCH(Simulator!$E19,MasterTable[P/N],0),COLUMN(MasterTable[I]))","v":{"$error":"#N/A"}},{"$f":"INDEX(MasterTable[],MATCH(Simulator!$E19,MasterTable[P/N],0),COLUMN(MasterTable[I0]))","v":{"$error":"#N/A"}},{"$f":"IF(Simulator!$N$14=Simulator!H19,1,R8*Simulator!$N$14^3+S8*Simulator!$N$14^2+T8*Simulator!$N$14+U8)","v":{"$error":"#N/A"}},{"$f":"INDEX(MasterTable[],MATCH(Simulator!$E19,MasterTable[P/N],0),COLUMN(MasterTable[F^4]))","v":{"$error":"#N/A"}},{"$f":"INDEX(MasterTable[],MATCH(Simulator!$E19,MasterTable[P/N],0),COLUMN(MasterTable[F^3]))","v":{"$error":"#N/A"}},{"$f":"INDEX(MasterTable[],MATCH(Simulator!$E19,MasterTable[P/N],0),COLUMN(MasterTable[F^2]))","v":{"$error":"#N/A"}},{"$f":"INDEX(MasterTable[],MATCH(Simulator!$E19,MasterTable[P/N],0),COLUMN(MasterTable[F]))","v":{"$error":"#N/A"}},{"$f":"INDEX(MasterTable[],MATCH(Simulator!$E19,MasterTable[P/N],0),COLUMN(MasterTable[F0]))","v":{"$error":"#N/A"}},{"$f":"IF(Simulator!$I$8=85,AE8,W8*M8^4+X8*M8^3+Y8*M8^2+Z8*M8+AA8)","v":{"$error":"#N/A"}},{"$error":"#N/A"},{"$f":"IF(AND(Simulator!$I$8=85,Simulator!$N$14=Simulator!H19),Q8*AE8,AC8)","v":{"$error":"#N/A"}},{"$f":"VLOOKUP(MID(Simulator!E19,6,3),V_8_85DC_Factor,2,FALSE)","v":{"$error":"#N/A"}},{"$f":"INDEX(MasterTable[],MATCH(Simulator!$E19,MasterTable[P/N],0),COLUMN(MasterTable[Typical Voltage]))","v":{"$error":"#N/A"}},{"$f":"INDEX(MasterTable[],MATCH(Simulator!$E19,MasterTable[P/N],0),COLUMN(MasterTable[V^4]))","v":{"$error":"#N/A"}},{"$f":"INDEX(MasterTable[],MATCH(Simulator!$E19,MasterTable[P/N],0),COLUMN(MasterTable[V^3]))","v":{"$error":"#N/A"}},{"$f":"INDEX(MasterTable[],MATCH(Simulator!$E19,MasterTable[P/N],0),COLUMN(MasterTable[V^2]))","v":{"$error":"#N/A"}},{"$f":"INDEX(MasterTable[],MATCH(Simulator!$E19,MasterTable[P/N],0),COLUMN(MasterTable[V]))","v":{"$error":"#N/A"}},{"$f":"INDEX(MasterTable[],MATCH(Simulator!$E19,MasterTable[P/N],0),COLUMN(MasterTable[V0]))","v":{"$error":"#N/A"}},{"$f":"AG8*Simulator!$N$14^4+AH8*Simulator!$N$14^3+AI8*Simulator!$N$14^2+AJ8*Simulator!$N$14+AK8","v":{"$error":"#N/A"}},{"$f":"INDEX(MasterTable[],MATCH(Simulator!$E19,MasterTable[P/N],0),COLUMN(MasterTable[T^3]))","v":{"$error":"#N/A"}},{"$f":"INDEX(MasterTable[],MATCH(Simulator!$E19,MasterTable[P/N],0),COLUMN(MasterTable[T^2]))","v":{"$error":"#N/A"}},{"$f":"INDEX(MasterTable[],MATCH(Simulator!$E19,MasterTable[P/N],0),COLUMN(MasterTable[T]))","v":{"$error":"#N/A"}},{"$f":"INDEX(MasterTable[],MATCH(Simulator!$E19,MasterTable[P/N],0),COLUMN(MasterTable[T0]))","v":{"$error":"#N/A"}},{"$error":"#N/A"},{"$error":"#N/A"},null,{"$f":"INDEX(MasterTable[],MATCH(Simulator!$E19,MasterTable[P/N],0),COLUMN(MasterTable['# of Die]))","v":{"$error":"#N/A"}},{"$error":"#N/A"},{"$f":"INDEX(Tj_to_Vf6[],MATCH(Simulator!$I$8,Tj_to_Vf6[Vf],1),COLUMN(Tj_to_Vf6[Vf]))","v":-0.5},{"$error":"#N/A"},{"$f":"IF(AND(Simulator!$I$8=25,Simulator!$N$14=Simulator!H19),AF8,AR8)","v":{"$error":"#N/A"}}]
[null,"V8",{"$f":"IF(Simulator!$D$10=\"Case\",Simulator!$I$8,M9)","v":25},{"$f":"Simulator!$N$14*AR9/1000","v":{"$error":"#N/A"}},{"$f":"INDEX(MasterTable[],MATCH(Simulator!E20,MasterTable[P/N],0),COLUMN(MasterTable[Thermal Resistance]))","v":{"$error":"#N/A"}},{"$error":"#N/A"},null,{"$f":"IF(Simulator!$D$10=\"Case\",F9,Simulator!$I$8)","v":{"$error":"#N/A"}},{"$f":"Simulator!$N$14*AW9/1000","v":{"$error":"#N/A"}},{"$error":"#N/A"},{"$error":"#N/A"},null,{"$f":"IF(Simulator!$D$10=\"Case\",Simulator!$I$8,K9)","v":25},{"$f":"IF(Simulator!$D$10=\"Case\",H9,Simulator!$I$8)","v":{"$error":"#N/A"}},{"$f":"IF(#REF!=\"Tj\",N9,M9)","v":{"$error":"#REF!"}},null,{"$f":"INDEX(MasterTable[],MATCH(Simulator!E20,MasterTable[P/N],0),COLUMN(MasterTable[Typical Lumens]))","v":{"$error":"#N/A"}},{"$f":"INDEX(MasterTable[],MATCH(Simulator!$E20,MasterTable[P/N],0),COLUMN(MasterTable[I^3]))","v":{"$error":"#N/A"}},{"$f":"INDEX(MasterTable[],MATCH(Simulator!$E20,MasterTable[P/N],0),COLUMN(MasterTable[I^2]))","v":{"$error":"#N/A"}},{"$f":"INDEX(MasterTable[],MATCH(Simulator!$E20,MasterTable[P/N],0),COLUMN(MasterTable[I]))","v":{"$error":"#N/A"}},{"$f":"INDEX(MasterTable[],MATCH(Simulator!$E20,MasterTable[P/N],0),COLUMN(MasterTable[I0]))","v":{"$error":"#N/A"}},{"$f":"IF(Simulator!$N$14=Simulator!H20,1,R9*Simulator!$N$14^3+S9*Simulator!$N$14^2+T9*Simulator!$N$14+U9)","v":{"$error":"#N/A"}},{"$f":"INDEX(MasterTable[],MATCH(Simulator!$E20,MasterTable[P/N],0),COLUMN(MasterTable[F^4]))","v":{"$error":"#N/A"}},{"$f":"INDEX(MasterTable[],MATCH(Simulator!$E20,MasterTable[P/N],0),COLUMN(MasterTable[F^3]))","v":{"$error":"#N/A"}},{"$f":"INDEX(MasterTable[],MATCH(Simulator!$E20,MasterTable[P/N],0),COLUMN(MasterTable[F^2]))","v":{"$error":"#N/A"}},{"$f":"INDEX(MasterTable[],MATCH(Simulator!$E20,MasterTable[P/N],0),COLUMN(MasterTable[F]))","v":{"$error":"#N/A"}},{"$f":"INDEX(MasterTable[],MATCH(Simulator!$E20,MasterTable[P/N],0),COLUMN(MasterTable[F0]))","v":{"$error":"#N/A"}},{"$f":"IF(Simulator!$I$8=85,AE9,W9*M9^4+X9*M9^3+Y9*M9^2+Z9*M9+AA9)","v":{"$error":"#N/A"}},{"$error":"#N/A"},{"$f":"IF(AND(Simulator!$I$8=85,Simulator!$N$14=Simulator!H20),Q9*AE9,AC9)","v":{"$error":"#N/A"}},{"$f":"VLOOKUP(MID(Simulator!E20,6,3),V_8_85DC_Factor,2,FALSE)","v":{"$error":"#N/A"}},{"$f":"INDEX(MasterTable[],MATCH(Simulator!$E20,MasterTable[P/N],0),COLUMN(MasterTable[Typical Voltage]))","v":{"$error":"#N/A"}},{"$f":"INDEX(MasterTable[],MATCH(Simulator!$E20,MasterTable[P/N],0),COLUMN(MasterTable[V^4]))","v":{"$error":"#N/A"}},{"$f":"INDEX(MasterTable[],MATCH(Simulator!$E20,MasterTable[P/N],0),COLUMN(MasterTable[V^3]))","v":{"$error":"#N/A"}},{"$f":"INDEX(MasterTable[],MATCH(Simulator!$E20,MasterTable[P/N],0),COLUMN(MasterTable[V^2]))","v":{"$error":"#N/A"}},{"$f":"INDEX(MasterTable[],MATCH(Simulator!$E20,MasterTable[P/N],0),COLUMN(MasterTable[V]))","v":{"$error":"#N/A"}},{"$f":"INDEX(MasterTable[],MATCH(Simulator!$E20,MasterTable[P/N],0),COLUMN(MasterTable[V0]))","v":{"$error":"#N/A"}},{"$f":"AG9*Simulator!$N$14^4+AH9*Simulator!$N$14^3+AI9*Simulator!$N$14^2+AJ9*Simulator!$N$14+AK9","v":{"$error":"#N/A"}},{"$f":"INDEX(MasterTable[],MATCH(Simulator!$E20,MasterTable[P/N],0),COLUMN(MasterTable[T^3]))","v":{"$error":"#N/A"}},{"$f":"INDEX(MasterTable[],MATCH(Simulator!$E20,MasterTable[P/N],0),COLUMN(MasterTable[T^2]))","v":{"$error":"#N/A"}},{"$f":"INDEX(MasterTable[],MATCH(Simulator!$E20,MasterTable[P/N],0),COLUMN(MasterTable[T]))","v":{"$error":"#N/A"}},{"$f":"INDEX(MasterTable[],MATCH(Simulator!$E20,MasterTable[P/N],0),COLUMN(MasterTable[T0]))","v":{"$error":"#N/A"}},{"$error":"#N/A"},{"$error":"#N/A"},null,{"$f":"INDEX(MasterTable[],MATCH(Simulator!$E20,MasterTable[P/N],0),COLUMN(MasterTable['# of Die]))","v":{"$error":"#N/A"}},{"$error":"#N/A"},{"$f":"INDEX(Tj_to_Vf6[],MATCH(Simulator!$I$8,Tj_to_Vf6[Vf],1),COLUMN(Tj_to_Vf6[Vf]))","v":-0.5},{"$error":"#N/A"},{"$f":"IF(AND(Simulator!$I$8=25,Simulator!$N$14=Simulator!H20),AF9,AR9)","v":{"$error":"#N/A"}}]
[null,"V8",{"$f":"IF(Simulator!$D$10=\"Case\",Simulator!$I$8,M10)","v":25},{"$f":"Simulator!$N$14*AR10/1000","v":{"$error":"#N/A"}},{"$f":"INDEX(MasterTable[],MATCH(Simulator!E21,MasterTable[P/N],0),COLUMN(MasterTable[Thermal Resistance]))","v":{"$error":"#N/A"}},{"$error":"#N/A"},null,{"$f":"IF(Simulator!$D$10=\"Case\",F10,Simulator!$I$8)","v":{"$error":"#N/A"}},{"$f":"Simulator!$N$14*AW10/1000","v":{"$error":"#N/A"}},{"$error":"#N/A"},{"$error":"#N/A"},null,{"$f":"IF(Simulator!$D$10=\"Case\",Simulator!$I$8,K10)","v":25},{"$f":"IF(Simulator!$D$10=\"Case\",H10,Simulator!$I$8)","v":{"$error":"#N/A"}},{"$f":"IF(#REF!=\"Tj\",N10,M10)","v":{"$error":"#REF!"}},null,{"$f":"INDEX(MasterTable[],MATCH(Simulator!E21,MasterTable[P/N],0),COLUMN(MasterTable[Typical Lumens]))","v":{"$error":"#N/A"}},{"$f":"INDEX(MasterTable[],MATCH(Simulator!$E21,MasterTable[P/N],0),COLUMN(MasterTable[I^3]))","v":{"$error":"#N/A"}},{"$f":"INDEX(MasterTable[],MATCH(Simulator!$E21,MasterTable[P/N],0),COLUMN(MasterTable[I^2]))","v":{"$error":"#N/A"}},{"$f":"INDEX(MasterTable[],MATCH(Simulator!$E21,MasterTable[P/N],0),COLUMN(MasterTable[I]))","v":{"$error":"#N/A"}},{"$f":"INDEX(MasterTable[],MATCH(Simulator!$E21,MasterTable[P/N],0),COLUMN(MasterTable[I0]))","v":{"$error":"#N/A"}},{"$f":"IF(Simulator!$N$14=Simulator!H21,1,R10*Simulator!$N$14^3+S10*Simulator!$N$14^2+T10*Simulator!$N$14+U10)","v":{"$error":"#N/A"}},{"$f":"INDEX(MasterTable[],MATCH(Simulator!$E21,MasterTable[P/N],0),COLUMN(MasterTable[F^4]))","v":{"$error":"#N/A"}},{"$f":"INDEX(MasterTable[],MATCH(Simulator!$E21,MasterTable[P/N],0),COLUMN(MasterTable[F^3]))","v":{"$error":"#N/A"}},{"$f":"INDEX(MasterTable[],MATCH(Simulator!$E21,MasterTable[P/N],0),COLUMN(MasterTable[F^2]))","v":{"$error":"#N/A"}},{"$f":"INDEX(MasterTable[],MATCH(Simulator!$E21,MasterTable[P/N],0),COLUMN(MasterTable[F]))","v":{"$error":"#N/A"}},{"$f":"INDEX(MasterTable[],MATCH(Simulator!$E21,MasterTable[P/N],0),COLUMN(MasterTable[F0]))","v":{"$error":"#N/A"}},{"$f":"IF(Simulator!$I$8=85,AE10,W10*M10^4+X10*M10^3+Y10*M10^2+Z10*M10+AA10)","v":{"$error":"#N/A"}},{"$error":"#N/A"},{"$f":"IF(AND(Simulator!$I$8=85,Simulator!$N$14=Simulator!H21),Q10*AE10,AC10)","v":{"$error":"#N/A"}},{"$f":"VLOOKUP(MID(Simulator!E21,6,3),V_8_85DC_Factor,2,FALSE)","v":{"$error":"#N/A"}},{"$f":"INDEX(MasterTable[],MATCH(Simulator!$E21,MasterTable[P/N],0),COLUMN(MasterTable[Typical Voltage]))","v":{"$error":"#N/A"}},{"$f":"INDEX(MasterTable[],MATCH(Simulator!$E21,MasterTable[P/N],0),COLUMN(MasterTable[V^4]))","v":{"$error":"#N/A"}},{"$f":"INDEX(MasterTable[],MATCH(Simulator!$E21,MasterTable[P/N],0),COLUMN(MasterTable[V^3]))","v":{"$error":"#N/A"}},{"$f":"INDEX(MasterTable[],MATCH(Simulator!$E21,MasterTable[P/N],0),COLUMN(MasterTable[V^2]))","v":{"$error":"#N/A"}},{"$f":"INDEX(MasterTable[],MATCH(Simulator!$E21,MasterTable[P/N],0),COLUMN(MasterTable[V]))","v":{"$error":"#N/A"}},{"$f":"INDEX(MasterTable[],MATCH(Simulator!$E21,MasterTable[P/N],0),COLUMN(MasterTable[V0]))","v":{"$error":"#N/A"}},{"$f":"AG10*Simulator!$N$14^4+AH10*Simulator!$N$14^3+AI10*Simulator!$N$14^2+AJ10*Simulator!$N$14+AK10","v":{"$error":"#N/A"}},{"$f":"INDEX(MasterTable[],MATCH(Simulator!$E21,MasterTable[P/N],0),COLUMN(MasterTable[T^3]))","v":{"$error":"#N/A"}},{"$f":"INDEX(MasterTable[],MATCH(Simulator!$E21,MasterTable[P/N],0),COLUMN(MasterTable[T^2]))","v":{"$error":"#N/A"}},{"$f":"INDEX(MasterTable[],MATCH(Simulator!$E21,MasterTable[P/N],0),COLUMN(MasterTable[T]))","v":{"$error":"#N/A"}},{"$f":"INDEX(MasterTable[],MATCH(Simulator!$E21,MasterTable[P/N],0),COLUMN(MasterTable[T0]))","v":{"$error":"#N/A"}},{"$error":"#N/A"},{"$error":"#N/A"},null,{"$f":"INDEX(MasterTable[],MATCH(Simulator!$E21,MasterTable[P/N],0),COLUMN(MasterTable['# of Die]))","v":{"$error":"#N/A"}},{"$error":"#N/A"},{"$f":"INDEX(Tj_to_Vf6[],MATCH(Simulator!$I$8,Tj_to_Vf6[Vf],1),COLUMN(Tj_to_Vf6[Vf]))","v":-0.5},{"$error":"#N/A"},{"$f":"IF(AND(Simulator!$I$8=25,Simulator!$N$14=Simulator!H21),AF10,AR10)","v":{"$error":"#N/A"}}]
[null,"V10",{"$f":"IF(Simulator!$D$10=\"Case\",Simulator!$I$8,M11)","v":25},{"$f":"Simulator!$N$14*AR11/1000","v":{"$error":"#N/A"}},{"$f":"INDEX(MasterTable[],MATCH(Simulator!E22,MasterTable[P/N],0),COLUMN(MasterTable[Thermal Resistance]))","v":{"$error":"#N/A"}},{"$error":"#N/A"},null,{"$f":"IF(Simulator!$D$10=\"Case\",F11,Simulator!$I$8)","v":{"$error":"#N/A"}},{"$f":"Simulator!$N$14*AW11/1000","v":{"$error":"#N/A"}},{"$error":"#N/A"},{"$error":"#N/A"},null,{"$f":"IF(Simulator!$D$10=\"Case\",Simulator!$I$8,K11)","v":25},{"$f":"IF(Simulator!$D$10=\"Case\",H11,Simulator!$I$8)","v":{"$error":"#N/A"}},{"$f":"IF(#REF!=\"Tj\",N11,M11)","v":{"$error":"#REF!"}},null,{"$f":"INDEX(MasterTable[],MATCH(Simulator!E22,MasterTable[P/N],0),COLUMN(MasterTable[Typical Lumens]))","v":{"$error":"#N/A"}},{"$f":"INDEX(MasterTable[],MATCH(Simulator!$E22,MasterTable[P/N],0),COLUMN(MasterTable[I^3]))","v":{"$error":"#N/A"}},{"$f":"INDEX(MasterTable[],MATCH(Simulator!$E22,MasterTable[P/N],0),COLUMN(MasterTable[I^2]))","v":{"$error":"#N/A"}},{"$f":"INDEX(MasterTable[],MATCH(Simulator!$E22,MasterTable[P/N],0),COLUMN(MasterTable[I]))","v":{"$error":"#N/A"}},{"$f":"INDEX(MasterTable[],MATCH(Simulator!$E22,MasterTable[P/N],0),COLUMN(MasterTable[I0]))","v":{"$error":"#N/A"}},{"$f":"IF(Simulator!$N$14=Simulator!H22,1,R11*Simulator!$N$14^3+S11*Simulator!$N$14^2+T11*Simulator!$N$14+U11)","v":{"$error":"#N/A"}},{"$f":"INDEX(MasterTable[],MATCH(Simulator!$E22,MasterTable[P/N],0),COLUMN(MasterTable[F^4]))","v":{"$error":"#N/A"}},{"$f":"INDEX(MasterTable[],MATCH(Simulator!$E22,MasterTable[P/N],0),COLUMN(MasterTable[F^3]))","v":{"$error":"#N/A"}},{"$f":"INDEX(MasterTable[],MATCH(Simulator!$E22,MasterTable[P/N],0),COLUMN(MasterTable[F^2]))","v":{"$error":"#N/A"}},{"$f":"INDEX(MasterTable[],MATCH(Simulator!$E22,MasterTable[P/N],0),COLUMN(MasterTable[F]))","v":{"$error":"#N/A"}},{"$f":"INDEX(MasterTable[],MATCH(Simulator!$E22,MasterTable[P/N],0),COLUMN(MasterTable[F0]))","v":{"$error":"#N/A"}},{"$f":"IF(Simulator!$I$8=85,AE11,W11*M11^4+X11*M11^3+Y11*M11^2+Z11*M11+AA11)","v":{"$error":"#N/A"}},{"$error":"#N/A"},{"$f":"IF(AND(Simulator!$I$8=85,Simulator!$N$14=Simulator!H22),Q11*AE11,AC11)","v":{"$error":"#N/A"}},{"$f":"VLOOKUP(MID(Simulator!E22,6,3),V_10_85DC_Factor,2,FALSE)","v":{"$error":"#N/A"}},{"$f":"INDEX(MasterTable[],MATCH(Simulator!$E22,MasterTable[P/N],0),COLUMN(MasterTable[Typical Voltage]))","v":{"$error":"#N/A"}},{"$f":"INDEX(MasterTable[],MATCH(Simulator!$E22,MasterTable[P/N],0),COLUMN(MasterTable[V^4]))","v":{"$error":"#N/A"}},{"$f":"INDEX(MasterTable[],MATCH(Simulator!$E22,MasterTable[P/N],0),COLUMN(MasterTable[V^3]))","v":{"$error":"#N/A"}},{"$f":"INDEX(MasterTable[],MATCH(Simulator!$E22,MasterTable[P/N],0),COLUMN(MasterTable[V^2]))","v":{"$error":"#N/A"}},{"$f":"INDEX(MasterTable[],MATCH(Simulator!$E22,MasterTable[P/N],0),COLUMN(MasterTable[V]))","v":{"$error":"#N/A"}},{"$f":"INDEX(MasterTable[],MATCH(Simulator!$E22,MasterTable[P/N],0),COLUMN(MasterTable[V0]))","v":{"$error":"#N/A"}},{"$f":"AG11*Simulator!$N$14^4+AH11*Simulator!$N$14^3+AI11*Simulator!$N$14^2+AJ11*Simulator!$N$14+AK11","v":{"$error":"#N/A"}},{"$f":"INDEX(MasterTable[],MATCH(Simulator!$E22,MasterTable[P/N],0),COLUMN(MasterTable[T^3]))","v":{"$error":"#N/A"}},{"$f":"INDEX(MasterTable[],MATCH(Simulator!$E22,MasterTable[P/N],0),COLUMN(MasterTable[T^2]))","v":{"$error":"#N/A"}},{"$f":"INDEX(MasterTable[],MATCH(Simulator!$E22,MasterTable[P/N],0),COLUMN(MasterTable[T]))","v":{"$error":"#N/A"}},{"$f":"INDEX(MasterTable[],MATCH(Simulator!$E22,MasterTable[P/N],0),COLUMN(MasterTable[T0]))","v":{"$error":"#N/A"}},{"$error":"#N/A"},{"$error":"#N/A"},null,{"$f":"INDEX(MasterTable[],MATCH(Simulator!$E22,MasterTable[P/N],0),COLUMN(MasterTable['# of Die]))","v":{"$error":"#N/A"}},{"$error":"#N/A"},{"$f":"INDEX(Tj_to_Vf6[],MATCH(Simulator!$I$8,Tj_to_Vf6[Vf],1),COLUMN(Tj_to_Vf6[Vf]))","v":-0.5},{"$error":"#N/A"},{"$f":"IF(AND(Simulator!$I$8=25,Simulator!$N$14=Simulator!H22),AF11,AR11)","v":{"$error":"#N/A"}}]
[null,"V13",{"$f":"IF(Simulator!$D$10=\"Case\",Simulator!$I$8,M12)","v":25},{"$f":"Simulator!$N$14*AR12/1000","v":{"$error":"#N/A"}},{"$f":"INDEX(MasterTable[],MATCH(Simulator!E23,MasterTable[P/N],0),COLUMN(MasterTable[Thermal Resistance]))","v":{"$error":"#N/A"}},{"$error":"#N/A"},null,{"$f":"IF(Simulator!$D$10=\"Case\",F12,Simulator!$I$8)","v":{"$error":"#N/A"}},{"$f":"Simulator!$N$14*AW12/1000","v":{"$error":"#N/A"}},{"$error":"#N/A"},{"$error":"#N/A"},null,{"$f":"IF(Simulator!$D$10=\"Case\",Simulator!$I$8,K12)","v":25},{"$f":"IF(Simulator!$D$10=\"Case\",H12,Simulator!$I$8)","v":{"$error":"#N/A"}},{"$f":"IF(#REF!=\"Tj\",N12,M12)","v":{"$error":"#REF!"}},null,{"$f":"INDEX(MasterTable[],MATCH(Simulator!E23,MasterTable[P/N],0),COLUMN(MasterTable[Typical Lumens]))","v":{"$error":"#N/A"}},{"$f":"INDEX(MasterTable[],MATCH(Simulator!$E23,MasterTable[P/N],0),COLUMN(MasterTable[I^3]))","v":{"$error":"#N/A"}},{"$f":"INDEX(MasterTable[],MATCH(Simulator!$E23,MasterTable[P/N],0),COLUMN(MasterTable[I^2]))","v":{"$error":"#N/A"}},{"$f":"INDEX(MasterTable[],MATCH(Simulator!$E23,MasterTable[P/N],0),COLUMN(MasterTable[I]))","v":{"$error":"#N/A"}},{"$f":"INDEX(MasterTable[],MATCH(Simulator!$E23,MasterTable[P/N],0),COLUMN(MasterTable[I0]))","v":{"$error":"#N/A"}},{"$f":"IF(Simulator!$N$14=Simulator!H23,1,R12*Simulator!$N$14^3+S12*Simulator!$N$14^2+T12*Simulator!$N$14+U12)","v":{"$error":"#N/A"}},{"$f":"INDEX(MasterTable[],MATCH(Simulator!$E23,MasterTable[P/N],0),COLUMN(MasterTable[F^4]))","v":{"$error":"#N/A"}},{"$f":"INDEX(MasterTable[],MATCH(Simulator!$E23,MasterTable[P/N],0),COLUMN(MasterTable[F^3]))","v":{"$error":"#N/A"}},{"$f":"INDEX(MasterTable[],MATCH(Simulator!$E23,MasterTable[P/N],0),COLUMN(MasterTable[F^2]))","v":{"$error":"#N/A"}},{"$f":"INDEX(MasterTable[],MATCH(Simulator!$E23,MasterTable[P/N],0),COLUMN(MasterTable[F]))","v":{"$error":"#N/A"}},{"$f":"INDEX(MasterTable[],MATCH(Simulator!$E23,MasterTable[P/N],0),COLUMN(MasterTable[F0]))","v":{"$error":"#N/A"}},{"$f":"IF(Simulator!$I$8=85,AE12,W12*M12^4+X12*M12^3+Y12*M12^2+Z12*M12+AA12)","v":{"$error":"#N/A"}},{"$error":"#N/A"},{"$f":"IF(AND(Simulator!$I$8=85,Simulator!$N$14=Simulator!H23),Q12*AE12,AC12)","v":{"$error":"#N/A"}},{"$f":"VLOOKUP(MID(Simulator!E23,6,3),Vero13_85DC_Factor,2,FALSE)","v":{"$error":"#N/A"}},{"$f":"INDEX(MasterTable[],MATCH(Simulator!$E23,MasterTable[P/N],0),COLUMN(MasterTable[Typical Voltage]))","v":{"$error":"#N/A"}},{"$f":"INDEX(MasterTable[],MATCH(Simulator!$E23,MasterTable[P/N],0),COLUMN(MasterTable[V^4]))","v":{"$error":"#N/A"}},{"$f":"INDEX(MasterTable[],MATCH(Simulator!$E23,MasterTable[P/N],0),COLUMN(MasterTable[V^3]))","v":{"$error":"#N/A"}},{"$f":"INDEX(MasterTable[],MATCH(Simulator!$E23,MasterTable[P/N],0),COLUMN(MasterTable[V^2]))","v":{"$error":"#N/A"}},{"$f":"INDEX(MasterTable[],MATCH(Simulator!$E23,MasterTable[P/N],0),COLUMN(MasterTable[V]))","v":{"$error":"#N/A"}},{"$f":"INDEX(MasterTable[],MATCH(Simulator!$E23,MasterTable[P/N],0),COLUMN(MasterTable[V0]))","v":{"$error":"#N/A"}},{"$f":"AG12*Simulator!$N$14^4+AH12*Simulator!$N$14^3+AI12*Simulator!$N$14^2+AJ12*Simulator!$N$14+AK12","v":{"$error":"#N/A"}},{"$f":"INDEX(MasterTable[],MATCH(Simulator!$E23,MasterTable[P/N],0),COLUMN(MasterTable[T^3]))","v":{"$error":"#N/A"}},{"$f":"INDEX(MasterTable[],MATCH(Simulator!$E23,MasterTable[P/N],0),COLUMN(MasterTable[T^2]))","v":{"$error":"#N/A"}},{"$f":"INDEX(MasterTable[],MATCH(Simulator!$E23,MasterTable[P/N],0),COLUMN(MasterTable[T]))","v":{"$error":"#N/A"}},{"$f":"INDEX(MasterTable[],MATCH(Simulator!$E23,MasterTable[P/N],0),COLUMN(MasterTable[T0]))","v":{"$error":"#N/A"}},{"$error":"#N/A"},{"$error":"#N/A"},null,{"$f":"INDEX(MasterTable[],MATCH(Simulator!$E23,MasterTable[P/N],0),COLUMN(MasterTable['# of Die]))","v":{"$error":"#N/A"}},{"$error":"#N/A"},{"$f":"INDEX(Tj_to_Vf6[],MATCH(Simulator!$I$8,Tj_to_Vf6[Vf],1),COLUMN(Tj_to_Vf6[Vf]))","v":-0.5},{"$error":"#N/A"},{"$f":"IF(AND(Simulator!$I$8=25,Simulator!$N$14=Simulator!H23),AF12,AR12)","v":{"$error":"#N/A"}}]
[null,"V15",{"$f":"IF(Simulator!$D$10=\"Case\",Simulator!$I$8,M13)","v":25},{"$f":"Simulator!$N$14*AR13/1000","v":{"$error":"#N/A"}},{"$f":"INDEX(MasterTable[],MATCH(Simulator!E24,MasterTable[P/N],0),COLUMN(MasterTable[Thermal Resistance]))","v":{"$error":"#N/A"}},{"$error":"#N/A"},null,{"$f":"IF(Simulator!$D$10=\"Case\",F13,Simulator!$I$8)","v":{"$error":"#N/A"}},{"$f":"Simulator!$N$14*AW13/1000","v":{"$error":"#N/A"}},{"$error":"#N/A"},{"$error":"#N/A"},null,{"$f":"IF(Simulator!$D$10=\"Case\",Simulator!$I$8,K13)","v":25},{"$f":"IF(Simulator!$D$10=\"Case\",H13,Simulator!$I$8)","v":{"$error":"#N/A"}},{"$f":"IF(#REF!=\"Tj\",N13,M13)","v":{"$error":"#REF!"}},null,{"$f":"INDEX(MasterTable[],MATCH(Simulator!E24,MasterTable[P/N],0),COLUMN(MasterTable[Typical Lumens]))","v":{"$error":"#N/A"}},{"$f":"INDEX(MasterTable[],MATCH(Simulator!$E24,MasterTable[P/N],0),COLUMN(MasterTable[I^3]))","v":{"$error":"#N/A"}},{"$f":"INDEX(MasterTable[],MATCH(Simulator!$E24,MasterTable[P/N],0),COLUMN(MasterTable[I^2]))","v":{"$error":"#N/A"}},{"$f":"INDEX(MasterTable[],MATCH(Simulator!$E24,MasterTable[P/N],0),COLUMN(MasterTable[I]))","v":{"$error":"#N/A"}},{"$f":"INDEX(MasterTable[],MATCH(Simulator!$E24,MasterTable[P/N],0),COLUMN(MasterTable[I0]))","v":{"$error":"#N/A"}},{"$f":"IF(Simulator!$N$14=Simulator!H24,1,R13*Simulator!$N$14^3+S13*Simulator!$N$14^2+T13*Simulator!$N$14+U13)","v":{"$error":"#N/A"}},{"$f":"INDEX(MasterTable[],MATCH(Simulator!$E24,MasterTable[P/N],0),COLUMN(MasterTable[F^4]))","v":{"$error":"#N/A"}},{"$f":"INDEX(MasterTable[],MATCH(Simulator!$E24,MasterTable[P/N],0),COLUMN(MasterTable[F^3]))","v":{"$error":"#N/A"}},{"$f":"INDEX(MasterTable[],MATCH(Simulator!$E24,MasterTable[P/N],0),COLUMN(MasterTable[F^2]))","v":{"$error":"#N/A"}},{"$f":"INDEX(MasterTable[],MATCH(Simulator!$E24,MasterTable[P/N],0),COLUMN(MasterTable[F]))","v":{"$error":"#N/A"}},{"$f":"INDEX(MasterTable[],MATCH(Simulator!$E24,MasterTable[P/N],0),COLUMN(MasterTable[F0]))","v":{"$error":"#N/A"}},{"$f":"IF(Simulator!$I$8=85,AE13,W13*M13^4+X13*M13^3+Y13*M13^2+Z13*M13+AA13)","v":{"$error":"#N/A"}},{"$error":"#N/A"},{"$f":"IF(AND(Simulator!$I$8=85,Simulator!$N$14=Simulator!H24),Q13*AE13,AC13)","v":{"$error":"#N/A"}},{"$f":"VLOOKUP(MID(Simulator!E24,6,3),V_15_85DC_Factor,2,FALSE)","v":{"$error":"#N/A"}},{"$f":"INDEX(MasterTable[],MATCH(Simulator!$E24,MasterTable[P/N],0),COLUMN(MasterTable[Typical Voltage]))","v":{"$error":"#N/A"}},{"$f":"INDEX(MasterTable[],MATCH(Simulator!$E24,MasterTable[P/N],0),COLUMN(MasterTable[V^4]))","v":{"$error":"#N/A"}},{"$f":"INDEX(MasterTable[],MATCH(Simulator!$E24,MasterTable[P/N],0),COLUMN(MasterTable[V^3]))","v":{"$error":"#N/A"}},{"$f":"INDEX(MasterTable[],MATCH(Simulator!$E24,MasterTable[P/N],0),COLUMN(MasterTable[V^2]))","v":{"$error":"#N/A"}},{"$f":"INDEX(MasterTable[],MATCH(Simulator!$E24,MasterTable[P/N],0),COLUMN(MasterTable[V]))","v":{"$error":"#N/A"}},{"$f":"INDEX(MasterTable[],MATCH(Simulator!$E24,MasterTable[P/N],0),COLUMN(MasterTable[V0]))","v":{"$error":"#N/A"}},{"$f":"AG13*Simulator!$N$14^4+AH13*Simulator!$N$14^3+AI13*Simulator!$N$14^2+AJ13*Simulator!$N$14+AK13","v":{"$error":"#N/A"}},{"$f":"INDEX(MasterTable[],MATCH(Simulator!$E24,MasterTable[P/N],0),COLUMN(MasterTable[T^3]))","v":{"$error":"#N/A"}},{"$f":"INDEX(MasterTable[],MATCH(Simulator!$E24,MasterTable[P/N],0),COLUMN(MasterTable[T^2]))","v":{"$error":"#N/A"}},{"$f":"INDEX(MasterTable[],MATCH(Simulator!$E24,MasterTable[P/N],0),COLUMN(MasterTable[T]))","v":{"$error":"#N/A"}},{"$f":"INDEX(MasterTable[],MATCH(Simulator!$E24,MasterTable[P/N],0),COLUMN(MasterTable[T0]))","v":{"$error":"#N/A"}},{"$error":"#N/A"},{"$error":"#N/A"},null,{"$f":"INDEX(MasterTable[],MATCH(Simulator!$E24,MasterTable[P/N],0),COLUMN(MasterTable['# of Die]))","v":{"$error":"#N/A"}},{"$error":"#N/A"},{"$f":"INDEX(Tj_to_Vf6[],MATCH(Simulator!$I$8,Tj_to_Vf6[Vf],1),COLUMN(Tj_to_Vf6[Vf]))","v":-0.5},{"$error":"#N/A"},{"$f":"IF(AND(Simulator!$I$8=25,Simulator!$N$14=Simulator!H24),AF13,AR13)","v":{"$error":"#N/A"}}]
[null,"V18",{"$f":"IF(Simulator!$D$10=\"Case\",Simulator!$I$8,M14)","v":25},{"$f":"Simulator!$N$14*AR14/1000","v":{"$error":"#N/A"}},{"$f":"INDEX(MasterTable[],MATCH(Simulator!E25,MasterTable[P/N],0),COLUMN(MasterTable[Thermal Resistance]))","v":{"$error":"#N/A"}},{"$error":"#N/A"},null,{"$f":"IF(Simulator!$D$10=\"Case\",F14,Simulator!$I$8)","v":{"$error":"#N/A"}},{"$f":"Simulator!$N$14*AW14/1000","v":{"$error":"#N/A"}},{"$error":"#N/A"},{"$error":"#N/A"},null,{"$f":"IF(Simulator!$D$10=\"Case\",Simulator!$I$8,K14)","v":25},{"$f":"IF(Simulator!$D$10=\"Case\",H14,Simulator!$I$8)","v":{"$error":"#N/A"}},{"$f":"IF(#REF!=\"Tj\",N14,M14)","v":{"$error":"#REF!"}},null,{"$f":"INDEX(MasterTable[],MATCH(Simulator!E25,MasterTable[P/N],0),COLUMN(MasterTable[Typical Lumens]))","v":{"$error":"#N/A"}},{"$f":"INDEX(MasterTable[],MATCH(Simulator!$E25,MasterTable[P/N],0),COLUMN(MasterTable[I^3]))","v":{"$error":"#N/A"}},{"$f":"INDEX(MasterTable[],MATCH(Simulator!$E25,MasterTable[P/N],0),COLUMN(MasterTable[I^2]))","v":{"$error":"#N/A"}},{"$f":"INDEX(MasterTable[],MATCH(Simulator!$E25,MasterTable[P/N],0),COLUMN(MasterTable[I]))","v":{"$error":"#N/A"}},{"$f":"INDEX(MasterTable[],MATCH(Simulator!$E25,MasterTable[P/N],0),COLUMN(MasterTable[I0]))","v":{"$error":"#N/A"}},{"$f":"IF(Simulator!$N$14=Simulator!H25,1,R14*Simulator!$N$14^3+S14*Simulator!$N$14^2+T14*Simulator!$N$14+U14)","v":{"$error":"#N/A"}},{"$f":"INDEX(MasterTable[],MATCH(Simulator!$E25,MasterTable[P/N],0),COLUMN(MasterTable[F^4]))","v":{"$error":"#N/A"}},{"$f":"INDEX(MasterTable[],MATCH(Simulator!$E25,MasterTable[P/N],0),COLUMN(MasterTable[F^3]))","v":{"$error":"#N/A"}},{"$f":"INDEX(MasterTable[],MATCH(Simulator!$E25,MasterTable[P/N],0),COLUMN(MasterTable[F^2]))","v":{"$error":"#N/A"}},{"$f":"INDEX(MasterTable[],MATCH(Simulator!$E25,MasterTable[P/N],0),COLUMN(MasterTable[F]))","v":{"$error":"#N/A"}},{"$f":"INDEX(MasterTable[],MATCH(Simulator!$E25,MasterTable[P/N],0),COLUMN(MasterTable[F0]))","v":{"$error":"#N/A"}},{"$f":"IF(Simulator!$I$8=85,AE14,W14*M14^4+X14*M14^3+Y14*M14^2+Z14*M14+AA14)","v":{"$error":"#N/A"}},{"$error":"#N/A"},{"$f":"IF(AND(Simulator!$I$8=85,Simulator!$N$14=Simulator!H25),Q14*AE14,AC14)","v":{"$error":"#N/A"}},{"$f":"VLOOKUP(MID(Simulator!E25,6,3),Vero18_85DC_Factor,2,FALSE)","v":{"$error":"#N/A"}},{"$f":"INDEX(MasterTable[],MATCH(Simulator!$E25,MasterTable[P/N],0),COLUMN(MasterTable[Typical Voltage]))","v":{"$error":"#N/A"}},{"$f":"INDEX(MasterTable[],MATCH(Simulator!$E25,MasterTable[P/N],0),COLUMN(MasterTable[V^4]))","v":{"$error":"#N/A"}},{"$f":"INDEX(MasterTable[],MATCH(Simulator!$E25,MasterTable[P/N],0),COLUMN(MasterTable[V^3]))","v":{"$error":"#N/A"}},{"$f":"INDEX(MasterTable[],MATCH(Simulator!$E25,MasterTable[P/N],0),COLUMN(MasterTable[V^2]))","v":{"$error":"#N/A"}},{"$f":"INDEX(MasterTable[],MATCH(Simulator!$E25,MasterTable[P/N],0),COLUMN(MasterTable[V]))","v":{"$error":"#N/A"}},{"$f":"INDEX(MasterTable[],MATCH(Simulator!$E25,MasterTable[P/N],0),COLUMN(MasterTable[V0]))","v":{"$error":"#N/A"}},{"$f":"AG14*Simulator!$N$14^4+AH14*Simulator!$N$14^3+AI14*Simulator!$N$14^2+AJ14*Simulator!$N$14+AK14","v":{"$error":"#N/A"}},{"$f":"INDEX(MasterTable[],MATCH(Simulator!$E25,MasterTable[P/N],0),COLUMN(MasterTable[T^3]))","v":{"$error":"#N/A"}},{"$f":"INDEX(MasterTable[],MATCH(Simulator!$E25,MasterTable[P/N],0),COLUMN(MasterTable[T^2]))","v":{"$error":"#N/A"}},{"$f":"INDEX(MasterTable[],MATCH(Simulator!$E25,MasterTable[P/N],0),COLUMN(MasterTable[T]))","v":{"$error":"#N/A"}},{"$f":"INDEX(MasterTable[],MATCH(Simulator!$E25,MasterTable[P/N],0),COLUMN(MasterTable[T0]))","v":{"$error":"#N/A"}},{"$error":"#N/A"},{"$error":"#N/A"},null,{"$f":"INDEX(MasterTable[],MATCH(Simulator!$E25,MasterTable[P/N],0),COLUMN(MasterTable['# of Die]))","v":{"$error":"#N/A"}},{"$error":"#N/A"},{"$f":"INDEX(Tj_to_Vf6[],MATCH(Simulator!$I$8,Tj_to_Vf6[Vf],1),COLUMN(Tj_to_Vf6[Vf]))","v":-0.5},{"$error":"#N/A"},{"$f":"IF(AND(Simulator!$I$8=25,Simulator!$N$14=Simulator!H25),AF14,AR14)","v":{"$error":"#N/A"}}]
[null,"V22",{"$f":"IF(Simulator!$D$10=\"Case\",Simulator!$I$8,M15)","v":25},{"$f":"Simulator!$N$14*AR15/1000","v":{"$error":"#N/A"}},{"$f":"INDEX(MasterTable[],MATCH(Simulator!E26,MasterTable[P/N],0),COLUMN(MasterTable[Thermal Resistance]))","v":{"$error":"#N/A"}},{"$error":"#N/A"},null,{"$f":"IF(Simulator!$D$10=\"Case\",F15,Simulator!$I$8)","v":{"$error":"#N/A"}},{"$f":"Simulator!$N$14*AW15/1000","v":{"$error":"#N/A"}},{"$error":"#N/A"},{"$error":"#N/A"},null,{"$f":"IF(Simulator!$D$10=\"Case\",Simulator!$I$8,K15)","v":25},{"$f":"IF(Simulator!$D$10=\"Case\",H15,Simulator!$I$8)","v":{"$error":"#N/A"}},{"$f":"IF(#REF!=\"Tj\",N15,M15)","v":{"$error":"#REF!"}},null,{"$f":"INDEX(MasterTable[],MATCH(Simulator!E26,MasterTable[P/N],0),COLUMN(MasterTable[Typical Lumens]))","v":{"$error":"#N/A"}},{"$f":"INDEX(MasterTable[],MATCH(Simulator!$E26,MasterTable[P/N],0),COLUMN(MasterTable[I^3]))","v":{"$error":"#N/A"}},{"$f":"INDEX(MasterTable[],MATCH(Simulator!$E26,MasterTable[P/N],0),COLUMN(MasterTable[I^2]))","v":{"$error":"#N/A"}},{"$f":"INDEX(MasterTable[],MATCH(Simulator!$E26,MasterTable[P/N],0),COLUMN(MasterTable[I]))","v":{"$error":"#N/A"}},{"$f":"INDEX(MasterTable[],MATCH(Simulator!$E26,MasterTable[P/N],0),COLUMN(MasterTable[I0]))","v":{"$error":"#N/A"}},{"$f":"IF(Simulator!$N$14=Simulator!H26,1,R15*Simulator!$N$14^3+S15*Simulator!$N$14^2+T15*Simulator!$N$14+U15)","v":{"$error":"#N/A"}},{"$f":"INDEX(MasterTable[],MATCH(Simulator!$E26,MasterTable[P/N],0),COLUMN(MasterTable[F^4]))","v":{"$error":"#N/A"}},{"$f":"INDEX(MasterTable[],MATCH(Simulator!$E26,MasterTable[P/N],0),COLUMN(MasterTable[F^3]))","v":{"$error":"#N/A"}},{"$f":"INDEX(MasterTable[],MATCH(Simulator!$E26,MasterTable[P/N],0),COLUMN(MasterTable[F^2]))","v":{"$error":"#N/A"}},{"$f":"INDEX(MasterTable[],MATCH(Simulator!$E26,MasterTable[P/N],0),COLUMN(MasterTable[F]))","v":{"$error":"#N/A"}},{"$f":"INDEX(MasterTable[],MATCH(Simulator!$E26,MasterTable[P/N],0),COLUMN(MasterTable[F0]))","v":{"$error":"#N/A"}},{"$f":"IF(Simulator!$I$8=85,AE15,W15*M15^4+X15*M15^3+Y15*M15^2+Z15*M15+AA15)","v":{"$error":"#N/A"}},{"$error":"#N/A"},{"$f":"IF(AND(Simulator!$I$8=85,Simulator!$N$14=Simulator!H26),Q15*AE15,AC15)","v":{"$error":"#N/A"}},{"$f":"VLOOKUP(MID(Simulator!E26,6,3),Data!AO4:AP7,2,FALSE)","v":{"$error":"#N/A"}},{"$f":"INDEX(MasterTable[],MATCH(Simulator!$E26,MasterTable[P/N],0),COLUMN(MasterTable[Typical Voltage]))","v":{"$error":"#N/A"}},{"$f":"INDEX(MasterTable[],MATCH(Simulator!$E26,MasterTable[P/N],0),COLUMN(MasterTable[V^4]))","v":{"$error":"#N/A"}},{"$f":"INDEX(MasterTable[],MATCH(Simulator!$E26,MasterTable[P/N],0),COLUMN(MasterTable[V^3]))","v":{"$error":"#N/A"}},{"$f":"INDEX(MasterTable[],MATCH(Simulator!$E26,MasterTable[P/N],0),COLUMN(MasterTable[V^2]))","v":{"$error":"#N/A"}},{"$f":"INDEX(MasterTable[],MATCH(Simulator!$E26,MasterTable[P/N],0),COLUMN(MasterTable[V]))","v":{"$error":"#N/A"}},{"$f":"INDEX(MasterTable[],MATCH(Simulator!$E26,MasterTable[P/N],0),COLUMN(MasterTable[V0]))","v":{"$error":"#N/A"}},{"$f":"AG15*Simulator!$N$14^4+AH15*Simulator!$N$14^3+AI15*Simulator!$N$14^2+AJ15*Simulator!$N$14+AK15","v":{"$error":"#N/A"}},{"$f":"INDEX(MasterTable[],MATCH(Simulator!$E26,MasterTable[P/N],0),COLUMN(MasterTable[T^3]))","v":{"$error":"#N/A"}},{"$f":"INDEX(MasterTable[],MATCH(Simulator!$E26,MasterTable[P/N],0),COLUMN(MasterTable[T^2]))","v":{"$error":"#N/A"}},{"$f":"INDEX(MasterTable[],MATCH(Simulator!$E26,MasterTable[P/N],0),COLUMN(MasterTable[T]))","v":{"$error":"#N/A"}},{"$f":"INDEX(MasterTable[],MATCH(Simulator!$E26,MasterTable[P/N],0),COLUMN(MasterTable[T0]))","v":{"$error":"#N/A"}},{"$error":"#N/A"},{"$error":"#N/A"},null,{"$f":"INDEX(MasterTable[],MATCH(Simulator!$E26,MasterTable[P/N],0),COLUMN(MasterTable['# of Die]))","v":{"$error":"#N/A"}},{"$error":"#N/A"},{"$f":"INDEX(Tj_to_Vf6[],MATCH(Simulator!$I$8,Tj_to_Vf6[Vf],1),COLUMN(Tj_to_Vf6[Vf]))","v":-0.5},{"$error":"#N/A"},{"$f":"IF(AND(Simulator!$I$8=25,Simulator!$N$14=Simulator!H26),AF15,AR15)","v":{"$error":"#N/A"}}]
[]
["Calculations using Current Input",null,"Converting Tc to Tj",null,null,null,null,"Converting Tj to Tc",null,null,null,null,null,null,null,null,"Calculating Flux",null,null,null,null,null,null,null,null,null,null,null,null,null,null,"Calculating Voltage w/ Tc",null,null,null,null,null,null,null,null,null,null,null,null,null,null,"Calculating Voltage w/ Tj"]
[null,null,"Tj = Tc + Power*Thermal Resistance",null,null,null,null,"Tc = Tj - Power*Thermal Resistance",null,null,null,null,null,null,null,null,"F@Tc&I = Ft*Fr@I*Fr@Tc",null,null,null,null,null,null,null,null,null,null,null,null,null,null,"Vf@Tc&I = Vf@I + Vf@Tc-Vft",null,null,null,null,null,null,null,null,null,null,null,null,null,null,"Vf@Tj&I = Vf@I + Vf@Tj Modifier"]
[null,null,"Tc","Power","Thermal Resistance","Tc>>Tj",null,"Tj","Power","Thermal Resistance","Tj>>Tc",null,"Tc","Tj",{"$f":"IF(Simulator!$D$10=\"Case\",\"Tj\",\"Tc\")","v":"Tj"},null,"Ft","Fr@I Eqn",null,null,null,"Fr@I",null,"Fr@Tc Eqn",null,null,null,"Fr@Tc","F@Tc&I",null,"85 DC Factor","Vft",null,"Vf@I Eqn",null,null,null,"Vf@I","Vf@Tc Eqn",null,null,null,"Vf@Tc","Vf@Tc&I",null,"# of Die","Vf@I","Vf@Tj Modifier, per Die","Vf@Tj&I","Voltage Report"]
[null,"Vero 10",{"$f":"IF(Simulator!$D$10=\"Case\",Simulator!$I$8,M20)","v":25},{"$f":"Simulator!$N$14*AR20/1000","v":{"$error":"#N/A"}},{"$f":"INDEX(MasterTable[],MATCH(Simulator!E28,MasterTable[P/N],0),COLUMN(MasterTable[Thermal Resistance]))","v":{"$error":"#N/A"}},{"$f":"C20+D20*E20","v":{"$error":"#N/A"}},null,{"$f":"IF(Simulator!$D$10=\"Case\",F20,Simulator!$I$8)","v":{"$error":"#N/A"}},{"$f":"Simulator!$N$14*AW20/1000","v":{"$error":"#N/A"}},{"$f":"E20","v":{"$error":"#N/A"}},{"$f":"H20-I20*J20","v":{"$error":"#N/A"}},null,{"$f":"IF(Simulator!$D$10=\"Case\",Simulator!$I$8,K20)","v":25},{"$f":"IF(Simulator!$D$10=\"Case\",H20,Simulator!$I$8)","v":{"$error":"#N/A"}},{"$f":"IF(#REF!=\"Tj\",N20,M20)","v":{"$error":"#REF!"}},null,{"$f":"INDEX(MasterTable[],MATCH(Simulator!E28,MasterTable[P/N],0),COLUMN(MasterTable[Typical Lumens]))","v":{"$error":"#N/A"}},{"$f":"INDEX(MasterTable[],MATCH(Simulator!$E28,MasterTable[P/N],0),COLUMN(MasterTable[I^3]))","v":{"$error":"#N/A"}},{"$f":"INDEX(MasterTable[],MATCH(Simulator!$E28,MasterTable[P/N],0),COLUMN(MasterTable[I^2]))","v":{"$error":"#N/A"}},{"$f":"INDEX(MasterTable[],MATCH(Simulator!$E28,MasterTable[P/N],0),COLUMN(MasterTable[I]))","v":{"$error":"#N/A"}},{"$f":"INDEX(MasterTable[],MATCH(Simulator!$E28,MasterTable[P/N],0),COLUMN(MasterTable[I0]))","v":{"$error":"#N/A"}},{"$f":"IF(Simulator!$N$14=Simulator!H28,1,S20*Simulator!$N$14^2+T20*Simulator!$N$14+U20)","v":{"$error":"#N/A"}},{"$f":"INDEX(MasterTable[],MATCH(Simulator!$E28,MasterTable[P/N],0),COLUMN(MasterTable[F^4]))","v":{"$error":"#N/A"}},{"$f":"INDEX(MasterTable[],MATCH(Simulator!$E28,MasterTable[P/N],0),COLUMN(MasterTable[F^3]))","v":{"$error":"#N/A"}},{"$f":"INDEX(MasterTable[],MATCH(Simulator!$E28,MasterTable[P/N],0),COLUMN(MasterTable[F^2]))","v":{"$error":"#N/A"}},{"$f":"INDEX(MasterTable[],MATCH(Simulator!$E28,MasterTable[P/N],0),COLUMN(MasterTable[F]))","v":{"$error":"#N/A"}},{"$f":"INDEX(MasterTable[],MATCH(Simulator!$E28,MasterTable[P/N],0),COLUMN(MasterTable[F0]))","v":{"$error":"#N/A"}},{"$f":"IF(Simulator!$I$8=85,AE20,W20*M20^4+X20*M20^3+Y20*M20^2+Z20*M20+AA20)","v":{"$error":"#N/A"}},{"$f":"Q20*V20*AB20","v":{"$error":"#N/A"}},{"$f":"IF(AND(Simulator!$I$8=85,Simulator!$N$14=Simulator!H28),Q20*AE20,AC20)","v":{"$error":"#N/A"}},{"$f":"VLOOKUP(MID(Simulator!E28,6,3),Vero10_85DC_Factor,2,FALSE)","v":{"$error":"#N/A"}},{"$f":"INDEX(MasterTable[],MATCH(Simulator!$E28,MasterTable[P/N],0),COLUMN(MasterTable[Typical Voltage]))","v":{"$error":"#N/A"}},{"$f":"INDEX(MasterTable[],MATCH(Simulator!$E28,MasterTable[P/N],0),COLUMN(MasterTable[V^4]))","v":{"$error":"#N/A"}},{"$f":"INDEX(MasterTable[],MATCH(Simulator!$E28,MasterTable[P/N],0),COLUMN(MasterTable[V^3]))","v":{"$error":"#N/A"}},{"$f":"INDEX(MasterTable[],MATCH(Simulator!$E28,MasterTable[P/N],0),COLUMN(MasterTable[V^2]))","v":{"$error":"#N/A"}},{"$f":"INDEX(MasterTable[],MATCH(Simulator!$E28,MasterTable[P/N],0),COLUMN(MasterTable[V]))","v":{"$error":"#N/A"}},{"$f":"INDEX(MasterTable[],MATCH(Simulator!$E28,MasterTable[P/N],0),COLUMN(MasterTable[V0]))","v":{"$error":"#N/A"}},{"$f":"AG20*Simulator!$N$14^4+AH20*Simulator!$N$14^3+AI20*Simulator!$N$14^2+AJ20*Simulator!$N$14+AK20","v":{"$error":"#N/A"}},{"$f":"INDEX(MasterTable[],MATCH(Simulator!$E28,MasterTable[P/N],0),COLUMN(MasterTable[T^3]))","v":{"$error":"#N/A"}},{"$f":"INDEX(MasterTable[],MATCH(Simulator!$E28,MasterTable[P/N],0),COLUMN(MasterTable[T^2]))","v":{"$error":"#N/A"}},{"$f":"INDEX(MasterTable[],MATCH(Simulator!$E28,MasterTable[P/N],0),COLUMN(MasterTable[T]))","v":{"$error":"#N/A"}},{"$f":"INDEX(MasterTable[],MATCH(Simulator!$E28,MasterTable[P/N],0),COLUMN(MasterTable[T0]))","v":{"$error":"#N/A"}},{"$f":"AM20*M20^3+AN20*M20^2+AO20*M20+AP20","v":{"$error":"#N/A"}},{"$f":"AL20+AQ20-AF20","v":{"$error":"#N/A"}},null,{"$f":"INDEX(MasterTable[],MATCH(Simulator!$E28,MasterTable[P/N],0),COLUMN(MasterTable['# of Die]))","v":{"$error":"#N/A"}},{"$f":"AL20","v":{"$error":"#N/A"}},{"$f":"INDEX(Tj_to_Vf6[],MATCH(Simulator!$I$8,Tj_to_Vf6[Vf],1),COLUMN(Tj_to_Vf6[Vf]))","v":-0.5},{"$f":"AU20+AV20*AT20","v":{"$error":"#N/A"}},{"$f":"IF(AND(Simulator!$I$8=25,Simulator!$N$14=Simulator!H28),AF20,AR20)","v":{"$error":"#N/A"}}]
[null,"Vero 13",{"$f":"IF(Simulator!$D$10=\"Case\",Simulator!$I$8,M21)","v":25},{"$f":"Simulator!$N$14*AR21/1000","v":{"$error":"#N/A"}},{"$f":"INDEX(MasterTable[],MATCH(Simulator!E29,MasterTable[P/N],0),COLUMN(MasterTable[Thermal Resistance]))","v":{"$error":"#N/A"}},{"$f":"C21+D21*E21","v":{"$error":"#N/A"}},null,{"$f":"IF(Simulator!$D$10=\"Case\",F21,Simulator!$I$8)","v":{"$error":"#N/A"}},{"$f":"Simulator!$N$14*AW21/1000","v":{"$error":"#N/A"}},{"$f":"E21","v":{"$error":"#N/A"}},{"$f":"H21-I21*J21","v":{"$error":"#N/A"}},null,{"$f":"IF(Simulator!$D$10=\"Case\",Simulator!$I$8,K21)","v":25},{"$f":"IF(Simulator!$D$10=\"Case\",H21,Simulator!$I$8)","v":{"$error":"#N/A"}},{"$f":"IF(#REF!=\"Tj\",N21,M21)","v":{"$error":"#REF!"}},null,{"$f":"INDEX(MasterTable[],MATCH(Simulator!E29,MasterTable[P/N],0),COLUMN(MasterTable[Typical Lumens]))","v":{"$error":"#N/A"}},{"$f":"INDEX(MasterTable[],MATCH(Simulator!$E29,MasterTable[P/N],0),COLUMN(MasterTable[I^3]))","v":{"$error":"#N/A"}},{"$f":"INDEX(MasterTable[],MATCH(Simulator!$E29,MasterTable[P/N],0),COLUMN(MasterTable[I^2]))","v":{"$error":"#N/A"}},{"$f":"INDEX(MasterTable[],MATCH(Simulator!$E29,MasterTable[P/N],0),COLUMN(MasterTable[I]))","v":{"$error":"#N/A"}},{"$f":"INDEX(MasterTable[],MATCH(Simulator!$E29,MasterTable[P/N],0),COLUMN(MasterTable[I0]))","v":{"$error":"#N/A"}},{"$f":"IF(Simulator!$N$14=Simulator!H29,1,S21*Simulator!$N$14^2+T21*Simulator!$N$14+U21)","v":{"$error":"#N/A"}},{"$f":"INDEX(MasterTable[],MATCH(Simulator!$E29,MasterTable[P/N],0),COLUMN(MasterTable[F^4]))","v":{"$error":"#N/A"}},{"$f":"INDEX(MasterTable[],MATCH(Simulator!$E29,MasterTable[P/N],0),COLUMN(MasterTable[F^3]))","v":{"$error":"#N/A"}},{"$f":"INDEX(MasterTable[],MATCH(Simulator!$E29,MasterTable[P/N],0),COLUMN(MasterTable[F^2]))","v":{"$error":"#N/A"}},{"$f":"INDEX(MasterTable[],MATCH(Simulator!$E29,MasterTable[P/N],0),COLUMN(MasterTable[F]))","v":{"$error":"#N/A"}},{"$f":"INDEX(MasterTable[],MATCH(Simulator!$E29,MasterTable[P/N],0),COLUMN(MasterTable[F0]))","v":{"$error":"#N/A"}},{"$f":"IF(Simulator!$I$8=85,AE21,W21*M21^4+X21*M21^3+Y21*M21^2+Z21*M21+AA21)","v":{"$error":"#N/A"}},{"$f":"Q21*V21*AB21","v":{"$error":"#N/A"}},{"$f":"IF(AND(Simulator!$I$8=85,Simulator!$N$14=Simulator!H29),Q21*AE21,AC21)","v":{"$error":"#N/A"}},{"$f":"VLOOKUP(MID(Simulator!E29,6,3),Vero13_85DC_Factor,2,FALSE)","v":{"$error":"#N/A"}},{"$f":"INDEX(MasterTable[],MATCH(Simulator!$E29,MasterTable[P/N],0),COLUMN(MasterTable[Typical Voltage]))","v":{"$error":"#N/A"}},{"$f":"INDEX(MasterTable[],MATCH(Simulator!$E29,MasterTable[P/N],0),COLUMN(MasterTable[V^4]))","v":{"$error":"#N/A"}},{"$f":"INDEX(MasterTable[],MATCH(Simulator!$E29,MasterTable[P/N],0),COLUMN(MasterTable[V^3]))","v":{"$error":"#N/A"}},{"$f":"INDEX(MasterTable[],MATCH(Simulator!$E29,MasterTable[P/N],0),COLUMN(MasterTable[V^2]))","v":{"$error":"#N/A"}},{"$f":"INDEX(MasterTable[],MATCH(Simulator!$E29,MasterTable[P/N],0),COLUMN(MasterTable[V]))","v":{"$error":"#N/A"}},{"$f":"INDEX(MasterTable[],MATCH(Simulator!$E29,MasterTable[P/N],0),COLUMN(MasterTable[V0]))","v":{"$error":"#N/A"}},{"$f":"AG21*Simulator!$N$14^4+AH21*Simulator!$N$14^3+AI21*Simulator!$N$14^2+AJ21*Simulator!$N$14+AK21","v":{"$error":"#N/A"}},{"$f":"INDEX(MasterTable[],MATCH(Simulator!$E29,MasterTable[P/N],0),COLUMN(MasterTable[T^3]))","v":{"$error":"#N/A"}},{"$f":"INDEX(MasterTable[],MATCH(Simulator!$E29,MasterTable[P/N],0),COLUMN(MasterTable[T^2]))","v":{"$error":"#N/A"}},{"$f":"INDEX(MasterTable[],MATCH(Simulator!$E29,MasterTable[P/N],0),COLUMN(MasterTable[T]))","v":{"$error":"#N/A"}},{"$f":"INDEX(MasterTable[],MATCH(Simulator!$E29,MasterTable[P/N],0),COLUMN(MasterTable[T0]))","v":{"$error":"#N/A"}},{"$f":"AM21*M21^3+AN21*M21^2+AO21*M21+AP21","v":{"$error":"#N/A"}},{"$f":"AL21+AQ21-AF21","v":{"$error":"#N/A"}},null,{"$f":"INDEX(MasterTable[],MATCH(Simulator!$E29,MasterTable[P/N],0),COLUMN(MasterTable['# of Die]))","v":{"$error":"#N/A"}},{"$f":"AL21","v":{"$error":"#N/A"}},{"$f":"INDEX(Tj_to_Vf6[],MATCH(Simulator!$I$8,Tj_to_Vf6[Vf],1),COLUMN(Tj_to_Vf6[Vf]))","v":-0.5},{"$f":"AU21+AV21*AT21","v":{"$error":"#N/A"}},{"$f":"IF(AND(Simulator!$I$8=25,Simulator!$N$14=Simulator!H29),AF21,AR21)","v":{"$error":"#N/A"}}]
[null,"Vero 18",{"$f":"IF(Simulator!$D$10=\"Case\",Simulator!$I$8,M22)","v":25},{"$f":"Simulator!$N$14*AR22/1000","v":{"$error":"#N/A"}},{"$f":"INDEX(MasterTable[],MATCH(Simulator!E30,MasterTable[P/N],0),COLUMN(MasterTable[Thermal Resistance]))","v":{"$error":"#N/A"}},{"$f":"C22+D22*E22","v":{"$error":"#N/A"}},null,{"$f":"IF(Simulator!$D$10=\"Case\",F22,Simulator!$I$8)","v":{"$error":"#N/A"}},{"$f":"Simulator!$N$14*AW22/1000","v":{"$error":"#N/A"}},{"$f":"E22","v":{"$error":"#N/A"}},{"$f":"H22-I22*J22","v":{"$error":"#N/A"}},null,{"$f":"IF(Simulator!$D$10=\"Case\",Simulator!$I$8,K22)","v":25},{"$f":"IF(Simulator!$D$10=\"Case\",H22,Simulator!$I$8)","v":{"$error":"#N/A"}},{"$f":"IF(#REF!=\"Tj\",N22,M22)","v":{"$error":"#REF!"}},null,{"$f":"INDEX(MasterTable[],MATCH(Simulator!E30,MasterTable[P/N],0),COLUMN(MasterTable[Typical Lumens]))","v":{"$error":"#N/A"}},{"$f":"INDEX(MasterTable[],MATCH(Simulator!$E30,MasterTable[P/N],0),COLUMN(MasterTable[I^3]))","v":{"$error":"#N/A"}},{"$f":"INDEX(MasterTable[],MATCH(Simulator!$E30,MasterTable[P/N],0),COLUMN(MasterTable[I^2]))","v":{"$error":"#N/A"}},{"$f":"INDEX(MasterTable[],MATCH(Simulator!$E30,MasterTable[P/N],0),COLUMN(MasterTable[I]))","v":{"$error":"#N/A"}},{"$f":"INDEX(MasterTable[],MATCH(Simulator!$E30,MasterTable[P/N],0),COLUMN(MasterTable[I0]))","v":{"$error":"#N/A"}},{"$f":"IF(Simulator!$N$14=Simulator!H30,1,S22*Simulator!$N$14^2+T22*Simulator!$N$14+U22)","v":{"$error":"#N/A"}},{"$f":"INDEX(MasterTable[],MATCH(Simulator!$E30,MasterTable[P/N],0),COLUMN(MasterTable[F^4]))","v":{"$error":"#N/A"}},{"$f":"INDEX(MasterTable[],MATCH(Simulator!$E30,MasterTable[P/N],0),COLUMN(MasterTable[F^3]))","v":{"$error":"#N/A"}},{"$f":"INDEX(MasterTable[],MATCH(Simulator!$E30,MasterTable[P/N],0),COLUMN(MasterTable[F^2]))","v":{"$error":"#N/A"}},{"$f":"INDEX(MasterTable[],MATCH(Simulator!$E30,MasterTable[P/N],0),COLUMN(MasterTable[F]))","v":{"$error":"#N/A"}},{"$f":"INDEX(MasterTable[],MATCH(Simulator!$E30,MasterTable[P/N],0),COLUMN(MasterTable[F0]))","v":{"$error":"#N/A"}},{"$f":"IF(Simulator!$I$8=85,AE22,W22*M22^4+X22*M22^3+Y22*M22^2+Z22*M22+AA22)","v":{"$error":"#N/A"}},{"$f":"Q22*V22*AB22","v":{"$error":"#N/A"}},{"$f":"IF(AND(Simulator!$I$8=85,Simulator!$N$14=Simulator!H30),Q22*AE22,AC22)","v":{"$error":"#N/A"}},{"$f":"VLOOKUP(MID(Simulator!E30,6,3),Vero18_85DC_Factor,2,FALSE)","v":{"$error":"#N/A"}},{"$f":"INDEX(MasterTable[],MATCH(Simulator!$E30,MasterTable[P/N],0),COLUMN(MasterTable[Typical Voltage]))","v":{"$error":"#N/A"}},{"$f":"INDEX(MasterTable[],MATCH(Simulator!$E30,MasterTable[P/N],0),COLUMN(MasterTable[V^4]))","v":{"$error":"#N/A"}},{"$f":"INDEX(MasterTable[],MATCH(Simulator!$E30,MasterTable[P/N],0),COLUMN(MasterTable[V^3]))","v":{"$error":"#N/A"}},{"$f":"INDEX(MasterTable[],MATCH(Simulator!$E30,MasterTable[P/N],0),COLUMN(MasterTable[V^2]))","v":{"$error":"#N/A"}},{"$f":"INDEX(MasterTable[],MATCH(Simulator!$E30,MasterTable[P/N],0),COLUMN(MasterTable[V]))","v":{"$error":"#N/A"}},{"$f":"INDEX(MasterTable[],MATCH(Simulator!$E30,MasterTable[P/N],0),COLUMN(MasterTable[V0]))","v":{"$error":"#N/A"}},{"$f":"AG22*Simulator!$N$14^4+AH22*Simulator!$N$14^3+AI22*Simulator!$N$14^2+AJ22*Simulator!$N$14+AK22","v":{"$error":"#N/A"}},{"$f":"INDEX(MasterTable[],MATCH(Simulator!$E30,MasterTable[P/N],0),COLUMN(MasterTable[T^3]))","v":{"$error":"#N/A"}},{"$f":"INDEX(MasterTable[],MATCH(Simulator!$E30,MasterTable[P/N],0),COLUMN(MasterTable[T^2]))","v":{"$error":"#N/A"}},{"$f":"INDEX(MasterTable[],MATCH(Simulator!$E30,MasterTable[P/N],0),COLUMN(MasterTable[T]))","v":{"$error":"#N/A"}},{"$f":"INDEX(MasterTable[],MATCH(Simulator!$E30,MasterTable[P/N],0),COLUMN(MasterTable[T0]))","v":{"$error":"#N/A"}},{"$f":"AM22*M22^3+AN22*M22^2+AO22*M22+AP22","v":{"$error":"#N/A"}},{"$f":"AL22+AQ22-AF22","v":{"$error":"#N/A"}},null,{"$f":"INDEX(MasterTable[],MATCH(Simulator!$E30,MasterTable[P/N],0),COLUMN(MasterTable['# of Die]))","v":{"$error":"#N/A"}},{"$f":"AL22","v":{"$error":"#N/A"}},{"$f":"INDEX(Tj_to_Vf6[],MATCH(Simulator!$I$8,Tj_to_Vf6[Vf],1),COLUMN(Tj_to_Vf6[Vf]))","v":-0.5},{"$f":"AU22+AV22*AT22","v":{"$error":"#N/A"}},{"$f":"IF(AND(Simulator!$I$8=25,Simulator!$N$14=Simulator!H30),AF22,AR22)","v":{"$error":"#N/A"}}]
[null,"Vero 29",{"$f":"IF(Simulator!$D$10=\"Case\",Simulator!$I$8,M23)","v":25},{"$f":"Simulator!$N$14*AR23/1000","v":{"$error":"#N/A"}},{"$f":"INDEX(MasterTable[],MATCH(Simulator!E31,MasterTable[P/N],0),COLUMN(MasterTable[Thermal Resistance]))","v":{"$error":"#N/A"}},{"$f":"C23+D23*E23","v":{"$error":"#N/A"}},null,{"$f":"IF(Simulator!$D$10=\"Case\",F23,Simulator!$I$8)","v":{"$error":"#N/A"}},{"$f":"Simulator!$N$14*AW23/1000","v":{"$error":"#N/A"}},{"$f":"E23","v":{"$error":"#N/A"}},{"$f":"H23-I23*J23","v":{"$error":"#N/A"}},null,{"$f":"IF(Simulator!$D$10=\"Case\",Simulator!$I$8,K23)","v":25},{"$f":"IF(Simulator!$D$10=\"Case\",H23,Simulator!$I$8)","v":{"$error":"#N/A"}},{"$f":"IF(#REF!=\"Tj\",N23,M23)","v":{"$error":"#REF!"}},null,{"$f":"INDEX(MasterTable[],MATCH(Simulator!E31,MasterTable[P/N],0),COLUMN(MasterTable[Typical Lumens]))","v":{"$error":"#N/A"}},{"$f":"INDEX(MasterTable[],MATCH(Simulator!$E31,MasterTable[P/N],0),COLUMN(MasterTable[I^3]))","v":{"$error":"#N/A"}},{"$f":"INDEX(MasterTable[],MATCH(Simulator!$E31,MasterTable[P/N],0),COLUMN(MasterTable[I^2]))","v":{"$error":"#N/A"}},{"$f":"INDEX(MasterTable[],MATCH(Simulator!$E31,MasterTable[P/N],0),COLUMN(MasterTable[I]))","v":{"$error":"#N/A"}},{"$f":"INDEX(MasterTable[],MATCH(Simulator!$E31,MasterTable[P/N],0),COLUMN(MasterTable[I0]))","v":{"$error":"#N/A"}},{"$f":"IF(Simulator!$N$14=Simulator!H31,1,S23*Simulator!$N$14^2+T23*Simulator!$N$14+U23)","v":{"$error":"#N/A"}},{"$f":"INDEX(MasterTable[],MATCH(Simulator!$E31,MasterTable[P/N],0),COLUMN(MasterTable[F^4]))","v":{"$error":"#N/A"}},{"$f":"INDEX(MasterTable[],MATCH(Simulator!$E31,MasterTable[P/N],0),COLUMN(MasterTable[F^3]))","v":{"$error":"#N/A"}},{"$f":"INDEX(MasterTable[],MATCH(Simulator!$E31,MasterTable[P/N],0),COLUMN(MasterTable[F^2]))","v":{"$error":"#N/A"}},{"$f":"INDEX(MasterTable[],MATCH(Simulator!$E31,MasterTable[P/N],0),COLUMN(MasterTable[F]))","v":{"$error":"#N/A"}},{"$f":"INDEX(MasterTable[],MATCH(Simulator!$E31,MasterTable[P/N],0),COLUMN(MasterTable[F0]))","v":{"$error":"#N/A"}},{"$f":"IF(Simulator!$I$8=85,AE23,W23*M23^4+X23*M23^3+Y23*M23^2+Z23*M23+AA23)","v":{"$error":"#N/A"}},{"$f":"Q23*V23*AB23","v":{"$error":"#N/A"}},{"$f":"IF(AND(Simulator!$I$8=85,Simulator!$N$14=Simulator!H31),Q23*AE23,AC23)","v":{"$error":"#N/A"}},{"$f":"VLOOKUP(MID(Simulator!E31,6,3),Vero29_85DC_Factor,2,FALSE)","v":{"$error":"#N/A"}},{"$f":"INDEX(MasterTable[],MATCH(Simulator!$E31,MasterTable[P/N],0),COLUMN(MasterTable[Typical Voltage]))","v":{"$error":"#N/A"}},{"$f":"INDEX(MasterTable[],MATCH(Simulator!$E31,MasterTable[P/N],0),COLUMN(MasterTable[V^4]))","v":{"$error":"#N/A"}},{"$f":"INDEX(MasterTable[],MATCH(Simulator!$E31,MasterTable[P/N],0),COLUMN(MasterTable[V^3]))","v":{"$error":"#N/A"}},{"$f":"INDEX(MasterTable[],MATCH(Simulator!$E31,MasterTable[P/N],0),COLUMN(MasterTable[V^2]))","v":{"$error":"#N/A"}},{"$f":"INDEX(MasterTable[],MATCH(Simulator!$E31,MasterTable[P/N],0),COLUMN(MasterTable[V]))","v":{"$error":"#N/A"}},{"$f":"INDEX(MasterTable[],MATCH(Simulator!$E31,MasterTable[P/N],0),COLUMN(MasterTable[V0]))","v":{"$error":"#N/A"}},{"$f":"AG23*Simulator!$N$14^4+AH23*Simulator!$N$14^3+AI23*Simulator!$N$14^2+AJ23*Simulator!$N$14+AK23","v":{"$error":"#N/A"}},{"$f":"INDEX(MasterTable[],MATCH(Simulator!$E31,MasterTable[P/N],0),COLUMN(MasterTable[T^3]))","v":{"$error":"#N/A"}},{"$f":"INDEX(MasterTable[],MATCH(Simulator!$E31,MasterTable[P/N],0),COLUMN(MasterTable[T^2]))","v":{"$error":"#N/A"}},{"$f":"INDEX(MasterTable[],MATCH(Simulator!$E31,MasterTable[P/N],0),COLUMN(MasterTable[T]))","v":{"$error":"#N/A"}},{"$f":"INDEX(MasterTable[],MATCH(Simulator!$E31,MasterTable[P/N],0),COLUMN(MasterTable[T0]))","v":{"$error":"#N/A"}},{"$f":"AM23*M23^3+AN23*M23^2+AO23*M23+AP23","v":{"$error":"#N/A"}},{"$f":"AL23+AQ23-AF23","v":{"$error":"#N/A"}},null,{"$f":"INDEX(MasterTable[],MATCH(Simulator!$E31,MasterTable[P/N],0),COLUMN(MasterTable['# of Die]))","v":{"$error":"#N/A"}},{"$f":"AL23","v":{"$error":"#N/A"}},{"$f":"INDEX(Tj_to_Vf6[],MATCH(Simulator!$I$8,Tj_to_Vf6[Vf],1),COLUMN(Tj_to_Vf6[Vf]))","v":-0.5},{"$f":"AU23+AV23*AT23","v":{"$error":"#N/A"}},{"$f":"IF(AND(Simulator!$I$8=25,Simulator!$N$14=Simulator!H31),AF23,AR23)","v":{"$error":"#N/A"}}]
[]
["Calculations using Current Input",null,"Converting Tc to Tj",null,null,null,null,"Converting Tj to Tc",null,null,null,null,null,null,null,null,"Calculating Flux",null,null,null,null,null,null,null,null,null,null,null,null,null,null,"Calculating Voltage w/ Tc",null,null,null,null,null,null,null,null,null,null,null,null,null,null,"Calculating Voltage w/ Tj"]
[null,null,"Tj = Tc + Power*Thermal Resistance",null,null,null,null,"Tc = Tj - Power*Thermal Resistance",null,null,null,null,null,null,null,null,"F@Tc&I = Ft*Fr@I*Fr@Tc",null,null,null,null,null,null,null,null,null,null,null,null,null,null,"Vf@Tc&I = Vf@I + Vf@Tc-Vft",null,null,null,null,null,null,null,null,null,null,null,null,null,null,"Vf@Tj&I = Vf@I + Vf@Tj Modifier"]
[null,null,"Tc","Power","Thermal Resistance","Tc>>Tj",null,"Tj","Power","Thermal Resistance","Tj>>Tc",null,"Tc","Tj",{"$f":"IF(Simulator!$D$10=\"Case\",\"Tj\",\"Tc\")","v":"Tj"},null,"Ft","Fr@I Eqn",null,null,null,"Fr@I",null,"Fr@Tc Eqn",null,null,null,"Fr@Tc","F@Tc&I",null,"85 DC Factor","Vft",null,"Vf@I Eqn",null,null,null,"Vf@I","Vf@Tc Eqn",null,null,null,"Vf@Tc","Vf@Tc&I",null,"# of Die","Vf@I","Vf@Tj Modifier, per Die","Vf@Tj&I","Voltage Report"]
[null,"H6",{"$f":"IF(Simulator!$D$10=\"Case\",Simulator!$I$8,M28)","v":25},{"$f":"Simulator!$N$14*AR28/1000","v":{"$error":"#N/A"}},{"$f":"INDEX(MasterTable[],MATCH(Simulator!E33,MasterTable[P/N],0),COLUMN(MasterTable[Thermal Resistance]))","v":{"$error":"#N/A"}},{"$f":"C28+D28*E28","v":{"$error":"#N/A"}},null,{"$f":"IF(Simulator!$D$10=\"Case\",F28,Simulator!$I$8)","v":{"$error":"#N/A"}},{"$f":"Simulator!$N$14*AW28/1000","v":{"$error":"#N/A"}},{"$f":"E28","v":{"$error":"#N/A"}},{"$f":"H28-I28*J28","v":{"$error":"#N/A"}},null,{"$f":"IF(Simulator!$D$10=\"Case\",Simulator!$I$8,K28)","v":25},{"$f":"IF(Simulator!$D$10=\"Case\",H28,Simulator!$I$8)","v":{"$error":"#N/A"}},{"$f":"IF(#REF!=\"Tj\",N28,M28)","v":{"$error":"#REF!"}},null,{"$f":"INDEX(MasterTable[],MATCH(Simulator!E33,MasterTable[P/N],0),COLUMN(MasterTable[Typical Lumens]))","v":{"$error":"#N/A"}},{"$f":"INDEX(MasterTable[],MATCH(Simulator!$E33,MasterTable[P/N],0),COLUMN(MasterTable[I^3]))","v":{"$error":"#N/A"}},{"$f":"INDEX(MasterTable[],MATCH(Simulator!$E33,MasterTable[P/N],0),COLUMN(MasterTable[I^2]))","v":{"$error":"#N/A"}},{"$f":"INDEX(MasterTable[],MATCH(Simulator!$E33,MasterTable[P/N],0),COLUMN(MasterTable[I]))","v":{"$error":"#N/A"}},{"$f":"INDEX(MasterTable[],MATCH(Simulator!$E33,MasterTable[P/N],0),COLUMN(MasterTable[I0]))","v":{"$error":"#N/A"}},{"$f":"IF(Simulator!$N$14=Simulator!H33,1,S28*Simulator!$N$14^2+T28*Simulator!$N$14+U28)","v":{"$error":"#N/A"}},{"$f":"INDEX(MasterTable[],MATCH(Simulator!$E33,MasterTable[P/N],0),COLUMN(MasterTable[F^4]))","v":{"$error":"#N/A"}},{"$f":"INDEX(MasterTable[],MATCH(Simulator!$E33,MasterTable[P/N],0),COLUMN(MasterTable[F^3]))","v":{"$error":"#N/A"}},{"$f":"INDEX(MasterTable[],MATCH(Simulator!$E33,MasterTable[P/N],0),COLUMN(MasterTable[F^2]))","v":{"$error":"#N/A"}},{"$f":"INDEX(MasterTable[],MATCH(Simulator!$E33,MasterTable[P/N],0),COLUMN(MasterTable[F]))","v":{"$error":"#N/A"}},{"$f":"INDEX(MasterTable[],MATCH(Simulator!$E33,MasterTable[P/N],0),COLUMN(MasterTable[F0]))","v":{"$error":"#N/A"}},{"$f":"IF(Simulator!$I$8=85,AE28,W28*M28^4+X28*M28^3+Y28*M28^2+Z28*M28+AA28)","v":{"$error":"#N/A"}},{"$f":"Q28*V28*AB28","v":{"$error":"#N/A"}},{"$f":"IF(AND(Simulator!$I$8=85,Simulator!$N$14=Simulator!H33),Q28*AE28,AC28)","v":{"$error":"#N/A"}},{"$f":"VLOOKUP(MID(Simulator!E33,6,3),Data!AB40:AC50,2,FALSE)","v":{"$error":"#N/A"}},{"$f":"INDEX(MasterTable[],MATCH(Simulator!$E33,MasterTable[P/N],0),COLUMN(MasterTable[Typical Voltage]))","v":{"$error":"#N/A"}},{"$f":"INDEX(MasterTable[],MATCH(Simulator!$E33,MasterTable[P/N],0),COLUMN(MasterTable[V^4]))","v":{"$error":"#N/A"}},{"$f":"INDEX(MasterTable[],MATCH(Simulator!$E33,MasterTable[P/N],0),COLUMN(MasterTable[V^3]))","v":{"$error":"#N/A"}},{"$f":"INDEX(MasterTable[],MATCH(Simulator!$E33,MasterTable[P/N],0),COLUMN(MasterTable[V^2]))","v":{"$error":"#N/A"}},{"$f":"INDEX(MasterTable[],MATCH(Simulator!$E33,MasterTable[P/N],0),COLUMN(MasterTable[V]))","v":{"$error":"#N/A"}},{"$f":"INDEX(MasterTable[],MATCH(Simulator!$E33,MasterTable[P/N],0),COLUMN(MasterTable[V0]))","v":{"$error":"#N/A"}},{"$f":"AG28*Simulator!$N$14^4+AH28*Simulator!$N$14^3+AI28*Simulator!$N$14^2+AJ28*Simulator!$N$14+AK28","v":{"$error":"#N/A"}},{"$f":"INDEX(MasterTable[],MATCH(Simulator!$E33,MasterTable[P/N],0),COLUMN(MasterTable[T^3]))","v":{"$error":"#N/A"}},{"$f":"INDEX(MasterTable[],MATCH(Simulator!$E33,MasterTable[P/N],0),COLUMN(MasterTable[T^2]))","v":{"$error":"#N/A"}},{"$f":"INDEX(MasterTable[],MATCH(Simulator!$E33,MasterTable[P/N],0),COLUMN(MasterTable[T]))","v":{"$error":"#N/A"}},{"$f":"INDEX(MasterTable[],MATCH(Simulator!$E33,MasterTable[P/N],0),COLUMN(MasterTable[T0]))","v":{"$error":"#N/A"}},{"$f":"AM28*M28^3+AN28*M28^2+AO28*M28+AP28","v":{"$error":"#N/A"}},{"$f":"AL28+AQ28-AF28","v":{"$error":"#N/A"}},null,{"$f":"INDEX(MasterTable[],MATCH(Simulator!$E33,MasterTable[P/N],0),COLUMN(MasterTable['# of Die]))","v":{"$error":"#N/A"}},{"$f":"AL28","v":{"$error":"#N/A"}},{"$f":"INDEX(Tj_to_Vf6[],MATCH(Simulator!$I$8,Tj_to_Vf6[Vf],1),COLUMN(Tj_to_Vf6[Vf]))","v":-0.5},{"$f":"AU28+AV28*AT28","v":{"$error":"#N/A"}},{"$f":"IF(AND(Simulator!$I$8=25,Simulator!$N$14=Simulator!H33),AF28,AR28)","v":{"$error":"#N/A"}}]
[null,"H9",{"$f":"IF(Simulator!$D$10=\"Case\",Simulator!$I$8,M29)","v":25},{"$f":"Simulator!$N$14*AR29/1000","v":{"$error":"#N/A"}},{"$f":"INDEX(MasterTable[],MATCH(Simulator!E34,MasterTable[P/N],0),COLUMN(MasterTable[Thermal Resistance]))","v":{"$error":"#N/A"}},{"$f":"C29+D29*E29","v":{"$error":"#N/A"}},null,{"$f":"IF(Simulator!$D$10=\"Case\",F29,Simulator!$I$8)","v":{"$error":"#N/A"}},{"$f":"Simulator!$N$14*AW29/1000","v":{"$error":"#N/A"}},{"$f":"E29","v":{"$error":"#N/A"}},{"$f":"H29-I29*J29","v":{"$error":"#N/A"}},null,{"$f":"IF(Simulator!$D$10=\"Case\",Simulator!$I$8,K29)","v":25},{"$f":"IF(Simulator!$D$10=\"Case\",H29,Simulator!$I$8)","v":{"$error":"#N/A"}},{"$f":"IF(#REF!=\"Tj\",N29,M29)","v":{"$error":"#REF!"}},null,{"$f":"INDEX(MasterTable[],MATCH(Simulator!E34,MasterTable[P/N],0),COLUMN(MasterTable[Typical Lumens]))","v":{"$error":"#N/A"}},{"$f":"INDEX(MasterTable[],MATCH(Simulator!$E34,MasterTable[P/N],0),COLUMN(MasterTable[I^3]))","v":{"$error":"#N/A"}},{"$f":"INDEX(MasterTable[],MATCH(Simulator!$E34,MasterTable[P/N],0),COLUMN(MasterTable[I^2]))","v":{"$error":"#N/A"}},{"$f":"INDEX(MasterTable[],MATCH(Simulator!$E34,MasterTable[P/N],0),COLUMN(MasterTable[I]))","v":{"$error":"#N/A"}},{"$f":"INDEX(MasterTable[],MATCH(Simulator!$E34,MasterTable[P/N],0),COLUMN(MasterTable[I0]))","v":{"$error":"#N/A"}},{"$f":"IF(Simulator!$N$14=Simulator!H34,1,S29*Simulator!$N$14^2+T29*Simulator!$N$14+U29)","v":{"$error":"#N/A"}},{"$f":"INDEX(MasterTable[],MATCH(Simulator!$E34,MasterTable[P/N],0),COLUMN(MasterTable[F^4]))","v":{"$error":"#N/A"}},{"$f":"INDEX(MasterTable[],MATCH(Simulator!$E34,MasterTable[P/N],0),COLUMN(MasterTable[F^3]))","v":{"$error":"#N/A"}},{"$f":"INDEX(MasterTable[],MATCH(Simulator!$E34,MasterTable[P/N],0),COLUMN(MasterTable[F^2]))","v":{"$error":"#N/A"}},{"$f":"INDEX(MasterTable[],MATCH(Simulator!$E34,MasterTable[P/N],0),COLUMN(MasterTable[F]))","v":{"$error":"#N/A"}},{"$f":"INDEX(MasterTable[],MATCH(Simulator!$E34,MasterTable[P/N],0),COLUMN(MasterTable[F0]))","v":{"$error":"#N/A"}},{"$f":"IF(Simulator!$I$8=85,AE29,W29*M29^4+X29*M29^3+Y29*M29^2+Z29*M29+AA29)","v":{"$error":"#N/A"}},{"$f":"Q29*V29*AB29","v":{"$error":"#N/A"}},{"$f":"IF(AND(Simulator!$I$8=85,Simulator!$N$14=Simulator!H34),Q29*AE29,AC29)","v":{"$error":"#N/A"}},{"$f":"VLOOKUP(MID(Simulator!E34,6,3),Data!AF40:AG50,2,FALSE)","v":{"$error":"#N/A"}},{"$f":"INDEX(MasterTable[],MATCH(Simulator!$E34,MasterTable[P/N],0),COLUMN(MasterTable[Typical Voltage]))","v":{"$error":"#N/A"}},{"$f":"INDEX(MasterTable[],MATCH(Simulator!$E34,MasterTable[P/N],0),COLUMN(MasterTable[V^4]))","v":{"$error":"#N/A"}},{"$f":"INDEX(MasterTable[],MATCH(Simulator!$E34,MasterTable[P/N],0),COLUMN(MasterTable[V^3]))","v":{"$error":"#N/A"}},{"$f":"INDEX(MasterTable[],MATCH(Simulator!$E34,MasterTable[P/N],0),COLUMN(MasterTable[V^2]))","v":{"$error":"#N/A"}},{"$f":"INDEX(MasterTable[],MATCH(Simulator!$E34,MasterTable[P/N],0),COLUMN(MasterTable[V]))","v":{"$error":"#N/A"}},{"$f":"INDEX(MasterTable[],MATCH(Simulator!$E34,MasterTable[P/N],0),COLUMN(MasterTable[V0]))","v":{"$error":"#N/A"}},{"$f":"AG29*Simulator!$N$14^4+AH29*Simulator!$N$14^3+AI29*Simulator!$N$14^2+AJ29*Simulator!$N$14+AK29","v":{"$error":"#N/A"}},{"$f":"INDEX(MasterTable[],MATCH(Simulator!$E34,MasterTable[P/N],0),COLUMN(MasterTable[T^3]))","v":{"$error":"#N/A"}},{"$f":"INDEX(MasterTable[],MATCH(Simulator!$E34,MasterTable[P/N],0),COLUMN(MasterTable[T^2]))","v":{"$error":"#N/A"}},{"$f":"INDEX(MasterTable[],MATCH(Simulator!$E34,MasterTable[P/N],0),COLUMN(MasterTable[T]))","v":{"$error":"#N/A"}},{"$f":"INDEX(MasterTable[],MATCH(Simulator!$E34,MasterTable[P/N],0),COLUMN(MasterTable[T0]))","v":{"$error":"#N/A"}},{"$f":"AM29*M29^3+AN29*M29^2+AO29*M29+AP29","v":{"$error":"#N/A"}},{"$f":"AL29+AQ29-AF29","v":{"$error":"#N/A"}},null,{"$f":"INDEX(MasterTable[],MATCH(Simulator!$E34,MasterTable[P/N],0),COLUMN(MasterTable['# of Die]))","v":{"$error":"#N/A"}},{"$f":"AL29","v":{"$error":"#N/A"}},{"$f":"INDEX(Tj_to_Vf6[],MATCH(Simulator!$I$8,Tj_to_Vf6[Vf],1),COLUMN(Tj_to_Vf6[Vf]))","v":-0.5},{"$f":"AU29+AV29*AT29","v":{"$error":"#N/A"}},{"$f":"IF(AND(Simulator!$I$8=25,Simulator!$N$14=Simulator!H34),AF29,AR29)","v":{"$error":"#N/A"}}]
[null,"H12",{"$f":"IF(Simulator!$D$10=\"Case\",Simulator!$I$8,M30)","v":25},{"$f":"Simulator!$N$14*AR30/1000","v":{"$error":"#N/A"}},{"$f":"INDEX(MasterTable[],MATCH(Simulator!E35,MasterTable[P/N],0),COLUMN(MasterTable[Thermal Resistance]))","v":{"$error":"#N/A"}},{"$f":"C30+D30*E30","v":{"$error":"#N/A"}},null,{"$f":"IF(Simulator!$D$10=\"Case\",F30,Simulator!$I$8)","v":{"$error":"#N/A"}},{"$f":"Simulator!$N$14*AW30/1000","v":{"$error":"#N/A"}},{"$f":"E30","v":{"$error":"#N/A"}},{"$f":"H30-I30*J30","v":{"$error":"#N/A"}},null,{"$f":"IF(Simulator!$D$10=\"Case\",Simulator!$I$8,K30)","v":25},{"$f":"IF(Simulator!$D$10=\"Case\",H30,Simulator!$I$8)","v":{"$error":"#N/A"}},{"$f":"IF(#REF!=\"Tj\",N30,M30)","v":{"$error":"#REF!"}},null,{"$f":"INDEX(MasterTable[],MATCH(Simulator!E35,MasterTable[P/N],0),COLUMN(MasterTable[Typical Lumens]))","v":{"$error":"#N/A"}},{"$f":"INDEX(MasterTable[],MATCH(Simulator!$E35,MasterTable[P/N],0),COLUMN(MasterTable[I^3]))","v":{"$error":"#N/A"}},{"$f":"INDEX(MasterTable[],MATCH(Simulator!$E35,MasterTable[P/N],0),COLUMN(MasterTable[I^2]))","v":{"$error":"#N/A"}},{"$f":"INDEX(MasterTable[],MATCH(Simulator!$E35,MasterTable[P/N],0),COLUMN(MasterTable[I]))","v":{"$error":"#N/A"}},{"$f":"INDEX(MasterTable[],MATCH(Simulator!$E35,MasterTable[P/N],0),COLUMN(MasterTable[I0]))","v":{"$error":"#N/A"}},{"$f":"IF(Simulator!$N$14=Simulator!H35,1,S30*Simulator!$N$14^2+T30*Simulator!$N$14+U30)","v":{"$error":"#N/A"}},{"$f":"INDEX(MasterTable[],MATCH(Simulator!$E35,MasterTable[P/N],0),COLUMN(MasterTable[F^4]))","v":{"$error":"#N/A"}},{"$f":"INDEX(MasterTable[],MATCH(Simulator!$E35,MasterTable[P/N],0),COLUMN(MasterTable[F^3]))","v":{"$error":"#N/A"}},{"$f":"INDEX(MasterTable[],MATCH(Simulator!$E35,MasterTable[P/N],0),COLUMN(MasterTable[F^2]))","v":{"$error":"#N/A"}},{"$f":"INDEX(MasterTable[],MATCH(Simulator!$E35,MasterTable[P/N],0),COLUMN(MasterTable[F]))","v":{"$error":"#N/A"}},{"$f":"INDEX(MasterTable[],MATCH(Simulator!$E35,MasterTable[P/N],0),COLUMN(MasterTable[F0]))","v":{"$error":"#N/A"}},{"$f":"IF(Simulator!$I$8=85,AE30,W30*M30^4+X30*M30^3+Y30*M30^2+Z30*M30+AA30)","v":{"$error":"#N/A"}},{"$f":"Q30*V30*AB30","v":{"$error":"#N/A"}},{"$f":"IF(AND(Simulator!$I$8=85,Simulator!$N$14=Simulator!H35),Q30*AE30,AC30)","v":{"$error":"#N/A"}},{"$f":"VLOOKUP(MID(Simulator!E35,6,3),Data!AI40:AJ50,2,FALSE)","v":{"$error":"#N/A"}},{"$f":"INDEX(MasterTable[],MATCH(Simulator!$E35,MasterTable[P/N],0),COLUMN(MasterTable[Typical Voltage]))","v":{"$error":"#N/A"}},{"$f":"INDEX(MasterTable[],MATCH(Simulator!$E35,MasterTable[P/N],0),COLUMN(MasterTable[V^4]))","v":{"$error":"#N/A"}},{"$f":"INDEX(MasterTable[],MATCH(Simulator!$E35,MasterTable[P/N],0),COLUMN(MasterTable[V^3]))","v":{"$error":"#N/A"}},{"$f":"INDEX(MasterTable[],MATCH(Simulator!$E35,MasterTable[P/N],0),COLUMN(MasterTable[V^2]))","v":{"$error":"#N/A"}},{"$f":"INDEX(MasterTable[],MATCH(Simulator!$E35,MasterTable[P/N],0),COLUMN(MasterTable[V]))","v":{"$error":"#N/A"}},{"$f":"INDEX(MasterTable[],MATCH(Simulator!$E35,MasterTable[P/N],0),COLUMN(MasterTable[V0]))","v":{"$error":"#N/A"}},{"$f":"AG30*Simulator!$N$14^4+AH30*Simulator!$N$14^3+AI30*Simulator!$N$14^2+AJ30*Simulator!$N$14+AK30","v":{"$error":"#N/A"}},{"$f":"INDEX(MasterTable[],MATCH(Simulator!$E35,MasterTable[P/N],0),COLUMN(MasterTable[T^3]))","v":{"$error":"#N/A"}},{"$f":"INDEX(MasterTable[],MATCH(Simulator!$E35,MasterTable[P/N],0),COLUMN(MasterTable[T^2]))","v":{"$error":"#N/A"}},{"$f":"INDEX(MasterTable[],MATCH(Simulator!$E35,MasterTable[P/N],0),COLUMN(MasterTable[T]))","v":{"$error":"#N/A"}},{"$f":"INDEX(MasterTable[],MATCH(Simulator!$E35,MasterTable[P/N],0),COLUMN(MasterTable[T0]))","v":{"$error":"#N/A"}},{"$f":"AM30*M30^3+AN30*M30^2+AO30*M30+AP30","v":{"$error":"#N/A"}},{"$f":"AL30+AQ30-AF30","v":{"$error":"#N/A"}},null,{"$f":"INDEX(MasterTable[],MATCH(Simulator!$E35,MasterTable[P/N],0),COLUMN(MasterTable['# of Die]))","v":{"$error":"#N/A"}},{"$f":"AL30","v":{"$error":"#N/A"}},{"$f":"INDEX(Tj_to_Vf6[],MATCH(Simulator!$I$8,Tj_to_Vf6[Vf],1),COLUMN(Tj_to_Vf6[Vf]))","v":-0.5},{"$f":"AU30+AV30*AT30","v":{"$error":"#N/A"}},{"$f":"IF(AND(Simulator!$I$8=25,Simulator!$N$14=Simulator!H35),AF30,AR30)","v":{"$error":"#N/A"}}]
[null,"H15",{"$f":"IF(Simulator!$D$10=\"Case\",Simulator!$I$8,M31)","v":25},{"$f":"Simulator!$N$14*AR31/1000","v":{"$error":"#N/A"}},{"$f":"INDEX(MasterTable[],MATCH(Simulator!E36,MasterTable[P/N],0),COLUMN(MasterTable[Thermal Resistance]))","v":{"$error":"#N/A"}},{"$f":"C31+D31*E31","v":{"$error":"#N/A"}},null,{"$f":"IF(Simulator!$D$10=\"Case\",F31,Simulator!$I$8)","v":{"$error":"#N/A"}},{"$f":"Simulator!$N$14*AW31/1000","v":{"$error":"#N/A"}},{"$f":"E31","v":{"$error":"#N/A"}},{"$f":"H31-I31*J31","v":{"$error":"#N/A"}},null,{"$f":"IF(Simulator!$D$10=\"Case\",Simulator!$I$8,K31)","v":25},{"$f":"IF(Simulator!$D$10=\"Case\",H31,Simulator!$I$8)","v":{"$error":"#N/A"}},{"$f":"IF(#REF!=\"Tj\",N31,M31)","v":{"$error":"#REF!"}},null,{"$f":"INDEX(MasterTable[],MATCH(Simulator!E36,MasterTable[P/N],0),COLUMN(MasterTable[Typical Lumens]))","v":{"$error":"#N/A"}},{"$f":"INDEX(MasterTable[],MATCH(Simulator!$E36,MasterTable[P/N],0),COLUMN(MasterTable[I^3]))","v":{"$error":"#N/A"}},{"$f":"INDEX(MasterTable[],MATCH(Simulator!$E36,MasterTable[P/N],0),COLUMN(MasterTable[I^2]))","v":{"$error":"#N/A"}},{"$f":"INDEX(MasterTable[],MATCH(Simulator!$E36,MasterTable[P/N],0),COLUMN(MasterTable[I]))","v":{"$error":"#N/A"}},{"$f":"INDEX(MasterTable[],MATCH(Simulator!$E36,MasterTable[P/N],0),COLUMN(MasterTable[I0]))","v":{"$error":"#N/A"}},{"$f":"IF(Simulator!$N$14=Simulator!H36,1,S31*Simulator!$N$14^2+T31*Simulator!$N$14+U31)","v":{"$error":"#N/A"}},{"$f":"INDEX(MasterTable[],MATCH(Simulator!$E36,MasterTable[P/N],0),COLUMN(MasterTable[F^4]))","v":{"$error":"#N/A"}},{"$f":"INDEX(MasterTable[],MATCH(Simulator!$E36,MasterTable[P/N],0),COLUMN(MasterTable[F^3]))","v":{"$error":"#N/A"}},{"$f":"INDEX(MasterTable[],MATCH(Simulator!$E36,MasterTable[P/N],0),COLUMN(MasterTable[F^2]))","v":{"$error":"#N/A"}},{"$f":"INDEX(MasterTable[],MATCH(Simulator!$E36,MasterTable[P/N],0),COLUMN(MasterTable[F]))","v":{"$error":"#N/A"}},{"$f":"INDEX(MasterTable[],MATCH(Simulator!$E36,MasterTable[P/N],0),COLUMN(MasterTable[F0]))","v":{"$error":"#N/A"}},{"$f":"IF(Simulator!$I$8=85,AE31,W31*M31^4+X31*M31^3+Y31*M31^2+Z31*M31+AA31)","v":{"$error":"#N/A"}},{"$f":"Q31*V31*AB31","v":{"$error":"#N/A"}},{"$f":"IF(AND(Simulator!$I$8=85,Simulator!$N$14=Simulator!H36),Q31*AE31,AC31)","v":{"$error":"#N/A"}},{"$f":"VLOOKUP(MID(Simulator!E36,6,3),Data!AL40:AM50,2,FALSE)","v":{"$error":"#N/A"}},{"$f":"INDEX(MasterTable[],MATCH(Simulator!$E36,MasterTable[P/N],0),COLUMN(MasterTable[Typical Voltage]))","v":{"$error":"#N/A"}},{"$f":"INDEX(MasterTable[],MATCH(Simulator!$E36,MasterTable[P/N],0),COLUMN(MasterTable[V^4]))","v":{"$error":"#N/A"}},{"$f":"INDEX(MasterTable[],MATCH(Simulator!$E36,MasterTable[P/N],0),COLUMN(MasterTable[V^3]))","v":{"$error":"#N/A"}},{"$f":"INDEX(MasterTable[],MATCH(Simulator!$E36,MasterTable[P/N],0),COLUMN(MasterTable[V^2]))","v":{"$error":"#N/A"}},{"$f":"INDEX(MasterTable[],MATCH(Simulator!$E36,MasterTable[P/N],0),COLUMN(MasterTable[V]))","v":{"$error":"#N/A"}},{"$f":"INDEX(MasterTable[],MATCH(Simulator!$E36,MasterTable[P/N],0),COLUMN(MasterTable[V0]))","v":{"$error":"#N/A"}},{"$f":"AG31*Simulator!$N$14^4+AH31*Simulator!$N$14^3+AI31*Simulator!$N$14^2+AJ31*Simulator!$N$14+AK31","v":{"$error":"#N/A"}},{"$f":"INDEX(MasterTable[],MATCH(Simulator!$E36,MasterTable[P/N],0),COLUMN(MasterTable[T^3]))","v":{"$error":"#N/A"}},{"$f":"INDEX(MasterTable[],MATCH(Simulator!$E36,MasterTable[P/N],0),COLUMN(MasterTable[T^2]))","v":{"$error":"#N/A"}},{"$f":"INDEX(MasterTable[],MATCH(Simulator!$E36,MasterTable[P/N],0),COLUMN(MasterTable[T]))","v":{"$error":"#N/A"}},{"$f":"INDEX(MasterTable[],MATCH(Simulator!$E36,MasterTable[P/N],0),COLUMN(MasterTable[T0]))","v":{"$error":"#N/A"}},{"$f":"AM31*M31^3+AN31*M31^2+AO31*M31+AP31","v":{"$error":"#N/A"}},{"$f":"AL31+AQ31-AF31","v":{"$error":"#N/A"}},null,{"$f":"INDEX(MasterTable[],MATCH(Simulator!$E36,MasterTable[P/N],0),COLUMN(MasterTable['# of Die]))","v":{"$error":"#N/A"}},{"$f":"AL31","v":{"$error":"#N/A"}},{"$f":"INDEX(Tj_to_Vf6[],MATCH(Simulator!$I$8,Tj_to_Vf6[Vf],1),COLUMN(Tj_to_Vf6[Vf]))","v":-0.5},{"$f":"AU31+AV31*AT31","v":{"$error":"#N/A"}},{"$f":"IF(AND(Simulator!$I$8=25,Simulator!$N$14=Simulator!H36),AF31,AR31)","v":{"$error":"#N/A"}}]
[]
[null,null,"Converting Tc to Tj",null,null,null,null,"Converting Tj to Tc",null,null,null,null,null,null,null,null,"Calculating Flux",null,null,null,null,null,null,null,null,null,null,null,null,null,null,"Calculating Voltage w/ Tc",null,null,null,null,null,null,null,null,null,null,null,null,null,null,"Calculating Voltage w/ Tj"]
[null,null,"Tj = Tc + Power*Thermal Resistance",null,null,null,null,"Tc = Tj - Power*Thermal Resistance",null,null,null,null,null,null,null,null,"F@Tc&I = Ft*Fr@I*Fr@Tc",null,null,null,null,null,null,null,null,null,null,null,null,null,null,"Vf@Tc&I = Vf@I + Vf@Tc-Vft",null,null,null,null,null,null,null,null,null,null,null,null,null,null,"Vf@Tj&I = Vf@I + Vf@Tj Modifier"]
[null,null,"Tc","Power","Thermal Resistance","Tc>>Tj",null,"Tj","Power","Thermal Resistance","Tj>>Tc",null,"Tc","Tj",{"$f":"IF(Simulator!$D$10=\"Case\",\"Tj\",\"Tc\")","v":"Tj"},null,"Ft","Fr@I Eqn",null,null,null,"Fr@I",null,"Fr@Tc Eqn",null,null,null,"Fr@Tc","F@Tc&I",null,"85 DC Factor","Vft",null,"Vf@I Eqn",null,null,null,"Vf@I","Vf@Tc Eqn",null,null,null,"Vf@Tc","Vf@Tc&I",null,"# of Die","Vf@I","Vf@Tj Modifier, per Die","Vf@Tj&I","Voltage Report"]
[null,"V4 HD",{"$f":"IF(Simulator!$D$10=\"Case\",Simulator!$I$8,M36)","v":25},{"$f":"Simulator!$N$14*AR36/1000","v":9.0162300842159979},{"$f":"INDEX(MasterTable[],MATCH(Simulator!E38,MasterTable[P/N],0),COLUMN(MasterTable[Thermal Resistance]))","v":0.72},{"$f":"C36+D36*E36","v":31.491685660635518},null,{"$f":"IF(Simulator!$D$10=\"Case\",F36,Simulator!$I$8)","v":31.491685660635518},{"$f":"Simulator!$N$14*AW36/1000","v":7.6265834575439992},{"$f":"E36","v":0.72},{"$f":"H36-I36*J36","v":26.000545571203837},null,{"$f":"IF(Simulator!$D$10=\"Case\",Simulator!$I$8,K36)","v":25},{"$f":"IF(Simulator!$D$10=\"Case\",H36,Simulator!$I$8)","v":31.491685660635518},{"$f":"IF(#REF!=\"Tj\",N36,M36)","v":{"$error":"#REF!"}},null,{"$f":"INDEX(MasterTable[],MATCH(Simulator!E38,MasterTable[P/N],0),COLUMN(MasterTable[Typical Lumens]))","v":765},{"$f":"INDEX(MasterTable[],MATCH(Simulator!$E38,MasterTable[P/N],0),COLUMN(MasterTable[I^3]))","v":4.3422000000000002E-9},{"$f":"INDEX(MasterTable[],MATCH(Simulator!$E38,MasterTable[P/N],0),COLUMN(MasterTable[I^2]))","v":-5.9939999999999997E-6},{"$f":"INDEX(MasterTable[],MATCH(Simulator!$E38,MasterTable[P/N],0),COLUMN(MasterTable[I]))","v":6.6293000000000003E-3},{"$f":"INDEX(MasterTable[],MATCH(Simulator!$E38,MasterTable[P/N],0),COLUMN(MasterTable[I0]))","v":-9.9999999999999995E-8},{"$f":"R36*Simulator!$N$14^3+S36*Simulator!$N$14^2+T36*Simulator!$N$14+U36","v":1.3058040728},{"$f":"INDEX(MasterTable[],MATCH(Simulator!$E38,MasterTable[P/N],0),COLUMN(MasterTable[F^4]))","v":0},{"$f":"INDEX(MasterTable[],MATCH(Simulator!$E38,MasterTable[P/N],0),COLUMN(MasterTable[F^3]))","v":-2.36E-8},{"$f":"INDEX(MasterTable[],MATCH(Simulator!$E38,MasterTable[P/N],0),COLUMN(MasterTable[F^2]))","v":-1.814E-7},{"$f":"INDEX(MasterTable[],MATCH(Simulator!$E38,MasterTable[P/N],0),COLUMN(MasterTable[F]))","v":-1.4753277E-3},{"$f":"INDEX(MasterTable[],MATCH(Simulator!$E38,MasterTable[P/N],0),COLUMN(MasterTable[F0]))","v":1.028029267},{"$f":"IF(Simulator!$I$8=85,AE36,W36*M36^4+X36*M36^3+Y36*M36^2+Z36*M36+AA36)","v":0.99066394949999992},{"$f":"Q36*V36*AB36","v":989.61396032542348},{"$f":"IF(AND(Simulator!$I$8=85,Simulator!$N$14=Simulator!H38),Q36*AE36,AC36)","v":989.61396032542348},{"$f":"VLOOKUP(MID(Simulator!E38,6,3),Data!AB40:AC50,2,FALSE)","v":0.88},{"$f":"INDEX(MasterTable[],MATCH(Simulator!$E38,MasterTable[P/N],0),COLUMN(MasterTable[Typical Voltage]))","v":36.4},{"$f":"INDEX(MasterTable[],MATCH(Simulator!$E38,MasterTable[P/N],0),COLUMN(MasterTable[V^4]))","v":0},{"$f":"INDEX(MasterTable[],MATCH(Simulator!$E38,MasterTable[P/N],0),COLUMN(MasterTable[V^3]))","v":4.51E-8},{"$f":"INDEX(MasterTable[],MATCH(Simulator!$E38,MasterTable[P/N],0),COLUMN(MasterTable[V^2]))","v":-4.5243700000000002E-5},{"$f":"INDEX(MasterTable[],MATCH(Simulator!$E38,MasterTable[P/N],0),COLUMN(MasterTable[V]))","v":3.4480803099999999E-2},{"$f":"INDEX(MasterTable[],MATCH(Simulator!$E38,MasterTable[P/N],0),COLUMN(MasterTable[V0]))","v":31.484613049099998},{"$f":"AG36*Simulator!$N$14^4+AH36*Simulator!$N$14^3+AI36*Simulator!$N$14^2+AJ36*Simulator!$N$14+AK36","v":37.777431073099997},{"$f":"INDEX(MasterTable[],MATCH(Simulator!$E38,MasterTable[P/N],0),COLUMN(MasterTable[T^3]))","v":-4.9520000000000004E-7},{"$f":"INDEX(MasterTable[],MATCH(Simulator!$E38,MasterTable[P/N],0),COLUMN(MasterTable[T^2]))","v":1.4426829999999999E-4},{"$f":"INDEX(MasterTable[],MATCH(Simulator!$E38,MasterTable[P/N],0),COLUMN(MasterTable[T]))","v":-2.6561671799999999E-2},{"$f":"INDEX(MasterTable[],MATCH(Simulator!$E38,MasterTable[P/N],0),COLUMN(MasterTable[T0]))","v":36.771805885299997},{"$f":"AM36*M36^3+AN36*M36^2+AO36*M36+AP36","v":36.190194277799996},{"$f":"AL36+AQ36-AF36","v":37.567625350899995},null,{"$f":"INDEX(MasterTable[],MATCH(Simulator!$E38,MasterTable[P/N],0),COLUMN(MasterTable['# of Die]))","v":12},{"$f":"AL36","v":37.777431073099997},{"$f":"INDEX(Tj_to_Vf6[],MATCH(Simulator!$I$8,Tj_to_Vf6[Vf],1),COLUMN(Tj_to_Vf6[Vf]))","v":-0.5},{"$f":"AU36+AV36*AT36","v":31.777431073099997},{"$f":"IF(AND(Simulator!$I$8=25,Simulator!$N$14=Simulator!H38),AF36,AR36)","v":37.567625350899995}]
[null,"V6 HD",{"$f":"IF(Simulator!$D$10=\"Case\",Simulator!$I$8,M37)","v":25},{"$f":"Simulator!$N$14*AR37/1000","v":8.6102648908560031},{"$f":"INDEX(MasterTable[],MATCH(Simulator!E39,MasterTable[P/N],0),COLUMN(MasterTable[Thermal Resistance]))","v":0.36},{"$f":"C37+D37*E37","v":28.099695360708161},null,{"$f":"IF(Simulator!$D$10=\"Case\",F37,Simulator!$I$8)","v":28.099695360708161},{"$f":"Simulator!$N$14*AW37/1000","v":5.4861300267360011},{"$f":"E37","v":0.36},{"$f":"H37-I37*J37","v":26.124688551083199},null,{"$f":"IF(Simulator!$D$10=\"Case\",Simulator!$I$8,K37)","v":25},{"$f":"IF(Simulator!$D$10=\"Case\",H37,Simulator!$I$8)","v":28.099695360708161},{"$f":"IF(#REF!=\"Tj\",N37,M37)","v":{"$error":"#REF!"}},null,{"$f":"INDEX(MasterTable[],MATCH(Simulator!E39,MasterTable[P/N],0),COLUMN(MasterTable[Typical Lumens]))","v":1587},{"$f":"INDEX(MasterTable[],MATCH(Simulator!$E39,MasterTable[P/N],0),COLUMN(MasterTable[I^3]))","v":7.1311000000000003E-10},{"$f":"INDEX(MasterTable[],MATCH(Simulator!$E39,MasterTable[P/N],0),COLUMN(MasterTable[I^2]))","v":-1.6307999999999999E-6},{"$f":"INDEX(MasterTable[],MATCH(Simulator!$E39,MasterTable[P/N],0),COLUMN(MasterTable[I]))","v":3.3419000000000001E-3},{"$f":"INDEX(MasterTable[],MATCH(Simulator!$E39,MasterTable[P/N],0),COLUMN(MasterTable[I0]))","v":-9.9999999999999995E-8},{"$f":"R37*Simulator!$N$14^3+S37*Simulator!$N$14^2+T37*Simulator!$N$14+U37","v":0.71797985264000008},{"$f":"INDEX(MasterTable[],MATCH(Simulator!$E39,MasterTable[P/N],0),COLUMN(MasterTable[F^4]))","v":0},{"$f":"INDEX(MasterTable[],MATCH(Simulator!$E39,MasterTable[P/N],0),COLUMN(MasterTable[F^3]))","v":-6.6000000000000004E-9},{"$f":"INDEX(MasterTable[],MATCH(Simulator!$E39,MasterTable[P/N],0),COLUMN(MasterTable[F^2]))","v":-3.8314000000000003E-6},{"$f":"INDEX(MasterTable[],MATCH(Simulator!$E39,MasterTable[P/N],0),COLUMN(MasterTable[F]))","v":-1.3420341E-3},{"$f":"INDEX(MasterTable[],MATCH(Simulator!$E39,MasterTable[P/N],0),COLUMN(MasterTable[F0]))","v":1.0238966412999999},{"$f":"IF(Simulator!$I$8=85,AE37,W37*M37^4+X37*M37^3+Y37*M37^2+Z37*M37+AA37)","v":0.98784803879999994},{"$f":"Q37*V37*AB37","v":1125.5876680640708},{"$f":"IF(AND(Simulator!$I$8=85,Simulator!$N$14=Simulator!H39),Q37*AE37,AC37)","v":1125.5876680640708},{"$f":"VLOOKUP(MID(Simulator!E39,6,3),Data!AF40:AG50,2,FALSE)","v":0.88},{"$f":"INDEX(MasterTable[],MATCH(Simulator!$E39,MasterTable[P/N],0),COLUMN(MasterTable[Typical Voltage]))","v":36.4},{"$f":"INDEX(MasterTable[],MATCH(Simulator!$E39,MasterTable[P/N],0),COLUMN(MasterTable[V^4]))","v":0},{"$f":"INDEX(MasterTable[],MATCH(Simulator!$E39,MasterTable[P/N],0),COLUMN(MasterTable[V^3]))","v":7.0999999999999999E-9},{"$f":"INDEX(MasterTable[],MATCH(Simulator!$E39,MasterTable[P/N],0),COLUMN(MasterTable[V^2]))","v":-1.48731E-5},{"$f":"INDEX(MasterTable[],MATCH(Simulator!$E39,MasterTable[P/N],0),COLUMN(MasterTable[V]))","v":2.10941823E-2},{"$f":"INDEX(MasterTable[],MATCH(Simulator!$E39,MasterTable[P/N],0),COLUMN(MasterTable[V0]))","v":30.554811519400001},{"$f":"AG37*Simulator!$N$14^4+AH37*Simulator!$N$14^3+AI37*Simulator!$N$14^2+AJ37*Simulator!$N$14+AK37","v":34.858875111400003},{"$f":"INDEX(MasterTable[],MATCH(Simulator!$E39,MasterTable[P/N],0),COLUMN(MasterTable[T^3]))","v":-2.973E-7},{"$f":"INDEX(MasterTable[],MATCH(Simulator!$E39,MasterTable[P/N],0),COLUMN(MasterTable[T^2]))","v":1.4002040000000001E-4},{"$f":"INDEX(MasterTable[],MATCH(Simulator!$E39,MasterTable[P/N],0),COLUMN(MasterTable[T]))","v":-3.4713817700000003E-2},{"$f":"INDEX(MasterTable[],MATCH(Simulator!$E39,MasterTable[P/N],0),COLUMN(MasterTable[T0]))","v":38.202206605500002},{"$f":"AM37*M37^3+AN37*M37^2+AO37*M37+AP37","v":37.417228600500003},{"$f":"AL37+AQ37-AF37","v":35.876103711900008},null,{"$f":"INDEX(MasterTable[],MATCH(Simulator!$E39,MasterTable[P/N],0),COLUMN(MasterTable['# of Die]))","v":24},{"$f":"AL37","v":34.858875111400003},{"$f":"INDEX(Tj_to_Vf6[],MATCH(Simulator!$I$8,Tj_to_Vf6[Vf],1),COLUMN(Tj_to_Vf6[Vf]))","v":-0.5},{"$f":"AU37+AV37*AT37","v":22.858875111400003},{"$f":"IF(AND(Simulator!$I$8=25,Simulator!$N$14=Simulator!H39),AF37,AR37)","v":35.876103711900008}]
[null,"V9 HD",{"$f":"IF(Simulator!$D$10=\"Case\",Simulator!$I$8,M38)","v":25},{"$f":"Simulator!$N$14*AR38/1000","v":8.0577904066560002},{"$f":"INDEX(MasterTable[],MATCH(Simulator!E40,MasterTable[P/N],0),COLUMN(MasterTable[Thermal Resistance]))","v":0.18},{"$f":"C38+D38*E38","v":26.45040227319808},null,{"$f":"IF(Simulator!$D$10=\"Case\",F38,Simulator!$I$8)","v":26.45040227319808},{"$f":"Simulator!$N$14*AW38/1000","v":2.297436288000001},{"$f":"E38","v":0.18},{"$f":"H38-I38*J38","v":26.036863741358079},null,{"$f":"IF(Simulator!$D$10=\"Case\",Simulator!$I$8,K38)","v":25},{"$f":"IF(Simulator!$D$10=\"Case\",H38,Simulator!$I$8)","v":26.45040227319808},{"$f":"IF(#REF!=\"Tj\",N38,M38)","v":{"$error":"#REF!"}},null,{"$f":"INDEX(MasterTable[],MATCH(Simulator!E40,MasterTable[P/N],0),COLUMN(MasterTable[Typical Lumens]))","v":3417},{"$f":"INDEX(MasterTable[],MATCH(Simulator!$E40,MasterTable[P/N],0),COLUMN(MasterTable[I^3]))","v":2.183E-11},{"$f":"INDEX(MasterTable[],MATCH(Simulator!$E40,MasterTable[P/N],0),COLUMN(MasterTable[I^2]))","v":-2.7159000000000001E-7},{"$f":"INDEX(MasterTable[],MATCH(Simulator!$E40,MasterTable[P/N],0),COLUMN(MasterTable[I]))","v":1.6087E-3},{"$f":"INDEX(MasterTable[],MATCH(Simulator!$E40,MasterTable[P/N],0),COLUMN(MasterTable[I0]))","v":-9.9999999999999995E-8},{"$f":"R38*Simulator!$N$14^3+S38*Simulator!$N$14^2+T38*Simulator!$N$14+U38","v":0.37074609391999996},{"$f":"INDEX(MasterTable[],MATCH(Simulator!$E40,MasterTable[P/N],0),COLUMN(MasterTable[F^4]))","v":0},{"$f":"INDEX(MasterTable[],MATCH(Simulator!$E40,MasterTable[P/N],0),COLUMN(MasterTable[F^3]))","v":4.3100000000000002E-8},{"$f":"INDEX(MasterTable[],MATCH(Simulator!$E40,MasterTable[P/N],0),COLUMN(MasterTable[F^2]))","v":-1.44669E-5},{"$f":"INDEX(MasterTable[],MATCH(Simulator!$E40,MasterTable[P/N],0),COLUMN(MasterTable[F]))","v":-7.5929980000000001E-4},{"$f":"INDEX(MasterTable[],MATCH(Simulator!$E40,MasterTable[P/N],0),COLUMN(MasterTable[F0]))","v":1.0176676109},{"$f":"IF(Simulator!$I$8=85,AE38,W38*M38^4+X38*M38^3+Y38*M38^2+Z38*M38+AA38)","v":0.99031674089999999},{"$f":"Q38*V38*AB38","v":1254.5722687480313},{"$f":"IF(AND(Simulator!$I$8=85,Simulator!$N$14=Simulator!H40),Q38*AE38,AC38)","v":1254.5722687480313},{"$f":"VLOOKUP(MID(Simulator!E40,6,3),Data!AI40:AJ50,2,FALSE)","v":0.88},{"$f":"INDEX(MasterTable[],MATCH(Simulator!$E40,MasterTable[P/N],0),COLUMN(MasterTable[Typical Voltage]))","v":36.4},{"$f":"INDEX(MasterTable[],MATCH(Simulator!$E40,MasterTable[P/N],0),COLUMN(MasterTable[V^4]))","v":-4.9999999999999997E-12},{"$f":"INDEX(MasterTable[],MATCH(Simulator!$E40,MasterTable[P/N],0),COLUMN(MasterTable[V^3]))","v":1E-8},{"$f":"INDEX(MasterTable[],MATCH(Simulator!$E40,MasterTable[P/N],0),COLUMN(MasterTable[V^2]))","v":-1.0000000000000001E-5},{"$f":"INDEX(MasterTable[],MATCH(Simulator!$E40,MasterTable[P/N],0),COLUMN(MasterTable[V]))","v":1.18E-2},{"$f":"INDEX(MasterTable[],MATCH(Simulator!$E40,MasterTable[P/N],0),COLUMN(MasterTable[V0]))","v":31.195},{"$f":"AG38*Simulator!$N$14^4+AH38*Simulator!$N$14^3+AI38*Simulator!$N$14^2+AJ38*Simulator!$N$14+AK38","v":33.572651200000003},{"$f":"INDEX(MasterTable[],MATCH(Simulator!$E40,MasterTable[P/N],0),COLUMN(MasterTable[T^3]))","v":-4.467E-7},{"$f":"INDEX(MasterTable[],MATCH(Simulator!$E40,MasterTable[P/N],0),COLUMN(MasterTable[T^2]))","v":1.202214E-4},{"$f":"INDEX(MasterTable[],MATCH(Simulator!$E40,MasterTable[P/N],0),COLUMN(MasterTable[T]))","v":-2.25191091E-2},{"$f":"INDEX(MasterTable[],MATCH(Simulator!$E40,MasterTable[P/N],0),COLUMN(MasterTable[T0]))","v":36.896294534399999},{"$f":"AM38*M38^3+AN38*M38^2+AO38*M38+AP38","v":36.401475494399996},{"$f":"AL38+AQ38-AF38","v":33.5741266944},null,{"$f":"INDEX(MasterTable[],MATCH(Simulator!$E40,MasterTable[P/N],0),COLUMN(MasterTable['# of Die]))","v":48},{"$f":"AL38","v":33.572651200000003},{"$f":"INDEX(Tj_to_Vf6[],MATCH(Simulator!$I$8,Tj_to_Vf6[Vf],1),COLUMN(Tj_to_Vf6[Vf]))","v":-0.5},{"$f":"AU38+AV38*AT38","v":9.5726512000000028},{"$f":"IF(AND(Simulator!$I$8=25,Simulator!$N$14=Simulator!H40),AF38,AR38)","v":33.5741266944}]
[]
[]
["Calculations using Current Input",null,"Converting Tc to Tj",null,null,null,null,"Converting Tj to Tc",null,null,null,null,null,null,null,null,"Calculating Flux",null,null,null,null,null,null,null,null,null,null,null,null,null,null,"Calculating Voltage w/ Tc",null,null,null,null,null,null,null,null,null,null,null,null,null,null,"Calculating Voltage w/ Tj",null,null,null,null,"\n"]
[null,null,"Tj = Tc + Power*Thermal Resistance",null,null,null,null,"Tc = Tj - Power*Thermal Resistance",null,null,null,null,null,null,null,null,"F@Tc&I = Ft*Fr@I*Fr@Tc",null,null,null,null,null,null,null,null,null,null,null,null,null,null,"Vf@Tc&I = Vf@I + Vf@Tc-Vft",null,null,null,null,null,null,null,null,null,null,null,null,null,null,"Vf@Tj&I = Vf@I + Vf@Tj Modifier",null,null,null,null,"Typical Temperature Coefficient of Forward Voltage"]
[null,null,"Tc","Power","Thermal Resistance","Tc>>Tj",null,"Tj","Power","Thermal Resistance","Tj>>Tc",null,"Tc","Tj",{"$f":"IF(Simulator!$D$10=\"Case\",\"Tj\",\"Tc\")","v":"Tj"},null,"Ft","Fr@I Eqn",null,null,null,"Fr@I",null,"Fr@Tc Eqn",null,null,null,"Fr@Tc","F@Tc&I",null,"85 DC Factor","Vft",null,"Vf@I Eqn",null,null,null,"Vf@I","Vf@Tc Eqn",null,null,null,"Vf@Tc","Vf@Tc&I",null,"# of Die","Vf@I","Vf@Tj Modifier, per Die","Vf@Tj&I","Voltage Report",null,"∆Vf/∆T (mV/ºC)"]
[null,"V8-D",{"$f":"IF(Simulator!$D$10=\"Case\",Simulator!$I$8,M44)","v":25},{"$f":"Simulator!$N$14*AR44/1000","v":4.0529041150079994},{"$f":"INDEX(MasterTable[],MATCH(Simulator!E42,MasterTable[P/N],0),COLUMN(MasterTable[Thermal Resistance]))","v":0.49},{"$f":"C44+D44*E44","v":26.985923016353919},null,{"$f":"IF(Simulator!$D$10=\"Case\",F44,Simulator!$I$8)","v":26.985923016353919},{"$f":"Simulator!$N$14*AW44/1000","v":1.1729041150080002},{"$f":"E44","v":0.49},{"$f":"H44-I44*J44","v":26.411199999999997},null,{"$f":"IF(Simulator!$D$10=\"Case\",Simulator!$I$8,K44)","v":25},{"$f":"IF(Simulator!$D$10=\"Case\",H44,Simulator!$I$8)","v":26.985923016353919},{"$f":"IF(#REF!=\"Tj\",N44,M44)","v":{"$error":"#REF!"}},null,{"$f":"INDEX(MasterTable[],MATCH(Simulator!E42,MasterTable[P/N],0),COLUMN(MasterTable[Typical Lumens]))","v":999},{"$f":"INDEX(MasterTable[],MATCH(Simulator!$E42,MasterTable[P/N],0),COLUMN(MasterTable[I^3]))","v":-5.9147999999999998E-12},{"$f":"INDEX(MasterTable[],MATCH(Simulator!$E42,MasterTable[P/N],0),COLUMN(MasterTable[I^2]))","v":-5.1676999999999999E-7},{"$f":"INDEX(MasterTable[],MATCH(Simulator!$E42,MasterTable[P/N],0),COLUMN(MasterTable[I]))","v":3.0371999999999999E-3},{"$f":"INDEX(MasterTable[],MATCH(Simulator!$E42,MasterTable[P/N],0),COLUMN(MasterTable[I0]))","v":-9.9999999999999995E-8},{"$f":"R44*Simulator!$N$14^3+S44*Simulator!$N$14^2+T44*Simulator!$N$14+U44","v":0.69908018180480003},{"$f":"INDEX(MasterTable[],MATCH(Simulator!$E42,MasterTable[P/N],0),COLUMN(MasterTable[F^4]))","v":0},{"$f":"INDEX(MasterTable[],MATCH(Simulator!$E42,MasterTable[P/N],0),COLUMN(MasterTable[F^3]))","v":0},{"$f":"INDEX(MasterTable[],MATCH(Simulator!$E42,MasterTable[P/N],0),COLUMN(MasterTable[F^2]))","v":-3.9999999999999998E-6},{"$f":"INDEX(MasterTable[],MATCH(Simulator!$E42,MasterTable[P/N],0),COLUMN(MasterTable[F]))","v":-1E-3},{"$f":"INDEX(MasterTable[],MATCH(Simulator!$E42,MasterTable[P/N],0),COLUMN(MasterTable[F0]))","v":1.0275000000000001},{"$f":"IF(Simulator!$I$8=85,AE44,W44*M44^4+X44*M44^3+Y44*M44^2+Z44*M44+AA44)","v":1},{"$f":"Q44*V44*AB44","v":698.38110162299517},{"$f":"IF(AND(Simulator!$I$8=85,Simulator!$N$14=Simulator!H42),Q44*AE44,AC44)","v":698.38110162299517},{"$f":"VLOOKUP(MID(Simulator!E42,6,3),Data!G2:H22,2,FALSE)","v":0.9},{"$f":"INDEX(MasterTable[],MATCH(Simulator!$E42,MasterTable[P/N],0),COLUMN(MasterTable[Typical Voltage]))","v":17.3},{"$f":"INDEX(MasterTable[],MATCH(Simulator!$E42,MasterTable[P/N],0),COLUMN(MasterTable[V^4]))","v":0},{"$f":"INDEX(MasterTable[],MATCH(Simulator!$E42,MasterTable[P/N],0),COLUMN(MasterTable[V^3]))","v":3.6E-9},{"$f":"INDEX(MasterTable[],MATCH(Simulator!$E42,MasterTable[P/N],0),COLUMN(MasterTable[V^2]))","v":-5.9801999999999999E-6},{"$f":"INDEX(MasterTable[],MATCH(Simulator!$E42,MasterTable[P/N],0),COLUMN(MasterTable[V]))","v":6.4073706000000001E-3},{"$f":"INDEX(MasterTable[],MATCH(Simulator!$E42,MasterTable[P/N],0),COLUMN(MasterTable[V0]))","v":15.644024655200001},{"$f":"AG44*Simulator!$N$14^4+AH44*Simulator!$N$14^3+AI44*Simulator!$N$14^2+AJ44*Simulator!$N$14+AK44","v":16.887100479200001},{"$f":"INDEX(MasterTable[],MATCH(Simulator!$E42,MasterTable[P/N],0),COLUMN(MasterTable[T^3]))","v":0},{"$f":"INDEX(MasterTable[],MATCH(Simulator!$E42,MasterTable[P/N],0),COLUMN(MasterTable[T^2]))","v":0},{"$f":"INDEX(MasterTable[],MATCH(Simulator!$E42,MasterTable[P/N],0),COLUMN(MasterTable[T]))","v":0},{"$f":"INDEX(MasterTable[],MATCH(Simulator!$E42,MasterTable[P/N],0),COLUMN(MasterTable[T0]))","v":0},{"$f":"AZ44*(M44-25)/1000+AF44","v":17.3},{"$f":"AL44+AQ44-AF44","v":16.887100479199997},null,{"$f":"INDEX(MasterTable[],MATCH(Simulator!$E42,MasterTable[P/N],0),COLUMN(MasterTable['# of Die]))","v":24},{"$f":"AL44","v":16.887100479200001},{"$f":"INDEX(Tj_to_Vf6[],MATCH(Simulator!$I$8,Tj_to_Vf6[Vf],1),COLUMN(Tj_to_Vf6[Vf]))","v":-0.5},{"$f":"AU44+AV44*AT44","v":4.8871004792000008},{"$f":"IF(AND(Simulator!$I$8=25,Simulator!$N$14=Simulator!H42),AF44,AR44)","v":16.887100479199997},null,-7.38]
[null,"V8-E",{"$f":"IF(Simulator!$D$10=\"Case\",Simulator!$I$8,M45)","v":25},{"$f":"Simulator!$N$14*AR45/1000","v":8.4780237714959981},{"$f":"INDEX(MasterTable[],MATCH(Simulator!E43,MasterTable[P/N],0),COLUMN(MasterTable[Thermal Resistance]))","v":0.49},{"$f":"C45+D45*E45","v":29.15423164803304},null,{"$f":"IF(Simulator!$D$10=\"Case\",F45,Simulator!$I$8)","v":29.15423164803304},{"$f":"Simulator!$N$14*AW45/1000","v":5.5980237714959991},{"$f":"E45","v":0.49},{"$f":"H45-I45*J45","v":26.411200000000001},null,{"$f":"IF(Simulator!$D$10=\"Case\",Simulator!$I$8,K45)","v":25},{"$f":"IF(Simulator!$D$10=\"Case\",H45,Simulator!$I$8)","v":29.15423164803304},{"$f":"IF(#REF!=\"Tj\",N45,M45)","v":{"$error":"#REF!"}},null,{"$f":"INDEX(MasterTable[],MATCH(Simulator!E43,MasterTable[P/N],0),COLUMN(MasterTable[Typical Lumens]))","v":1002},{"$f":"INDEX(MasterTable[],MATCH(Simulator!$E43,MasterTable[P/N],0),COLUMN(MasterTable[I^3]))","v":5.1207999999999995E-10},{"$f":"INDEX(MasterTable[],MATCH(Simulator!$E43,MasterTable[P/N],0),COLUMN(MasterTable[I^2]))","v":-2.3356999999999999E-6},{"$f":"INDEX(MasterTable[],MATCH(Simulator!$E43,MasterTable[P/N],0),COLUMN(MasterTable[I]))","v":6.1035999999999998E-3},{"$f":"INDEX(MasterTable[],MATCH(Simulator!$E43,MasterTable[P/N],0),COLUMN(MasterTable[I0]))","v":-9.9999999999999995E-8},{"$f":"R45*Simulator!$N$14^3+S45*Simulator!$N$14^2+T45*Simulator!$N$14+U45","v":1.3374065739199998},{"$f":"INDEX(MasterTable[],MATCH(Simulator!$E43,MasterTable[P/N],0),COLUMN(MasterTable[F^4]))","v":0},{"$f":"INDEX(MasterTable[],MATCH(Simulator!$E43,MasterTable[P/N],0),COLUMN(MasterTable[F^3]))","v":-2.2799999999999999E-8},{"$f":"INDEX(MasterTable[],MATCH(Simulator!$E43,MasterTable[P/N],0),COLUMN(MasterTable[F^2]))","v":1.829E-7},{"$f":"INDEX(MasterTable[],MATCH(Simulator!$E43,MasterTable[P/N],0),COLUMN(MasterTable[F]))","v":-1.1936561E-3},{"$f":"INDEX(MasterTable[],MATCH(Simulator!$E43,MasterTable[P/N],0),COLUMN(MasterTable[F0]))","v":1.0303814841000001},{"$f":"IF(Simulator!$I$8=85,AE45,W45*M45^4+X45*M45^3+Y45*M45^2+Z45*M45+AA45)","v":1.0002981441000001},1340.480924426914,{"$f":"IF(AND(Simulator!$I$8=85,Simulator!$N$14=Simulator!H43),Q45*AE45,AC45)","v":1340.480924426914},{"$f":"VLOOKUP(MID(Simulator!E43,6,3),Data!G3:H23,2,FALSE)","v":0.9},{"$f":"INDEX(MasterTable[],MATCH(Simulator!$E43,MasterTable[P/N],0),COLUMN(MasterTable[Typical Voltage]))","v":34.700000000000003},{"$f":"INDEX(MasterTable[],MATCH(Simulator!$E43,MasterTable[P/N],0),COLUMN(MasterTable[V^4]))","v":0},{"$f":"INDEX(MasterTable[],MATCH(Simulator!$E43,MasterTable[P/N],0),COLUMN(MasterTable[V^3]))","v":5.8000000000000003E-8},{"$f":"INDEX(MasterTable[],MATCH(Simulator!$E43,MasterTable[P/N],0),COLUMN(MasterTable[V^2]))","v":-4.7954200000000002E-5},{"$f":"INDEX(MasterTable[],MATCH(Simulator!$E43,MasterTable[P/N],0),COLUMN(MasterTable[V]))","v":2.6223106900000001E-2},{"$f":"INDEX(MasterTable[],MATCH(Simulator!$E43,MasterTable[P/N],0),COLUMN(MasterTable[V0]))","v":30.991923311899999},{"$f":"AG45*Simulator!$N$14^4+AH45*Simulator!$N$14^3+AI45*Simulator!$N$14^2+AJ45*Simulator!$N$14+AK45","v":35.325099047899997},{"$f":"INDEX(MasterTable[],MATCH(Simulator!$E43,MasterTable[P/N],0),COLUMN(MasterTable[T^3]))","v":0},{"$f":"INDEX(MasterTable[],MATCH(Simulator!$E43,MasterTable[P/N],0),COLUMN(MasterTable[T^2]))","v":0},{"$f":"INDEX(MasterTable[],MATCH(Simulator!$E43,MasterTable[P/N],0),COLUMN(MasterTable[T]))","v":0},{"$f":"INDEX(MasterTable[],MATCH(Simulator!$E43,MasterTable[P/N],0),COLUMN(MasterTable[T0]))","v":0},{"$f":"AZ45*(M45-25)/1000+AF45","v":34.700000000000003},{"$f":"AL45+AQ45-AF45","v":35.325099047899997},null,{"$f":"INDEX(MasterTable[],MATCH(Simulator!$E43,MasterTable[P/N],0),COLUMN(MasterTable['# of Die]))","v":24},{"$f":"AL45","v":35.325099047899997},{"$f":"INDEX(Tj_to_Vf6[],MATCH(Simulator!$I$8,Tj_to_Vf6[Vf],1),COLUMN(Tj_to_Vf6[Vf]))","v":-0.5},{"$f":"AU45+AV45*AT45","v":23.325099047899997},{"$f":"IF(AND(Simulator!$I$8=25,Simulator!$N$14=Simulator!H43),AF45,AR45)","v":35.325099047899997},null,-7.38]
[null,"V10-B",{"$f":"IF(Simulator!$D$10=\"Case\",Simulator!$I$8,M46)","v":25},{"$f":"Simulator!$N$14*AR46/1000","v":8.2973897688000022},{"$f":"INDEX(MasterTable[],MATCH(Simulator!E44,MasterTable[P/N],0),COLUMN(MasterTable[Thermal Resistance]))","v":0.49075000000000002},{"$f":"C46+D46*E46","v":29.071944029038601},null,{"$f":"IF(Simulator!$D$10=\"Case\",F46,Simulator!$I$8)","v":29.071944029038601},{"$f":"Simulator!$N$14*AW46/1000","v":3.9773897688000006},{"$f":"E46","v":0.49075000000000002},{"$f":"H46-I46*J46","v":27.120039999999999},null,{"$f":"IF(Simulator!$D$10=\"Case\",Simulator!$I$8,K46)","v":25},{"$f":"IF(Simulator!$D$10=\"Case\",H46,Simulator!$I$8)","v":29.071944029038601},{"$f":"IF(#REF!=\"Tj\",N46,M46)","v":{"$error":"#REF!"}},null,{"$f":"INDEX(MasterTable[],MATCH(Simulator!E44,MasterTable[P/N],0),COLUMN(MasterTable[Typical Lumens]))","v":1549},{"$f":"INDEX(MasterTable[],MATCH(Simulator!$E44,MasterTable[P/N],0),COLUMN(MasterTable[I^3]))","v":6.8448E-10},{"$f":"INDEX(MasterTable[],MATCH(Simulator!$E44,MasterTable[P/N],0),COLUMN(MasterTable[I^2]))","v":-1.5365E-6},{"$f":"INDEX(MasterTable[],MATCH(Simulator!$E44,MasterTable[P/N],0),COLUMN(MasterTable[I]))","v":4.1148000000000001E-3},{"$f":"INDEX(MasterTable[],MATCH(Simulator!$E44,MasterTable[P/N],0),COLUMN(MasterTable[I0]))","v":-9.9999999999999995E-8},{"$f":"R46*Simulator!$N$14^3+S46*Simulator!$N$14^2+T46*Simulator!$N$14+U46","v":0.90851175152000008},{"$f":"INDEX(MasterTable[],MATCH(Simulator!$E44,MasterTable[P/N],0),COLUMN(MasterTable[F^4]))","v":0},{"$f":"INDEX(MasterTable[],MATCH(Simulator!$E44,MasterTable[P/N],0),COLUMN(MasterTable[F^3]))","v":0},{"$f":"INDEX(MasterTable[],MATCH(Simulator!$E44,MasterTable[P/N],0),COLUMN(MasterTable[F^2]))","v":-3.6592E-6},{"$f":"INDEX(MasterTable[],MATCH(Simulator!$E44,MasterTable[P/N],0),COLUMN(MasterTable[F]))","v":-1.0345506E-3},{"$f":"INDEX(MasterTable[],MATCH(Simulator!$E44,MasterTable[P/N],0),COLUMN(MasterTable[F0]))","v":1.0240956264000001},{"$f":"IF(Simulator!$I$8=85,AE46,W46*M46^4+X46*M46^3+Y46*M46^2+Z46*M46+AA46)","v":0.99594486140000005},1401.5779685837317,{"$f":"IF(AND(Simulator!$I$8=85,Simulator!$N$14=Simulator!H44),Q46*AE46,AC46)","v":1401.5779685837317},{"$f":"VLOOKUP(MID(Simulator!E44,6,3),Data!G4:H31,2,FALSE)","v":0.9},{"$f":"INDEX(MasterTable[],MATCH(Simulator!$E44,MasterTable[P/N],0),COLUMN(MasterTable[Typical Voltage]))","v":34.799999999999997},{"$f":"INDEX(MasterTable[],MATCH(Simulator!$E44,MasterTable[P/N],0),COLUMN(MasterTable[V^4]))","v":0},{"$f":"INDEX(MasterTable[],MATCH(Simulator!$E44,MasterTable[P/N],0),COLUMN(MasterTable[V^3]))","v":9.8000000000000001E-9},{"$f":"INDEX(MasterTable[],MATCH(Simulator!$E44,MasterTable[P/N],0),COLUMN(MasterTable[V^2]))","v":-1.42836E-5},{"$f":"INDEX(MasterTable[],MATCH(Simulator!$E44,MasterTable[P/N],0),COLUMN(MasterTable[V]))","v":1.6490447700000001E-2},{"$f":"INDEX(MasterTable[],MATCH(Simulator!$E44,MasterTable[P/N],0),COLUMN(MasterTable[V0]))","v":31.302010081999999},{"$f":"AG46*Simulator!$N$14^4+AH46*Simulator!$N$14^3+AI46*Simulator!$N$14^2+AJ46*Simulator!$N$14+AK46","v":34.572457370000002},{"$f":"INDEX(MasterTable[],MATCH(Simulator!$E44,MasterTable[P/N],0),COLUMN(MasterTable[T^3]))","v":0},{"$f":"INDEX(MasterTable[],MATCH(Simulator!$E44,MasterTable[P/N],0),COLUMN(MasterTable[T^2]))","v":0},{"$f":"INDEX(MasterTable[],MATCH(Simulator!$E44,MasterTable[P/N],0),COLUMN(MasterTable[T]))","v":0},{"$f":"INDEX(MasterTable[],MATCH(Simulator!$E44,MasterTable[P/N],0),COLUMN(MasterTable[T0]))","v":0},{"$f":"AZ46*(M46-25)/1000+AF46","v":34.799999999999997},{"$f":"AL46+AQ46-AF46","v":34.572457370000009},null,{"$f":"INDEX(MasterTable[],MATCH(Simulator!$E44,MasterTable[P/N],0),COLUMN(MasterTable['# of Die]))","v":36},{"$f":"AL46","v":34.572457370000002},{"$f":"INDEX(Tj_to_Vf6[],MATCH(Simulator!$I$8,Tj_to_Vf6[Vf],1),COLUMN(Tj_to_Vf6[Vf]))","v":-0.5},{"$f":"AU46+AV46*AT46","v":16.572457370000002},{"$f":"IF(AND(Simulator!$I$8=25,Simulator!$N$14=Simulator!H44),AF46,AR46)","v":34.572457370000009},null,-16.100000000000001]
[null,"V10-C",{"$f":"IF(Simulator!$D$10=\"Case\",Simulator!$I$8,M47)","v":25},{"$f":"Simulator!$N$14*AR47/1000","v":8.1194880000000023},{"$f":"INDEX(MasterTable[],MATCH(Simulator!E45,MasterTable[P/N],0),COLUMN(MasterTable[Thermal Resistance]))","v":0.37036666666666668},{"$f":"C47+D47*E47","v":28.0071877056},null,{"$f":"IF(Simulator!$D$10=\"Case\",F47,Simulator!$I$8)","v":28.0071877056},{"$f":"Simulator!$N$14*AW47/1000","v":2.3594880000000007},{"$f":"E47","v":0.37036666666666668},{"$f":"H47-I47*J47","v":27.133312},null,{"$f":"IF(Simulator!$D$10=\"Case\",Simulator!$I$8,K47)","v":25},{"$f":"IF(Simulator!$D$10=\"Case\",H47,Simulator!$I$8)","v":28.0071877056},{"$f":"IF(#REF!=\"Tj\",N47,M47)","v":{"$error":"#REF!"}},null,{"$f":"INDEX(MasterTable[],MATCH(Simulator!E45,MasterTable[P/N],0),COLUMN(MasterTable[Typical Lumens]))","v":2066},{"$f":"INDEX(MasterTable[],MATCH(Simulator!$E45,MasterTable[P/N],0),COLUMN(MasterTable[I^3]))","v":2.4598000000000001E-10},{"$f":"INDEX(MasterTable[],MATCH(Simulator!$E45,MasterTable[P/N],0),COLUMN(MasterTable[I^2]))","v":-8.7001999999999995E-7},{"$f":"INDEX(MasterTable[],MATCH(Simulator!$E45,MasterTable[P/N],0),COLUMN(MasterTable[I]))","v":3.0842E-3},{"$f":"INDEX(MasterTable[],MATCH(Simulator!$E45,MasterTable[P/N],0),COLUMN(MasterTable[I0]))","v":-9.9999999999999995E-8},{"$f":"R47*Simulator!$N$14^3+S47*Simulator!$N$14^2+T47*Simulator!$N$14+U47","v":0.69349517552000006},{"$f":"INDEX(MasterTable[],MATCH(Simulator!$E45,MasterTable[P/N],0),COLUMN(MasterTable[F^4]))","v":0},{"$f":"INDEX(MasterTable[],MATCH(Simulator!$E45,MasterTable[P/N],0),COLUMN(MasterTable[F^3]))","v":0},{"$f":"INDEX(MasterTable[],MATCH(Simulator!$E45,MasterTable[P/N],0),COLUMN(MasterTable[F^2]))","v":-3.6592E-6},{"$f":"INDEX(MasterTable[],MATCH(Simulator!$E45,MasterTable[P/N],0),COLUMN(MasterTable[F]))","v":-1.0345506E-3},{"$f":"INDEX(MasterTable[],MATCH(Simulator!$E45,MasterTable[P/N],0),COLUMN(MasterTable[F0]))","v":1.0240956264000001},{"$f":"IF(Simulator!$I$8=85,AE47,W47*M47^4+X47*M47^3+Y47*M47^2+Z47*M47+AA47)","v":0.99594486140000005},1426.9509880563494,{"$f":"IF(AND(Simulator!$I$8=85,Simulator!$N$14=Simulator!H45),Q47*AE47,AC47)","v":1426.9509880563494},{"$f":"VLOOKUP(MID(Simulator!E45,6,3),Data!G39:H61,2,FALSE)","v":0.9},{"$f":"INDEX(MasterTable[],MATCH(Simulator!$E45,MasterTable[P/N],0),COLUMN(MasterTable[Typical Voltage]))","v":34.799999999999997},{"$f":"INDEX(MasterTable[],MATCH(Simulator!$E45,MasterTable[P/N],0),COLUMN(MasterTable[V^4]))","v":0},{"$f":"INDEX(MasterTable[],MATCH(Simulator!$E45,MasterTable[P/N],0),COLUMN(MasterTable[V^3]))","v":0},{"$f":"INDEX(MasterTable[],MATCH(Simulator!$E45,MasterTable[P/N],0),COLUMN(MasterTable[V^2]))","v":-3.0000000000000001E-6},{"$f":"INDEX(MasterTable[],MATCH(Simulator!$E45,MasterTable[P/N],0),COLUMN(MasterTable[V]))","v":1.09E-2},{"$f":"INDEX(MasterTable[],MATCH(Simulator!$E45,MasterTable[P/N],0),COLUMN(MasterTable[V0]))","v":31.388000000000002},{"$f":"AG47*Simulator!$N$14^4+AH47*Simulator!$N$14^3+AI47*Simulator!$N$14^2+AJ47*Simulator!$N$14+AK47","v":33.831200000000003},{"$f":"INDEX(MasterTable[],MATCH(Simulator!$E45,MasterTable[P/N],0),COLUMN(MasterTable[T^3]))","v":0},{"$f":"INDEX(MasterTable[],MATCH(Simulator!$E45,MasterTable[P/N],0),COLUMN(MasterTable[T^2]))","v":0},{"$f":"INDEX(MasterTable[],MATCH(Simulator!$E45,MasterTable[P/N],0),COLUMN(MasterTable[T]))","v":0},{"$f":"INDEX(MasterTable[],MATCH(Simulator!$E45,MasterTable[P/N],0),COLUMN(MasterTable[T0]))","v":0},{"$f":"AZ47*(M47-25)/1000+AF47","v":34.799999999999997},{"$f":"AL47+AQ47-AF47","v":33.83120000000001},null,{"$f":"INDEX(MasterTable[],MATCH(Simulator!$E45,MasterTable[P/N],0),COLUMN(MasterTable['# of Die]))","v":48},{"$f":"AL47","v":33.831200000000003},{"$f":"INDEX(Tj_to_Vf6[],MATCH(Simulator!$I$8,Tj_to_Vf6[Vf],1),COLUMN(Tj_to_Vf6[Vf]))","v":-0.5},{"$f":"AU47+AV47*AT47","v":9.8312000000000026},{"$f":"IF(AND(Simulator!$I$8=25,Simulator!$N$14=Simulator!H45),AF47,AR47)","v":33.83120000000001},null,-16.100000000000001]
[null,"V13-B",{"$f":"IF(Simulator!$D$10=\"Case\",Simulator!$I$8,M48)","v":25},{"$f":"Simulator!$N$14*AR48/1000","v":7.9869120000000011},{"$f":"INDEX(MasterTable[],MATCH(Simulator!E46,MasterTable[P/N],0),COLUMN(MasterTable[Thermal Resistance]))","v":0.28036666666666665},27.239263894400001,null,{"$f":"IF(Simulator!$D$10=\"Case\",F48,Simulator!$I$8)","v":27.239263894400001},{"$f":"Simulator!$N$14*AW48/1000","v":0.78691199999999928},0.28036666666666665,27.018640000000001,null,{"$f":"IF(Simulator!$D$10=\"Case\",Simulator!$I$8,K48)","v":25},{"$f":"IF(Simulator!$D$10=\"Case\",H48,Simulator!$I$8)","v":27.239263894400001},{"$f":"IF(#REF!=\"Tj\",N48,M48)","v":{"$error":"#REF!"}},null,{"$f":"INDEX(MasterTable[],MATCH(Simulator!E46,MasterTable[P/N],0),COLUMN(MasterTable[Typical Lumens]))","v":2658.375},{"$f":"INDEX(MasterTable[],MATCH(Simulator!$E46,MasterTable[P/N],0),COLUMN(MasterTable[I^3]))","v":1.2045000000000001E-10},{"$f":"INDEX(MasterTable[],MATCH(Simulator!$E46,MasterTable[P/N],0),COLUMN(MasterTable[I^2]))","v":-5.6996999999999996E-7},{"$f":"INDEX(MasterTable[],MATCH(Simulator!$E46,MasterTable[P/N],0),COLUMN(MasterTable[I]))","v":2.4670999999999998E-3},{"$f":"INDEX(MasterTable[],MATCH(Simulator!$E46,MasterTable[P/N],0),COLUMN(MasterTable[I0]))","v":-9.9999999999999995E-8},{"$f":"R48*Simulator!$N$14^3+S48*Simulator!$N$14^2+T48*Simulator!$N$14+U48","v":0.56093872880000006},{"$f":"INDEX(MasterTable[],MATCH(Simulator!$E46,MasterTable[P/N],0),COLUMN(MasterTable[F^4]))","v":0},{"$f":"INDEX(MasterTable[],MATCH(Simulator!$E46,MasterTable[P/N],0),COLUMN(MasterTable[F^3]))","v":0},{"$f":"INDEX(MasterTable[],MATCH(Simulator!$E46,MasterTable[P/N],0),COLUMN(MasterTable[F^2]))","v":-3.6592E-6},{"$f":"INDEX(MasterTable[],MATCH(Simulator!$E46,MasterTable[P/N],0),COLUMN(MasterTable[F]))","v":-1.0345506E-3},{"$f":"INDEX(MasterTable[],MATCH(Simulator!$E46,MasterTable[P/N],0),COLUMN(MasterTable[F0]))","v":1.0240956264000001},{"$f":"IF(Simulator!$I$8=85,AE48,W48*M48^4+X48*M48^3+Y48*M48^2+Z48*M48+AA48)","v":0.99594486140000005},1485.1385293205717,{"$f":"IF(AND(Simulator!$I$8=85,Simulator!$N$14=Simulator!H46),Q48*AE48,AC48)","v":1485.1385293205717},{"$f":"VLOOKUP(MID(Simulator!E46,6,3),Data!K4:L24,2,FALSE)","v":0.9},{"$f":"INDEX(MasterTable[],MATCH(Simulator!$E46,MasterTable[P/N],0),COLUMN(MasterTable[Typical Voltage]))","v":34.799999999999997},{"$f":"INDEX(MasterTable[],MATCH(Simulator!$E46,MasterTable[P/N],0),COLUMN(MasterTable[V^4]))","v":0},{"$f":"INDEX(MasterTable[],MATCH(Simulator!$E46,MasterTable[P/N],0),COLUMN(MasterTable[V^3]))","v":0},{"$f":"INDEX(MasterTable[],MATCH(Simulator!$E46,MasterTable[P/N],0),COLUMN(MasterTable[V^2]))","v":-1.9999999999999999E-6},{"$f":"INDEX(MasterTable[],MATCH(Simulator!$E46,MasterTable[P/N],0),COLUMN(MasterTable[V]))","v":8.2000000000000007E-3},{"$f":"INDEX(MasterTable[],MATCH(Simulator!$E46,MasterTable[P/N],0),COLUMN(MasterTable[V0]))","v":31.425999999999998},{"$f":"AG48*Simulator!$N$14^4+AH48*Simulator!$N$14^3+AI48*Simulator!$N$14^2+AJ48*Simulator!$N$14+AK48","v":33.278799999999997},{"$f":"INDEX(MasterTable[],MATCH(Simulator!$E46,MasterTable[P/N],0),COLUMN(MasterTable[T^3]))","v":0},{"$f":"INDEX(MasterTable[],MATCH(Simulator!$E46,MasterTable[P/N],0),COLUMN(MasterTable[T^2]))","v":0},{"$f":"INDEX(MasterTable[],MATCH(Simulator!$E46,MasterTable[P/N],0),COLUMN(MasterTable[T]))","v":0},{"$f":"INDEX(MasterTable[],MATCH(Simulator!$E46,MasterTable[P/N],0),COLUMN(MasterTable[T0]))","v":0},34.799999999999997,33.278800000000004,null,{"$f":"INDEX(MasterTable[],MATCH(Simulator!$E46,MasterTable[P/N],0),COLUMN(MasterTable['# of Die]))","v":60},33.278799999999997,{"$f":"INDEX(Tj_to_Vf6[],MATCH(Simulator!$I$8,Tj_to_Vf6[Vf],1),COLUMN(Tj_to_Vf6[Vf]))","v":-0.5},3.2787999999999968,{"$f":"IF(AND(Simulator!$I$8=25,Simulator!$N$14=Simulator!H46),AF48,AR48)","v":33.278800000000004},null,-14.1]
[null,"V13-C",{"$f":"IF(Simulator!$D$10=\"Case\",Simulator!$I$8,M49)","v":25},{"$f":"Simulator!$N$14*AR49/1000","v":7.8638783999999999},{"$f":"INDEX(MasterTable[],MATCH(Simulator!E47,MasterTable[P/N],0),COLUMN(MasterTable[Thermal Resistance]))","v":0.19873333333333335},26.562814767359999,null,{"$f":"IF(Simulator!$D$10=\"Case\",F49,Simulator!$I$8)","v":26.562814767359999},{"$f":"Simulator!$N$14*AW49/1000","v":-2.2161216000000006},0.19873333333333335,27.003232000000001,null,{"$f":"IF(Simulator!$D$10=\"Case\",Simulator!$I$8,K49)","v":25},{"$f":"IF(Simulator!$D$10=\"Case\",H49,Simulator!$I$8)","v":26.562814767359999},{"$f":"IF(#REF!=\"Tj\",N49,M49)","v":{"$error":"#REF!"}},null,{"$f":"INDEX(MasterTable[],MATCH(Simulator!E47,MasterTable[P/N],0),COLUMN(MasterTable[Typical Lumens]))","v":3721.7249999999999},{"$f":"INDEX(MasterTable[],MATCH(Simulator!$E47,MasterTable[P/N],0),COLUMN(MasterTable[I^3]))","v":3.4563999999999997E-11},{"$f":"INDEX(MasterTable[],MATCH(Simulator!$E47,MasterTable[P/N],0),COLUMN(MasterTable[I^2]))","v":-2.7854E-7},{"$f":"INDEX(MasterTable[],MATCH(Simulator!$E47,MasterTable[P/N],0),COLUMN(MasterTable[I]))","v":1.7515E-3},{"$f":"INDEX(MasterTable[],MATCH(Simulator!$E47,MasterTable[P/N],0),COLUMN(MasterTable[I0]))","v":-9.9999999999999995E-8},{"$f":"R49*Simulator!$N$14^3+S49*Simulator!$N$14^2+T49*Simulator!$N$14+U49","v":0.40479380873600002},{"$f":"INDEX(MasterTable[],MATCH(Simulator!$E47,MasterTable[P/N],0),COLUMN(MasterTable[F^4]))","v":0},{"$f":"INDEX(MasterTable[],MATCH(Simulator!$E47,MasterTable[P/N],0),COLUMN(MasterTable[F^3]))","v":0},{"$f":"INDEX(MasterTable[],MATCH(Simulator!$E47,MasterTable[P/N],0),COLUMN(MasterTable[F^2]))","v":-3.6592E-6},{"$f":"INDEX(MasterTable[],MATCH(Simulator!$E47,MasterTable[P/N],0),COLUMN(MasterTable[F]))","v":-1.0345506E-3},{"$f":"INDEX(MasterTable[],MATCH(Simulator!$E47,MasterTable[P/N],0),COLUMN(MasterTable[F0]))","v":1.0240956264000001},{"$f":"IF(Simulator!$I$8=85,AE49,W49*M49^4+X49*M49^3+Y49*M49^2+Z49*M49+AA49)","v":0.99594486140000005},{"$f":"Q49*V49*AB49","v":1500.4220448434082},{"$f":"IF(AND(Simulator!$I$8=85,Simulator!$N$14=Simulator!H47),Q49*AE49,AC49)","v":1500.4220448434082},{"$f":"VLOOKUP(MID(Simulator!E47,6,3),Data!K39:L63,2,FALSE)","v":0.9},{"$f":"INDEX(MasterTable[],MATCH(Simulator!$E47,MasterTable[P/N],0),COLUMN(MasterTable[Typical Voltage]))","v":34.799999999999997},{"$f":"INDEX(MasterTable[],MATCH(Simulator!$E47,MasterTable[P/N],0),COLUMN(MasterTable[V^4]))","v":0},{"$f":"INDEX(MasterTable[],MATCH(Simulator!$E47,MasterTable[P/N],0),COLUMN(MasterTable[V^3]))","v":0},{"$f":"INDEX(MasterTable[],MATCH(Simulator!$E47,MasterTable[P/N],0),COLUMN(MasterTable[V^2]))","v":-8.9999999999999996E-7},{"$f":"INDEX(MasterTable[],MATCH(Simulator!$E47,MasterTable[P/N],0),COLUMN(MasterTable[V]))","v":5.7999999999999996E-3},{"$f":"INDEX(MasterTable[],MATCH(Simulator!$E47,MasterTable[P/N],0),COLUMN(MasterTable[V0]))","v":31.425999999999998},{"$f":"AG49*Simulator!$N$14^4+AH49*Simulator!$N$14^3+AI49*Simulator!$N$14^2+AJ49*Simulator!$N$14+AK49","v":32.766159999999999},{"$f":"INDEX(MasterTable[],MATCH(Simulator!$E47,MasterTable[P/N],0),COLUMN(MasterTable[T^3]))","v":0},{"$f":"INDEX(MasterTable[],MATCH(Simulator!$E47,MasterTable[P/N],0),COLUMN(MasterTable[T^2]))","v":0},{"$f":"INDEX(MasterTable[],MATCH(Simulator!$E47,MasterTable[P/N],0),COLUMN(MasterTable[T]))","v":0},{"$f":"INDEX(MasterTable[],MATCH(Simulator!$E47,MasterTable[P/N],0),COLUMN(MasterTable[T0]))","v":0},34.799999999999997,{"$f":"AL49+AQ49-AF49","v":32.766159999999999},null,{"$f":"INDEX(MasterTable[],MATCH(Simulator!$E47,MasterTable[P/N],0),COLUMN(MasterTable['# of Die]))","v":84},32.766159999999999,{"$f":"INDEX(Tj_to_Vf6[],MATCH(Simulator!$I$8,Tj_to_Vf6[Vf],1),COLUMN(Tj_to_Vf6[Vf]))","v":-0.5},-9.2338400000000007,{"$f":"IF(AND(Simulator!$I$8=25,Simulator!$N$14=Simulator!H47),AF49,AR49)","v":32.766159999999999},null,-14.1]
[null,"V18-B",{"$f":"IF(Simulator!$D$10=\"Case\",Simulator!$I$8,M50)","v":25},{"$f":"Simulator!$N$14*AR50/1000","v":7.8138802883280016},{"$f":"INDEX(MasterTable[],MATCH(Simulator!E48,MasterTable[P/N],0),COLUMN(MasterTable[Thermal Resistance]))","v":0.15453333333333333},26.207504967222953,null,{"$f":"IF(Simulator!$D$10=\"Case\",F50,Simulator!$I$8)","v":26.207504967222953},{"$f":"Simulator!$N$14*AW50/1000","v":-6.5861197116720005},0.15453333333333333,27.225279999999998,null,{"$f":"IF(Simulator!$D$10=\"Case\",Simulator!$I$8,K50)","v":25},{"$f":"IF(Simulator!$D$10=\"Case\",H50,Simulator!$I$8)","v":26.207504967222953},{"$f":"IF(#REF!=\"Tj\",N50,M50)","v":{"$error":"#REF!"}},null,{"$f":"INDEX(MasterTable[],MATCH(Simulator!E48,MasterTable[P/N],0),COLUMN(MasterTable[Typical Lumens]))","v":5324.4},{"$f":"INDEX(MasterTable[],MATCH(Simulator!$E48,MasterTable[P/N],0),COLUMN(MasterTable[I^3]))","v":1.1471000000000001E-11},{"$f":"INDEX(MasterTable[],MATCH(Simulator!$E48,MasterTable[P/N],0),COLUMN(MasterTable[I^2]))","v":-1.3314000000000001E-7},{"$f":"INDEX(MasterTable[],MATCH(Simulator!$E48,MasterTable[P/N],0),COLUMN(MasterTable[I]))","v":1.2281E-3},{"$f":"INDEX(MasterTable[],MATCH(Simulator!$E48,MasterTable[P/N],0),COLUMN(MasterTable[I0]))","v":-9.9999999999999995E-8},{"$f":"R50*Simulator!$N$14^3+S50*Simulator!$N$14^2+T50*Simulator!$N$14+U50","v":0.28723361110399998},{"$f":"INDEX(MasterTable[],MATCH(Simulator!$E48,MasterTable[P/N],0),COLUMN(MasterTable[F^4]))","v":0},{"$f":"INDEX(MasterTable[],MATCH(Simulator!$E48,MasterTable[P/N],0),COLUMN(MasterTable[F^3]))","v":0},{"$f":"INDEX(MasterTable[],MATCH(Simulator!$E48,MasterTable[P/N],0),COLUMN(MasterTable[F^2]))","v":-3.6592E-6},{"$f":"INDEX(MasterTable[],MATCH(Simulator!$E48,MasterTable[P/N],0),COLUMN(MasterTable[F]))","v":-1.0345506E-3},{"$f":"INDEX(MasterTable[],MATCH(Simulator!$E48,MasterTable[P/N],0),COLUMN(MasterTable[F0]))","v":1.0240956264000001},{"$f":"IF(Simulator!$I$8=85,AE50,W50*M50^4+X50*M50^3+Y50*M50^2+Z50*M50+AA50)","v":0.99594486140000005},{"$f":"Q50*V50*AB50","v":1523.1449263737018},{"$f":"IF(AND(Simulator!$I$8=85,Simulator!$N$14=Simulator!H48),Q50*AE50,AC50)","v":1523.1449263737018},{"$f":"VLOOKUP(MID(Simulator!E48,6,3),Data!N4:O24,2,FALSE)","v":0.9},{"$f":"INDEX(MasterTable[],MATCH(Simulator!$E48,MasterTable[P/N],0),COLUMN(MasterTable[Typical Voltage]))","v":34.799999999999997},{"$f":"INDEX(MasterTable[],MATCH(Simulator!$E48,MasterTable[P/N],0),COLUMN(MasterTable[V^4]))","v":0},{"$f":"INDEX(MasterTable[],MATCH(Simulator!$E48,MasterTable[P/N],0),COLUMN(MasterTable[V^3]))","v":1E-10},{"$f":"INDEX(MasterTable[],MATCH(Simulator!$E48,MasterTable[P/N],0),COLUMN(MasterTable[V^2]))","v":-6.7599999999999997E-7},{"$f":"INDEX(MasterTable[],MATCH(Simulator!$E48,MasterTable[P/N],0),COLUMN(MasterTable[V]))","v":4.2656252000000004E-3},{"$f":"INDEX(MasterTable[],MATCH(Simulator!$E48,MasterTable[P/N],0),COLUMN(MasterTable[V0]))","v":31.571639686699999},{"$f":"AG50*Simulator!$N$14^4+AH50*Simulator!$N$14^3+AI50*Simulator!$N$14^2+AJ50*Simulator!$N$14+AK50","v":32.5578345347},{"$f":"INDEX(MasterTable[],MATCH(Simulator!$E48,MasterTable[P/N],0),COLUMN(MasterTable[T^3]))","v":0},{"$f":"INDEX(MasterTable[],MATCH(Simulator!$E48,MasterTable[P/N],0),COLUMN(MasterTable[T^2]))","v":0},{"$f":"INDEX(MasterTable[],MATCH(Simulator!$E48,MasterTable[P/N],0),COLUMN(MasterTable[T]))","v":0},{"$f":"INDEX(MasterTable[],MATCH(Simulator!$E48,MasterTable[P/N],0),COLUMN(MasterTable[T0]))","v":0},34.799999999999997,32.557834534700007,null,{"$f":"INDEX(MasterTable[],MATCH(Simulator!$E48,MasterTable[P/N],0),COLUMN(MasterTable['# of Die]))","v":120},32.5578345347,{"$f":"INDEX(Tj_to_Vf6[],MATCH(Simulator!$I$8,Tj_to_Vf6[Vf],1),COLUMN(Tj_to_Vf6[Vf]))","v":-0.5},-27.4421654653,{"$f":"IF(AND(Simulator!$I$8=25,Simulator!$N$14=Simulator!H48),AF50,AR50)","v":32.557834534700007},null,-14.5]
[null,"V18-C",{"$f":"IF(Simulator!$D$10=\"Case\",Simulator!$I$8,M51)","v":25},{"$f":"Simulator!$N$14*AR51/1000","v":7.7156927999999985},{"$f":"INDEX(MasterTable[],MATCH(Simulator!E49,MasterTable[P/N],0),COLUMN(MasterTable[Thermal Resistance]))","v":0.11206666666666666},25.86467197312,null,{"$f":"IF(Simulator!$D$10=\"Case\",F51,Simulator!$I$8)","v":25.86467197312},{"$f":"Simulator!$N$14*AW51/1000","v":-11.004307200000001},0.11206666666666666,27.097888000000001,null,{"$f":"IF(Simulator!$D$10=\"Case\",Simulator!$I$8,K51)","v":25},{"$f":"IF(Simulator!$D$10=\"Case\",H51,Simulator!$I$8)","v":25.86467197312},{"$f":"IF(#REF!=\"Tj\",N51,M51)","v":{"$error":"#REF!"}},null,{"$f":"INDEX(MasterTable[],MATCH(Simulator!E49,MasterTable[P/N],0),COLUMN(MasterTable[Typical Lumens]))","v":6921.72},{"$f":"INDEX(MasterTable[],MATCH(Simulator!$E49,MasterTable[P/N],0),COLUMN(MasterTable[I^3]))","v":-4.3912E-13},{"$f":"INDEX(MasterTable[],MATCH(Simulator!$E49,MasterTable[P/N],0),COLUMN(MasterTable[I^2]))","v":-6.8373E-8},{"$f":"INDEX(MasterTable[],MATCH(Simulator!$E49,MasterTable[P/N],0),COLUMN(MasterTable[I]))","v":9.2513999999999997E-4},{"$f":"INDEX(MasterTable[],MATCH(Simulator!$E49,MasterTable[P/N],0),COLUMN(MasterTable[I0]))","v":-9.9999999999999995E-8},{"$f":"R51*Simulator!$N$14^3+S51*Simulator!$N$14^2+T51*Simulator!$N$14+U51","v":0.21808914480511998},{"$f":"INDEX(MasterTable[],MATCH(Simulator!$E49,MasterTable[P/N],0),COLUMN(MasterTable[F^4]))","v":0},{"$f":"INDEX(MasterTable[],MATCH(Simulator!$E49,MasterTable[P/N],0),COLUMN(MasterTable[F^3]))","v":0},{"$f":"INDEX(MasterTable[],MATCH(Simulator!$E49,MasterTable[P/N],0),COLUMN(MasterTable[F^2]))","v":-3.6592E-6},{"$f":"INDEX(MasterTable[],MATCH(Simulator!$E49,MasterTable[P/N],0),COLUMN(MasterTable[F]))","v":-1.0345506E-3},{"$f":"INDEX(MasterTable[],MATCH(Simulator!$E49,MasterTable[P/N],0),COLUMN(MasterTable[F0]))","v":1.0240956264000001},{"$f":"IF(Simulator!$I$8=85,AE51,W51*M51^4+X51*M51^3+Y51*M51^2+Z51*M51+AA51)","v":0.99594486140000005},1503.4305528153207,{"$f":"IF(AND(Simulator!$I$8=85,Simulator!$N$14=Simulator!H49),Q51*AE51,AC51)","v":1503.4305528153207},{"$f":"VLOOKUP(MID(Simulator!E49,6,3),Data!N39:O61,2,FALSE)","v":0.9},{"$f":"INDEX(MasterTable[],MATCH(Simulator!$E49,MasterTable[P/N],0),COLUMN(MasterTable[Typical Voltage]))","v":34.799999999999997},{"$f":"INDEX(MasterTable[],MATCH(Simulator!$E49,MasterTable[P/N],0),COLUMN(MasterTable[V^4]))","v":0},{"$f":"INDEX(MasterTable[],MATCH(Simulator!$E49,MasterTable[P/N],0),COLUMN(MasterTable[V^3]))","v":0},{"$f":"INDEX(MasterTable[],MATCH(Simulator!$E49,MasterTable[P/N],0),COLUMN(MasterTable[V^2]))","v":-2.9999999999999999E-7},{"$f":"INDEX(MasterTable[],MATCH(Simulator!$E49,MasterTable[P/N],0),COLUMN(MasterTable[V]))","v":3.3E-3},{"$f":"INDEX(MasterTable[],MATCH(Simulator!$E49,MasterTable[P/N],0),COLUMN(MasterTable[V0]))","v":31.373999999999999},{"$f":"AG51*Simulator!$N$14^4+AH51*Simulator!$N$14^3+AI51*Simulator!$N$14^2+AJ51*Simulator!$N$14+AK51","v":32.148719999999997},{"$f":"INDEX(MasterTable[],MATCH(Simulator!$E49,MasterTable[P/N],0),COLUMN(MasterTable[T^3]))","v":0},{"$f":"INDEX(MasterTable[],MATCH(Simulator!$E49,MasterTable[P/N],0),COLUMN(MasterTable[T^2]))","v":0},{"$f":"INDEX(MasterTable[],MATCH(Simulator!$E49,MasterTable[P/N],0),COLUMN(MasterTable[T]))","v":0},{"$f":"INDEX(MasterTable[],MATCH(Simulator!$E49,MasterTable[P/N],0),COLUMN(MasterTable[T0]))","v":0},34.799999999999997,32.148719999999997,null,{"$f":"INDEX(MasterTable[],MATCH(Simulator!$E49,MasterTable[P/N],0),COLUMN(MasterTable['# of Die]))","v":156},32.148719999999997,{"$f":"INDEX(Tj_to_Vf6[],MATCH(Simulator!$I$8,Tj_to_Vf6[Vf],1),COLUMN(Tj_to_Vf6[Vf]))","v":-0.5},-45.851280000000003,{"$f":"IF(AND(Simulator!$I$8=25,Simulator!$N$14=Simulator!H49),AF51,AR51)","v":32.148719999999997},null,-14.5]
[null,"V22-B",{"$f":"IF(Simulator!$D$10=\"Case\",Simulator!$I$8,M52)","v":25},{"$f":"Simulator!$N$14*AR52/1000","v":11.466464504424},{"$f":"INDEX(MasterTable[],MATCH(Simulator!E50,MasterTable[P/N],0),COLUMN(MasterTable[Thermal Resistance]))","v":7.0000000000000007E-2},25.802652515309681,null,{"$f":"IF(Simulator!$D$10=\"Case\",F52,Simulator!$I$8)","v":25.802652515309681},{"$f":"Simulator!$N$14*AW52/1000","v":-16.613535495576002},7.0000000000000007E-2,26.965600000000002,null,{"$f":"IF(Simulator!$D$10=\"Case\",Simulator!$I$8,K52)","v":25},{"$f":"IF(Simulator!$D$10=\"Case\",H52,Simulator!$I$8)","v":25.802652515309681},{"$f":"IF(#REF!=\"Tj\",N52,M52)","v":{"$error":"#REF!"}},null,{"$f":"INDEX(MasterTable[],MATCH(Simulator!E50,MasterTable[P/N],0),COLUMN(MasterTable[Typical Lumens]))","v":10342.800000000001},{"$f":"INDEX(MasterTable[],MATCH(Simulator!$E50,MasterTable[P/N],0),COLUMN(MasterTable[I^3]))","v":1.1661999999999999E-11},{"$f":"INDEX(MasterTable[],MATCH(Simulator!$E50,MasterTable[P/N],0),COLUMN(MasterTable[I^2]))","v":-1.1298999999999999E-7},{"$f":"INDEX(MasterTable[],MATCH(Simulator!$E50,MasterTable[P/N],0),COLUMN(MasterTable[I]))","v":9.7272999999999999E-4},{"$f":"INDEX(MasterTable[],MATCH(Simulator!$E50,MasterTable[P/N],0),COLUMN(MasterTable[I0]))","v":-9.9999999999999995E-8},{"$f":"R52*Simulator!$N$14^3+S52*Simulator!$N$14^2+T52*Simulator!$N$14+U52","v":0.22710809148799999},{"$f":"INDEX(MasterTable[],MATCH(Simulator!$E50,MasterTable[P/N],0),COLUMN(MasterTable[F^4]))","v":0},{"$f":"INDEX(MasterTable[],MATCH(Simulator!$E50,MasterTable[P/N],0),COLUMN(MasterTable[F^3]))","v":0},{"$f":"INDEX(MasterTable[],MATCH(Simulator!$E50,MasterTable[P/N],0),COLUMN(MasterTable[F^2]))","v":-3.6592E-6},{"$f":"INDEX(MasterTable[],MATCH(Simulator!$E50,MasterTable[P/N],0),COLUMN(MasterTable[F]))","v":-1.0345506E-3},{"$f":"INDEX(MasterTable[],MATCH(Simulator!$E50,MasterTable[P/N],0),COLUMN(MasterTable[F0]))","v":1.0240956264000001},{"$f":"IF(Simulator!$I$8=85,AE52,W52*M52^4+X52*M52^3+Y52*M52^2+Z52*M52+AA52)","v":0.99594486140000005},2339.4083174590501,{"$f":"IF(AND(Simulator!$I$8=85,Simulator!$N$14=Simulator!H50),Q52*AE52,AC52)","v":2339.4083174590501},{"$f":"VLOOKUP(MID(Simulator!E50,6,3),Data!Q4:R18,2,FALSE)","v":0.9},{"$f":"INDEX(MasterTable[],MATCH(Simulator!$E50,MasterTable[P/N],0),COLUMN(MasterTable[Typical Voltage]))","v":52},{"$f":"INDEX(MasterTable[],MATCH(Simulator!$E50,MasterTable[P/N],0),COLUMN(MasterTable[V^4]))","v":0},{"$f":"INDEX(MasterTable[],MATCH(Simulator!$E50,MasterTable[P/N],0),COLUMN(MasterTable[V^3]))","v":2.0000000000000001E-10},{"$f":"INDEX(MasterTable[],MATCH(Simulator!$E50,MasterTable[P/N],0),COLUMN(MasterTable[V^2]))","v":-1.1008999999999999E-6},{"$f":"INDEX(MasterTable[],MATCH(Simulator!$E50,MasterTable[P/N],0),COLUMN(MasterTable[V]))","v":5.8086665000000003E-3},{"$f":"INDEX(MasterTable[],MATCH(Simulator!$E50,MasterTable[P/N],0),COLUMN(MasterTable[V0]))","v":46.4435025151},{"$f":"AG52*Simulator!$N$14^4+AH52*Simulator!$N$14^3+AI52*Simulator!$N$14^2+AJ52*Simulator!$N$14+AK52","v":47.7769354351},{"$f":"INDEX(MasterTable[],MATCH(Simulator!$E50,MasterTable[P/N],0),COLUMN(MasterTable[T^3]))","v":0},{"$f":"INDEX(MasterTable[],MATCH(Simulator!$E50,MasterTable[P/N],0),COLUMN(MasterTable[T^2]))","v":0},{"$f":"INDEX(MasterTable[],MATCH(Simulator!$E50,MasterTable[P/N],0),COLUMN(MasterTable[T]))","v":0},{"$f":"INDEX(MasterTable[],MATCH(Simulator!$E50,MasterTable[P/N],0),COLUMN(MasterTable[T0]))","v":0},52,47.7769354351,null,{"$f":"INDEX(MasterTable[],MATCH(Simulator!$E50,MasterTable[P/N],0),COLUMN(MasterTable['# of Die]))","v":234},47.7769354351,{"$f":"INDEX(Tj_to_Vf6[],MATCH(Simulator!$I$8,Tj_to_Vf6[Vf],1),COLUMN(Tj_to_Vf6[Vf]))","v":-0.5},-69.2230645649,{"$f":"IF(AND(Simulator!$I$8=25,Simulator!$N$14=Simulator!H50),AF52,AR52)","v":47.7769354351},null,-22.1]
[null,"V22-C",{"$f":"IF(Simulator!$D$10=\"Case\",Simulator!$I$8,M53)","v":25},{"$f":"Simulator!$N$14*AR53/1000","v":11.485372800000645},{"$f":"INDEX(MasterTable[],MATCH(Simulator!E51,MasterTable[P/N],0),COLUMN(MasterTable[Thermal Resistance]))","v":6.3966666666666672E-2},25.734681013440042,null,{"$f":"IF(Simulator!$D$10=\"Case\",F53,Simulator!$I$8)","v":25.734681013440042},{"$f":"Simulator!$N$14*AW53/1000","v":-23.074627199999355},6.3966666666666672E-2,27.210688000000001,null,{"$f":"IF(Simulator!$D$10=\"Case\",Simulator!$I$8,K53)","v":25},{"$f":"IF(Simulator!$D$10=\"Case\",H53,Simulator!$I$8)","v":25.734681013440042},{"$f":"IF(#REF!=\"Tj\",N53,M53)","v":{"$error":"#REF!"}},null,{"$f":"INDEX(MasterTable[],MATCH(Simulator!E51,MasterTable[P/N],0),COLUMN(MasterTable[Typical Lumens]))","v":12729.599999999999},{"$f":"INDEX(MasterTable[],MATCH(Simulator!$E51,MasterTable[P/N],0),COLUMN(MasterTable[I^3]))","v":1.6135000000000001E-11},{"$f":"INDEX(MasterTable[],MATCH(Simulator!$E51,MasterTable[P/N],0),COLUMN(MasterTable[I^2]))","v":-1.3017999999999999E-7},{"$f":"INDEX(MasterTable[],MATCH(Simulator!$E51,MasterTable[P/N],0),COLUMN(MasterTable[I]))","v":8.5225999999999998E-4},{"$f":"INDEX(MasterTable[],MATCH(Simulator!$E51,MasterTable[P/N],0),COLUMN(MasterTable[I0]))","v":-9.9999999999999995E-8},{"$f":"R53*Simulator!$N$14^3+S53*Simulator!$N$14^2+T53*Simulator!$N$14+U53","v":0.19726698223999997},{"$f":"INDEX(MasterTable[],MATCH(Simulator!$E51,MasterTable[P/N],0),COLUMN(MasterTable[F^4]))","v":0},{"$f":"INDEX(MasterTable[],MATCH(Simulator!$E51,MasterTable[P/N],0),COLUMN(MasterTable[F^3]))","v":0},{"$f":"INDEX(MasterTable[],MATCH(Simulator!$E51,MasterTable[P/N],0),COLUMN(MasterTable[F^2]))","v":-3.6592E-6},{"$f":"INDEX(MasterTable[],MATCH(Simulator!$E51,MasterTable[P/N],0),COLUMN(MasterTable[F]))","v":-1.0345506E-3},{"$f":"INDEX(MasterTable[],MATCH(Simulator!$E51,MasterTable[P/N],0),COLUMN(MasterTable[F0]))","v":1.0240956264000001},{"$f":"IF(Simulator!$I$8=85,AE53,W53*M53^4+X53*M53^3+Y53*M53^2+Z53*M53+AA53)","v":0.99594486140000005},2500.9467978334856,{"$f":"IF(AND(Simulator!$I$8=85,Simulator!$N$14=Simulator!H51),Q53*AE53,AC53)","v":2500.9467978334856},{"$f":"VLOOKUP(MID(Simulator!E51,6,3),Data!Q39:R54,2,FALSE)","v":0.9},{"$f":"INDEX(MasterTable[],MATCH(Simulator!$E51,MasterTable[P/N],0),COLUMN(MasterTable[Typical Voltage]))","v":52},{"$f":"INDEX(MasterTable[],MATCH(Simulator!$E51,MasterTable[P/N],0),COLUMN(MasterTable[V^4]))","v":-1.9999999999999999E-23},{"$f":"INDEX(MasterTable[],MATCH(Simulator!$E51,MasterTable[P/N],0),COLUMN(MasterTable[V^3]))","v":2E-19},{"$f":"INDEX(MasterTable[],MATCH(Simulator!$E51,MasterTable[P/N],0),COLUMN(MasterTable[V^2]))","v":-2.9999999999999999E-7},{"$f":"INDEX(MasterTable[],MATCH(Simulator!$E51,MasterTable[P/N],0),COLUMN(MasterTable[V]))","v":4.0000000000000001E-3},{"$f":"INDEX(MasterTable[],MATCH(Simulator!$E51,MasterTable[P/N],0),COLUMN(MasterTable[V0]))","v":46.912999999999997},{"$f":"AG53*Simulator!$N$14^4+AH53*Simulator!$N$14^3+AI53*Simulator!$N$14^2+AJ53*Simulator!$N$14+AK53","v":47.855720000002698},{"$f":"INDEX(MasterTable[],MATCH(Simulator!$E51,MasterTable[P/N],0),COLUMN(MasterTable[T^3]))","v":0},{"$f":"INDEX(MasterTable[],MATCH(Simulator!$E51,MasterTable[P/N],0),COLUMN(MasterTable[T^2]))","v":0},{"$f":"INDEX(MasterTable[],MATCH(Simulator!$E51,MasterTable[P/N],0),COLUMN(MasterTable[T]))","v":0},{"$f":"INDEX(MasterTable[],MATCH(Simulator!$E51,MasterTable[P/N],0),COLUMN(MasterTable[T0]))","v":0},52,{"$f":"AL53+AQ53-AF53","v":47.855720000002691},null,{"$f":"INDEX(MasterTable[],MATCH(Simulator!$E51,MasterTable[P/N],0),COLUMN(MasterTable['# of Die]))","v":288},47.855720000002698,{"$f":"INDEX(Tj_to_Vf6[],MATCH(Simulator!$I$8,Tj_to_Vf6[Vf],1),COLUMN(Tj_to_Vf6[Vf]))","v":-0.5},-96.144279999997309,{"$f":"IF(AND(Simulator!$I$8=25,Simulator!$N$14=Simulator!H51),AF53,AR53)","v":47.855720000002691},null,-22.1]
[null,"V22-D",{"$f":"IF(Simulator!$D$10=\"Case\",Simulator!$I$8,M54)","v":25},{"$f":"Simulator!$N$14*AR54/1000","v":7.3473041577599991},{"$f":"INDEX(MasterTable[],MATCH(Simulator!E52,MasterTable[P/N],0),COLUMN(MasterTable[Thermal Resistance]))","v":7.0000000000000007E-2},{"$f":"C54+D54*E54","v":25.5143112910432},null,{"$f":"IF(Simulator!$D$10=\"Case\",F54,Simulator!$I$8)","v":25.5143112910432},{"$f":"Simulator!$N$14*AW54/1000","v":7.3473041577600009},{"$f":"E54","v":7.0000000000000007E-2},{"$f":"H54-I54*J54","v":25},null,{"$f":"IF(Simulator!$D$10=\"Case\",Simulator!$I$8,K54)","v":25},{"$f":"IF(Simulator!$D$10=\"Case\",H54,Simulator!$I$8)","v":25.5143112910432},{"$f":"IF(#REF!=\"Tj\",N54,M54)","v":{"$error":"#REF!"}},null,{"$f":"INDEX(MasterTable[],MATCH(Simulator!E52,MasterTable[P/N],0),COLUMN(MasterTable[Typical Lumens]))","v":8330},{"$f":"INDEX(MasterTable[],MATCH(Simulator!$E52,MasterTable[P/N],0),COLUMN(MasterTable[I^3]))","v":2.9577999999999998E-13},{"$f":"INDEX(MasterTable[],MATCH(Simulator!$E52,MasterTable[P/N],0),COLUMN(MasterTable[I^2]))","v":-3.5673999999999999E-8},{"$f":"INDEX(MasterTable[],MATCH(Simulator!$E52,MasterTable[P/N],0),COLUMN(MasterTable[I]))","v":7.6247999999999995E-4},{"$f":"INDEX(MasterTable[],MATCH(Simulator!$E52,MasterTable[P/N],0),COLUMN(MasterTable[I0]))","v":-9.9999999999999995E-8},{"$f":"R54*Simulator!$N$14^3+S54*Simulator!$N$14^2+T54*Simulator!$N$14+U54","v":0.18094436646272},{"$f":"INDEX(MasterTable[],MATCH(Simulator!$E52,MasterTable[P/N],0),COLUMN(MasterTable[F^4]))","v":0},{"$f":"INDEX(MasterTable[],MATCH(Simulator!$E52,MasterTable[P/N],0),COLUMN(MasterTable[F^3]))","v":0},{"$f":"INDEX(MasterTable[],MATCH(Simulator!$E52,MasterTable[P/N],0),COLUMN(MasterTable[F^2]))","v":-3.6592E-6},{"$f":"INDEX(MasterTable[],MATCH(Simulator!$E52,MasterTable[P/N],0),COLUMN(MasterTable[F]))","v":-1.0345506E-3},{"$f":"INDEX(MasterTable[],MATCH(Simulator!$E52,MasterTable[P/N],0),COLUMN(MasterTable[F0]))","v":1.0240956264000001},{"$f":"IF(Simulator!$I$8=85,AE54,W54*M54^4+X54*M54^3+Y54*M54^2+Z54*M54+AA54)","v":0.99594486140000005},{"$f":"Q54*V54*AB54","v":1501.1543977752779},{"$f":"IF(AND(Simulator!$I$8=85,Simulator!$N$14=Simulator!H52),Q54*AE54,AC54)","v":1501.1543977752779},{"$f":"VLOOKUP(MID(Simulator!E52,6,3),Data!T75:U104,2,FALSE)","v":0.9},{"$f":"INDEX(MasterTable[],MATCH(Simulator!$E52,MasterTable[P/N],0),COLUMN(MasterTable[Typical Voltage]))","v":34.799999999999997},{"$f":"INDEX(MasterTable[],MATCH(Simulator!$E52,MasterTable[P/N],0),COLUMN(MasterTable[V^4]))","v":0},{"$f":"INDEX(MasterTable[],MATCH(Simulator!$E52,MasterTable[P/N],0),COLUMN(MasterTable[V^3]))","v":2.0000000000000001E-10},{"$f":"INDEX(MasterTable[],MATCH(Simulator!$E52,MasterTable[P/N],0),COLUMN(MasterTable[V^2]))","v":-1.2157000000000001E-6},{"$f":"INDEX(MasterTable[],MATCH(Simulator!$E52,MasterTable[P/N],0),COLUMN(MasterTable[V]))","v":3.9812481999999998E-3},{"$f":"INDEX(MasterTable[],MATCH(Simulator!$E52,MasterTable[P/N],0),COLUMN(MasterTable[V0]))","v":29.725527276000001},{"$f":"AG54*Simulator!$N$14^4+AH54*Simulator!$N$14^3+AI54*Simulator!$N$14^2+AJ54*Simulator!$N$14+AK54","v":30.613767324000001},{"$f":"INDEX(MasterTable[],MATCH(Simulator!$E52,MasterTable[P/N],0),COLUMN(MasterTable[T^3]))","v":0},{"$f":"INDEX(MasterTable[],MATCH(Simulator!$E52,MasterTable[P/N],0),COLUMN(MasterTable[T^2]))","v":0},{"$f":"INDEX(MasterTable[],MATCH(Simulator!$E52,MasterTable[P/N],0),COLUMN(MasterTable[T]))","v":0},{"$f":"INDEX(MasterTable[],MATCH(Simulator!$E52,MasterTable[P/N],0),COLUMN(MasterTable[T0]))","v":0},{"$f":"AZ54*(M54-25)/1000+AF54","v":34.799999999999997},{"$f":"AL54+AQ54-AF54","v":30.613767323999994},null,{"$f":"INDEX(MasterTable[],MATCH(Simulator!$E52,MasterTable[P/N],0),COLUMN(MasterTable['# of Die]))","v":0},{"$f":"AL54","v":30.613767324000001},{"$f":"INDEX(Tj_to_Vf6[],MATCH(Simulator!$I$8,Tj_to_Vf6[Vf],1),COLUMN(Tj_to_Vf6[Vf]))","v":-0.5},{"$f":"AU54+AV54*AT54","v":30.613767324000001},{"$f":"IF(AND(Simulator!$I$8=25,Simulator!$N$14=Simulator!H52),AF54,AR54)","v":30.613767323999994},null,-22.1]
[null,"Vero 10-B",{"$f":"IF(Simulator!$D$10=\"Case\",Simulator!$I$8,M55)","v":25},{"$f":"Simulator!$N$14*AR55/1000","v":8.299199999999999},{"$f":"INDEX(MasterTable[],MATCH(Simulator!E54,MasterTable[P/N],0),COLUMN(MasterTable[Thermal Resistance]))","v":0.49075000000000002},29.072832399999999,null,{"$f":"IF(Simulator!$D$10=\"Case\",F55,Simulator!$I$8)","v":29.072832399999999},{"$f":"Simulator!$N$14*AW55/1000","v":3.9791999999999996},0.49075000000000002,27.120039999999999,null,{"$f":"IF(Simulator!$D$10=\"Case\",Simulator!$I$8,K55)","v":25},{"$f":"IF(Simulator!$D$10=\"Case\",H55,Simulator!$I$8)","v":29.072832399999999},{"$f":"IF(#REF!=\"Tj\",N55,M55)","v":{"$error":"#REF!"}},null,{"$f":"INDEX(MasterTable[],MATCH(Simulator!E54,MasterTable[P/N],0),COLUMN(MasterTable[Typical Lumens]))","v":1549},{"$f":"INDEX(MasterTable[],MATCH(Simulator!$E54,MasterTable[P/N],0),COLUMN(MasterTable[I^3]))","v":6.8448E-10},{"$f":"INDEX(MasterTable[],MATCH(Simulator!$E54,MasterTable[P/N],0),COLUMN(MasterTable[I^2]))","v":-1.5365E-6},{"$f":"INDEX(MasterTable[],MATCH(Simulator!$E54,MasterTable[P/N],0),COLUMN(MasterTable[I]))","v":4.1148000000000001E-3},{"$f":"INDEX(MasterTable[],MATCH(Simulator!$E54,MasterTable[P/N],0),COLUMN(MasterTable[I0]))","v":-9.9999999999999995E-8},{"$f":"R55*Simulator!$N$14^3+S55*Simulator!$N$14^2+T55*Simulator!$N$14+U55","v":0.90851175152000008},{"$f":"INDEX(MasterTable[],MATCH(Simulator!$E54,MasterTable[P/N],0),COLUMN(MasterTable[F^4]))","v":0},{"$f":"INDEX(MasterTable[],MATCH(Simulator!$E54,MasterTable[P/N],0),COLUMN(MasterTable[F^3]))","v":0},{"$f":"INDEX(MasterTable[],MATCH(Simulator!$E54,MasterTable[P/N],0),COLUMN(MasterTable[F^2]))","v":-3.6592E-6},{"$f":"INDEX(MasterTable[],MATCH(Simulator!$E54,MasterTable[P/N],0),COLUMN(MasterTable[F]))","v":-1.0345506E-3},{"$f":"INDEX(MasterTable[],MATCH(Simulator!$E54,MasterTable[P/N],0),COLUMN(MasterTable[F0]))","v":1.0240956264000001},{"$f":"IF(Simulator!$I$8=85,AE55,W55*M55^4+X55*M55^3+Y55*M55^2+Z55*M55+AA55)","v":0.99594486140000005},1401.5779685837317,{"$f":"IF(AND(Simulator!$I$8=85,Simulator!$N$14=Simulator!H54),Q55*AE55,AC55)","v":1401.5779685837317},{"$f":"VLOOKUP(MID(Simulator!E54,6,3),Data!G75:H96,2,FALSE)","v":0.9},{"$f":"INDEX(MasterTable[],MATCH(Simulator!$E54,MasterTable[P/N],0),COLUMN(MasterTable[Typical Voltage]))","v":34.799999999999997},{"$f":"INDEX(MasterTable[],MATCH(Simulator!$E54,MasterTable[P/N],0),COLUMN(MasterTable[V^4]))","v":0},{"$f":"INDEX(MasterTable[],MATCH(Simulator!$E54,MasterTable[P/N],0),COLUMN(MasterTable[V^3]))","v":0},{"$f":"INDEX(MasterTable[],MATCH(Simulator!$E54,MasterTable[P/N],0),COLUMN(MasterTable[V^2]))","v":-5.0000000000000004E-6},{"$f":"INDEX(MasterTable[],MATCH(Simulator!$E54,MasterTable[P/N],0),COLUMN(MasterTable[V]))","v":1.4500000000000001E-2},{"$f":"INDEX(MasterTable[],MATCH(Simulator!$E54,MasterTable[P/N],0),COLUMN(MasterTable[V0]))","v":31.388000000000002},{"$f":"AG55*Simulator!$N$14^4+AH55*Simulator!$N$14^3+AI55*Simulator!$N$14^2+AJ55*Simulator!$N$14+AK55","v":34.58},{"$f":"INDEX(MasterTable[],MATCH(Simulator!$E54,MasterTable[P/N],0),COLUMN(MasterTable[T^3]))","v":0},{"$f":"INDEX(MasterTable[],MATCH(Simulator!$E54,MasterTable[P/N],0),COLUMN(MasterTable[T^2]))","v":0},{"$f":"INDEX(MasterTable[],MATCH(Simulator!$E54,MasterTable[P/N],0),COLUMN(MasterTable[T]))","v":0},{"$f":"INDEX(MasterTable[],MATCH(Simulator!$E54,MasterTable[P/N],0),COLUMN(MasterTable[T0]))","v":0},34.799999999999997,34.58,null,{"$f":"INDEX(MasterTable[],MATCH(Simulator!$E54,MasterTable[P/N],0),COLUMN(MasterTable['# of Die]))","v":36},34.58,{"$f":"INDEX(Tj_to_Vf6[],MATCH(Simulator!$I$8,Tj_to_Vf6[Vf],1),COLUMN(Tj_to_Vf6[Vf]))","v":-0.5},16.579999999999998,{"$f":"IF(AND(Simulator!$I$8=25,Simulator!$N$14=Simulator!H54),AF55,AR55)","v":34.58},null,-16.100000000000001]
[null,"Vero 10-C",{"$f":"IF(Simulator!$D$10=\"Case\",Simulator!$I$8,M56)","v":25},{"$f":"Simulator!$N$14*AR56/1000","v":8.1194880000000023},{"$f":"INDEX(MasterTable[],MATCH(Simulator!E55,MasterTable[P/N],0),COLUMN(MasterTable[Thermal Resistance]))","v":0.37036666666666668},{"$f":"C56+D56*E56","v":28.0071877056},null,{"$f":"IF(Simulator!$D$10=\"Case\",F56,Simulator!$I$8)","v":28.0071877056},{"$f":"Simulator!$N$14*AW56/1000","v":2.3594880000000007},{"$f":"E56","v":0.37036666666666668},{"$f":"H56-I56*J56","v":27.133312},null,{"$f":"IF(Simulator!$D$10=\"Case\",Simulator!$I$8,K56)","v":25},{"$f":"IF(Simulator!$D$10=\"Case\",H56,Simulator!$I$8)","v":28.0071877056},{"$f":"IF(#REF!=\"Tj\",N56,M56)","v":{"$error":"#REF!"}},null,{"$f":"INDEX(MasterTable[],MATCH(Simulator!E55,MasterTable[P/N],0),COLUMN(MasterTable[Typical Lumens]))","v":2066},{"$f":"INDEX(MasterTable[],MATCH(Simulator!$E55,MasterTable[P/N],0),COLUMN(MasterTable[I^3]))","v":2.4598000000000001E-10},{"$f":"INDEX(MasterTable[],MATCH(Simulator!$E55,MasterTable[P/N],0),COLUMN(MasterTable[I^2]))","v":-8.7001999999999995E-7},{"$f":"INDEX(MasterTable[],MATCH(Simulator!$E55,MasterTable[P/N],0),COLUMN(MasterTable[I]))","v":3.0842E-3},{"$f":"INDEX(MasterTable[],MATCH(Simulator!$E55,MasterTable[P/N],0),COLUMN(MasterTable[I0]))","v":-9.9999999999999995E-8},{"$f":"R56*Simulator!$N$14^3+S56*Simulator!$N$14^2+T56*Simulator!$N$14+U56","v":0.69349517552000006},{"$f":"INDEX(MasterTable[],MATCH(Simulator!$E55,MasterTable[P/N],0),COLUMN(MasterTable[F^4]))","v":0},{"$f":"INDEX(MasterTable[],MATCH(Simulator!$E55,MasterTable[P/N],0),COLUMN(MasterTable[F^3]))","v":0},{"$f":"INDEX(MasterTable[],MATCH(Simulator!$E55,MasterTable[P/N],0),COLUMN(MasterTable[F^2]))","v":-3.6592E-6},{"$f":"INDEX(MasterTable[],MATCH(Simulator!$E55,MasterTable[P/N],0),COLUMN(MasterTable[F]))","v":-1.0345506E-3},{"$f":"INDEX(MasterTable[],MATCH(Simulator!$E55,MasterTable[P/N],0),COLUMN(MasterTable[F0]))","v":1.0240956264000001},{"$f":"IF(Simulator!$I$8=85,AE56,W56*M56^4+X56*M56^3+Y56*M56^2+Z56*M56+AA56)","v":0.99594486140000005},{"$f":"Q56*V56*AB56","v":1426.9509880563494},{"$f":"IF(AND(Simulator!$I$8=85,Simulator!$N$14=Simulator!H55),Q56*AE56,AC56)","v":1426.9509880563494},{"$f":"VLOOKUP(MID(Simulator!E55,6,3),Data!G111:H130,2,FALSE)","v":0.9},{"$f":"INDEX(MasterTable[],MATCH(Simulator!$E55,MasterTable[P/N],0),COLUMN(MasterTable[Typical Voltage]))","v":34.799999999999997},{"$f":"INDEX(MasterTable[],MATCH(Simulator!$E55,MasterTable[P/N],0),COLUMN(MasterTable[V^4]))","v":0},{"$f":"INDEX(MasterTable[],MATCH(Simulator!$E55,MasterTable[P/N],0),COLUMN(MasterTable[V^3]))","v":0},{"$f":"INDEX(MasterTable[],MATCH(Simulator!$E55,MasterTable[P/N],0),COLUMN(MasterTable[V^2]))","v":-3.0000000000000001E-6},{"$f":"INDEX(MasterTable[],MATCH(Simulator!$E55,MasterTable[P/N],0),COLUMN(MasterTable[V]))","v":1.09E-2},{"$f":"INDEX(MasterTable[],MATCH(Simulator!$E55,MasterTable[P/N],0),COLUMN(MasterTable[V0]))","v":31.388000000000002},{"$f":"AG56*Simulator!$N$14^4+AH56*Simulator!$N$14^3+AI56*Simulator!$N$14^2+AJ56*Simulator!$N$14+AK56","v":33.831200000000003},{"$f":"INDEX(MasterTable[],MATCH(Simulator!$E55,MasterTable[P/N],0),COLUMN(MasterTable[T^3]))","v":0},{"$f":"INDEX(MasterTable[],MATCH(Simulator!$E55,MasterTable[P/N],0),COLUMN(MasterTable[T^2]))","v":0},{"$f":"INDEX(MasterTable[],MATCH(Simulator!$E55,MasterTable[P/N],0),COLUMN(MasterTable[T]))","v":0},{"$f":"INDEX(MasterTable[],MATCH(Simulator!$E55,MasterTable[P/N],0),COLUMN(MasterTable[T0]))","v":0},34.799999999999997,33.83120000000001,null,{"$f":"INDEX(MasterTable[],MATCH(Simulator!$E55,MasterTable[P/N],0),COLUMN(MasterTable['# of Die]))","v":48},33.831200000000003,{"$f":"INDEX(Tj_to_Vf6[],MATCH(Simulator!$I$8,Tj_to_Vf6[Vf],1),COLUMN(Tj_to_Vf6[Vf]))","v":-0.5},9.8312000000000026,{"$f":"IF(AND(Simulator!$I$8=25,Simulator!$N$14=Simulator!H55),AF56,AR56)","v":33.83120000000001},null,-16.100000000000001]
[null,"Vero 10-D",{"$f":"IF(Simulator!$D$10=\"Case\",Simulator!$I$8,M57)","v":25},{"$f":"Simulator!$N$14*AR57/1000","v":6.0679262082000003},{"$f":"INDEX(MasterTable[],MATCH(Simulator!E56,MasterTable[P/N],0),COLUMN(MasterTable[Thermal Resistance]))","v":0.49075000000000002},27.977834786674151,null,{"$f":"IF(Simulator!$D$10=\"Case\",F57,Simulator!$I$8)","v":27.977834786674151},{"$f":"Simulator!$N$14*AW57/1000","v":1.7479262082000002},0.49075000000000002,27.120039999999999,null,{"$f":"IF(Simulator!$D$10=\"Case\",Simulator!$I$8,K57)","v":25},{"$f":"IF(Simulator!$D$10=\"Case\",H57,Simulator!$I$8)","v":27.977834786674151},{"$f":"IF(#REF!=\"Tj\",N57,M57)","v":{"$error":"#REF!"}},null,{"$f":"INDEX(MasterTable[],MATCH(Simulator!E56,MasterTable[P/N],0),COLUMN(MasterTable[Typical Lumens]))","v":1501},{"$f":"INDEX(MasterTable[],MATCH(Simulator!$E56,MasterTable[P/N],0),COLUMN(MasterTable[I^3]))","v":3.1111000000000002E-10},{"$f":"INDEX(MasterTable[],MATCH(Simulator!$E56,MasterTable[P/N],0),COLUMN(MasterTable[I^2]))","v":-9.0128000000000003E-7},{"$f":"INDEX(MasterTable[],MATCH(Simulator!$E56,MasterTable[P/N],0),COLUMN(MasterTable[I]))","v":3.1748000000000002E-3},{"$f":"INDEX(MasterTable[],MATCH(Simulator!$E56,MasterTable[P/N],0),COLUMN(MasterTable[I0]))","v":-9.9999999999999995E-8},{"$f":"R57*Simulator!$N$14^3+S57*Simulator!$N$14^2+T57*Simulator!$N$14+U57","v":0.71433895664000013},{"$f":"INDEX(MasterTable[],MATCH(Simulator!$E56,MasterTable[P/N],0),COLUMN(MasterTable[F^4]))","v":0},{"$f":"INDEX(MasterTable[],MATCH(Simulator!$E56,MasterTable[P/N],0),COLUMN(MasterTable[F^3]))","v":0},{"$f":"INDEX(MasterTable[],MATCH(Simulator!$E56,MasterTable[P/N],0),COLUMN(MasterTable[F^2]))","v":-3.6592E-6},{"$f":"INDEX(MasterTable[],MATCH(Simulator!$E56,MasterTable[P/N],0),COLUMN(MasterTable[F]))","v":-1.0345506E-3},{"$f":"INDEX(MasterTable[],MATCH(Simulator!$E56,MasterTable[P/N],0),COLUMN(MasterTable[F0]))","v":1.0240956264000001},{"$f":"IF(Simulator!$I$8=85,AE57,W57*M57^4+X57*M57^3+Y57*M57^2+Z57*M57+AA57)","v":0.99594486140000005},{"$f":"Q57*V57*AB57","v":1067.8747619583316},{"$f":"IF(AND(Simulator!$I$8=85,Simulator!$N$14=Simulator!H56),Q57*AE57,AC57)","v":1067.8747619583316},{"$f":"VLOOKUP(MID(Simulator!E56,6,3),Data!G147:H168,2,FALSE)","v":0.9},{"$f":"INDEX(MasterTable[],MATCH(Simulator!$E56,MasterTable[P/N],0),COLUMN(MasterTable[Typical Voltage]))","v":26},{"$f":"INDEX(MasterTable[],MATCH(Simulator!$E56,MasterTable[P/N],0),COLUMN(MasterTable[V^4]))","v":0},{"$f":"INDEX(MasterTable[],MATCH(Simulator!$E56,MasterTable[P/N],0),COLUMN(MasterTable[V^3]))","v":3.6E-9},{"$f":"INDEX(MasterTable[],MATCH(Simulator!$E56,MasterTable[P/N],0),COLUMN(MasterTable[V^2]))","v":-6.6313999999999997E-6},{"$f":"INDEX(MasterTable[],MATCH(Simulator!$E56,MasterTable[P/N],0),COLUMN(MasterTable[V]))","v":9.5283307000000005E-3},{"$f":"INDEX(MasterTable[],MATCH(Simulator!$E56,MasterTable[P/N],0),COLUMN(MasterTable[V0]))","v":23.328428739500001},{"$f":"AG57*Simulator!$N$14^4+AH57*Simulator!$N$14^3+AI57*Simulator!$N$14^2+AJ57*Simulator!$N$14+AK57","v":25.283025867500001},{"$f":"INDEX(MasterTable[],MATCH(Simulator!$E56,MasterTable[P/N],0),COLUMN(MasterTable[T^3]))","v":0},{"$f":"INDEX(MasterTable[],MATCH(Simulator!$E56,MasterTable[P/N],0),COLUMN(MasterTable[T^2]))","v":0},{"$f":"INDEX(MasterTable[],MATCH(Simulator!$E56,MasterTable[P/N],0),COLUMN(MasterTable[T]))","v":-1.4E-2},{"$f":"INDEX(MasterTable[],MATCH(Simulator!$E56,MasterTable[P/N],0),COLUMN(MasterTable[T0]))","v":26.85},26,{"$f":"AL57+AQ57-AF57","v":25.283025867500001},null,{"$f":"INDEX(MasterTable[],MATCH(Simulator!$E56,MasterTable[P/N],0),COLUMN(MasterTable['# of Die]))","v":36},25.283025867500001,{"$f":"INDEX(Tj_to_Vf6[],MATCH(Simulator!$I$8,Tj_to_Vf6[Vf],1),COLUMN(Tj_to_Vf6[Vf]))","v":-0.5},7.283025867500001,{"$f":"IF(AND(Simulator!$I$8=25,Simulator!$N$14=Simulator!H56),AF57,AR57)","v":25.283025867500001},null,-11.8]
[null,"Vero 13-B",{"$f":"IF(Simulator!$D$10=\"Case\",Simulator!$I$8,M58)","v":25},{"$f":"Simulator!$N$14*AR58/1000","v":7.9908089698079987},{"$f":"INDEX(MasterTable[],MATCH(Simulator!E57,MasterTable[P/N],0),COLUMN(MasterTable[Thermal Resistance]))","v":0.28036666666666665},27.240356474835171,null,{"$f":"IF(Simulator!$D$10=\"Case\",F58,Simulator!$I$8)","v":27.240356474835171},{"$f":"Simulator!$N$14*AW58/1000","v":0.79080896980799986},0.28036666666666665,27.018640000000001,null,{"$f":"IF(Simulator!$D$10=\"Case\",Simulator!$I$8,K58)","v":25},{"$f":"IF(Simulator!$D$10=\"Case\",H58,Simulator!$I$8)","v":27.240356474835171},{"$f":"IF(#REF!=\"Tj\",N58,M58)","v":{"$error":"#REF!"}},null,{"$f":"INDEX(MasterTable[],MATCH(Simulator!E57,MasterTable[P/N],0),COLUMN(MasterTable[Typical Lumens]))","v":2662.2},{"$f":"INDEX(MasterTable[],MATCH(Simulator!$E57,MasterTable[P/N],0),COLUMN(MasterTable[I^3]))","v":9.5973000000000006E-11},{"$f":"INDEX(MasterTable[],MATCH(Simulator!$E57,MasterTable[P/N],0),COLUMN(MasterTable[I^2]))","v":-5.3648000000000005E-7},{"$f":"INDEX(MasterTable[],MATCH(Simulator!$E57,MasterTable[P/N],0),COLUMN(MasterTable[I]))","v":2.4543E-3},{"$f":"INDEX(MasterTable[],MATCH(Simulator!$E57,MasterTable[P/N],0),COLUMN(MasterTable[I0]))","v":-9.9999999999999995E-8},{"$f":"R58*Simulator!$N$14^3+S58*Simulator!$N$14^2+T58*Simulator!$N$14+U58","v":0.55945738275200008},{"$f":"INDEX(MasterTable[],MATCH(Simulator!$E57,MasterTable[P/N],0),COLUMN(MasterTable[F^4]))","v":0},{"$f":"INDEX(MasterTable[],MATCH(Simulator!$E57,MasterTable[P/N],0),COLUMN(MasterTable[F^3]))","v":0},{"$f":"INDEX(MasterTable[],MATCH(Simulator!$E57,MasterTable[P/N],0),COLUMN(MasterTable[F^2]))","v":-3.6592E-6},{"$f":"INDEX(MasterTable[],MATCH(Simulator!$E57,MasterTable[P/N],0),COLUMN(MasterTable[F]))","v":-1.0345506E-3},{"$f":"INDEX(MasterTable[],MATCH(Simulator!$E57,MasterTable[P/N],0),COLUMN(MasterTable[F0]))","v":1.0240956264000001},{"$f":"IF(Simulator!$I$8=85,AE58,W58*M58^4+X58*M58^3+Y58*M58^2+Z58*M58+AA58)","v":0.99594486140000005},1483.3477718463853,{"$f":"IF(AND(Simulator!$I$8=85,Simulator!$N$14=Simulator!H57),Q58*AE58,AC58)","v":1483.3477718463853},{"$f":"VLOOKUP(MID(Simulator!E57,6,3),Data!K75:L95,2,FALSE)","v":0.9},{"$f":"INDEX(MasterTable[],MATCH(Simulator!$E57,MasterTable[P/N],0),COLUMN(MasterTable[Typical Voltage]))","v":34.799999999999997},{"$f":"INDEX(MasterTable[],MATCH(Simulator!$E57,MasterTable[P/N],0),COLUMN(MasterTable[V^4]))","v":0},{"$f":"INDEX(MasterTable[],MATCH(Simulator!$E57,MasterTable[P/N],0),COLUMN(MasterTable[V^3]))","v":2.2999999999999999E-9},{"$f":"INDEX(MasterTable[],MATCH(Simulator!$E57,MasterTable[P/N],0),COLUMN(MasterTable[V^2]))","v":-5.0931999999999998E-6},{"$f":"INDEX(MasterTable[],MATCH(Simulator!$E57,MasterTable[P/N],0),COLUMN(MasterTable[V]))","v":9.5302597999999995E-3},{"$f":"INDEX(MasterTable[],MATCH(Simulator!$E57,MasterTable[P/N],0),COLUMN(MasterTable[V0]))","v":31.269348142199998},{"$f":"AG58*Simulator!$N$14^4+AH58*Simulator!$N$14^3+AI58*Simulator!$N$14^2+AJ58*Simulator!$N$14+AK58","v":33.2950373742},{"$f":"INDEX(MasterTable[],MATCH(Simulator!$E57,MasterTable[P/N],0),COLUMN(MasterTable[T^3]))","v":0},{"$f":"INDEX(MasterTable[],MATCH(Simulator!$E57,MasterTable[P/N],0),COLUMN(MasterTable[T^2]))","v":0},{"$f":"INDEX(MasterTable[],MATCH(Simulator!$E57,MasterTable[P/N],0),COLUMN(MasterTable[T]))","v":0},{"$f":"INDEX(MasterTable[],MATCH(Simulator!$E57,MasterTable[P/N],0),COLUMN(MasterTable[T0]))","v":0},34.799999999999997,33.295037374199993,null,{"$f":"INDEX(MasterTable[],MATCH(Simulator!$E57,MasterTable[P/N],0),COLUMN(MasterTable['# of Die]))","v":60},33.2950373742,{"$f":"INDEX(Tj_to_Vf6[],MATCH(Simulator!$I$8,Tj_to_Vf6[Vf],1),COLUMN(Tj_to_Vf6[Vf]))","v":-0.5},3.2950373741999996,{"$f":"IF(AND(Simulator!$I$8=25,Simulator!$N$14=Simulator!H57),AF58,AR58)","v":33.295037374199993},null,-14.3]
[null,"Vero 13-C",{"$f":"IF(Simulator!$D$10=\"Case\",Simulator!$I$8,M59)","v":25},{"$f":"Simulator!$N$14*AR59/1000","v":7.8638783999999999},{"$f":"INDEX(MasterTable[],MATCH(Simulator!E58,MasterTable[P/N],0),COLUMN(MasterTable[Thermal Resistance]))","v":0.19873333333333335},26.562814767359999,null,{"$f":"IF(Simulator!$D$10=\"Case\",F59,Simulator!$I$8)","v":26.562814767359999},{"$f":"Simulator!$N$14*AW59/1000","v":-2.2161216000000006},0.19873333333333335,27.003232000000001,null,{"$f":"IF(Simulator!$D$10=\"Case\",Simulator!$I$8,K59)","v":25},{"$f":"IF(Simulator!$D$10=\"Case\",H59,Simulator!$I$8)","v":26.562814767359999},{"$f":"IF(#REF!=\"Tj\",N59,M59)","v":{"$error":"#REF!"}},null,{"$f":"INDEX(MasterTable[],MATCH(Simulator!E58,MasterTable[P/N],0),COLUMN(MasterTable[Typical Lumens]))","v":3727.08},{"$f":"INDEX(MasterTable[],MATCH(Simulator!$E58,MasterTable[P/N],0),COLUMN(MasterTable[I^3]))","v":2.6496999999999999E-11},{"$f":"INDEX(MasterTable[],MATCH(Simulator!$E58,MasterTable[P/N],0),COLUMN(MasterTable[I^2]))","v":-2.6230000000000001E-7},{"$f":"INDEX(MasterTable[],MATCH(Simulator!$E58,MasterTable[P/N],0),COLUMN(MasterTable[I]))","v":1.7424999999999999E-3},{"$f":"INDEX(MasterTable[],MATCH(Simulator!$E58,MasterTable[P/N],0),COLUMN(MasterTable[I0]))","v":-9.9999999999999995E-8},{"$f":"R59*Simulator!$N$14^3+S59*Simulator!$N$14^2+T59*Simulator!$N$14+U59","v":0.40345771452799994},{"$f":"INDEX(MasterTable[],MATCH(Simulator!$E58,MasterTable[P/N],0),COLUMN(MasterTable[F^4]))","v":0},{"$f":"INDEX(MasterTable[],MATCH(Simulator!$E58,MasterTable[P/N],0),COLUMN(MasterTable[F^3]))","v":0},{"$f":"INDEX(MasterTable[],MATCH(Simulator!$E58,MasterTable[P/N],0),COLUMN(MasterTable[F^2]))","v":-3.6592E-6},{"$f":"INDEX(MasterTable[],MATCH(Simulator!$E58,MasterTable[P/N],0),COLUMN(MasterTable[F]))","v":-1.0345506E-3},{"$f":"INDEX(MasterTable[],MATCH(Simulator!$E58,MasterTable[P/N],0),COLUMN(MasterTable[F0]))","v":1.0240956264000001},{"$f":"IF(Simulator!$I$8=85,AE59,W59*M59^4+X59*M59^3+Y59*M59^2+Z59*M59+AA59)","v":0.99594486140000005},1497.6213889780615,{"$f":"IF(AND(Simulator!$I$8=85,Simulator!$N$14=Simulator!H58),Q59*AE59,AC59)","v":1497.6213889780615},{"$f":"VLOOKUP(MID(Simulator!E58,6,3),Data!K111:L130,2,FALSE)","v":0.9},{"$f":"INDEX(MasterTable[],MATCH(Simulator!$E58,MasterTable[P/N],0),COLUMN(MasterTable[Typical Voltage]))","v":34.799999999999997},{"$f":"INDEX(MasterTable[],MATCH(Simulator!$E58,MasterTable[P/N],0),COLUMN(MasterTable[V^4]))","v":0},{"$f":"INDEX(MasterTable[],MATCH(Simulator!$E58,MasterTable[P/N],0),COLUMN(MasterTable[V^3]))","v":0},{"$f":"INDEX(MasterTable[],MATCH(Simulator!$E58,MasterTable[P/N],0),COLUMN(MasterTable[V^2]))","v":-8.9999999999999996E-7},{"$f":"INDEX(MasterTable[],MATCH(Simulator!$E58,MasterTable[P/N],0),COLUMN(MasterTable[V]))","v":5.7999999999999996E-3},{"$f":"INDEX(MasterTable[],MATCH(Simulator!$E58,MasterTable[P/N],0),COLUMN(MasterTable[V0]))","v":31.425999999999998},{"$f":"AG59*Simulator!$N$14^4+AH59*Simulator!$N$14^3+AI59*Simulator!$N$14^2+AJ59*Simulator!$N$14+AK59","v":32.766159999999999},{"$f":"INDEX(MasterTable[],MATCH(Simulator!$E58,MasterTable[P/N],0),COLUMN(MasterTable[T^3]))","v":0},{"$f":"INDEX(MasterTable[],MATCH(Simulator!$E58,MasterTable[P/N],0),COLUMN(MasterTable[T^2]))","v":0},{"$f":"INDEX(MasterTable[],MATCH(Simulator!$E58,MasterTable[P/N],0),COLUMN(MasterTable[T]))","v":0},{"$f":"INDEX(MasterTable[],MATCH(Simulator!$E58,MasterTable[P/N],0),COLUMN(MasterTable[T0]))","v":0},34.799999999999997,32.766159999999999,null,{"$f":"INDEX(MasterTable[],MATCH(Simulator!$E58,MasterTable[P/N],0),COLUMN(MasterTable['# of Die]))","v":84},32.766159999999999,{"$f":"INDEX(Tj_to_Vf6[],MATCH(Simulator!$I$8,Tj_to_Vf6[Vf],1),COLUMN(Tj_to_Vf6[Vf]))","v":-0.5},-9.2338400000000007,{"$f":"IF(AND(Simulator!$I$8=25,Simulator!$N$14=Simulator!H58),AF59,AR59)","v":32.766159999999999},null,-14.3]
[null,"Vero 13-D",{"$f":"IF(Simulator!$D$10=\"Case\",Simulator!$I$8,M60)","v":25},{"$f":"Simulator!$N$14*AR60/1000","v":7.3187586680399992},{"$f":"INDEX(MasterTable[],MATCH(Simulator!E59,MasterTable[P/N],0),COLUMN(MasterTable[Thermal Resistance]))","v":0.28036666666666665},27.05193597189615,null,{"$f":"IF(Simulator!$D$10=\"Case\",F60,Simulator!$I$8)","v":27.05193597189615},{"$f":"Simulator!$N$14*AW60/1000","v":-0.60124133196000007},0.28036666666666665,27.220504000000002,null,{"$f":"IF(Simulator!$D$10=\"Case\",Simulator!$I$8,K60)","v":25},{"$f":"IF(Simulator!$D$10=\"Case\",H60,Simulator!$I$8)","v":27.05193597189615},{"$f":"IF(#REF!=\"Tj\",N60,M60)","v":{"$error":"#REF!"}},null,{"$f":"INDEX(MasterTable[],MATCH(Simulator!E59,MasterTable[P/N],0),COLUMN(MasterTable[Typical Lumens]))","v":2703},{"$f":"INDEX(MasterTable[],MATCH(Simulator!$E59,MasterTable[P/N],0),COLUMN(MasterTable[I^3]))","v":2.3511E-11},{"$f":"INDEX(MasterTable[],MATCH(Simulator!$E59,MasterTable[P/N],0),COLUMN(MasterTable[I^2]))","v":-3.8892000000000002E-7},{"$f":"INDEX(MasterTable[],MATCH(Simulator!$E59,MasterTable[P/N],0),COLUMN(MasterTable[I]))","v":2.1708000000000001E-3},{"$f":"INDEX(MasterTable[],MATCH(Simulator!$E59,MasterTable[P/N],0),COLUMN(MasterTable[I0]))","v":-9.9999999999999995E-8},{"$f":"R60*Simulator!$N$14^3+S60*Simulator!$N$14^2+T60*Simulator!$N$14+U60","v":0.49891512406400002},{"$f":"INDEX(MasterTable[],MATCH(Simulator!$E59,MasterTable[P/N],0),COLUMN(MasterTable[F^4]))","v":0},{"$f":"INDEX(MasterTable[],MATCH(Simulator!$E59,MasterTable[P/N],0),COLUMN(MasterTable[F^3]))","v":0},{"$f":"INDEX(MasterTable[],MATCH(Simulator!$E59,MasterTable[P/N],0),COLUMN(MasterTable[F^2]))","v":-3.6592E-6},{"$f":"INDEX(MasterTable[],MATCH(Simulator!$E59,MasterTable[P/N],0),COLUMN(MasterTable[F]))","v":-1.0345506E-3},{"$f":"INDEX(MasterTable[],MATCH(Simulator!$E59,MasterTable[P/N],0),COLUMN(MasterTable[F0]))","v":1.0240956264000001},{"$f":"IF(Simulator!$I$8=85,AE60,W60*M60^4+X60*M60^3+Y60*M60^2+Z60*M60+AA60)","v":0.99594486140000005},1343.0989518952265,{"$f":"IF(AND(Simulator!$I$8=85,Simulator!$N$14=Simulator!H59),Q60*AE60,AC60)","v":1343.0989518952265},{"$f":"VLOOKUP(MID(Simulator!E59,6,3),Data!K147:L167,2,FALSE)","v":0.9},{"$f":"INDEX(MasterTable[],MATCH(Simulator!$E59,MasterTable[P/N],0),COLUMN(MasterTable[Typical Voltage]))","v":31.8},{"$f":"INDEX(MasterTable[],MATCH(Simulator!$E59,MasterTable[P/N],0),COLUMN(MasterTable[V^4]))","v":0},{"$f":"INDEX(MasterTable[],MATCH(Simulator!$E59,MasterTable[P/N],0),COLUMN(MasterTable[V^3]))","v":1.9000000000000001E-9},{"$f":"INDEX(MasterTable[],MATCH(Simulator!$E59,MasterTable[P/N],0),COLUMN(MasterTable[V^2]))","v":-4.4818E-6},{"$f":"INDEX(MasterTable[],MATCH(Simulator!$E59,MasterTable[P/N],0),COLUMN(MasterTable[V]))","v":8.2648797999999996E-3},{"$f":"INDEX(MasterTable[],MATCH(Simulator!$E59,MasterTable[P/N],0),COLUMN(MasterTable[V0]))","v":28.743142711499999},{"$f":"AG60*Simulator!$N$14^4+AH60*Simulator!$N$14^3+AI60*Simulator!$N$14^2+AJ60*Simulator!$N$14+AK60","v":30.4948277835},{"$f":"INDEX(MasterTable[],MATCH(Simulator!$E59,MasterTable[P/N],0),COLUMN(MasterTable[T^3]))","v":0},{"$f":"INDEX(MasterTable[],MATCH(Simulator!$E59,MasterTable[P/N],0),COLUMN(MasterTable[T^2]))","v":0},{"$f":"INDEX(MasterTable[],MATCH(Simulator!$E59,MasterTable[P/N],0),COLUMN(MasterTable[T]))","v":-1.7000000000000001E-2},{"$f":"INDEX(MasterTable[],MATCH(Simulator!$E59,MasterTable[P/N],0),COLUMN(MasterTable[T0]))","v":32.725000000000001},31.8,30.494827783499996,null,{"$f":"INDEX(MasterTable[],MATCH(Simulator!$E59,MasterTable[P/N],0),COLUMN(MasterTable['# of Die]))","v":66},30.4948277835,{"$f":"INDEX(Tj_to_Vf6[],MATCH(Simulator!$I$8,Tj_to_Vf6[Vf],1),COLUMN(Tj_to_Vf6[Vf]))","v":-0.5},-2.5051722165000001,{"$f":"IF(AND(Simulator!$I$8=25,Simulator!$N$14=Simulator!H59),AF60,AR60)","v":30.494827783499996},null,-13.3]
[null,"Vero 18-B",{"$f":"IF(Simulator!$D$10=\"Case\",Simulator!$I$8,M61)","v":25},{"$f":"Simulator!$N$14*AR61/1000","v":7.7145280242960013},{"$f":"INDEX(MasterTable[],MATCH(Simulator!E60,MasterTable[P/N],0),COLUMN(MasterTable[Thermal Resistance]))","v":0.15453333333333333},26.192151730687875,null,{"$f":"IF(Simulator!$D$10=\"Case\",F61,Simulator!$I$8)","v":26.192151730687875},{"$f":"Simulator!$N$14*AW61/1000","v":-6.685471975704},0.15453333333333333,27.225280000000001,null,{"$f":"IF(Simulator!$D$10=\"Case\",Simulator!$I$8,K61)","v":25},{"$f":"IF(Simulator!$D$10=\"Case\",H61,Simulator!$I$8)","v":26.192151730687875},{"$f":"IF(#REF!=\"Tj\",N61,M61)","v":{"$error":"#REF!"}},null,{"$f":"INDEX(MasterTable[],MATCH(Simulator!E60,MasterTable[P/N],0),COLUMN(MasterTable[Typical Lumens]))","v":5324.4},{"$f":"INDEX(MasterTable[],MATCH(Simulator!$E60,MasterTable[P/N],0),COLUMN(MasterTable[I^3]))","v":2.4036999999999999E-11},{"$f":"INDEX(MasterTable[],MATCH(Simulator!$E60,MasterTable[P/N],0),COLUMN(MasterTable[I^2]))","v":-1.3944999999999999E-7},{"$f":"INDEX(MasterTable[],MATCH(Simulator!$E60,MasterTable[P/N],0),COLUMN(MasterTable[I]))","v":1.238E-3},{"$f":"INDEX(MasterTable[],MATCH(Simulator!$E60,MasterTable[P/N],0),COLUMN(MasterTable[I0]))","v":-9.9999999999999995E-8},{"$f":"R61*Simulator!$N$14^3+S61*Simulator!$N$14^2+T61*Simulator!$N$14+U61","v":0.28941986748799997},{"$f":"INDEX(MasterTable[],MATCH(Simulator!$E60,MasterTable[P/N],0),COLUMN(MasterTable[F^4]))","v":0},{"$f":"INDEX(MasterTable[],MATCH(Simulator!$E60,MasterTable[P/N],0),COLUMN(MasterTable[F^3]))","v":0},{"$f":"INDEX(MasterTable[],MATCH(Simulator!$E60,MasterTable[P/N],0),COLUMN(MasterTable[F^2]))","v":-3.6592E-6},{"$f":"INDEX(MasterTable[],MATCH(Simulator!$E60,MasterTable[P/N],0),COLUMN(MasterTable[F]))","v":-1.0345506E-3},{"$f":"INDEX(MasterTable[],MATCH(Simulator!$E60,MasterTable[P/N],0),COLUMN(MasterTable[F0]))","v":1.0240956264000001},{"$f":"IF(Simulator!$I$8=85,AE61,W61*M61^4+X61*M61^3+Y61*M61^2+Z61*M61+AA61)","v":0.99594486140000005},1534.7382260096417,{"$f":"IF(AND(Simulator!$I$8=85,Simulator!$N$14=Simulator!H60),Q61*AE61,AC61)","v":1534.7382260096417},{"$f":"VLOOKUP(MID(Simulator!E60,6,3),Data!N75:O98,2,FALSE)","v":0.9},{"$f":"INDEX(MasterTable[],MATCH(Simulator!$E60,MasterTable[P/N],0),COLUMN(MasterTable[Typical Voltage]))","v":34.799999999999997},{"$f":"INDEX(MasterTable[],MATCH(Simulator!$E60,MasterTable[P/N],0),COLUMN(MasterTable[V^4]))","v":0},{"$f":"INDEX(MasterTable[],MATCH(Simulator!$E60,MasterTable[P/N],0),COLUMN(MasterTable[V^3]))","v":4.0000000000000001E-10},{"$f":"INDEX(MasterTable[],MATCH(Simulator!$E60,MasterTable[P/N],0),COLUMN(MasterTable[V^2]))","v":-1.6286E-6},{"$f":"INDEX(MasterTable[],MATCH(Simulator!$E60,MasterTable[P/N],0),COLUMN(MasterTable[V]))","v":5.4556379E-3},{"$f":"INDEX(MasterTable[],MATCH(Simulator!$E60,MasterTable[P/N],0),COLUMN(MasterTable[V0]))","v":30.922791431899999},{"$f":"AG61*Simulator!$N$14^4+AH61*Simulator!$N$14^3+AI61*Simulator!$N$14^2+AJ61*Simulator!$N$14+AK61","v":32.143866767900001},{"$f":"INDEX(MasterTable[],MATCH(Simulator!$E60,MasterTable[P/N],0),COLUMN(MasterTable[T^3]))","v":0},{"$f":"INDEX(MasterTable[],MATCH(Simulator!$E60,MasterTable[P/N],0),COLUMN(MasterTable[T^2]))","v":0},{"$f":"INDEX(MasterTable[],MATCH(Simulator!$E60,MasterTable[P/N],0),COLUMN(MasterTable[T]))","v":0},{"$f":"INDEX(MasterTable[],MATCH(Simulator!$E60,MasterTable[P/N],0),COLUMN(MasterTable[T0]))","v":0},34.799999999999997,32.143866767900008,null,{"$f":"INDEX(MasterTable[],MATCH(Simulator!$E60,MasterTable[P/N],0),COLUMN(MasterTable['# of Die]))","v":120},32.143866767900001,{"$f":"INDEX(Tj_to_Vf6[],MATCH(Simulator!$I$8,Tj_to_Vf6[Vf],1),COLUMN(Tj_to_Vf6[Vf]))","v":-0.5},-27.856133232099999,{"$f":"IF(AND(Simulator!$I$8=25,Simulator!$N$14=Simulator!H60),AF61,AR61)","v":32.143866767900008},null,-14.9]
[null,"Vero 18-C",{"$f":"IF(Simulator!$D$10=\"Case\",Simulator!$I$8,M62)","v":25},{"$f":"Simulator!$N$14*AR62/1000","v":7.7156927999999985},{"$f":"INDEX(MasterTable[],MATCH(Simulator!E61,MasterTable[P/N],0),COLUMN(MasterTable[Thermal Resistance]))","v":0.11206666666666666},25.86467197312,null,{"$f":"IF(Simulator!$D$10=\"Case\",F62,Simulator!$I$8)","v":25.86467197312},{"$f":"Simulator!$N$14*AW62/1000","v":-11.004307200000001},0.11206666666666666,27.097888000000001,null,{"$f":"IF(Simulator!$D$10=\"Case\",Simulator!$I$8,K62)","v":25},{"$f":"IF(Simulator!$D$10=\"Case\",H62,Simulator!$I$8)","v":25.86467197312},{"$f":"IF(#REF!=\"Tj\",N62,M62)","v":{"$error":"#REF!"}},null,{"$f":"INDEX(MasterTable[],MATCH(Simulator!E61,MasterTable[P/N],0),COLUMN(MasterTable[Typical Lumens]))","v":6922},{"$f":"INDEX(MasterTable[],MATCH(Simulator!$E61,MasterTable[P/N],0),COLUMN(MasterTable[I^3]))","v":4.7731999999999999E-12},{"$f":"INDEX(MasterTable[],MATCH(Simulator!$E61,MasterTable[P/N],0),COLUMN(MasterTable[I^2]))","v":-7.2907999999999993E-8},{"$f":"INDEX(MasterTable[],MATCH(Simulator!$E61,MasterTable[P/N],0),COLUMN(MasterTable[I]))","v":9.3304E-4},{"$f":"INDEX(MasterTable[],MATCH(Simulator!$E61,MasterTable[P/N],0),COLUMN(MasterTable[I0]))","v":-9.9999999999999995E-8},{"$f":"R62*Simulator!$N$14^3+S62*Simulator!$N$14^2+T62*Simulator!$N$14+U62","v":0.2197959839168},{"$f":"INDEX(MasterTable[],MATCH(Simulator!$E61,MasterTable[P/N],0),COLUMN(MasterTable[F^4]))","v":0},{"$f":"INDEX(MasterTable[],MATCH(Simulator!$E61,MasterTable[P/N],0),COLUMN(MasterTable[F^3]))","v":0},{"$f":"INDEX(MasterTable[],MATCH(Simulator!$E61,MasterTable[P/N],0),COLUMN(MasterTable[F^2]))","v":-3.6592E-6},{"$f":"INDEX(MasterTable[],MATCH(Simulator!$E61,MasterTable[P/N],0),COLUMN(MasterTable[F]))","v":-1.0345506E-3},{"$f":"INDEX(MasterTable[],MATCH(Simulator!$E61,MasterTable[P/N],0),COLUMN(MasterTable[F0]))","v":1.0240956264000001},{"$f":"IF(Simulator!$I$8=85,AE62,W62*M62^4+X62*M62^3+Y62*M62^2+Z62*M62+AA62)","v":0.99594486140000005},1515.2582000704713,{"$f":"IF(AND(Simulator!$I$8=85,Simulator!$N$14=Simulator!H61),Q62*AE62,AC62)","v":1515.2582000704713},{"$f":"VLOOKUP(MID(Simulator!E61,6,3),Data!N111:O134,2,FALSE)","v":0.9},{"$f":"INDEX(MasterTable[],MATCH(Simulator!$E61,MasterTable[P/N],0),COLUMN(MasterTable[Typical Voltage]))","v":34.799999999999997},{"$f":"INDEX(MasterTable[],MATCH(Simulator!$E61,MasterTable[P/N],0),COLUMN(MasterTable[V^4]))","v":0},{"$f":"INDEX(MasterTable[],MATCH(Simulator!$E61,MasterTable[P/N],0),COLUMN(MasterTable[V^3]))","v":0},{"$f":"INDEX(MasterTable[],MATCH(Simulator!$E61,MasterTable[P/N],0),COLUMN(MasterTable[V^2]))","v":-2.9999999999999999E-7},{"$f":"INDEX(MasterTable[],MATCH(Simulator!$E61,MasterTable[P/N],0),COLUMN(MasterTable[V]))","v":3.3E-3},{"$f":"INDEX(MasterTable[],MATCH(Simulator!$E61,MasterTable[P/N],0),COLUMN(MasterTable[V0]))","v":31.373999999999999},{"$f":"AG62*Simulator!$N$14^4+AH62*Simulator!$N$14^3+AI62*Simulator!$N$14^2+AJ62*Simulator!$N$14+AK62","v":32.148719999999997},{"$f":"INDEX(MasterTable[],MATCH(Simulator!$E61,MasterTable[P/N],0),COLUMN(MasterTable[T^3]))","v":0},{"$f":"INDEX(MasterTable[],MATCH(Simulator!$E61,MasterTable[P/N],0),COLUMN(MasterTable[T^2]))","v":0},{"$f":"INDEX(MasterTable[],MATCH(Simulator!$E61,MasterTable[P/N],0),COLUMN(MasterTable[T]))","v":0},{"$f":"INDEX(MasterTable[],MATCH(Simulator!$E61,MasterTable[P/N],0),COLUMN(MasterTable[T0]))","v":0},34.799999999999997,32.148719999999997,null,{"$f":"INDEX(MasterTable[],MATCH(Simulator!$E61,MasterTable[P/N],0),COLUMN(MasterTable['# of Die]))","v":156},32.148719999999997,{"$f":"INDEX(Tj_to_Vf6[],MATCH(Simulator!$I$8,Tj_to_Vf6[Vf],1),COLUMN(Tj_to_Vf6[Vf]))","v":-0.5},-45.851280000000003,{"$f":"IF(AND(Simulator!$I$8=25,Simulator!$N$14=Simulator!H61),AF62,AR62)","v":32.148719999999997},null,-14.9]
[null,"Vero 18-D",{"$f":"IF(Simulator!$D$10=\"Case\",Simulator!$I$8,M63)","v":25},{"$f":"Simulator!$N$14*AR63/1000","v":6.4212945713039993},{"$f":"INDEX(MasterTable[],MATCH(Simulator!E62,MasterTable[P/N],0),COLUMN(MasterTable[Thermal Resistance]))","v":0.15453333333333333},25.992304054418845,null,{"$f":"IF(Simulator!$D$10=\"Case\",F63,Simulator!$I$8)","v":25.992304054418845},{"$f":"Simulator!$N$14*AW63/1000","v":-7.9787054286960011},0.15453333333333333,27.225280000000001,null,{"$f":"IF(Simulator!$D$10=\"Case\",Simulator!$I$8,K63)","v":25},{"$f":"IF(Simulator!$D$10=\"Case\",H63,Simulator!$I$8)","v":25.992304054418845},{"$f":"IF(#REF!=\"Tj\",N63,M63)","v":{"$error":"#REF!"}},null,{"$f":"INDEX(MasterTable[],MATCH(Simulator!E62,MasterTable[P/N],0),COLUMN(MasterTable[Typical Lumens]))","v":5176.5},{"$f":"INDEX(MasterTable[],MATCH(Simulator!$E62,MasterTable[P/N],0),COLUMN(MasterTable[I^3]))","v":1.4932000000000001E-11},{"$f":"INDEX(MasterTable[],MATCH(Simulator!$E62,MasterTable[P/N],0),COLUMN(MasterTable[I^2]))","v":-1.3107E-7},{"$f":"INDEX(MasterTable[],MATCH(Simulator!$E62,MasterTable[P/N],0),COLUMN(MasterTable[I]))","v":1.0753E-3},{"$f":"INDEX(MasterTable[],MATCH(Simulator!$E62,MasterTable[P/N],0),COLUMN(MasterTable[I0]))","v":-9.9999999999999995E-8},{"$f":"R63*Simulator!$N$14^3+S63*Simulator!$N$14^2+T63*Simulator!$N$14+U63","v":0.25072868796799996},{"$f":"INDEX(MasterTable[],MATCH(Simulator!$E62,MasterTable[P/N],0),COLUMN(MasterTable[F^4]))","v":0},{"$f":"INDEX(MasterTable[],MATCH(Simulator!$E62,MasterTable[P/N],0),COLUMN(MasterTable[F^3]))","v":0},{"$f":"INDEX(MasterTable[],MATCH(Simulator!$E62,MasterTable[P/N],0),COLUMN(MasterTable[F^2]))","v":-3.6592E-6},{"$f":"INDEX(MasterTable[],MATCH(Simulator!$E62,MasterTable[P/N],0),COLUMN(MasterTable[F]))","v":-1.0345506E-3},{"$f":"INDEX(MasterTable[],MATCH(Simulator!$E62,MasterTable[P/N],0),COLUMN(MasterTable[F0]))","v":1.0240956264000001},{"$f":"IF(Simulator!$I$8=85,AE63,W63*M63^4+X63*M63^3+Y63*M63^2+Z63*M63+AA63)","v":0.99594486140000005},1292.6339008268253,{"$f":"IF(AND(Simulator!$I$8=85,Simulator!$N$14=Simulator!H62),Q63*AE63,AC63)","v":1292.6339008268253},{"$f":"VLOOKUP(MID(Simulator!E62,6,3),Data!N147:O172,2,FALSE)","v":0.9},{"$f":"INDEX(MasterTable[],MATCH(Simulator!$E62,MasterTable[P/N],0),COLUMN(MasterTable[Typical Voltage]))","v":29},{"$f":"INDEX(MasterTable[],MATCH(Simulator!$E62,MasterTable[P/N],0),COLUMN(MasterTable[V^4]))","v":0},{"$f":"INDEX(MasterTable[],MATCH(Simulator!$E62,MasterTable[P/N],0),COLUMN(MasterTable[V^3]))","v":1E-10},{"$f":"INDEX(MasterTable[],MATCH(Simulator!$E62,MasterTable[P/N],0),COLUMN(MasterTable[V^2]))","v":-7.3689999999999999E-7},{"$f":"INDEX(MasterTable[],MATCH(Simulator!$E62,MasterTable[P/N],0),COLUMN(MasterTable[V]))","v":3.5548380999999999E-3},{"$f":"INDEX(MasterTable[],MATCH(Simulator!$E62,MasterTable[P/N],0),COLUMN(MasterTable[V0]))","v":25.943295943100001},{"$f":"AG63*Simulator!$N$14^4+AH63*Simulator!$N$14^3+AI63*Simulator!$N$14^2+AJ63*Simulator!$N$14+AK63","v":26.755394047100001},{"$f":"INDEX(MasterTable[],MATCH(Simulator!$E62,MasterTable[P/N],0),COLUMN(MasterTable[T^3]))","v":0},{"$f":"INDEX(MasterTable[],MATCH(Simulator!$E62,MasterTable[P/N],0),COLUMN(MasterTable[T^2]))","v":0},{"$f":"INDEX(MasterTable[],MATCH(Simulator!$E62,MasterTable[P/N],0),COLUMN(MasterTable[T]))","v":-1.4999999999999999E-2},{"$f":"INDEX(MasterTable[],MATCH(Simulator!$E62,MasterTable[P/N],0),COLUMN(MasterTable[T0]))","v":29.875},29,26.755394047099998,null,{"$f":"INDEX(MasterTable[],MATCH(Simulator!$E62,MasterTable[P/N],0),COLUMN(MasterTable['# of Die]))","v":120},26.755394047100001,{"$f":"INDEX(Tj_to_Vf6[],MATCH(Simulator!$I$8,Tj_to_Vf6[Vf],1),COLUMN(Tj_to_Vf6[Vf]))","v":-0.5},-33.244605952900002,{"$f":"IF(AND(Simulator!$I$8=25,Simulator!$N$14=Simulator!H62),AF63,AR63)","v":26.755394047099998},null,-12.2]
[null,"Vero 29-B",{"$f":"IF(Simulator!$D$10=\"Case\",Simulator!$I$8,M64)","v":25},{"$f":"Simulator!$N$14*AR64/1000","v":11.440675199999998},{"$f":"INDEX(MasterTable[],MATCH(Simulator!E63,MasterTable[P/N],0),COLUMN(MasterTable[Thermal Resistance]))","v":6.2849999999999989E-2},25.719046436319999,null,{"$f":"IF(Simulator!$D$10=\"Case\",F64,Simulator!$I$8)","v":25.719046436319999},{"$f":"Simulator!$N$14*AW64/1000","v":-31.759324800000002},6.2849999999999989E-2,27.715119999999999,null,{"$f":"IF(Simulator!$D$10=\"Case\",Simulator!$I$8,K64)","v":25},{"$f":"IF(Simulator!$D$10=\"Case\",H64,Simulator!$I$8)","v":25.719046436319999},{"$f":"IF(#REF!=\"Tj\",N64,M64)","v":{"$error":"#REF!"}},null,{"$f":"INDEX(MasterTable[],MATCH(Simulator!E63,MasterTable[P/N],0),COLUMN(MasterTable[Typical Lumens]))","v":15911.999999999998},{"$f":"INDEX(MasterTable[],MATCH(Simulator!$E63,MasterTable[P/N],0),COLUMN(MasterTable[I^3]))","v":-6.3152999999999999E-15},{"$f":"INDEX(MasterTable[],MATCH(Simulator!$E63,MasterTable[P/N],0),COLUMN(MasterTable[I^2]))","v":-2.3811999999999998E-8},{"$f":"INDEX(MasterTable[],MATCH(Simulator!$E63,MasterTable[P/N],0),COLUMN(MasterTable[I]))","v":5.9827999999999997E-4},{"$f":"INDEX(MasterTable[],MATCH(Simulator!$E63,MasterTable[P/N],0),COLUMN(MasterTable[I0]))","v":-9.9999999999999995E-8},{"$f":"R64*Simulator!$N$14^3+S64*Simulator!$N$14^2+T64*Simulator!$N$14+U64","v":0.14221544149729279},{"$f":"INDEX(MasterTable[],MATCH(Simulator!$E63,MasterTable[P/N],0),COLUMN(MasterTable[F^4]))","v":0},{"$f":"INDEX(MasterTable[],MATCH(Simulator!$E63,MasterTable[P/N],0),COLUMN(MasterTable[F^3]))","v":0},{"$f":"INDEX(MasterTable[],MATCH(Simulator!$E63,MasterTable[P/N],0),COLUMN(MasterTable[F^2]))","v":-3.6592E-6},{"$f":"INDEX(MasterTable[],MATCH(Simulator!$E63,MasterTable[P/N],0),COLUMN(MasterTable[F]))","v":-1.0345506E-3},{"$f":"INDEX(MasterTable[],MATCH(Simulator!$E63,MasterTable[P/N],0),COLUMN(MasterTable[F0]))","v":1.0240956264000001},{"$f":"IF(Simulator!$I$8=85,AE64,W64*M64^4+X64*M64^3+Y64*M64^2+Z64*M64+AA64)","v":0.99594486140000005},2253.7556017763327,{"$f":"IF(AND(Simulator!$I$8=85,Simulator!$N$14=Simulator!H63),Q64*AE64,AC64)","v":2253.7556017763327},{"$f":"VLOOKUP(MID(Simulator!E63,6,3),Data!Q75:R95,2,FALSE)","v":0.9},{"$f":"INDEX(MasterTable[],MATCH(Simulator!$E63,MasterTable[P/N],0),COLUMN(MasterTable[Typical Voltage]))","v":52},{"$f":"INDEX(MasterTable[],MATCH(Simulator!$E63,MasterTable[P/N],0),COLUMN(MasterTable[V^4]))","v":0},{"$f":"INDEX(MasterTable[],MATCH(Simulator!$E63,MasterTable[P/N],0),COLUMN(MasterTable[V^3]))","v":0},{"$f":"INDEX(MasterTable[],MATCH(Simulator!$E63,MasterTable[P/N],0),COLUMN(MasterTable[V^2]))","v":-1.9999999999999999E-7},{"$f":"INDEX(MasterTable[],MATCH(Simulator!$E63,MasterTable[P/N],0),COLUMN(MasterTable[V]))","v":3.2000000000000002E-3},{"$f":"INDEX(MasterTable[],MATCH(Simulator!$E63,MasterTable[P/N],0),COLUMN(MasterTable[V0]))","v":46.912999999999997},{"$f":"AG64*Simulator!$N$14^4+AH64*Simulator!$N$14^3+AI64*Simulator!$N$14^2+AJ64*Simulator!$N$14+AK64","v":47.66948},{"$f":"INDEX(MasterTable[],MATCH(Simulator!$E63,MasterTable[P/N],0),COLUMN(MasterTable[T^3]))","v":0},{"$f":"INDEX(MasterTable[],MATCH(Simulator!$E63,MasterTable[P/N],0),COLUMN(MasterTable[T^2]))","v":0},{"$f":"INDEX(MasterTable[],MATCH(Simulator!$E63,MasterTable[P/N],0),COLUMN(MasterTable[T]))","v":0},{"$f":"INDEX(MasterTable[],MATCH(Simulator!$E63,MasterTable[P/N],0),COLUMN(MasterTable[T0]))","v":0},52,47.669479999999993,null,{"$f":"INDEX(MasterTable[],MATCH(Simulator!$E63,MasterTable[P/N],0),COLUMN(MasterTable['# of Die]))","v":360},47.66948,{"$f":"INDEX(Tj_to_Vf6[],MATCH(Simulator!$I$8,Tj_to_Vf6[Vf],1),COLUMN(Tj_to_Vf6[Vf]))","v":-0.5},-132.33052000000001,{"$f":"IF(AND(Simulator!$I$8=25,Simulator!$N$14=Simulator!H63),AF64,AR64)","v":47.669479999999993},null,-24.9]
[null,"Vero 29-C",{"$f":"IF(Simulator!$D$10=\"Case\",Simulator!$I$8,M65)","v":25},{"$f":"Simulator!$N$14*AR65/1000","v":15.26705280000019},{"$f":"INDEX(MasterTable[],MATCH(Simulator!E64,MasterTable[P/N],0),COLUMN(MasterTable[Thermal Resistance]))","v":4.1266666666666667E-2},25.630020378880008,null,{"$f":"IF(Simulator!$D$10=\"Case\",F65,Simulator!$I$8)","v":25.630020378880008},{"$f":"Simulator!$N$14*AW65/1000","v":-39.452947199999812},4.1266666666666667E-2,27.258112000000001,null,{"$f":"IF(Simulator!$D$10=\"Case\",Simulator!$I$8,K65)","v":25},{"$f":"IF(Simulator!$D$10=\"Case\",H65,Simulator!$I$8)","v":25.630020378880008},{"$f":"IF(#REF!=\"Tj\",N65,M65)","v":{"$error":"#REF!"}},null,{"$f":"INDEX(MasterTable[],MATCH(Simulator!E64,MasterTable[P/N],0),COLUMN(MasterTable[Typical Lumens]))","v":20175},{"$f":"INDEX(MasterTable[],MATCH(Simulator!$E64,MasterTable[P/N],0),COLUMN(MasterTable[I^3]))","v":1.0877999999999999E-11},{"$f":"INDEX(MasterTable[],MATCH(Simulator!$E64,MasterTable[P/N],0),COLUMN(MasterTable[I^2]))","v":-9.8527999999999994E-8},{"$f":"INDEX(MasterTable[],MATCH(Simulator!$E64,MasterTable[P/N],0),COLUMN(MasterTable[I]))","v":7.3035999999999999E-4},{"$f":"INDEX(MasterTable[],MATCH(Simulator!$E64,MasterTable[P/N],0),COLUMN(MasterTable[I0]))","v":-9.9999999999999995E-8},{"$f":"R65*Simulator!$N$14^3+S65*Simulator!$N$14^2+T65*Simulator!$N$14+U65","v":0.16976146467200001},{"$f":"INDEX(MasterTable[],MATCH(Simulator!$E64,MasterTable[P/N],0),COLUMN(MasterTable[F^4]))","v":0},{"$f":"INDEX(MasterTable[],MATCH(Simulator!$E64,MasterTable[P/N],0),COLUMN(MasterTable[F^3]))","v":0},{"$f":"INDEX(MasterTable[],MATCH(Simulator!$E64,MasterTable[P/N],0),COLUMN(MasterTable[F^2]))","v":-3.6592E-6},{"$f":"INDEX(MasterTable[],MATCH(Simulator!$E64,MasterTable[P/N],0),COLUMN(MasterTable[F]))","v":-1.0345506E-3},{"$f":"INDEX(MasterTable[],MATCH(Simulator!$E64,MasterTable[P/N],0),COLUMN(MasterTable[F0]))","v":1.0240956264000001},{"$f":"IF(Simulator!$I$8=85,AE65,W65*M65^4+X65*M65^3+Y65*M65^2+Z65*M65+AA65)","v":0.99594486140000005},3411.0489532969891,{"$f":"IF(AND(Simulator!$I$8=85,Simulator!$N$14=Simulator!H64),Q65*AE65,AC65)","v":3411.0489532969891},{"$f":"VLOOKUP(MID(Simulator!E64,6,3),Data!Q111:R132,2,FALSE)","v":0.9},{"$f":"INDEX(MasterTable[],MATCH(Simulator!$E64,MasterTable[P/N],0),COLUMN(MasterTable[Typical Voltage]))","v":69.400000000000006},{"$f":"INDEX(MasterTable[],MATCH(Simulator!$E64,MasterTable[P/N],0),COLUMN(MasterTable[V^4]))","v":-9.9999999999999996E-24},{"$f":"INDEX(MasterTable[],MATCH(Simulator!$E64,MasterTable[P/N],0),COLUMN(MasterTable[V^3]))","v":6.0000000000000006E-20},{"$f":"INDEX(MasterTable[],MATCH(Simulator!$E64,MasterTable[P/N],0),COLUMN(MasterTable[V^2]))","v":-2.9999999999999999E-7},{"$f":"INDEX(MasterTable[],MATCH(Simulator!$E64,MasterTable[P/N],0),COLUMN(MasterTable[V]))","v":4.4999999999999997E-3},{"$f":"INDEX(MasterTable[],MATCH(Simulator!$E64,MasterTable[P/N],0),COLUMN(MasterTable[V0]))","v":62.55},{"$f":"AG65*Simulator!$N$14^4+AH65*Simulator!$N$14^3+AI65*Simulator!$N$14^2+AJ65*Simulator!$N$14+AK65","v":63.612720000000792},{"$f":"INDEX(MasterTable[],MATCH(Simulator!$E64,MasterTable[P/N],0),COLUMN(MasterTable[T^3]))","v":0},{"$f":"INDEX(MasterTable[],MATCH(Simulator!$E64,MasterTable[P/N],0),COLUMN(MasterTable[T^2]))","v":0},{"$f":"INDEX(MasterTable[],MATCH(Simulator!$E64,MasterTable[P/N],0),COLUMN(MasterTable[T]))","v":0},{"$f":"INDEX(MasterTable[],MATCH(Simulator!$E64,MasterTable[P/N],0),COLUMN(MasterTable[T0]))","v":0},69.400000000000006,63.612720000000792,null,{"$f":"INDEX(MasterTable[],MATCH(Simulator!$E64,MasterTable[P/N],0),COLUMN(MasterTable['# of Die]))","v":456},63.612720000000792,{"$f":"INDEX(Tj_to_Vf6[],MATCH(Simulator!$I$8,Tj_to_Vf6[Vf],1),COLUMN(Tj_to_Vf6[Vf]))","v":-0.5},-164.38727999999921,{"$f":"IF(AND(Simulator!$I$8=25,Simulator!$N$14=Simulator!H64),AF65,AR65)","v":63.612720000000792},null,-33.200000000000003]
[null,"Vero 29-D",{"$f":"IF(Simulator!$D$10=\"Case\",Simulator!$I$8,M66)","v":25},{"$f":"Simulator!$N$14*AR66/1000","v":8.2881892963919999},{"$f":"INDEX(MasterTable[],MATCH(Simulator!E65,MasterTable[P/N],0),COLUMN(MasterTable[Thermal Resistance]))","v":6.2849999999999989E-2},25.520912697278238,null,{"$f":"IF(Simulator!$D$10=\"Case\",F66,Simulator!$I$8)","v":25.520912697278238},{"$f":"Simulator!$N$14*AW66/1000","v":-29.151810703607996},6.2849999999999989E-2,27.353104000000002,null,{"$f":"IF(Simulator!$D$10=\"Case\",Simulator!$I$8,K66)","v":25},{"$f":"IF(Simulator!$D$10=\"Case\",H66,Simulator!$I$8)","v":25.520912697278238},{"$f":"IF(#REF!=\"Tj\",N66,M66)","v":{"$error":"#REF!"}},null,{"$f":"INDEX(MasterTable[],MATCH(Simulator!E65,MasterTable[P/N],0),COLUMN(MasterTable[Typical Lumens]))","v":13423.199999999999},{"$f":"INDEX(MasterTable[],MATCH(Simulator!$E65,MasterTable[P/N],0),COLUMN(MasterTable[I^3]))","v":3.5695000000000001E-12},{"$f":"INDEX(MasterTable[],MATCH(Simulator!$E65,MasterTable[P/N],0),COLUMN(MasterTable[I^2]))","v":-4.7692000000000001E-8},{"$f":"INDEX(MasterTable[],MATCH(Simulator!$E65,MasterTable[P/N],0),COLUMN(MasterTable[I]))","v":5.6490000000000002E-4},{"$f":"INDEX(MasterTable[],MATCH(Simulator!$E65,MasterTable[P/N],0),COLUMN(MasterTable[I0]))","v":-9.9999999999999995E-8},{"$f":"R66*Simulator!$N$14^3+S66*Simulator!$N$14^2+T66*Simulator!$N$14+U66","v":0.13287818556799999},{"$f":"INDEX(MasterTable[],MATCH(Simulator!$E65,MasterTable[P/N],0),COLUMN(MasterTable[F^4]))","v":0},{"$f":"INDEX(MasterTable[],MATCH(Simulator!$E65,MasterTable[P/N],0),COLUMN(MasterTable[F^3]))","v":0},{"$f":"INDEX(MasterTable[],MATCH(Simulator!$E65,MasterTable[P/N],0),COLUMN(MasterTable[F^2]))","v":-3.6592E-6},{"$f":"INDEX(MasterTable[],MATCH(Simulator!$E65,MasterTable[P/N],0),COLUMN(MasterTable[F]))","v":-1.0345506E-3},{"$f":"INDEX(MasterTable[],MATCH(Simulator!$E65,MasterTable[P/N],0),COLUMN(MasterTable[F0]))","v":1.0240956264000001},{"$f":"IF(Simulator!$I$8=85,AE66,W66*M66^4+X66*M66^3+Y66*M66^2+Z66*M66+AA66)","v":0.99594486140000005},{"$f":"Q66*V66*AB66","v":1776.4175106850296},{"$f":"IF(AND(Simulator!$I$8=85,Simulator!$N$14=Simulator!H65),Q66*AE66,AC66)","v":1776.4175106850296},{"$f":"VLOOKUP(MID(Simulator!E65,6,3),Data!Q147:R170,2,FALSE)","v":0.9},{"$f":"INDEX(MasterTable[],MATCH(Simulator!$E65,MasterTable[P/N],0),COLUMN(MasterTable[Typical Voltage]))","v":37.6},{"$f":"INDEX(MasterTable[],MATCH(Simulator!$E65,MasterTable[P/N],0),COLUMN(MasterTable[V^4]))","v":0},{"$f":"INDEX(MasterTable[],MATCH(Simulator!$E65,MasterTable[P/N],0),COLUMN(MasterTable[V^3]))","v":0},{"$f":"INDEX(MasterTable[],MATCH(Simulator!$E65,MasterTable[P/N],0),COLUMN(MasterTable[V^2]))","v":-1.9579999999999999E-7},{"$f":"INDEX(MasterTable[],MATCH(Simulator!$E65,MasterTable[P/N],0),COLUMN(MasterTable[V]))","v":2.6016281E-3},{"$f":"INDEX(MasterTable[],MATCH(Simulator!$E65,MasterTable[P/N],0),COLUMN(MasterTable[V0]))","v":33.921009404300001},{"$f":"AG66*Simulator!$N$14^4+AH66*Simulator!$N$14^3+AI66*Simulator!$N$14^2+AJ66*Simulator!$N$14+AK66","v":34.5341220683},{"$f":"INDEX(MasterTable[],MATCH(Simulator!$E65,MasterTable[P/N],0),COLUMN(MasterTable[T^3]))","v":0},{"$f":"INDEX(MasterTable[],MATCH(Simulator!$E65,MasterTable[P/N],0),COLUMN(MasterTable[T^2]))","v":0},{"$f":"INDEX(MasterTable[],MATCH(Simulator!$E65,MasterTable[P/N],0),COLUMN(MasterTable[T]))","v":-0.02},{"$f":"INDEX(MasterTable[],MATCH(Simulator!$E65,MasterTable[P/N],0),COLUMN(MasterTable[T0]))","v":38.5},37.6,{"$f":"AL66+AQ66-AF66","v":34.5341220683},null,{"$f":"INDEX(MasterTable[],MATCH(Simulator!$E65,MasterTable[P/N],0),COLUMN(MasterTable['# of Die]))","v":312},34.5341220683,{"$f":"INDEX(Tj_to_Vf6[],MATCH(Simulator!$I$8,Tj_to_Vf6[Vf],1),COLUMN(Tj_to_Vf6[Vf]))","v":-0.5},-121.46587793169999,{"$f":"IF(AND(Simulator!$I$8=25,Simulator!$N$14=Simulator!H65),AF66,AR66)","v":34.5341220683},null,-17.399999999999999]
[]
["Calculations using Lumen Input",null,"Converting Tc to Tj",null,null,null,null,"Converting Tj to Tc",null,null,null,null,null,null,null,null,"Calculating Current",null,null,null,null,null,null,null,null,null,null,null,null,null,null,"Calculating Voltage w/ Tc",null,null,null,null,null,null,null,null,null,null,null,null,null,null,"Calculating Voltage w/ Tj"]
[null,null,"Tj = Tc + Power*Thermal Resistance",null,null,null,null,"Tc = Tj - Power*Thermal Resistance",null,null,null,null,null,null,null,null,"I=Fr@I*Eqn; Fr@I=Fro/Fr@T",null,null,null,null,null,null,null,null,null,null,null,null,null,null,"Vf@Tc&I = Vf@I + Vf@Tc-Vft",null,null,null,null,null,null,null,null,null,null,null,null,null,null,"Vf@Tj&I = Vf@I + Vf@Tj Modifier"]
[null,null,"Tc","Power","Thermal Resistance","Tc>>Tj",null,"Tj","Power","Thermal Resistance","Tj>>Tc",null,"Tc","Tj",{"$f":"IF(Simulator!$D$10=\"Case\",\"Tj\",\"Tc\")","v":"Tj"},null,"Ft","Fr@I Eqn",null,null,null,"Req'd I",null,"Fr@Tc Eqn",null,null,null,"Fr@Tc","Fro",null,"Fr@I","Vft",null,"Vf@I Eqn",null,null,null,"Vf@I","Vf@Tc Eqn",null,null,null,"Vf@Tc","Vf@Tc&I",null,"# of Die","Vf@I","Vf@Tj Modifier, per Die","Vf@Tj&I","Voltage Report"]
[null,"V6",{"$f":"IF(Simulator!$D$10=\"Case\",Simulator!$I$8,M71)","v":25},{"$f":"Simulator!I73*AR71/1000","v":{"$error":"#VALUE!"}},{"$f":"INDEX(MasterTable[],MATCH(Simulator!E73,MasterTable[P/N],0),COLUMN(MasterTable[Thermal Resistance]))","v":{"$error":"#N/A"}},{"$f":"C71+D71*E71","v":{"$error":"#VALUE!"}},null,{"$f":"IF(Simulator!$D$10=\"Case\",F71,Simulator!$I$8)","v":{"$error":"#VALUE!"}},{"$f":"Simulator!I73*AW71/1000","v":{"$error":"#VALUE!"}},{"$f":"E71","v":{"$error":"#N/A"}},{"$f":"H71-I71*J71","v":{"$error":"#VALUE!"}},null,{"$f":"IF(Simulator!$D$10=\"Case\",Simulator!$I$8,K71)","v":25},{"$f":"IF(Simulator!$D$10=\"Case\",H71,Simulator!$I$8)","v":{"$error":"#VALUE!"}},{"$f":"IF(#REF!=\"Tj\",N71,M71)","v":{"$error":"#REF!"}},null,{"$f":"INDEX(MasterTable[],MATCH(Simulator!E73,MasterTable[P/N],0),COLUMN(MasterTable[Typical Lumens]))","v":{"$error":"#N/A"}},{"$f":"INDEX(MasterTable[],MATCH(Simulator!$E73,MasterTable[P/N],0),COLUMN(MasterTable[I^3]))","v":{"$error":"#N/A"}},{"$f":"INDEX(MasterTable[],MATCH(Simulator!$E73,MasterTable[P/N],0),COLUMN(MasterTable[I^2]))","v":{"$error":"#N/A"}},{"$f":"INDEX(MasterTable[],MATCH(Simulator!$E73,MasterTable[P/N],0),COLUMN(MasterTable[I]))","v":{"$error":"#N/A"}},{"$f":"INDEX(MasterTable[],MATCH(Simulator!$E73,MasterTable[P/N],0),COLUMN(MasterTable[I0]))","v":{"$error":"#N/A"}},{"$f":"(-T71+SQRT(T71^2-4*S71*(U71-AE71)))/(2*S71)","v":{"$error":"#N/A"}},{"$f":"INDEX(MasterTable[],MATCH(Simulator!$E73,MasterTable[P/N],0),COLUMN(MasterTable[F^4]))","v":{"$error":"#N/A"}},{"$f":"INDEX(MasterTable[],MATCH(Simulator!$E73,MasterTable[P/N],0),COLUMN(MasterTable[F^3]))","v":{"$error":"#N/A"}},{"$f":"INDEX(MasterTable[],MATCH(Simulator!$E73,MasterTable[P/N],0),COLUMN(MasterTable[F^2]))","v":{"$error":"#N/A"}},{"$f":"INDEX(MasterTable[],MATCH(Simulator!$E73,MasterTable[P/N],0),COLUMN(MasterTable[F]))","v":{"$error":"#N/A"}},{"$f":"INDEX(MasterTable[],MATCH(Simulator!$E73,MasterTable[P/N],0),COLUMN(MasterTable[F0]))","v":{"$error":"#N/A"}},{"$f":"IF(Simulator!$I$8=\"case\",Calculations!AE71,W71*M71^4+X71*M71^3+Y71*M71^2+Z71*M71+AA71)","v":{"$error":"#N/A"}},{"$f":"Simulator!$N$69/Q71","v":{"$error":"#N/A"}},null,{"$f":"AC71/AB71","v":{"$error":"#N/A"}},{"$f":"INDEX(MasterTable[],MATCH(Simulator!$E73,MasterTable[P/N],0),COLUMN(MasterTable[Typical Voltage]))","v":{"$error":"#N/A"}},{"$f":"INDEX(MasterTable[],MATCH(Simulator!$E73,MasterTable[P/N],0),COLUMN(MasterTable[V^4]))","v":{"$error":"#N/A"}},{"$f":"INDEX(MasterTable[],MATCH(Simulator!$E73,MasterTable[P/N],0),COLUMN(MasterTable[V^3]))","v":{"$error":"#N/A"}},{"$f":"INDEX(MasterTable[],MATCH(Simulator!$E73,MasterTable[P/N],0),COLUMN(MasterTable[V^2]))","v":{"$error":"#N/A"}},{"$f":"INDEX(MasterTable[],MATCH(Simulator!$E73,MasterTable[P/N],0),COLUMN(MasterTable[V]))","v":{"$error":"#N/A"}},{"$f":"INDEX(MasterTable[],MATCH(Simulator!$E73,MasterTable[P/N],0),COLUMN(MasterTable[V0]))","v":{"$error":"#N/A"}},{"$f":"AG71*V71^4+AH71*V71^3+AI71*V71^2+AJ71*V71+AK71","v":{"$error":"#N/A"}},{"$f":"INDEX(MasterTable[],MATCH(Simulator!$E73,MasterTable[P/N],0),COLUMN(MasterTable[T^3]))","v":{"$error":"#N/A"}},{"$f":"INDEX(MasterTable[],MATCH(Simulator!$E73,MasterTable[P/N],0),COLUMN(MasterTable[T^2]))","v":{"$error":"#N/A"}},{"$f":"INDEX(MasterTable[],MATCH(Simulator!$E73,MasterTable[P/N],0),COLUMN(MasterTable[T]))","v":{"$error":"#N/A"}},{"$f":"INDEX(MasterTable[],MATCH(Simulator!$E73,MasterTable[P/N],0),COLUMN(MasterTable[T0]))","v":{"$error":"#N/A"}},{"$f":"AM71*M71^3+AN71*M71^2+AO71*M71+AP71","v":{"$error":"#N/A"}},{"$f":"AL71+AQ71-AF71","v":{"$error":"#N/A"}},null,{"$f":"INDEX(MasterTable[],MATCH(Simulator!$E73,MasterTable[P/N],0),COLUMN(MasterTable['# of Die]))","v":{"$error":"#N/A"}},{"$f":"AL71","v":{"$error":"#N/A"}},{"$f":"INDEX(Tj_to_Vf6[],MATCH(Simulator!$I$8,Tj_to_Vf6[Vf],1),COLUMN(Tj_to_Vf6[Vf]))","v":-0.5},{"$f":"AU71+AV71*AT71","v":{"$error":"#N/A"}},{"$f":"IF(AND(Simulator!$I$8=25,Simulator!$N$14=Simulator!G73),AF71,AR71)","v":{"$error":"#N/A"}}]
[null,"V6",{"$f":"IF(Simulator!$D$10=\"Case\",Simulator!$I$8,M72)","v":25},{"$f":"Simulator!I74*AR72/1000","v":{"$error":"#VALUE!"}},{"$f":"INDEX(MasterTable[],MATCH(Simulator!E74,MasterTable[P/N],0),COLUMN(MasterTable[Thermal Resistance]))","v":{"$error":"#N/A"}},{"$error":"#VALUE!"},null,{"$f":"IF(Simulator!$D$10=\"Case\",F72,Simulator!$I$8)","v":{"$error":"#VALUE!"}},{"$f":"Simulator!I74*AW72/1000","v":{"$error":"#VALUE!"}},{"$error":"#N/A"},{"$error":"#VALUE!"},null,{"$f":"IF(Simulator!$D$10=\"Case\",Simulator!$I$8,K72)","v":25},{"$f":"IF(Simulator!$D$10=\"Case\",H72,Simulator!$I$8)","v":{"$error":"#VALUE!"}},{"$f":"IF(#REF!=\"Tj\",N72,M72)","v":{"$error":"#REF!"}},null,{"$f":"INDEX(MasterTable[],MATCH(Simulator!E74,MasterTable[P/N],0),COLUMN(MasterTable[Typical Lumens]))","v":{"$error":"#N/A"}},{"$f":"INDEX(MasterTable[],MATCH(Simulator!$E74,MasterTable[P/N],0),COLUMN(MasterTable[I^3]))","v":{"$error":"#N/A"}},{"$f":"INDEX(MasterTable[],MATCH(Simulator!$E74,MasterTable[P/N],0),COLUMN(MasterTable[I^2]))","v":{"$error":"#N/A"}},{"$f":"INDEX(MasterTable[],MATCH(Simulator!$E74,MasterTable[P/N],0),COLUMN(MasterTable[I]))","v":{"$error":"#N/A"}},{"$f":"INDEX(MasterTable[],MATCH(Simulator!$E74,MasterTable[P/N],0),COLUMN(MasterTable[I0]))","v":{"$error":"#N/A"}},{"$error":"#N/A"},{"$f":"INDEX(MasterTable[],MATCH(Simulator!$E74,MasterTable[P/N],0),COLUMN(MasterTable[F^4]))","v":{"$error":"#N/A"}},{"$f":"INDEX(MasterTable[],MATCH(Simulator!$E74,MasterTable[P/N],0),COLUMN(MasterTable[F^3]))","v":{"$error":"#N/A"}},{"$f":"INDEX(MasterTable[],MATCH(Simulator!$E74,MasterTable[P/N],0),COLUMN(MasterTable[F^2]))","v":{"$error":"#N/A"}},{"$f":"INDEX(MasterTable[],MATCH(Simulator!$E74,MasterTable[P/N],0),COLUMN(MasterTable[F]))","v":{"$error":"#N/A"}},{"$f":"INDEX(MasterTable[],MATCH(Simulator!$E74,MasterTable[P/N],0),COLUMN(MasterTable[F0]))","v":{"$error":"#N/A"}},{"$f":"IF(Simulator!$I$8=\"case\",Calculations!AE72,W72*M72^4+X72*M72^3+Y72*M72^2+Z72*M72+AA72)","v":{"$error":"#N/A"}},{"$f":"Simulator!$N$69/Q72","v":{"$error":"#N/A"}},null,{"$error":"#N/A"},{"$f":"INDEX(MasterTable[],MATCH(Simulator!$E74,MasterTable[P/N],0),COLUMN(MasterTable[Typical Voltage]))","v":{"$error":"#N/A"}},{"$f":"INDEX(MasterTable[],MATCH(Simulator!$E74,MasterTable[P/N],0),COLUMN(MasterTable[V^4]))","v":{"$error":"#N/A"}},{"$f":"INDEX(MasterTable[],MATCH(Simulator!$E74,MasterTable[P/N],0),COLUMN(MasterTable[V^3]))","v":{"$error":"#N/A"}},{"$f":"INDEX(MasterTable[],MATCH(Simulator!$E74,MasterTable[P/N],0),COLUMN(MasterTable[V^2]))","v":{"$error":"#N/A"}},{"$f":"INDEX(MasterTable[],MATCH(Simulator!$E74,MasterTable[P/N],0),COLUMN(MasterTable[V]))","v":{"$error":"#N/A"}},{"$f":"INDEX(MasterTable[],MATCH(Simulator!$E74,MasterTable[P/N],0),COLUMN(MasterTable[V0]))","v":{"$error":"#N/A"}},{"$f":"AG72*V72^4+AH72*V72^3+AI72*V72^2+AJ72*V72+AK72","v":{"$error":"#N/A"}},{"$f":"INDEX(MasterTable[],MATCH(Simulator!$E74,MasterTable[P/N],0),COLUMN(MasterTable[T^3]))","v":{"$error":"#N/A"}},{"$f":"INDEX(MasterTable[],MATCH(Simulator!$E74,MasterTable[P/N],0),COLUMN(MasterTable[T^2]))","v":{"$error":"#N/A"}},{"$f":"INDEX(MasterTable[],MATCH(Simulator!$E74,MasterTable[P/N],0),COLUMN(MasterTable[T]))","v":{"$error":"#N/A"}},{"$f":"INDEX(MasterTable[],MATCH(Simulator!$E74,MasterTable[P/N],0),COLUMN(MasterTable[T0]))","v":{"$error":"#N/A"}},{"$error":"#N/A"},{"$error":"#N/A"},null,{"$f":"INDEX(MasterTable[],MATCH(Simulator!$E74,MasterTable[P/N],0),COLUMN(MasterTable['# of Die]))","v":{"$error":"#N/A"}},{"$error":"#N/A"},{"$f":"INDEX(Tj_to_Vf6[],MATCH(Simulator!$I$8,Tj_to_Vf6[Vf],1),COLUMN(Tj_to_Vf6[Vf]))","v":-0.5},{"$error":"#N/A"},{"$f":"IF(AND(Simulator!$I$8=25,Simulator!$N$14=Simulator!G74),AF72,AR72)","v":{"$error":"#N/A"}}]
[null,"V8",{"$f":"IF(Simulator!$D$10=\"Case\",Simulator!$I$8,M73)","v":25},{"$f":"Simulator!I75*AR73/1000","v":{"$error":"#VALUE!"}},{"$f":"INDEX(MasterTable[],MATCH(Simulator!E75,MasterTable[P/N],0),COLUMN(MasterTable[Thermal Resistance]))","v":{"$error":"#N/A"}},{"$error":"#VALUE!"},null,{"$f":"IF(Simulator!$D$10=\"Case\",F73,Simulator!$I$8)","v":{"$error":"#VALUE!"}},{"$f":"Simulator!I75*AW73/1000","v":{"$error":"#VALUE!"}},{"$error":"#N/A"},{"$error":"#VALUE!"},null,{"$f":"IF(Simulator!$D$10=\"Case\",Simulator!$I$8,K73)","v":25},{"$f":"IF(Simulator!$D$10=\"Case\",H73,Simulator!$I$8)","v":{"$error":"#VALUE!"}},{"$f":"IF(#REF!=\"Tj\",N73,M73)","v":{"$error":"#REF!"}},null,{"$f":"INDEX(MasterTable[],MATCH(Simulator!E75,MasterTable[P/N],0),COLUMN(MasterTable[Typical Lumens]))","v":{"$error":"#N/A"}},{"$f":"INDEX(MasterTable[],MATCH(Simulator!$E75,MasterTable[P/N],0),COLUMN(MasterTable[I^3]))","v":{"$error":"#N/A"}},{"$f":"INDEX(MasterTable[],MATCH(Simulator!$E75,MasterTable[P/N],0),COLUMN(MasterTable[I^2]))","v":{"$error":"#N/A"}},{"$f":"INDEX(MasterTable[],MATCH(Simulator!$E75,MasterTable[P/N],0),COLUMN(MasterTable[I]))","v":{"$error":"#N/A"}},{"$f":"INDEX(MasterTable[],MATCH(Simulator!$E75,MasterTable[P/N],0),COLUMN(MasterTable[I0]))","v":{"$error":"#N/A"}},{"$error":"#N/A"},{"$f":"INDEX(MasterTable[],MATCH(Simulator!$E75,MasterTable[P/N],0),COLUMN(MasterTable[F^4]))","v":{"$error":"#N/A"}},{"$f":"INDEX(MasterTable[],MATCH(Simulator!$E75,MasterTable[P/N],0),COLUMN(MasterTable[F^3]))","v":{"$error":"#N/A"}},{"$f":"INDEX(MasterTable[],MATCH(Simulator!$E75,MasterTable[P/N],0),COLUMN(MasterTable[F^2]))","v":{"$error":"#N/A"}},{"$f":"INDEX(MasterTable[],MATCH(Simulator!$E75,MasterTable[P/N],0),COLUMN(MasterTable[F]))","v":{"$error":"#N/A"}},{"$f":"INDEX(MasterTable[],MATCH(Simulator!$E75,MasterTable[P/N],0),COLUMN(MasterTable[F0]))","v":{"$error":"#N/A"}},{"$f":"IF(Simulator!$I$8=\"case\",Calculations!AE73,W73*M73^4+X73*M73^3+Y73*M73^2+Z73*M73+AA73)","v":{"$error":"#N/A"}},{"$f":"Simulator!$N$69/Q73","v":{"$error":"#N/A"}},null,{"$error":"#N/A"},{"$f":"INDEX(MasterTable[],MATCH(Simulator!$E75,MasterTable[P/N],0),COLUMN(MasterTable[Typical Voltage]))","v":{"$error":"#N/A"}},{"$f":"INDEX(MasterTable[],MATCH(Simulator!$E75,MasterTable[P/N],0),COLUMN(MasterTable[V^4]))","v":{"$error":"#N/A"}},{"$f":"INDEX(MasterTable[],MATCH(Simulator!$E75,MasterTable[P/N],0),COLUMN(MasterTable[V^3]))","v":{"$error":"#N/A"}},{"$f":"INDEX(MasterTable[],MATCH(Simulator!$E75,MasterTable[P/N],0),COLUMN(MasterTable[V^2]))","v":{"$error":"#N/A"}},{"$f":"INDEX(MasterTable[],MATCH(Simulator!$E75,MasterTable[P/N],0),COLUMN(MasterTable[V]))","v":{"$error":"#N/A"}},{"$f":"INDEX(MasterTable[],MATCH(Simulator!$E75,MasterTable[P/N],0),COLUMN(MasterTable[V0]))","v":{"$error":"#N/A"}},{"$error":"#N/A"},{"$f":"INDEX(MasterTable[],MATCH(Simulator!$E75,MasterTable[P/N],0),COLUMN(MasterTable[T^3]))","v":{"$error":"#N/A"}},{"$f":"INDEX(MasterTable[],MATCH(Simulator!$E75,MasterTable[P/N],0),COLUMN(MasterTable[T^2]))","v":{"$error":"#N/A"}},{"$f":"INDEX(MasterTable[],MATCH(Simulator!$E75,MasterTable[P/N],0),COLUMN(MasterTable[T]))","v":{"$error":"#N/A"}},{"$f":"INDEX(MasterTable[],MATCH(Simulator!$E75,MasterTable[P/N],0),COLUMN(MasterTable[T0]))","v":{"$error":"#N/A"}},{"$error":"#N/A"},{"$error":"#N/A"},null,{"$f":"INDEX(MasterTable[],MATCH(Simulator!$E75,MasterTable[P/N],0),COLUMN(MasterTable['# of Die]))","v":{"$error":"#N/A"}},{"$error":"#N/A"},{"$f":"INDEX(Tj_to_Vf6[],MATCH(Simulator!$I$8,Tj_to_Vf6[Vf],1),COLUMN(Tj_to_Vf6[Vf]))","v":-0.5},{"$error":"#N/A"},{"$f":"IF(AND(Simulator!$I$8=25,Simulator!$N$14=Simulator!G75),AF73,AR73)","v":{"$error":"#N/A"}}]
[null,"V8",{"$f":"IF(Simulator!$D$10=\"Case\",Simulator!$I$8,M74)","v":25},{"$f":"Simulator!I76*AR74/1000","v":{"$error":"#VALUE!"}},{"$f":"INDEX(MasterTable[],MATCH(Simulator!E76,MasterTable[P/N],0),COLUMN(MasterTable[Thermal Resistance]))","v":{"$error":"#N/A"}},{"$error":"#VALUE!"},null,{"$f":"IF(Simulator!$D$10=\"Case\",F74,Simulator!$I$8)","v":{"$error":"#VALUE!"}},{"$f":"Simulator!I76*AW74/1000","v":{"$error":"#VALUE!"}},{"$error":"#N/A"},{"$error":"#VALUE!"},null,{"$f":"IF(Simulator!$D$10=\"Case\",Simulator!$I$8,K74)","v":25},{"$f":"IF(Simulator!$D$10=\"Case\",H74,Simulator!$I$8)","v":{"$error":"#VALUE!"}},{"$f":"IF(#REF!=\"Tj\",N74,M74)","v":{"$error":"#REF!"}},null,{"$f":"INDEX(MasterTable[],MATCH(Simulator!E76,MasterTable[P/N],0),COLUMN(MasterTable[Typical Lumens]))","v":{"$error":"#N/A"}},{"$f":"INDEX(MasterTable[],MATCH(Simulator!$E76,MasterTable[P/N],0),COLUMN(MasterTable[I^3]))","v":{"$error":"#N/A"}},{"$f":"INDEX(MasterTable[],MATCH(Simulator!$E76,MasterTable[P/N],0),COLUMN(MasterTable[I^2]))","v":{"$error":"#N/A"}},{"$f":"INDEX(MasterTable[],MATCH(Simulator!$E76,MasterTable[P/N],0),COLUMN(MasterTable[I]))","v":{"$error":"#N/A"}},{"$f":"INDEX(MasterTable[],MATCH(Simulator!$E76,MasterTable[P/N],0),COLUMN(MasterTable[I0]))","v":{"$error":"#N/A"}},{"$error":"#N/A"},{"$f":"INDEX(MasterTable[],MATCH(Simulator!$E76,MasterTable[P/N],0),COLUMN(MasterTable[F^4]))","v":{"$error":"#N/A"}},{"$f":"INDEX(MasterTable[],MATCH(Simulator!$E76,MasterTable[P/N],0),COLUMN(MasterTable[F^3]))","v":{"$error":"#N/A"}},{"$f":"INDEX(MasterTable[],MATCH(Simulator!$E76,MasterTable[P/N],0),COLUMN(MasterTable[F^2]))","v":{"$error":"#N/A"}},{"$f":"INDEX(MasterTable[],MATCH(Simulator!$E76,MasterTable[P/N],0),COLUMN(MasterTable[F]))","v":{"$error":"#N/A"}},{"$f":"INDEX(MasterTable[],MATCH(Simulator!$E76,MasterTable[P/N],0),COLUMN(MasterTable[F0]))","v":{"$error":"#N/A"}},{"$f":"IF(Simulator!$I$8=\"case\",Calculations!AE74,W74*M74^4+X74*M74^3+Y74*M74^2+Z74*M74+AA74)","v":{"$error":"#N/A"}},{"$f":"Simulator!$N$69/Q74","v":{"$error":"#N/A"}},null,{"$error":"#N/A"},{"$f":"INDEX(MasterTable[],MATCH(Simulator!$E76,MasterTable[P/N],0),COLUMN(MasterTable[Typical Voltage]))","v":{"$error":"#N/A"}},{"$f":"INDEX(MasterTable[],MATCH(Simulator!$E76,MasterTable[P/N],0),COLUMN(MasterTable[V^4]))","v":{"$error":"#N/A"}},{"$f":"INDEX(MasterTable[],MATCH(Simulator!$E76,MasterTable[P/N],0),COLUMN(MasterTable[V^3]))","v":{"$error":"#N/A"}},{"$f":"INDEX(MasterTable[],MATCH(Simulator!$E76,MasterTable[P/N],0),COLUMN(MasterTable[V^2]))","v":{"$error":"#N/A"}},{"$f":"INDEX(MasterTable[],MATCH(Simulator!$E76,MasterTable[P/N],0),COLUMN(MasterTable[V]))","v":{"$error":"#N/A"}},{"$f":"INDEX(MasterTable[],MATCH(Simulator!$E76,MasterTable[P/N],0),COLUMN(MasterTable[V0]))","v":{"$error":"#N/A"}},{"$error":"#N/A"},{"$f":"INDEX(MasterTable[],MATCH(Simulator!$E76,MasterTable[P/N],0),COLUMN(MasterTable[T^3]))","v":{"$error":"#N/A"}},{"$f":"INDEX(MasterTable[],MATCH(Simulator!$E76,MasterTable[P/N],0),COLUMN(MasterTable[T^2]))","v":{"$error":"#N/A"}},{"$f":"INDEX(MasterTable[],MATCH(Simulator!$E76,MasterTable[P/N],0),COLUMN(MasterTable[T]))","v":{"$error":"#N/A"}},{"$f":"INDEX(MasterTable[],MATCH(Simulator!$E76,MasterTable[P/N],0),COLUMN(MasterTable[T0]))","v":{"$error":"#N/A"}},{"$error":"#N/A"},{"$error":"#N/A"},null,{"$f":"INDEX(MasterTable[],MATCH(Simulator!$E76,MasterTable[P/N],0),COLUMN(MasterTable['# of Die]))","v":{"$error":"#N/A"}},{"$error":"#N/A"},{"$f":"INDEX(Tj_to_Vf6[],MATCH(Simulator!$I$8,Tj_to_Vf6[Vf],1),COLUMN(Tj_to_Vf6[Vf]))","v":-0.5},{"$error":"#N/A"},{"$f":"IF(AND(Simulator!$I$8=25,Simulator!$N$14=Simulator!G76),AF74,AR74)","v":{"$error":"#N/A"}}]
[null,"V8",{"$f":"IF(Simulator!$D$10=\"Case\",Simulator!$I$8,M75)","v":25},{"$f":"Simulator!I77*AR75/1000","v":{"$error":"#VALUE!"}},{"$f":"INDEX(MasterTable[],MATCH(Simulator!E77,MasterTable[P/N],0),COLUMN(MasterTable[Thermal Resistance]))","v":{"$error":"#N/A"}},{"$error":"#VALUE!"},null,{"$f":"IF(Simulator!$D$10=\"Case\",F75,Simulator!$I$8)","v":{"$error":"#VALUE!"}},{"$f":"Simulator!I77*AW75/1000","v":{"$error":"#VALUE!"}},{"$error":"#N/A"},{"$error":"#VALUE!"},null,{"$f":"IF(Simulator!$D$10=\"Case\",Simulator!$I$8,K75)","v":25},{"$f":"IF(Simulator!$D$10=\"Case\",H75,Simulator!$I$8)","v":{"$error":"#VALUE!"}},{"$f":"IF(#REF!=\"Tj\",N75,M75)","v":{"$error":"#REF!"}},null,{"$f":"INDEX(MasterTable[],MATCH(Simulator!E77,MasterTable[P/N],0),COLUMN(MasterTable[Typical Lumens]))","v":{"$error":"#N/A"}},{"$f":"INDEX(MasterTable[],MATCH(Simulator!$E77,MasterTable[P/N],0),COLUMN(MasterTable[I^3]))","v":{"$error":"#N/A"}},{"$f":"INDEX(MasterTable[],MATCH(Simulator!$E77,MasterTable[P/N],0),COLUMN(MasterTable[I^2]))","v":{"$error":"#N/A"}},{"$f":"INDEX(MasterTable[],MATCH(Simulator!$E77,MasterTable[P/N],0),COLUMN(MasterTable[I]))","v":{"$error":"#N/A"}},{"$f":"INDEX(MasterTable[],MATCH(Simulator!$E77,MasterTable[P/N],0),COLUMN(MasterTable[I0]))","v":{"$error":"#N/A"}},{"$error":"#N/A"},{"$f":"INDEX(MasterTable[],MATCH(Simulator!$E77,MasterTable[P/N],0),COLUMN(MasterTable[F^4]))","v":{"$error":"#N/A"}},{"$f":"INDEX(MasterTable[],MATCH(Simulator!$E77,MasterTable[P/N],0),COLUMN(MasterTable[F^3]))","v":{"$error":"#N/A"}},{"$f":"INDEX(MasterTable[],MATCH(Simulator!$E77,MasterTable[P/N],0),COLUMN(MasterTable[F^2]))","v":{"$error":"#N/A"}},{"$f":"INDEX(MasterTable[],MATCH(Simulator!$E77,MasterTable[P/N],0),COLUMN(MasterTable[F]))","v":{"$error":"#N/A"}},{"$f":"INDEX(MasterTable[],MATCH(Simulator!$E77,MasterTable[P/N],0),COLUMN(MasterTable[F0]))","v":{"$error":"#N/A"}},{"$f":"IF(Simulator!$I$8=\"case\",Calculations!AE75,W75*M75^4+X75*M75^3+Y75*M75^2+Z75*M75+AA75)","v":{"$error":"#N/A"}},{"$f":"Simulator!$N$69/Q75","v":{"$error":"#N/A"}},null,{"$error":"#N/A"},{"$f":"INDEX(MasterTable[],MATCH(Simulator!$E77,MasterTable[P/N],0),COLUMN(MasterTable[Typical Voltage]))","v":{"$error":"#N/A"}},{"$f":"INDEX(MasterTable[],MATCH(Simulator!$E77,MasterTable[P/N],0),COLUMN(MasterTable[V^4]))","v":{"$error":"#N/A"}},{"$f":"INDEX(MasterTable[],MATCH(Simulator!$E77,MasterTable[P/N],0),COLUMN(MasterTable[V^3]))","v":{"$error":"#N/A"}},{"$f":"INDEX(MasterTable[],MATCH(Simulator!$E77,MasterTable[P/N],0),COLUMN(MasterTable[V^2]))","v":{"$error":"#N/A"}},{"$f":"INDEX(MasterTable[],MATCH(Simulator!$E77,MasterTable[P/N],0),COLUMN(MasterTable[V]))","v":{"$error":"#N/A"}},{"$f":"INDEX(MasterTable[],MATCH(Simulator!$E77,MasterTable[P/N],0),COLUMN(MasterTable[V0]))","v":{"$error":"#N/A"}},{"$error":"#N/A"},{"$f":"INDEX(MasterTable[],MATCH(Simulator!$E77,MasterTable[P/N],0),COLUMN(MasterTable[T^3]))","v":{"$error":"#N/A"}},{"$f":"INDEX(MasterTable[],MATCH(Simulator!$E77,MasterTable[P/N],0),COLUMN(MasterTable[T^2]))","v":{"$error":"#N/A"}},{"$f":"INDEX(MasterTable[],MATCH(Simulator!$E77,MasterTable[P/N],0),COLUMN(MasterTable[T]))","v":{"$error":"#N/A"}},{"$f":"INDEX(MasterTable[],MATCH(Simulator!$E77,MasterTable[P/N],0),COLUMN(MasterTable[T0]))","v":{"$error":"#N/A"}},{"$error":"#N/A"},{"$error":"#N/A"},null,{"$f":"INDEX(MasterTable[],MATCH(Simulator!$E77,MasterTable[P/N],0),COLUMN(MasterTable['# of Die]))","v":{"$error":"#N/A"}},{"$error":"#N/A"},{"$f":"INDEX(Tj_to_Vf6[],MATCH(Simulator!$I$8,Tj_to_Vf6[Vf],1),COLUMN(Tj_to_Vf6[Vf]))","v":-0.5},{"$error":"#N/A"},{"$f":"IF(AND(Simulator!$I$8=25,Simulator!$N$14=Simulator!G77),AF75,AR75)","v":{"$error":"#N/A"}}]
[null,"V10",{"$f":"IF(Simulator!$D$10=\"Case\",Simulator!$I$8,M76)","v":25},{"$f":"Simulator!I78*AR76/1000","v":{"$error":"#VALUE!"}},{"$f":"INDEX(MasterTable[],MATCH(Simulator!E78,MasterTable[P/N],0),COLUMN(MasterTable[Thermal Resistance]))","v":{"$error":"#N/A"}},{"$error":"#VALUE!"},null,{"$f":"IF(Simulator!$D$10=\"Case\",F76,Simulator!$I$8)","v":{"$error":"#VALUE!"}},{"$f":"Simulator!I78*AW76/1000","v":{"$error":"#VALUE!"}},{"$error":"#N/A"},{"$error":"#VALUE!"},null,{"$f":"IF(Simulator!$D$10=\"Case\",Simulator!$I$8,K76)","v":25},{"$f":"IF(Simulator!$D$10=\"Case\",H76,Simulator!$I$8)","v":{"$error":"#VALUE!"}},{"$f":"IF(#REF!=\"Tj\",N76,M76)","v":{"$error":"#REF!"}},null,{"$f":"INDEX(MasterTable[],MATCH(Simulator!E78,MasterTable[P/N],0),COLUMN(MasterTable[Typical Lumens]))","v":{"$error":"#N/A"}},{"$f":"INDEX(MasterTable[],MATCH(Simulator!$E78,MasterTable[P/N],0),COLUMN(MasterTable[I^3]))","v":{"$error":"#N/A"}},{"$f":"INDEX(MasterTable[],MATCH(Simulator!$E78,MasterTable[P/N],0),COLUMN(MasterTable[I^2]))","v":{"$error":"#N/A"}},{"$f":"INDEX(MasterTable[],MATCH(Simulator!$E78,MasterTable[P/N],0),COLUMN(MasterTable[I]))","v":{"$error":"#N/A"}},{"$f":"INDEX(MasterTable[],MATCH(Simulator!$E78,MasterTable[P/N],0),COLUMN(MasterTable[I0]))","v":{"$error":"#N/A"}},{"$error":"#N/A"},{"$f":"INDEX(MasterTable[],MATCH(Simulator!$E78,MasterTable[P/N],0),COLUMN(MasterTable[F^4]))","v":{"$error":"#N/A"}},{"$f":"INDEX(MasterTable[],MATCH(Simulator!$E78,MasterTable[P/N],0),COLUMN(MasterTable[F^3]))","v":{"$error":"#N/A"}},{"$f":"INDEX(MasterTable[],MATCH(Simulator!$E78,MasterTable[P/N],0),COLUMN(MasterTable[F^2]))","v":{"$error":"#N/A"}},{"$f":"INDEX(MasterTable[],MATCH(Simulator!$E78,MasterTable[P/N],0),COLUMN(MasterTable[F]))","v":{"$error":"#N/A"}},{"$f":"INDEX(MasterTable[],MATCH(Simulator!$E78,MasterTable[P/N],0),COLUMN(MasterTable[F0]))","v":{"$error":"#N/A"}},{"$f":"IF(Simulator!$I$8=\"case\",Calculations!AE76,W76*M76^4+X76*M76^3+Y76*M76^2+Z76*M76+AA76)","v":{"$error":"#N/A"}},{"$f":"Simulator!$N$69/Q76","v":{"$error":"#N/A"}},null,{"$error":"#N/A"},{"$f":"INDEX(MasterTable[],MATCH(Simulator!$E78,MasterTable[P/N],0),COLUMN(MasterTable[Typical Voltage]))","v":{"$error":"#N/A"}},{"$f":"INDEX(MasterTable[],MATCH(Simulator!$E78,MasterTable[P/N],0),COLUMN(MasterTable[V^4]))","v":{"$error":"#N/A"}},{"$f":"INDEX(MasterTable[],MATCH(Simulator!$E78,MasterTable[P/N],0),COLUMN(MasterTable[V^3]))","v":{"$error":"#N/A"}},{"$f":"INDEX(MasterTable[],MATCH(Simulator!$E78,MasterTable[P/N],0),COLUMN(MasterTable[V^2]))","v":{"$error":"#N/A"}},{"$f":"INDEX(MasterTable[],MATCH(Simulator!$E78,MasterTable[P/N],0),COLUMN(MasterTable[V]))","v":{"$error":"#N/A"}},{"$f":"INDEX(MasterTable[],MATCH(Simulator!$E78,MasterTable[P/N],0),COLUMN(MasterTable[V0]))","v":{"$error":"#N/A"}},{"$error":"#N/A"},{"$f":"INDEX(MasterTable[],MATCH(Simulator!$E78,MasterTable[P/N],0),COLUMN(MasterTable[T^3]))","v":{"$error":"#N/A"}},{"$f":"INDEX(MasterTable[],MATCH(Simulator!$E78,MasterTable[P/N],0),COLUMN(MasterTable[T^2]))","v":{"$error":"#N/A"}},{"$f":"INDEX(MasterTable[],MATCH(Simulator!$E78,MasterTable[P/N],0),COLUMN(MasterTable[T]))","v":{"$error":"#N/A"}},{"$f":"INDEX(MasterTable[],MATCH(Simulator!$E78,MasterTable[P/N],0),COLUMN(MasterTable[T0]))","v":{"$error":"#N/A"}},{"$error":"#N/A"},{"$error":"#N/A"},null,{"$f":"INDEX(MasterTable[],MATCH(Simulator!$E78,MasterTable[P/N],0),COLUMN(MasterTable['# of Die]))","v":{"$error":"#N/A"}},{"$error":"#N/A"},{"$f":"INDEX(Tj_to_Vf6[],MATCH(Simulator!$I$8,Tj_to_Vf6[Vf],1),COLUMN(Tj_to_Vf6[Vf]))","v":-0.5},{"$error":"#N/A"},{"$f":"IF(AND(Simulator!$I$8=25,Simulator!$N$14=Simulator!G78),AF76,AR76)","v":{"$error":"#N/A"}}]
[null,"V13",{"$f":"IF(Simulator!$D$10=\"Case\",Simulator!$I$8,M77)","v":25},{"$f":"Simulator!I79*AR77/1000","v":{"$error":"#VALUE!"}},{"$f":"INDEX(MasterTable[],MATCH(Simulator!E79,MasterTable[P/N],0),COLUMN(MasterTable[Thermal Resistance]))","v":{"$error":"#N/A"}},{"$error":"#VALUE!"},null,{"$f":"IF(Simulator!$D$10=\"Case\",F77,Simulator!$I$8)","v":{"$error":"#VALUE!"}},{"$f":"Simulator!I79*AW77/1000","v":{"$error":"#VALUE!"}},{"$error":"#N/A"},{"$error":"#VALUE!"},null,{"$f":"IF(Simulator!$D$10=\"Case\",Simulator!$I$8,K77)","v":25},{"$f":"IF(Simulator!$D$10=\"Case\",H77,Simulator!$I$8)","v":{"$error":"#VALUE!"}},{"$f":"IF(#REF!=\"Tj\",N77,M77)","v":{"$error":"#REF!"}},null,{"$f":"INDEX(MasterTable[],MATCH(Simulator!E79,MasterTable[P/N],0),COLUMN(MasterTable[Typical Lumens]))","v":{"$error":"#N/A"}},{"$f":"INDEX(MasterTable[],MATCH(Simulator!$E79,MasterTable[P/N],0),COLUMN(MasterTable[I^3]))","v":{"$error":"#N/A"}},{"$f":"INDEX(MasterTable[],MATCH(Simulator!$E79,MasterTable[P/N],0),COLUMN(MasterTable[I^2]))","v":{"$error":"#N/A"}},{"$f":"INDEX(MasterTable[],MATCH(Simulator!$E79,MasterTable[P/N],0),COLUMN(MasterTable[I]))","v":{"$error":"#N/A"}},{"$f":"INDEX(MasterTable[],MATCH(Simulator!$E79,MasterTable[P/N],0),COLUMN(MasterTable[I0]))","v":{"$error":"#N/A"}},{"$error":"#N/A"},{"$f":"INDEX(MasterTable[],MATCH(Simulator!$E79,MasterTable[P/N],0),COLUMN(MasterTable[F^4]))","v":{"$error":"#N/A"}},{"$f":"INDEX(MasterTable[],MATCH(Simulator!$E79,MasterTable[P/N],0),COLUMN(MasterTable[F^3]))","v":{"$error":"#N/A"}},{"$f":"INDEX(MasterTable[],MATCH(Simulator!$E79,MasterTable[P/N],0),COLUMN(MasterTable[F^2]))","v":{"$error":"#N/A"}},{"$f":"INDEX(MasterTable[],MATCH(Simulator!$E79,MasterTable[P/N],0),COLUMN(MasterTable[F]))","v":{"$error":"#N/A"}},{"$f":"INDEX(MasterTable[],MATCH(Simulator!$E79,MasterTable[P/N],0),COLUMN(MasterTable[F0]))","v":{"$error":"#N/A"}},{"$f":"IF(Simulator!$I$8=\"case\",Calculations!AE77,W77*M77^4+X77*M77^3+Y77*M77^2+Z77*M77+AA77)","v":{"$error":"#N/A"}},{"$f":"Simulator!$N$69/Q77","v":{"$error":"#N/A"}},null,{"$error":"#N/A"},{"$f":"INDEX(MasterTable[],MATCH(Simulator!$E79,MasterTable[P/N],0),COLUMN(MasterTable[Typical Voltage]))","v":{"$error":"#N/A"}},{"$f":"INDEX(MasterTable[],MATCH(Simulator!$E79,MasterTable[P/N],0),COLUMN(MasterTable[V^4]))","v":{"$error":"#N/A"}},{"$f":"INDEX(MasterTable[],MATCH(Simulator!$E79,MasterTable[P/N],0),COLUMN(MasterTable[V^3]))","v":{"$error":"#N/A"}},{"$f":"INDEX(MasterTable[],MATCH(Simulator!$E79,MasterTable[P/N],0),COLUMN(MasterTable[V^2]))","v":{"$error":"#N/A"}},{"$f":"INDEX(MasterTable[],MATCH(Simulator!$E79,MasterTable[P/N],0),COLUMN(MasterTable[V]))","v":{"$error":"#N/A"}},{"$f":"INDEX(MasterTable[],MATCH(Simulator!$E79,MasterTable[P/N],0),COLUMN(MasterTable[V0]))","v":{"$error":"#N/A"}},{"$error":"#N/A"},{"$f":"INDEX(MasterTable[],MATCH(Simulator!$E79,MasterTable[P/N],0),COLUMN(MasterTable[T^3]))","v":{"$error":"#N/A"}},{"$f":"INDEX(MasterTable[],MATCH(Simulator!$E79,MasterTable[P/N],0),COLUMN(MasterTable[T^2]))","v":{"$error":"#N/A"}},{"$f":"INDEX(MasterTable[],MATCH(Simulator!$E79,MasterTable[P/N],0),COLUMN(MasterTable[T]))","v":{"$error":"#N/A"}},{"$f":"INDEX(MasterTable[],MATCH(Simulator!$E79,MasterTable[P/N],0),COLUMN(MasterTable[T0]))","v":{"$error":"#N/A"}},{"$error":"#N/A"},{"$error":"#N/A"},null,{"$f":"INDEX(MasterTable[],MATCH(Simulator!$E79,MasterTable[P/N],0),COLUMN(MasterTable['# of Die]))","v":{"$error":"#N/A"}},{"$error":"#N/A"},{"$f":"INDEX(Tj_to_Vf6[],MATCH(Simulator!$I$8,Tj_to_Vf6[Vf],1),COLUMN(Tj_to_Vf6[Vf]))","v":-0.5},{"$error":"#N/A"},{"$f":"IF(AND(Simulator!$I$8=25,Simulator!$N$14=Simulator!G79),AF77,AR77)","v":{"$error":"#N/A"}}]
[null,"V15",{"$f":"IF(Simulator!$D$10=\"Case\",Simulator!$I$8,M78)","v":25},{"$f":"Simulator!I80*AR78/1000","v":{"$error":"#VALUE!"}},{"$f":"INDEX(MasterTable[],MATCH(Simulator!E80,MasterTable[P/N],0),COLUMN(MasterTable[Thermal Resistance]))","v":{"$error":"#N/A"}},{"$error":"#VALUE!"},null,{"$f":"IF(Simulator!$D$10=\"Case\",F78,Simulator!$I$8)","v":{"$error":"#VALUE!"}},{"$f":"Simulator!I80*AW78/1000","v":{"$error":"#VALUE!"}},{"$error":"#N/A"},{"$error":"#VALUE!"},null,{"$f":"IF(Simulator!$D$10=\"Case\",Simulator!$I$8,K78)","v":25},{"$f":"IF(Simulator!$D$10=\"Case\",H78,Simulator!$I$8)","v":{"$error":"#VALUE!"}},{"$f":"IF(#REF!=\"Tj\",N78,M78)","v":{"$error":"#REF!"}},null,{"$f":"INDEX(MasterTable[],MATCH(Simulator!E80,MasterTable[P/N],0),COLUMN(MasterTable[Typical Lumens]))","v":{"$error":"#N/A"}},{"$f":"INDEX(MasterTable[],MATCH(Simulator!$E80,MasterTable[P/N],0),COLUMN(MasterTable[I^3]))","v":{"$error":"#N/A"}},{"$f":"INDEX(MasterTable[],MATCH(Simulator!$E80,MasterTable[P/N],0),COLUMN(MasterTable[I^2]))","v":{"$error":"#N/A"}},{"$f":"INDEX(MasterTable[],MATCH(Simulator!$E80,MasterTable[P/N],0),COLUMN(MasterTable[I]))","v":{"$error":"#N/A"}},{"$f":"INDEX(MasterTable[],MATCH(Simulator!$E80,MasterTable[P/N],0),COLUMN(MasterTable[I0]))","v":{"$error":"#N/A"}},{"$error":"#N/A"},{"$f":"INDEX(MasterTable[],MATCH(Simulator!$E80,MasterTable[P/N],0),COLUMN(MasterTable[F^4]))","v":{"$error":"#N/A"}},{"$f":"INDEX(MasterTable[],MATCH(Simulator!$E80,MasterTable[P/N],0),COLUMN(MasterTable[F^3]))","v":{"$error":"#N/A"}},{"$f":"INDEX(MasterTable[],MATCH(Simulator!$E80,MasterTable[P/N],0),COLUMN(MasterTable[F^2]))","v":{"$error":"#N/A"}},{"$f":"INDEX(MasterTable[],MATCH(Simulator!$E80,MasterTable[P/N],0),COLUMN(MasterTable[F]))","v":{"$error":"#N/A"}},{"$f":"INDEX(MasterTable[],MATCH(Simulator!$E80,MasterTable[P/N],0),COLUMN(MasterTable[F0]))","v":{"$error":"#N/A"}},{"$f":"IF(Simulator!$I$8=\"case\",Calculations!AE78,W78*M78^4+X78*M78^3+Y78*M78^2+Z78*M78+AA78)","v":{"$error":"#N/A"}},{"$f":"Simulator!$N$69/Q78","v":{"$error":"#N/A"}},null,{"$error":"#N/A"},{"$f":"INDEX(MasterTable[],MATCH(Simulator!$E80,MasterTable[P/N],0),COLUMN(MasterTable[Typical Voltage]))","v":{"$error":"#N/A"}},{"$f":"INDEX(MasterTable[],MATCH(Simulator!$E80,MasterTable[P/N],0),COLUMN(MasterTable[V^4]))","v":{"$error":"#N/A"}},{"$f":"INDEX(MasterTable[],MATCH(Simulator!$E80,MasterTable[P/N],0),COLUMN(MasterTable[V^3]))","v":{"$error":"#N/A"}},{"$f":"INDEX(MasterTable[],MATCH(Simulator!$E80,MasterTable[P/N],0),COLUMN(MasterTable[V^2]))","v":{"$error":"#N/A"}},{"$f":"INDEX(MasterTable[],MATCH(Simulator!$E80,MasterTable[P/N],0),COLUMN(MasterTable[V]))","v":{"$error":"#N/A"}},{"$f":"INDEX(MasterTable[],MATCH(Simulator!$E80,MasterTable[P/N],0),COLUMN(MasterTable[V0]))","v":{"$error":"#N/A"}},{"$error":"#N/A"},{"$f":"INDEX(MasterTable[],MATCH(Simulator!$E80,MasterTable[P/N],0),COLUMN(MasterTable[T^3]))","v":{"$error":"#N/A"}},{"$f":"INDEX(MasterTable[],MATCH(Simulator!$E80,MasterTable[P/N],0),COLUMN(MasterTable[T^2]))","v":{"$error":"#N/A"}},{"$f":"INDEX(MasterTable[],MATCH(Simulator!$E80,MasterTable[P/N],0),COLUMN(MasterTable[T]))","v":{"$error":"#N/A"}},{"$f":"INDEX(MasterTable[],MATCH(Simulator!$E80,MasterTable[P/N],0),COLUMN(MasterTable[T0]))","v":{"$error":"#N/A"}},{"$error":"#N/A"},{"$error":"#N/A"},null,{"$f":"INDEX(MasterTable[],MATCH(Simulator!$E80,MasterTable[P/N],0),COLUMN(MasterTable['# of Die]))","v":{"$error":"#N/A"}},{"$error":"#N/A"},{"$f":"INDEX(Tj_to_Vf6[],MATCH(Simulator!$I$8,Tj_to_Vf6[Vf],1),COLUMN(Tj_to_Vf6[Vf]))","v":-0.5},{"$error":"#N/A"},{"$f":"IF(AND(Simulator!$I$8=25,Simulator!$N$14=Simulator!G80),AF78,AR78)","v":{"$error":"#N/A"}}]
[null,"V18",{"$f":"IF(Simulator!$D$10=\"Case\",Simulator!$I$8,M79)","v":25},{"$f":"Simulator!I81*AR79/1000","v":{"$error":"#VALUE!"}},{"$f":"INDEX(MasterTable[],MATCH(Simulator!E81,MasterTable[P/N],0),COLUMN(MasterTable[Thermal Resistance]))","v":{"$error":"#N/A"}},{"$error":"#VALUE!"},null,{"$f":"IF(Simulator!$D$10=\"Case\",F79,Simulator!$I$8)","v":{"$error":"#VALUE!"}},{"$f":"Simulator!I81*AW79/1000","v":{"$error":"#VALUE!"}},{"$error":"#N/A"},{"$error":"#VALUE!"},null,{"$f":"IF(Simulator!$D$10=\"Case\",Simulator!$I$8,K79)","v":25},{"$f":"IF(Simulator!$D$10=\"Case\",H79,Simulator!$I$8)","v":{"$error":"#VALUE!"}},{"$f":"IF(#REF!=\"Tj\",N79,M79)","v":{"$error":"#REF!"}},null,{"$f":"INDEX(MasterTable[],MATCH(Simulator!E81,MasterTable[P/N],0),COLUMN(MasterTable[Typical Lumens]))","v":{"$error":"#N/A"}},{"$f":"INDEX(MasterTable[],MATCH(Simulator!$E81,MasterTable[P/N],0),COLUMN(MasterTable[I^3]))","v":{"$error":"#N/A"}},{"$f":"INDEX(MasterTable[],MATCH(Simulator!$E81,MasterTable[P/N],0),COLUMN(MasterTable[I^2]))","v":{"$error":"#N/A"}},{"$f":"INDEX(MasterTable[],MATCH(Simulator!$E81,MasterTable[P/N],0),COLUMN(MasterTable[I]))","v":{"$error":"#N/A"}},{"$f":"INDEX(MasterTable[],MATCH(Simulator!$E81,MasterTable[P/N],0),COLUMN(MasterTable[I0]))","v":{"$error":"#N/A"}},{"$error":"#N/A"},{"$f":"INDEX(MasterTable[],MATCH(Simulator!$E81,MasterTable[P/N],0),COLUMN(MasterTable[F^4]))","v":{"$error":"#N/A"}},{"$f":"INDEX(MasterTable[],MATCH(Simulator!$E81,MasterTable[P/N],0),COLUMN(MasterTable[F^3]))","v":{"$error":"#N/A"}},{"$f":"INDEX(MasterTable[],MATCH(Simulator!$E81,MasterTable[P/N],0),COLUMN(MasterTable[F^2]))","v":{"$error":"#N/A"}},{"$f":"INDEX(MasterTable[],MATCH(Simulator!$E81,MasterTable[P/N],0),COLUMN(MasterTable[F]))","v":{"$error":"#N/A"}},{"$f":"INDEX(MasterTable[],MATCH(Simulator!$E81,MasterTable[P/N],0),COLUMN(MasterTable[F0]))","v":{"$error":"#N/A"}},{"$f":"IF(Simulator!$I$8=\"case\",Calculations!AE79,W79*M79^4+X79*M79^3+Y79*M79^2+Z79*M79+AA79)","v":{"$error":"#N/A"}},{"$f":"Simulator!$N$69/Q79","v":{"$error":"#N/A"}},null,{"$error":"#N/A"},{"$f":"INDEX(MasterTable[],MATCH(Simulator!$E81,MasterTable[P/N],0),COLUMN(MasterTable[Typical Voltage]))","v":{"$error":"#N/A"}},{"$f":"INDEX(MasterTable[],MATCH(Simulator!$E81,MasterTable[P/N],0),COLUMN(MasterTable[V^4]))","v":{"$error":"#N/A"}},{"$f":"INDEX(MasterTable[],MATCH(Simulator!$E81,MasterTable[P/N],0),COLUMN(MasterTable[V^3]))","v":{"$error":"#N/A"}},{"$f":"INDEX(MasterTable[],MATCH(Simulator!$E81,MasterTable[P/N],0),COLUMN(MasterTable[V^2]))","v":{"$error":"#N/A"}},{"$f":"INDEX(MasterTable[],MATCH(Simulator!$E81,MasterTable[P/N],0),COLUMN(MasterTable[V]))","v":{"$error":"#N/A"}},{"$f":"INDEX(MasterTable[],MATCH(Simulator!$E81,MasterTable[P/N],0),COLUMN(MasterTable[V0]))","v":{"$error":"#N/A"}},{"$error":"#N/A"},{"$f":"INDEX(MasterTable[],MATCH(Simulator!$E81,MasterTable[P/N],0),COLUMN(MasterTable[T^3]))","v":{"$error":"#N/A"}},{"$f":"INDEX(MasterTable[],MATCH(Simulator!$E81,MasterTable[P/N],0),COLUMN(MasterTable[T^2]))","v":{"$error":"#N/A"}},{"$f":"INDEX(MasterTable[],MATCH(Simulator!$E81,MasterTable[P/N],0),COLUMN(MasterTable[T]))","v":{"$error":"#N/A"}},{"$f":"INDEX(MasterTable[],MATCH(Simulator!$E81,MasterTable[P/N],0),COLUMN(MasterTable[T0]))","v":{"$error":"#N/A"}},{"$error":"#N/A"},{"$error":"#N/A"},null,{"$f":"INDEX(MasterTable[],MATCH(Simulator!$E81,MasterTable[P/N],0),COLUMN(MasterTable['# of Die]))","v":{"$error":"#N/A"}},{"$error":"#N/A"},{"$f":"INDEX(Tj_to_Vf6[],MATCH(Simulator!$I$8,Tj_to_Vf6[Vf],1),COLUMN(Tj_to_Vf6[Vf]))","v":-0.5},{"$error":"#N/A"},{"$f":"IF(AND(Simulator!$I$8=25,Simulator!$N$14=Simulator!G81),AF79,AR79)","v":{"$error":"#N/A"}}]
[null,"V22",{"$f":"IF(Simulator!$D$10=\"Case\",Simulator!$I$8,M80)","v":25},{"$f":"Simulator!I82*AR80/1000","v":{"$error":"#VALUE!"}},{"$f":"INDEX(MasterTable[],MATCH(Simulator!E82,MasterTable[P/N],0),COLUMN(MasterTable[Thermal Resistance]))","v":{"$error":"#N/A"}},{"$error":"#VALUE!"},null,{"$f":"IF(Simulator!$D$10=\"Case\",F80,Simulator!$I$8)","v":{"$error":"#VALUE!"}},{"$f":"Simulator!I82*AW80/1000","v":{"$error":"#VALUE!"}},{"$error":"#N/A"},{"$error":"#VALUE!"},null,{"$f":"IF(Simulator!$D$10=\"Case\",Simulator!$I$8,K80)","v":25},{"$f":"IF(Simulator!$D$10=\"Case\",H80,Simulator!$I$8)","v":{"$error":"#VALUE!"}},{"$f":"IF(#REF!=\"Tj\",N80,M80)","v":{"$error":"#REF!"}},null,{"$f":"INDEX(MasterTable[],MATCH(Simulator!E82,MasterTable[P/N],0),COLUMN(MasterTable[Typical Lumens]))","v":{"$error":"#N/A"}},{"$f":"INDEX(MasterTable[],MATCH(Simulator!$E82,MasterTable[P/N],0),COLUMN(MasterTable[I^3]))","v":{"$error":"#N/A"}},{"$f":"INDEX(MasterTable[],MATCH(Simulator!$E82,MasterTable[P/N],0),COLUMN(MasterTable[I^2]))","v":{"$error":"#N/A"}},{"$f":"INDEX(MasterTable[],MATCH(Simulator!$E82,MasterTable[P/N],0),COLUMN(MasterTable[I]))","v":{"$error":"#N/A"}},{"$f":"INDEX(MasterTable[],MATCH(Simulator!$E82,MasterTable[P/N],0),COLUMN(MasterTable[I0]))","v":{"$error":"#N/A"}},{"$error":"#N/A"},{"$f":"INDEX(MasterTable[],MATCH(Simulator!$E82,MasterTable[P/N],0),COLUMN(MasterTable[F^4]))","v":{"$error":"#N/A"}},{"$f":"INDEX(MasterTable[],MATCH(Simulator!$E82,MasterTable[P/N],0),COLUMN(MasterTable[F^3]))","v":{"$error":"#N/A"}},{"$f":"INDEX(MasterTable[],MATCH(Simulator!$E82,MasterTable[P/N],0),COLUMN(MasterTable[F^2]))","v":{"$error":"#N/A"}},{"$f":"INDEX(MasterTable[],MATCH(Simulator!$E82,MasterTable[P/N],0),COLUMN(MasterTable[F]))","v":{"$error":"#N/A"}},{"$f":"INDEX(MasterTable[],MATCH(Simulator!$E82,MasterTable[P/N],0),COLUMN(MasterTable[F0]))","v":{"$error":"#N/A"}},{"$f":"IF(Simulator!$I$8=\"case\",Calculations!AE80,W80*M80^4+X80*M80^3+Y80*M80^2+Z80*M80+AA80)","v":{"$error":"#N/A"}},{"$f":"Simulator!$N$69/Q80","v":{"$error":"#N/A"}},null,{"$error":"#N/A"},{"$f":"INDEX(MasterTable[],MATCH(Simulator!$E82,MasterTable[P/N],0),COLUMN(MasterTable[Typical Voltage]))","v":{"$error":"#N/A"}},{"$f":"INDEX(MasterTable[],MATCH(Simulator!$E82,MasterTable[P/N],0),COLUMN(MasterTable[V^4]))","v":{"$error":"#N/A"}},{"$f":"INDEX(MasterTable[],MATCH(Simulator!$E82,MasterTable[P/N],0),COLUMN(MasterTable[V^3]))","v":{"$error":"#N/A"}},{"$f":"INDEX(MasterTable[],MATCH(Simulator!$E82,MasterTable[P/N],0),COLUMN(MasterTable[V^2]))","v":{"$error":"#N/A"}},{"$f":"INDEX(MasterTable[],MATCH(Simulator!$E82,MasterTable[P/N],0),COLUMN(MasterTable[V]))","v":{"$error":"#N/A"}},{"$f":"INDEX(MasterTable[],MATCH(Simulator!$E82,MasterTable[P/N],0),COLUMN(MasterTable[V0]))","v":{"$error":"#N/A"}},{"$error":"#N/A"},{"$f":"INDEX(MasterTable[],MATCH(Simulator!$E82,MasterTable[P/N],0),COLUMN(MasterTable[T^3]))","v":{"$error":"#N/A"}},{"$f":"INDEX(MasterTable[],MATCH(Simulator!$E82,MasterTable[P/N],0),COLUMN(MasterTable[T^2]))","v":{"$error":"#N/A"}},{"$f":"INDEX(MasterTable[],MATCH(Simulator!$E82,MasterTable[P/N],0),COLUMN(MasterTable[T]))","v":{"$error":"#N/A"}},{"$f":"INDEX(MasterTable[],MATCH(Simulator!$E82,MasterTable[P/N],0),COLUMN(MasterTable[T0]))","v":{"$error":"#N/A"}},{"$error":"#N/A"},{"$error":"#N/A"},null,{"$f":"INDEX(MasterTable[],MATCH(Simulator!$E82,MasterTable[P/N],0),COLUMN(MasterTable['# of Die]))","v":{"$error":"#N/A"}},{"$error":"#N/A"},{"$f":"INDEX(Tj_to_Vf6[],MATCH(Simulator!$I$8,Tj_to_Vf6[Vf],1),COLUMN(Tj_to_Vf6[Vf]))","v":-0.5},{"$error":"#N/A"},{"$f":"IF(AND(Simulator!$I$8=25,Simulator!$N$14=Simulator!G82),AF80,AR80)","v":{"$error":"#N/A"}}]
[]
["Calculations using Lumen Input",null,"Converting Tc to Tj",null,null,null,null,"Converting Tj to Tc",null,null,null,null,null,null,null,null,"Calculating Current",null,null,null,null,null,null,null,null,null,null,null,null,null,null,"Calculating Voltage w/ Tc",null,null,null,null,null,null,null,null,null,null,null,null,null,null,"Calculating Voltage w/ Tj"]
[null,null,"Tj = Tc + Power*Thermal Resistance",null,null,null,null,"Tc = Tj - Power*Thermal Resistance",null,null,null,null,null,null,null,null,"I=Fr@I*Eqn; Fr@I=Fro/Fr@T",null,null,null,null,null,null,null,null,null,null,null,null,null,null,"Vf@Tc&I = Vf@I + Vf@Tc-Vft",null,null,null,null,null,null,null,null,null,null,null,null,null,null,"Vf@Tj&I = Vf@I + Vf@Tj Modifier"]
[null,null,"Tc","Power","Thermal Resistance","Tc>>Tj",null,"Tj","Power","Thermal Resistance","Tj>>Tc",null,"Tc","Tj",{"$f":"IF(Simulator!$D$10=\"Case\",\"Tj\",\"Tc\")","v":"Tj"},null,"Ft","Fr@I Eqn",null,null,null,"Req'd I",null,"Fr@Tc Eqn",null,null,null,"Fr@Tc","Fro",null,"Fr@I","Vft",null,"Vf@I Eqn",null,null,null,"Vf@I","Vf@Tc Eqn",null,null,null,"Vf@Tc","Vf@Tc&I",null,"# of Die","Vf@I","Vf@Tj Modifier, per Die","Vf@Tj&I","Voltage Report"]
[null,"Vero 10",{"$f":"IF(Simulator!$D$10=\"Case\",Simulator!$I$8,M85)","v":25},{"$f":"Simulator!I84*AR85/1000","v":{"$error":"#VALUE!"}},{"$f":"INDEX(MasterTable[],MATCH(Simulator!E84,MasterTable[P/N],0),COLUMN(MasterTable[Thermal Resistance]))","v":{"$error":"#N/A"}},{"$f":"C85+D85*E85","v":{"$error":"#VALUE!"}},null,{"$f":"IF(Simulator!$D$10=\"Case\",F85,Simulator!$I$8)","v":{"$error":"#VALUE!"}},{"$f":"Simulator!I84*AW85/1000","v":{"$error":"#VALUE!"}},{"$f":"E85","v":{"$error":"#N/A"}},{"$f":"H85-I85*J85","v":{"$error":"#VALUE!"}},null,{"$f":"IF(Simulator!$D$10=\"Case\",Simulator!$I$8,K85)","v":25},{"$f":"IF(Simulator!$D$10=\"Case\",H85,Simulator!$I$8)","v":{"$error":"#VALUE!"}},{"$f":"IF(#REF!=\"Tj\",N85,M85)","v":{"$error":"#REF!"}},null,{"$f":"INDEX(MasterTable[],MATCH(Simulator!E84,MasterTable[P/N],0),COLUMN(MasterTable[Typical Lumens]))","v":{"$error":"#N/A"}},{"$f":"INDEX(MasterTable[],MATCH(Simulator!$E84,MasterTable[P/N],0),COLUMN(MasterTable[I^3]))","v":{"$error":"#N/A"}},{"$f":"INDEX(MasterTable[],MATCH(Simulator!$E84,MasterTable[P/N],0),COLUMN(MasterTable[I^2]))","v":{"$error":"#N/A"}},{"$f":"INDEX(MasterTable[],MATCH(Simulator!$E84,MasterTable[P/N],0),COLUMN(MasterTable[I]))","v":{"$error":"#N/A"}},{"$f":"INDEX(MasterTable[],MATCH(Simulator!$E84,MasterTable[P/N],0),COLUMN(MasterTable[I0]))","v":{"$error":"#N/A"}},{"$f":"(-T85+SQRT(T85^2-4*S85*(U85-AE85)))/(2*S85)","v":{"$error":"#N/A"}},{"$f":"INDEX(MasterTable[],MATCH(Simulator!$E84,MasterTable[P/N],0),COLUMN(MasterTable[F^4]))","v":{"$error":"#N/A"}},{"$f":"INDEX(MasterTable[],MATCH(Simulator!$E84,MasterTable[P/N],0),COLUMN(MasterTable[F^3]))","v":{"$error":"#N/A"}},{"$f":"INDEX(MasterTable[],MATCH(Simulator!$E84,MasterTable[P/N],0),COLUMN(MasterTable[F^2]))","v":{"$error":"#N/A"}},{"$f":"INDEX(MasterTable[],MATCH(Simulator!$E84,MasterTable[P/N],0),COLUMN(MasterTable[F]))","v":{"$error":"#N/A"}},{"$f":"INDEX(MasterTable[],MATCH(Simulator!$E84,MasterTable[P/N],0),COLUMN(MasterTable[F0]))","v":{"$error":"#N/A"}},{"$f":"IF(Simulator!$I$8=\"case\",AE85,W85*M85^4+X85*M85^3+Y85*M85^2+Z85*M85+AA85)","v":{"$error":"#N/A"}},{"$f":"Simulator!$N$69/Q85","v":{"$error":"#N/A"}},null,{"$f":"AC85/AB85","v":{"$error":"#N/A"}},{"$f":"INDEX(MasterTable[],MATCH(Simulator!$E84,MasterTable[P/N],0),COLUMN(MasterTable[Typical Voltage]))","v":{"$error":"#N/A"}},{"$f":"INDEX(MasterTable[],MATCH(Simulator!$E84,MasterTable[P/N],0),COLUMN(MasterTable[V^4]))","v":{"$error":"#N/A"}},{"$f":"INDEX(MasterTable[],MATCH(Simulator!$E84,MasterTable[P/N],0),COLUMN(MasterTable[V^3]))","v":{"$error":"#N/A"}},{"$f":"INDEX(MasterTable[],MATCH(Simulator!$E84,MasterTable[P/N],0),COLUMN(MasterTable[V^2]))","v":{"$error":"#N/A"}},{"$f":"INDEX(MasterTable[],MATCH(Simulator!$E84,MasterTable[P/N],0),COLUMN(MasterTable[V]))","v":{"$error":"#N/A"}},{"$f":"INDEX(MasterTable[],MATCH(Simulator!$E84,MasterTable[P/N],0),COLUMN(MasterTable[V0]))","v":{"$error":"#N/A"}},{"$f":"AG85*V85^4+AH85*V85^3+AI85*V85^2+AJ85*V85+AK85","v":{"$error":"#N/A"}},{"$f":"INDEX(MasterTable[],MATCH(Simulator!$E84,MasterTable[P/N],0),COLUMN(MasterTable[T^3]))","v":{"$error":"#N/A"}},{"$f":"INDEX(MasterTable[],MATCH(Simulator!$E84,MasterTable[P/N],0),COLUMN(MasterTable[T^2]))","v":{"$error":"#N/A"}},{"$f":"INDEX(MasterTable[],MATCH(Simulator!$E84,MasterTable[P/N],0),COLUMN(MasterTable[T]))","v":{"$error":"#N/A"}},{"$f":"INDEX(MasterTable[],MATCH(Simulator!$E84,MasterTable[P/N],0),COLUMN(MasterTable[T0]))","v":{"$error":"#N/A"}},{"$f":"AM85*M85^3+AN85*M85^2+AO85*M85+AP85","v":{"$error":"#N/A"}},{"$f":"AL85+AQ85-AF85","v":{"$error":"#N/A"}},null,{"$f":"INDEX(MasterTable[],MATCH(Simulator!$E84,MasterTable[P/N],0),COLUMN(MasterTable['# of Die]))","v":{"$error":"#N/A"}},{"$f":"AL85","v":{"$error":"#N/A"}},{"$f":"INDEX(Tj_to_Vf6[],MATCH(Simulator!$I$8,Tj_to_Vf6[Vf],1),COLUMN(Tj_to_Vf6[Vf]))","v":-0.5},{"$f":"AU85+AV85*AT85","v":{"$error":"#N/A"}},{"$f":"IF(AND(Simulator!$I$8=25,Simulator!$N$69=Simulator!H84),AF85,AR85)","v":{"$error":"#N/A"}}]
[null,"Vero 13",{"$f":"IF(Simulator!$D$10=\"Case\",Simulator!$I$8,M86)","v":25},{"$f":"Simulator!I85*AR86/1000","v":{"$error":"#VALUE!"}},{"$f":"INDEX(MasterTable[],MATCH(Simulator!E85,MasterTable[P/N],0),COLUMN(MasterTable[Thermal Resistance]))","v":{"$error":"#N/A"}},{"$f":"C86+D86*E86","v":{"$error":"#VALUE!"}},null,{"$f":"IF(Simulator!$D$10=\"Case\",F86,Simulator!$I$8)","v":{"$error":"#VALUE!"}},{"$f":"Simulator!I85*AW86/1000","v":{"$error":"#VALUE!"}},{"$f":"E86","v":{"$error":"#N/A"}},{"$f":"H86-I86*J86","v":{"$error":"#VALUE!"}},null,{"$f":"IF(Simulator!$D$10=\"Case\",Simulator!$I$8,K86)","v":25},{"$f":"IF(Simulator!$D$10=\"Case\",H86,Simulator!$I$8)","v":{"$error":"#VALUE!"}},{"$f":"IF(#REF!=\"Tj\",N86,M86)","v":{"$error":"#REF!"}},null,{"$f":"INDEX(MasterTable[],MATCH(Simulator!E85,MasterTable[P/N],0),COLUMN(MasterTable[Typical Lumens]))","v":{"$error":"#N/A"}},{"$f":"INDEX(MasterTable[],MATCH(Simulator!$E85,MasterTable[P/N],0),COLUMN(MasterTable[I^3]))","v":{"$error":"#N/A"}},{"$f":"INDEX(MasterTable[],MATCH(Simulator!$E85,MasterTable[P/N],0),COLUMN(MasterTable[I^2]))","v":{"$error":"#N/A"}},{"$f":"INDEX(MasterTable[],MATCH(Simulator!$E85,MasterTable[P/N],0),COLUMN(MasterTable[I]))","v":{"$error":"#N/A"}},{"$f":"INDEX(MasterTable[],MATCH(Simulator!$E85,MasterTable[P/N],0),COLUMN(MasterTable[I0]))","v":{"$error":"#N/A"}},{"$f":"(-T86+SQRT(T86^2-4*S86*(U86-AE86)))/(2*S86)","v":{"$error":"#N/A"}},{"$f":"INDEX(MasterTable[],MATCH(Simulator!$E85,MasterTable[P/N],0),COLUMN(MasterTable[F^4]))","v":{"$error":"#N/A"}},{"$f":"INDEX(MasterTable[],MATCH(Simulator!$E85,MasterTable[P/N],0),COLUMN(MasterTable[F^3]))","v":{"$error":"#N/A"}},{"$f":"INDEX(MasterTable[],MATCH(Simulator!$E85,MasterTable[P/N],0),COLUMN(MasterTable[F^2]))","v":{"$error":"#N/A"}},{"$f":"INDEX(MasterTable[],MATCH(Simulator!$E85,MasterTable[P/N],0),COLUMN(MasterTable[F]))","v":{"$error":"#N/A"}},{"$f":"INDEX(MasterTable[],MATCH(Simulator!$E85,MasterTable[P/N],0),COLUMN(MasterTable[F0]))","v":{"$error":"#N/A"}},{"$f":"IF(Simulator!$I$8=\"case\",AE86,W86*M86^4+X86*M86^3+Y86*M86^2+Z86*M86+AA86)","v":{"$error":"#N/A"}},{"$f":"Simulator!$N$69/Q86","v":{"$error":"#N/A"}},null,{"$f":"AC86/AB86","v":{"$error":"#N/A"}},{"$f":"INDEX(MasterTable[],MATCH(Simulator!$E85,MasterTable[P/N],0),COLUMN(MasterTable[Typical Voltage]))","v":{"$error":"#N/A"}},{"$f":"INDEX(MasterTable[],MATCH(Simulator!$E85,MasterTable[P/N],0),COLUMN(MasterTable[V^4]))","v":{"$error":"#N/A"}},{"$f":"INDEX(MasterTable[],MATCH(Simulator!$E85,MasterTable[P/N],0),COLUMN(MasterTable[V^3]))","v":{"$error":"#N/A"}},{"$f":"INDEX(MasterTable[],MATCH(Simulator!$E85,MasterTable[P/N],0),COLUMN(MasterTable[V^2]))","v":{"$error":"#N/A"}},{"$f":"INDEX(MasterTable[],MATCH(Simulator!$E85,MasterTable[P/N],0),COLUMN(MasterTable[V]))","v":{"$error":"#N/A"}},{"$f":"INDEX(MasterTable[],MATCH(Simulator!$E85,MasterTable[P/N],0),COLUMN(MasterTable[V0]))","v":{"$error":"#N/A"}},{"$f":"AG86*V86^4+AH86*V86^3+AI86*V86^2+AJ86*V86+AK86","v":{"$error":"#N/A"}},{"$f":"INDEX(MasterTable[],MATCH(Simulator!$E85,MasterTable[P/N],0),COLUMN(MasterTable[T^3]))","v":{"$error":"#N/A"}},{"$f":"INDEX(MasterTable[],MATCH(Simulator!$E85,MasterTable[P/N],0),COLUMN(MasterTable[T^2]))","v":{"$error":"#N/A"}},{"$f":"INDEX(MasterTable[],MATCH(Simulator!$E85,MasterTable[P/N],0),COLUMN(MasterTable[T]))","v":{"$error":"#N/A"}},{"$f":"INDEX(MasterTable[],MATCH(Simulator!$E85,MasterTable[P/N],0),COLUMN(MasterTable[T0]))","v":{"$error":"#N/A"}},{"$f":"AM86*M86^3+AN86*M86^2+AO86*M86+AP86","v":{"$error":"#N/A"}},{"$f":"AL86+AQ86-AF86","v":{"$error":"#N/A"}},null,{"$f":"INDEX(MasterTable[],MATCH(Simulator!$E85,MasterTable[P/N],0),COLUMN(MasterTable['# of Die]))","v":{"$error":"#N/A"}},{"$f":"AL86","v":{"$error":"#N/A"}},{"$f":"INDEX(Tj_to_Vf6[],MATCH(Simulator!$I$8,Tj_to_Vf6[Vf],1),COLUMN(Tj_to_Vf6[Vf]))","v":-0.5},{"$f":"AU86+AV86*AT86","v":{"$error":"#N/A"}},{"$f":"IF(AND(Simulator!$I$8=25,Simulator!$N$69=Simulator!H85),AF86,AR86)","v":{"$error":"#N/A"}}]
[null,"Vero 18",{"$f":"IF(Simulator!$D$10=\"Case\",Simulator!$I$8,M87)","v":25},{"$f":"Simulator!I86*AR87/1000","v":{"$error":"#VALUE!"}},{"$f":"INDEX(MasterTable[],MATCH(Simulator!E86,MasterTable[P/N],0),COLUMN(MasterTable[Thermal Resistance]))","v":{"$error":"#N/A"}},{"$f":"C87+D87*E87","v":{"$error":"#VALUE!"}},null,{"$f":"IF(Simulator!$D$10=\"Case\",F87,Simulator!$I$8)","v":{"$error":"#VALUE!"}},{"$f":"Simulator!I86*AW87/1000","v":{"$error":"#VALUE!"}},{"$f":"E87","v":{"$error":"#N/A"}},{"$f":"H87-I87*J87","v":{"$error":"#VALUE!"}},null,{"$f":"IF(Simulator!$D$10=\"Case\",Simulator!$I$8,K87)","v":25},{"$f":"IF(Simulator!$D$10=\"Case\",H87,Simulator!$I$8)","v":{"$error":"#VALUE!"}},{"$f":"IF(#REF!=\"Tj\",N87,M87)","v":{"$error":"#REF!"}},null,{"$f":"INDEX(MasterTable[],MATCH(Simulator!E86,MasterTable[P/N],0),COLUMN(MasterTable[Typical Lumens]))","v":{"$error":"#N/A"}},{"$f":"INDEX(MasterTable[],MATCH(Simulator!$E86,MasterTable[P/N],0),COLUMN(MasterTable[I^3]))","v":{"$error":"#N/A"}},{"$f":"INDEX(MasterTable[],MATCH(Simulator!$E86,MasterTable[P/N],0),COLUMN(MasterTable[I^2]))","v":{"$error":"#N/A"}},{"$f":"INDEX(MasterTable[],MATCH(Simulator!$E86,MasterTable[P/N],0),COLUMN(MasterTable[I]))","v":{"$error":"#N/A"}},{"$f":"INDEX(MasterTable[],MATCH(Simulator!$E86,MasterTable[P/N],0),COLUMN(MasterTable[I0]))","v":{"$error":"#N/A"}},{"$f":"(-T87+SQRT(T87^2-4*S87*(U87-AE87)))/(2*S87)","v":{"$error":"#N/A"}},{"$f":"INDEX(MasterTable[],MATCH(Simulator!$E86,MasterTable[P/N],0),COLUMN(MasterTable[F^4]))","v":{"$error":"#N/A"}},{"$f":"INDEX(MasterTable[],MATCH(Simulator!$E86,MasterTable[P/N],0),COLUMN(MasterTable[F^3]))","v":{"$error":"#N/A"}},{"$f":"INDEX(MasterTable[],MATCH(Simulator!$E86,MasterTable[P/N],0),COLUMN(MasterTable[F^2]))","v":{"$error":"#N/A"}},{"$f":"INDEX(MasterTable[],MATCH(Simulator!$E86,MasterTable[P/N],0),COLUMN(MasterTable[F]))","v":{"$error":"#N/A"}},{"$f":"INDEX(MasterTable[],MATCH(Simulator!$E86,MasterTable[P/N],0),COLUMN(MasterTable[F0]))","v":{"$error":"#N/A"}},{"$f":"IF(Simulator!$I$8=\"case\",AE87,W87*M87^4+X87*M87^3+Y87*M87^2+Z87*M87+AA87)","v":{"$error":"#N/A"}},{"$f":"Simulator!$N$69/Q87","v":{"$error":"#N/A"}},null,{"$f":"AC87/AB87","v":{"$error":"#N/A"}},{"$f":"INDEX(MasterTable[],MATCH(Simulator!$E86,MasterTable[P/N],0),COLUMN(MasterTable[Typical Voltage]))","v":{"$error":"#N/A"}},{"$f":"INDEX(MasterTable[],MATCH(Simulator!$E86,MasterTable[P/N],0),COLUMN(MasterTable[V^4]))","v":{"$error":"#N/A"}},{"$f":"INDEX(MasterTable[],MATCH(Simulator!$E86,MasterTable[P/N],0),COLUMN(MasterTable[V^3]))","v":{"$error":"#N/A"}},{"$f":"INDEX(MasterTable[],MATCH(Simulator!$E86,MasterTable[P/N],0),COLUMN(MasterTable[V^2]))","v":{"$error":"#N/A"}},{"$f":"INDEX(MasterTable[],MATCH(Simulator!$E86,MasterTable[P/N],0),COLUMN(MasterTable[V]))","v":{"$error":"#N/A"}},{"$f":"INDEX(MasterTable[],MATCH(Simulator!$E86,MasterTable[P/N],0),COLUMN(MasterTable[V0]))","v":{"$error":"#N/A"}},{"$f":"AG87*V87^4+AH87*V87^3+AI87*V87^2+AJ87*V87+AK87","v":{"$error":"#N/A"}},{"$f":"INDEX(MasterTable[],MATCH(Simulator!$E86,MasterTable[P/N],0),COLUMN(MasterTable[T^3]))","v":{"$error":"#N/A"}},{"$f":"INDEX(MasterTable[],MATCH(Simulator!$E86,MasterTable[P/N],0),COLUMN(MasterTable[T^2]))","v":{"$error":"#N/A"}},{"$f":"INDEX(MasterTable[],MATCH(Simulator!$E86,MasterTable[P/N],0),COLUMN(MasterTable[T]))","v":{"$error":"#N/A"}},{"$f":"INDEX(MasterTable[],MATCH(Simulator!$E86,MasterTable[P/N],0),COLUMN(MasterTable[T0]))","v":{"$error":"#N/A"}},{"$f":"AM87*M87^3+AN87*M87^2+AO87*M87+AP87","v":{"$error":"#N/A"}},{"$f":"AL87+AQ87-AF87","v":{"$error":"#N/A"}},null,{"$f":"INDEX(MasterTable[],MATCH(Simulator!$E86,MasterTable[P/N],0),COLUMN(MasterTable['# of Die]))","v":{"$error":"#N/A"}},{"$f":"AL87","v":{"$error":"#N/A"}},{"$f":"INDEX(Tj_to_Vf6[],MATCH(Simulator!$I$8,Tj_to_Vf6[Vf],1),COLUMN(Tj_to_Vf6[Vf]))","v":-0.5},{"$f":"AU87+AV87*AT87","v":{"$error":"#N/A"}},{"$f":"IF(AND(Simulator!$I$8=25,Simulator!$N$69=Simulator!H86),AF87,AR87)","v":{"$error":"#N/A"}}]
[null,"Vero 29",{"$f":"IF(Simulator!$D$10=\"Case\",Simulator!$I$8,M88)","v":25},{"$f":"Simulator!I87*AR88/1000","v":{"$error":"#VALUE!"}},{"$f":"INDEX(MasterTable[],MATCH(Simulator!E87,MasterTable[P/N],0),COLUMN(MasterTable[Thermal Resistance]))","v":{"$error":"#N/A"}},{"$f":"C88+D88*E88","v":{"$error":"#VALUE!"}},null,{"$f":"IF(Simulator!$D$10=\"Case\",F88,Simulator!$I$8)","v":{"$error":"#VALUE!"}},{"$f":"Simulator!I87*AW88/1000","v":{"$error":"#VALUE!"}},{"$f":"E88","v":{"$error":"#N/A"}},{"$f":"H88-I88*J88","v":{"$error":"#VALUE!"}},null,{"$f":"IF(Simulator!$D$10=\"Case\",Simulator!$I$8,K88)","v":25},{"$f":"IF(Simulator!$D$10=\"Case\",H88,Simulator!$I$8)","v":{"$error":"#VALUE!"}},{"$f":"IF(#REF!=\"Tj\",N88,M88)","v":{"$error":"#REF!"}},null,{"$f":"INDEX(MasterTable[],MATCH(Simulator!E87,MasterTable[P/N],0),COLUMN(MasterTable[Typical Lumens]))","v":{"$error":"#N/A"}},{"$f":"INDEX(MasterTable[],MATCH(Simulator!$E87,MasterTable[P/N],0),COLUMN(MasterTable[I^3]))","v":{"$error":"#N/A"}},{"$f":"INDEX(MasterTable[],MATCH(Simulator!$E87,MasterTable[P/N],0),COLUMN(MasterTable[I^2]))","v":{"$error":"#N/A"}},{"$f":"INDEX(MasterTable[],MATCH(Simulator!$E87,MasterTable[P/N],0),COLUMN(MasterTable[I]))","v":{"$error":"#N/A"}},{"$f":"INDEX(MasterTable[],MATCH(Simulator!$E87,MasterTable[P/N],0),COLUMN(MasterTable[I0]))","v":{"$error":"#N/A"}},{"$f":"(-T88+SQRT(T88^2-4*S88*(U88-AE88)))/(2*S88)","v":{"$error":"#N/A"}},{"$f":"INDEX(MasterTable[],MATCH(Simulator!$E87,MasterTable[P/N],0),COLUMN(MasterTable[F^4]))","v":{"$error":"#N/A"}},{"$f":"INDEX(MasterTable[],MATCH(Simulator!$E87,MasterTable[P/N],0),COLUMN(MasterTable[F^3]))","v":{"$error":"#N/A"}},{"$f":"INDEX(MasterTable[],MATCH(Simulator!$E87,MasterTable[P/N],0),COLUMN(MasterTable[F^2]))","v":{"$error":"#N/A"}},{"$f":"INDEX(MasterTable[],MATCH(Simulator!$E87,MasterTable[P/N],0),COLUMN(MasterTable[F]))","v":{"$error":"#N/A"}},{"$f":"INDEX(MasterTable[],MATCH(Simulator!$E87,MasterTable[P/N],0),COLUMN(MasterTable[F0]))","v":{"$error":"#N/A"}},{"$f":"IF(Simulator!$I$8=\"case\",AE88,W88*M88^4+X88*M88^3+Y88*M88^2+Z88*M88+AA88)","v":{"$error":"#N/A"}},{"$f":"Simulator!$N$69/Q88","v":{"$error":"#N/A"}},null,{"$f":"AC88/AB88","v":{"$error":"#N/A"}},{"$f":"INDEX(MasterTable[],MATCH(Simulator!$E87,MasterTable[P/N],0),COLUMN(MasterTable[Typical Voltage]))","v":{"$error":"#N/A"}},{"$f":"INDEX(MasterTable[],MATCH(Simulator!$E87,MasterTable[P/N],0),COLUMN(MasterTable[V^4]))","v":{"$error":"#N/A"}},{"$f":"INDEX(MasterTable[],MATCH(Simulator!$E87,MasterTable[P/N],0),COLUMN(MasterTable[V^3]))","v":{"$error":"#N/A"}},{"$f":"INDEX(MasterTable[],MATCH(Simulator!$E87,MasterTable[P/N],0),COLUMN(MasterTable[V^2]))","v":{"$error":"#N/A"}},{"$f":"INDEX(MasterTable[],MATCH(Simulator!$E87,MasterTable[P/N],0),COLUMN(MasterTable[V]))","v":{"$error":"#N/A"}},{"$f":"INDEX(MasterTable[],MATCH(Simulator!$E87,MasterTable[P/N],0),COLUMN(MasterTable[V0]))","v":{"$error":"#N/A"}},{"$f":"AG88*V88^4+AH88*V88^3+AI88*V88^2+AJ88*V88+AK88","v":{"$error":"#N/A"}},{"$f":"INDEX(MasterTable[],MATCH(Simulator!$E87,MasterTable[P/N],0),COLUMN(MasterTable[T^3]))","v":{"$error":"#N/A"}},{"$f":"INDEX(MasterTable[],MATCH(Simulator!$E87,MasterTable[P/N],0),COLUMN(MasterTable[T^2]))","v":{"$error":"#N/A"}},{"$f":"INDEX(MasterTable[],MATCH(Simulator!$E87,MasterTable[P/N],0),COLUMN(MasterTable[T]))","v":{"$error":"#N/A"}},{"$f":"INDEX(MasterTable[],MATCH(Simulator!$E87,MasterTable[P/N],0),COLUMN(MasterTable[T0]))","v":{"$error":"#N/A"}},{"$f":"AM88*M88^3+AN88*M88^2+AO88*M88+AP88","v":{"$error":"#N/A"}},{"$f":"AL88+AQ88-AF88","v":{"$error":"#N/A"}},null,{"$f":"INDEX(MasterTable[],MATCH(Simulator!$E87,MasterTable[P/N],0),COLUMN(MasterTable['# of Die]))","v":{"$error":"#N/A"}},{"$f":"AL88","v":{"$error":"#N/A"}},{"$f":"INDEX(Tj_to_Vf6[],MATCH(Simulator!$I$8,Tj_to_Vf6[Vf],1),COLUMN(Tj_to_Vf6[Vf]))","v":-0.5},{"$f":"AU88+AV88*AT88","v":{"$error":"#N/A"}},{"$f":"IF(AND(Simulator!$I$8=25,Simulator!$N$69=Simulator!H87),AF88,AR88)","v":{"$error":"#N/A"}}]
[]
["Calculations using Lumen Input",null,"Converting Tc to Tj",null,null,null,null,"Converting Tj to Tc",null,null,null,null,null,null,null,null,"Calculating Current",null,null,null,null,null,null,null,null,null,null,null,null,null,null,"Calculating Voltage w/ Tc",null,null,null,null,null,null,null,null,null,null,null,null,null,null,"Calculating Voltage w/ Tj"]
[null,null,"Tj = Tc + Power*Thermal Resistance",null,null,null,null,"Tc = Tj - Power*Thermal Resistance",null,null,null,null,null,null,null,null,"I=Fr@I*Eqn; Fr@I=Fro/Fr@T",null,null,null,null,null,null,null,null,null,null,null,null,null,null,"Vf@Tc&I = Vf@I + Vf@Tc-Vft",null,null,null,null,null,null,null,null,null,null,null,null,null,null,"Vf@Tj&I = Vf@I + Vf@Tj Modifier"]
[null,null,"Tc","Power","Thermal Resistance","Tc>>Tj",null,"Tj","Power","Thermal Resistance","Tj>>Tc",null,"Tc","Tj",{"$f":"IF(Simulator!$D$10=\"Case\",\"Tj\",\"Tc\")","v":"Tj"},null,"Ft","Fr@I Eqn",null,null,null,"Req'd I",null,"Fr@Tc Eqn",null,null,null,"Fr@Tc","Fro",null,"Fr@I","Vft",null,"Vf@I Eqn",null,null,null,"Vf@I","Vf@Tc Eqn",null,null,null,"Vf@Tc","Vf@Tc&I",null,"# of Die","Vf@I","Vf@Tj Modifier, per Die","Vf@Tj&I","Voltage Report"]
[null,"H6",{"$f":"IF(Simulator!$D$10=\"Case\",Simulator!$I$8,M93)","v":25},{"$f":"Simulator!I89*AR93/1000","v":{"$error":"#VALUE!"}},{"$f":"INDEX(MasterTable[],MATCH(Simulator!E89,MasterTable[P/N],0),COLUMN(MasterTable[Thermal Resistance]))","v":{"$error":"#N/A"}},{"$f":"C93+D93*E93","v":{"$error":"#VALUE!"}},null,{"$f":"IF(Simulator!$D$10=\"Case\",F93,Simulator!$I$8)","v":{"$error":"#VALUE!"}},{"$f":"Simulator!I89*AW93/1000","v":{"$error":"#VALUE!"}},{"$f":"E93","v":{"$error":"#N/A"}},{"$f":"H93-I93*J93","v":{"$error":"#VALUE!"}},null,{"$f":"IF(Simulator!$D$10=\"Case\",Simulator!$I$8,K93)","v":25},{"$f":"IF(Simulator!$D$10=\"Case\",H93,Simulator!$I$8)","v":{"$error":"#VALUE!"}},{"$f":"IF(#REF!=\"Tj\",N93,M93)","v":{"$error":"#REF!"}},null,{"$f":"INDEX(MasterTable[],MATCH(Simulator!E89,MasterTable[P/N],0),COLUMN(MasterTable[Typical Lumens]))","v":{"$error":"#N/A"}},{"$f":"INDEX(MasterTable[],MATCH(Simulator!$E89,MasterTable[P/N],0),COLUMN(MasterTable[I^3]))","v":{"$error":"#N/A"}},{"$f":"INDEX(MasterTable[],MATCH(Simulator!$E89,MasterTable[P/N],0),COLUMN(MasterTable[I^2]))","v":{"$error":"#N/A"}},{"$f":"INDEX(MasterTable[],MATCH(Simulator!$E89,MasterTable[P/N],0),COLUMN(MasterTable[I]))","v":{"$error":"#N/A"}},{"$f":"INDEX(MasterTable[],MATCH(Simulator!$E89,MasterTable[P/N],0),COLUMN(MasterTable[I0]))","v":{"$error":"#N/A"}},{"$f":"(-T93+SQRT(T93^2-4*S93*(U93-AE93)))/(2*S93)","v":{"$error":"#N/A"}},{"$f":"INDEX(MasterTable[],MATCH(Simulator!$E89,MasterTable[P/N],0),COLUMN(MasterTable[F^4]))","v":{"$error":"#N/A"}},{"$f":"INDEX(MasterTable[],MATCH(Simulator!$E89,MasterTable[P/N],0),COLUMN(MasterTable[F^3]))","v":{"$error":"#N/A"}},{"$f":"INDEX(MasterTable[],MATCH(Simulator!$E89,MasterTable[P/N],0),COLUMN(MasterTable[F^2]))","v":{"$error":"#N/A"}},{"$f":"INDEX(MasterTable[],MATCH(Simulator!$E89,MasterTable[P/N],0),COLUMN(MasterTable[F]))","v":{"$error":"#N/A"}},{"$f":"INDEX(MasterTable[],MATCH(Simulator!$E89,MasterTable[P/N],0),COLUMN(MasterTable[F0]))","v":{"$error":"#N/A"}},{"$f":"IF(Simulator!$I$8=\"case\",AE93,W93*M93^4+X93*M93^3+Y93*M93^2+Z93*M93+AA93)","v":{"$error":"#N/A"}},{"$f":"Simulator!$N$69/Q93","v":{"$error":"#N/A"}},null,{"$f":"AC93/AB93","v":{"$error":"#N/A"}},{"$f":"INDEX(MasterTable[],MATCH(Simulator!$E89,MasterTable[P/N],0),COLUMN(MasterTable[Typical Voltage]))","v":{"$error":"#N/A"}},{"$f":"INDEX(MasterTable[],MATCH(Simulator!$E89,MasterTable[P/N],0),COLUMN(MasterTable[V^4]))","v":{"$error":"#N/A"}},{"$f":"INDEX(MasterTable[],MATCH(Simulator!$E89,MasterTable[P/N],0),COLUMN(MasterTable[V^3]))","v":{"$error":"#N/A"}},{"$f":"INDEX(MasterTable[],MATCH(Simulator!$E89,MasterTable[P/N],0),COLUMN(MasterTable[V^2]))","v":{"$error":"#N/A"}},{"$f":"INDEX(MasterTable[],MATCH(Simulator!$E89,MasterTable[P/N],0),COLUMN(MasterTable[V]))","v":{"$error":"#N/A"}},{"$f":"INDEX(MasterTable[],MATCH(Simulator!$E89,MasterTable[P/N],0),COLUMN(MasterTable[V0]))","v":{"$error":"#N/A"}},{"$f":"AG93*V93^4+AH93*V93^3+AI93*V93^2+AJ93*V93+AK93","v":{"$error":"#N/A"}},{"$f":"INDEX(MasterTable[],MATCH(Simulator!$E89,MasterTable[P/N],0),COLUMN(MasterTable[T^3]))","v":{"$error":"#N/A"}},{"$f":"INDEX(MasterTable[],MATCH(Simulator!$E89,MasterTable[P/N],0),COLUMN(MasterTable[T^2]))","v":{"$error":"#N/A"}},{"$f":"INDEX(MasterTable[],MATCH(Simulator!$E89,MasterTable[P/N],0),COLUMN(MasterTable[T]))","v":{"$error":"#N/A"}},{"$f":"INDEX(MasterTable[],MATCH(Simulator!$E89,MasterTable[P/N],0),COLUMN(MasterTable[T0]))","v":{"$error":"#N/A"}},{"$f":"AM93*M93^3+AN93*M93^2+AO93*M93+AP93","v":{"$error":"#N/A"}},{"$f":"AL93+AQ93-AF93","v":{"$error":"#N/A"}},null,{"$f":"INDEX(MasterTable[],MATCH(Simulator!$E89,MasterTable[P/N],0),COLUMN(MasterTable['# of Die]))","v":{"$error":"#N/A"}},{"$f":"AL93","v":{"$error":"#N/A"}},{"$f":"INDEX(Tj_to_Vf6[],MATCH(Simulator!$I$8,Tj_to_Vf6[Vf],1),COLUMN(Tj_to_Vf6[Vf]))","v":-0.5},{"$f":"AU93+AV93*AT93","v":{"$error":"#N/A"}},{"$f":"IF(AND(Simulator!$I$8=25,Simulator!$N$69=Simulator!H89),AF93,AR93)","v":{"$error":"#N/A"}}]
[null,"H9",{"$f":"IF(Simulator!$D$10=\"Case\",Simulator!$I$8,M94)","v":25},{"$f":"Simulator!I90*AR94/1000","v":{"$error":"#VALUE!"}},{"$f":"INDEX(MasterTable[],MATCH(Simulator!E90,MasterTable[P/N],0),COLUMN(MasterTable[Thermal Resistance]))","v":{"$error":"#N/A"}},{"$f":"C94+D94*E94","v":{"$error":"#VALUE!"}},null,{"$f":"IF(Simulator!$D$10=\"Case\",F94,Simulator!$I$8)","v":{"$error":"#VALUE!"}},{"$f":"Simulator!I90*AW94/1000","v":{"$error":"#VALUE!"}},{"$f":"E94","v":{"$error":"#N/A"}},{"$f":"H94-I94*J94","v":{"$error":"#VALUE!"}},null,{"$f":"IF(Simulator!$D$10=\"Case\",Simulator!$I$8,K94)","v":25},{"$f":"IF(Simulator!$D$10=\"Case\",H94,Simulator!$I$8)","v":{"$error":"#VALUE!"}},{"$f":"IF(#REF!=\"Tj\",N94,M94)","v":{"$error":"#REF!"}},null,{"$f":"INDEX(MasterTable[],MATCH(Simulator!E90,MasterTable[P/N],0),COLUMN(MasterTable[Typical Lumens]))","v":{"$error":"#N/A"}},{"$f":"INDEX(MasterTable[],MATCH(Simulator!$E90,MasterTable[P/N],0),COLUMN(MasterTable[I^3]))","v":{"$error":"#N/A"}},{"$f":"INDEX(MasterTable[],MATCH(Simulator!$E90,MasterTable[P/N],0),COLUMN(MasterTable[I^2]))","v":{"$error":"#N/A"}},{"$f":"INDEX(MasterTable[],MATCH(Simulator!$E90,MasterTable[P/N],0),COLUMN(MasterTable[I]))","v":{"$error":"#N/A"}},{"$f":"INDEX(MasterTable[],MATCH(Simulator!$E90,MasterTable[P/N],0),COLUMN(MasterTable[I0]))","v":{"$error":"#N/A"}},{"$f":"(-T94+SQRT(T94^2-4*S94*(U94-AE94)))/(2*S94)","v":{"$error":"#N/A"}},{"$f":"INDEX(MasterTable[],MATCH(Simulator!$E90,MasterTable[P/N],0),COLUMN(MasterTable[F^4]))","v":{"$error":"#N/A"}},{"$f":"INDEX(MasterTable[],MATCH(Simulator!$E90,MasterTable[P/N],0),COLUMN(MasterTable[F^3]))","v":{"$error":"#N/A"}},{"$f":"INDEX(MasterTable[],MATCH(Simulator!$E90,MasterTable[P/N],0),COLUMN(MasterTable[F^2]))","v":{"$error":"#N/A"}},{"$f":"INDEX(MasterTable[],MATCH(Simulator!$E90,MasterTable[P/N],0),COLUMN(MasterTable[F]))","v":{"$error":"#N/A"}},{"$f":"INDEX(MasterTable[],MATCH(Simulator!$E90,MasterTable[P/N],0),COLUMN(MasterTable[F0]))","v":{"$error":"#N/A"}},{"$f":"IF(Simulator!$I$8=\"case\",AE94,W94*M94^4+X94*M94^3+Y94*M94^2+Z94*M94+AA94)","v":{"$error":"#N/A"}},{"$f":"Simulator!$N$69/Q94","v":{"$error":"#N/A"}},null,{"$f":"AC94/AB94","v":{"$error":"#N/A"}},{"$f":"INDEX(MasterTable[],MATCH(Simulator!$E90,MasterTable[P/N],0),COLUMN(MasterTable[Typical Voltage]))","v":{"$error":"#N/A"}},{"$f":"INDEX(MasterTable[],MATCH(Simulator!$E90,MasterTable[P/N],0),COLUMN(MasterTable[V^4]))","v":{"$error":"#N/A"}},{"$f":"INDEX(MasterTable[],MATCH(Simulator!$E90,MasterTable[P/N],0),COLUMN(MasterTable[V^3]))","v":{"$error":"#N/A"}},{"$f":"INDEX(MasterTable[],MATCH(Simulator!$E90,MasterTable[P/N],0),COLUMN(MasterTable[V^2]))","v":{"$error":"#N/A"}},{"$f":"INDEX(MasterTable[],MATCH(Simulator!$E90,MasterTable[P/N],0),COLUMN(MasterTable[V]))","v":{"$error":"#N/A"}},{"$f":"INDEX(MasterTable[],MATCH(Simulator!$E90,MasterTable[P/N],0),COLUMN(MasterTable[V0]))","v":{"$error":"#N/A"}},{"$f":"AG94*V94^4+AH94*V94^3+AI94*V94^2+AJ94*V94+AK94","v":{"$error":"#N/A"}},{"$f":"INDEX(MasterTable[],MATCH(Simulator!$E90,MasterTable[P/N],0),COLUMN(MasterTable[T^3]))","v":{"$error":"#N/A"}},{"$f":"INDEX(MasterTable[],MATCH(Simulator!$E90,MasterTable[P/N],0),COLUMN(MasterTable[T^2]))","v":{"$error":"#N/A"}},{"$f":"INDEX(MasterTable[],MATCH(Simulator!$E90,MasterTable[P/N],0),COLUMN(MasterTable[T]))","v":{"$error":"#N/A"}},{"$f":"INDEX(MasterTable[],MATCH(Simulator!$E90,MasterTable[P/N],0),COLUMN(MasterTable[T0]))","v":{"$error":"#N/A"}},{"$f":"AM94*M94^3+AN94*M94^2+AO94*M94+AP94","v":{"$error":"#N/A"}},{"$f":"AL94+AQ94-AF94","v":{"$error":"#N/A"}},null,{"$f":"INDEX(MasterTable[],MATCH(Simulator!$E90,MasterTable[P/N],0),COLUMN(MasterTable['# of Die]))","v":{"$error":"#N/A"}},{"$f":"AL94","v":{"$error":"#N/A"}},{"$f":"INDEX(Tj_to_Vf6[],MATCH(Simulator!$I$8,Tj_to_Vf6[Vf],1),COLUMN(Tj_to_Vf6[Vf]))","v":-0.5},{"$f":"AU94+AV94*AT94","v":{"$error":"#N/A"}},{"$f":"IF(AND(Simulator!$I$8=25,Simulator!$N$69=Simulator!H90),AF94,AR94)","v":{"$error":"#N/A"}}]
[null,"H12",{"$f":"IF(Simulator!$D$10=\"Case\",Simulator!$I$8,M95)","v":25},{"$f":"Simulator!I91*AR95/1000","v":{"$error":"#VALUE!"}},{"$f":"INDEX(MasterTable[],MATCH(Simulator!E91,MasterTable[P/N],0),COLUMN(MasterTable[Thermal Resistance]))","v":{"$error":"#N/A"}},{"$f":"C95+D95*E95","v":{"$error":"#VALUE!"}},null,{"$f":"IF(Simulator!$D$10=\"Case\",F95,Simulator!$I$8)","v":{"$error":"#VALUE!"}},{"$f":"Simulator!I91*AW95/1000","v":{"$error":"#VALUE!"}},{"$f":"E95","v":{"$error":"#N/A"}},{"$f":"H95-I95*J95","v":{"$error":"#VALUE!"}},null,{"$f":"IF(Simulator!$D$10=\"Case\",Simulator!$I$8,K95)","v":25},{"$f":"IF(Simulator!$D$10=\"Case\",H95,Simulator!$I$8)","v":{"$error":"#VALUE!"}},{"$f":"IF(#REF!=\"Tj\",N95,M95)","v":{"$error":"#REF!"}},null,{"$f":"INDEX(MasterTable[],MATCH(Simulator!E91,MasterTable[P/N],0),COLUMN(MasterTable[Typical Lumens]))","v":{"$error":"#N/A"}},{"$f":"INDEX(MasterTable[],MATCH(Simulator!$E91,MasterTable[P/N],0),COLUMN(MasterTable[I^3]))","v":{"$error":"#N/A"}},{"$f":"INDEX(MasterTable[],MATCH(Simulator!$E91,MasterTable[P/N],0),COLUMN(MasterTable[I^2]))","v":{"$error":"#N/A"}},{"$f":"INDEX(MasterTable[],MATCH(Simulator!$E91,MasterTable[P/N],0),COLUMN(MasterTable[I]))","v":{"$error":"#N/A"}},{"$f":"INDEX(MasterTable[],MATCH(Simulator!$E91,MasterTable[P/N],0),COLUMN(MasterTable[I0]))","v":{"$error":"#N/A"}},{"$f":"(-T95+SQRT(T95^2-4*S95*(U95-AE95)))/(2*S95)","v":{"$error":"#N/A"}},{"$f":"INDEX(MasterTable[],MATCH(Simulator!$E91,MasterTable[P/N],0),COLUMN(MasterTable[F^4]))","v":{"$error":"#N/A"}},{"$f":"INDEX(MasterTable[],MATCH(Simulator!$E91,MasterTable[P/N],0),COLUMN(MasterTable[F^3]))","v":{"$error":"#N/A"}},{"$f":"INDEX(MasterTable[],MATCH(Simulator!$E91,MasterTable[P/N],0),COLUMN(MasterTable[F^2]))","v":{"$error":"#N/A"}},{"$f":"INDEX(MasterTable[],MATCH(Simulator!$E91,MasterTable[P/N],0),COLUMN(MasterTable[F]))","v":{"$error":"#N/A"}},{"$f":"INDEX(MasterTable[],MATCH(Simulator!$E91,MasterTable[P/N],0),COLUMN(MasterTable[F0]))","v":{"$error":"#N/A"}},{"$f":"IF(Simulator!$I$8=\"case\",AE95,W95*M95^4+X95*M95^3+Y95*M95^2+Z95*M95+AA95)","v":{"$error":"#N/A"}},{"$f":"Simulator!$N$69/Q95","v":{"$error":"#N/A"}},null,{"$f":"AC95/AB95","v":{"$error":"#N/A"}},{"$f":"INDEX(MasterTable[],MATCH(Simulator!$E91,MasterTable[P/N],0),COLUMN(MasterTable[Typical Voltage]))","v":{"$error":"#N/A"}},{"$f":"INDEX(MasterTable[],MATCH(Simulator!$E91,MasterTable[P/N],0),COLUMN(MasterTable[V^4]))","v":{"$error":"#N/A"}},{"$f":"INDEX(MasterTable[],MATCH(Simulator!$E91,MasterTable[P/N],0),COLUMN(MasterTable[V^3]))","v":{"$error":"#N/A"}},{"$f":"INDEX(MasterTable[],MATCH(Simulator!$E91,MasterTable[P/N],0),COLUMN(MasterTable[V^2]))","v":{"$error":"#N/A"}},{"$f":"INDEX(MasterTable[],MATCH(Simulator!$E91,MasterTable[P/N],0),COLUMN(MasterTable[V]))","v":{"$error":"#N/A"}},{"$f":"INDEX(MasterTable[],MATCH(Simulator!$E91,MasterTable[P/N],0),COLUMN(MasterTable[V0]))","v":{"$error":"#N/A"}},{"$f":"AG95*V95^4+AH95*V95^3+AI95*V95^2+AJ95*V95+AK95","v":{"$error":"#N/A"}},{"$f":"INDEX(MasterTable[],MATCH(Simulator!$E91,MasterTable[P/N],0),COLUMN(MasterTable[T^3]))","v":{"$error":"#N/A"}},{"$f":"INDEX(MasterTable[],MATCH(Simulator!$E91,MasterTable[P/N],0),COLUMN(MasterTable[T^2]))","v":{"$error":"#N/A"}},{"$f":"INDEX(MasterTable[],MATCH(Simulator!$E91,MasterTable[P/N],0),COLUMN(MasterTable[T]))","v":{"$error":"#N/A"}},{"$f":"INDEX(MasterTable[],MATCH(Simulator!$E91,MasterTable[P/N],0),COLUMN(MasterTable[T0]))","v":{"$error":"#N/A"}},{"$f":"AM95*M95^3+AN95*M95^2+AO95*M95+AP95","v":{"$error":"#N/A"}},{"$f":"AL95+AQ95-AF95","v":{"$error":"#N/A"}},null,{"$f":"INDEX(MasterTable[],MATCH(Simulator!$E91,MasterTable[P/N],0),COLUMN(MasterTable['# of Die]))","v":{"$error":"#N/A"}},{"$f":"AL95","v":{"$error":"#N/A"}},{"$f":"INDEX(Tj_to_Vf6[],MATCH(Simulator!$I$8,Tj_to_Vf6[Vf],1),COLUMN(Tj_to_Vf6[Vf]))","v":-0.5},{"$f":"AU95+AV95*AT95","v":{"$error":"#N/A"}},{"$f":"IF(AND(Simulator!$I$8=25,Simulator!$N$69=Simulator!H91),AF95,AR95)","v":{"$error":"#N/A"}}]
[null,"H15",{"$f":"IF(Simulator!$D$10=\"Case\",Simulator!$I$8,M96)","v":25},{"$f":"Simulator!I92*AR96/1000","v":{"$error":"#VALUE!"}},{"$f":"INDEX(MasterTable[],MATCH(Simulator!E92,MasterTable[P/N],0),COLUMN(MasterTable[Thermal Resistance]))","v":{"$error":"#N/A"}},{"$f":"C96+D96*E96","v":{"$error":"#VALUE!"}},null,{"$f":"IF(Simulator!$D$10=\"Case\",F96,Simulator!$I$8)","v":{"$error":"#VALUE!"}},{"$f":"Simulator!I92*AW96/1000","v":{"$error":"#VALUE!"}},{"$f":"E96","v":{"$error":"#N/A"}},{"$f":"H96-I96*J96","v":{"$error":"#VALUE!"}},null,{"$f":"IF(Simulator!$D$10=\"Case\",Simulator!$I$8,K96)","v":25},{"$f":"IF(Simulator!$D$10=\"Case\",H96,Simulator!$I$8)","v":{"$error":"#VALUE!"}},{"$f":"IF(#REF!=\"Tj\",N96,M96)","v":{"$error":"#REF!"}},null,{"$f":"INDEX(MasterTable[],MATCH(Simulator!E92,MasterTable[P/N],0),COLUMN(MasterTable[Typical Lumens]))","v":{"$error":"#N/A"}},{"$f":"INDEX(MasterTable[],MATCH(Simulator!$E92,MasterTable[P/N],0),COLUMN(MasterTable[I^3]))","v":{"$error":"#N/A"}},{"$f":"INDEX(MasterTable[],MATCH(Simulator!$E92,MasterTable[P/N],0),COLUMN(MasterTable[I^2]))","v":{"$error":"#N/A"}},{"$f":"INDEX(MasterTable[],MATCH(Simulator!$E92,MasterTable[P/N],0),COLUMN(MasterTable[I]))","v":{"$error":"#N/A"}},{"$f":"INDEX(MasterTable[],MATCH(Simulator!$E92,MasterTable[P/N],0),COLUMN(MasterTable[I0]))","v":{"$error":"#N/A"}},{"$f":"(-T96+SQRT(T96^2-4*S96*(U96-AE96)))/(2*S96)","v":{"$error":"#N/A"}},{"$f":"INDEX(MasterTable[],MATCH(Simulator!$E92,MasterTable[P/N],0),COLUMN(MasterTable[F^4]))","v":{"$error":"#N/A"}},{"$f":"INDEX(MasterTable[],MATCH(Simulator!$E92,MasterTable[P/N],0),COLUMN(MasterTable[F^3]))","v":{"$error":"#N/A"}},{"$f":"INDEX(MasterTable[],MATCH(Simulator!$E92,MasterTable[P/N],0),COLUMN(MasterTable[F^2]))","v":{"$error":"#N/A"}},{"$f":"INDEX(MasterTable[],MATCH(Simulator!$E92,MasterTable[P/N],0),COLUMN(MasterTable[F]))","v":{"$error":"#N/A"}},{"$f":"INDEX(MasterTable[],MATCH(Simulator!$E92,MasterTable[P/N],0),COLUMN(MasterTable[F0]))","v":{"$error":"#N/A"}},{"$f":"IF(Simulator!$I$8=\"case\",AE96,W96*M96^4+X96*M96^3+Y96*M96^2+Z96*M96+AA96)","v":{"$error":"#N/A"}},{"$f":"Simulator!$N$69/Q96","v":{"$error":"#N/A"}},null,{"$f":"AC96/AB96","v":{"$error":"#N/A"}},{"$f":"INDEX(MasterTable[],MATCH(Simulator!$E92,MasterTable[P/N],0),COLUMN(MasterTable[Typical Voltage]))","v":{"$error":"#N/A"}},{"$f":"INDEX(MasterTable[],MATCH(Simulator!$E92,MasterTable[P/N],0),COLUMN(MasterTable[V^4]))","v":{"$error":"#N/A"}},{"$f":"INDEX(MasterTable[],MATCH(Simulator!$E92,MasterTable[P/N],0),COLUMN(MasterTable[V^3]))","v":{"$error":"#N/A"}},{"$f":"INDEX(MasterTable[],MATCH(Simulator!$E92,MasterTable[P/N],0),COLUMN(MasterTable[V^2]))","v":{"$error":"#N/A"}},{"$f":"INDEX(MasterTable[],MATCH(Simulator!$E92,MasterTable[P/N],0),COLUMN(MasterTable[V]))","v":{"$error":"#N/A"}},{"$f":"INDEX(MasterTable[],MATCH(Simulator!$E92,MasterTable[P/N],0),COLUMN(MasterTable[V0]))","v":{"$error":"#N/A"}},{"$f":"AG96*V96^4+AH96*V96^3+AI96*V96^2+AJ96*V96+AK96","v":{"$error":"#N/A"}},{"$f":"INDEX(MasterTable[],MATCH(Simulator!$E92,MasterTable[P/N],0),COLUMN(MasterTable[T^3]))","v":{"$error":"#N/A"}},{"$f":"INDEX(MasterTable[],MATCH(Simulator!$E92,MasterTable[P/N],0),COLUMN(MasterTable[T^2]))","v":{"$error":"#N/A"}},{"$f":"INDEX(MasterTable[],MATCH(Simulator!$E92,MasterTable[P/N],0),COLUMN(MasterTable[T]))","v":{"$error":"#N/A"}},{"$f":"INDEX(MasterTable[],MATCH(Simulator!$E92,MasterTable[P/N],0),COLUMN(MasterTable[T0]))","v":{"$error":"#N/A"}},{"$f":"AM96*M96^3+AN96*M96^2+AO96*M96+AP96","v":{"$error":"#N/A"}},{"$f":"AL96+AQ96-AF96","v":{"$error":"#N/A"}},null,{"$f":"INDEX(MasterTable[],MATCH(Simulator!$E92,MasterTable[P/N],0),COLUMN(MasterTable['# of Die]))","v":{"$error":"#N/A"}},{"$f":"AL96","v":{"$error":"#N/A"}},{"$f":"INDEX(Tj_to_Vf6[],MATCH(Simulator!$I$8,Tj_to_Vf6[Vf],1),COLUMN(Tj_to_Vf6[Vf]))","v":-0.5},{"$f":"AU96+AV96*AT96","v":{"$error":"#N/A"}},{"$f":"IF(AND(Simulator!$I$8=25,Simulator!$N$69=Simulator!H92),AF96,AR96)","v":{"$error":"#N/A"}}]
[]
[]
[null,"V4 HD",{"$f":"IF(Simulator!$D$10=\"Case\",Simulator!$I$8,M99)","v":25},{"$f":"Simulator!I94*AR99/1000","v":{"$error":"#VALUE!"}},{"$f":"INDEX(MasterTable[],MATCH(Simulator!E94,MasterTable[P/N],0),COLUMN(MasterTable[Thermal Resistance]))","v":0.72},{"$f":"C99+D99*E99","v":{"$error":"#VALUE!"}},null,{"$f":"IF(Simulator!$D$10=\"Case\",F99,Simulator!$I$8)","v":{"$error":"#VALUE!"}},{"$f":"Simulator!I94*AW99/1000","v":{"$error":"#VALUE!"}},{"$f":"E99","v":0.72},{"$f":"H99-I99*J99","v":{"$error":"#VALUE!"}},null,{"$f":"IF(Simulator!$D$10=\"Case\",Simulator!$I$8,K99)","v":25},{"$f":"IF(Simulator!$D$10=\"Case\",H99,Simulator!$I$8)","v":{"$error":"#VALUE!"}},{"$f":"IF(#REF!=\"Tj\",N99,M99)","v":{"$error":"#REF!"}},null,{"$f":"INDEX(MasterTable[],MATCH(Simulator!E94,MasterTable[P/N],0),COLUMN(MasterTable[Typical Lumens]))","v":765},{"$f":"INDEX(MasterTable[],MATCH(Simulator!$E94,MasterTable[P/N],0),COLUMN(MasterTable[R^3]))","v":3.2319},{"$f":"INDEX(MasterTable[],MATCH(Simulator!$E94,MasterTable[P/N],0),COLUMN(MasterTable[R^2]))","v":21.225999999999999},{"$f":"INDEX(MasterTable[],MATCH(Simulator!$E94,MasterTable[P/N],0),COLUMN(MasterTable[R]))","v":150.58000000000001},{"$f":"INDEX(MasterTable[],MATCH(Simulator!$E94,MasterTable[P/N],0),COLUMN(MasterTable[R0]))","v":-9.9999999999999995E-8},{"$f":"R99*AE99^3+S99*AE99^2+T99*AE99+U99","v":294.9510462736169},{"$f":"INDEX(MasterTable[],MATCH(Simulator!$E94,MasterTable[P/N],0),COLUMN(MasterTable[F^4]))","v":0},{"$f":"INDEX(MasterTable[],MATCH(Simulator!$E94,MasterTable[P/N],0),COLUMN(MasterTable[F^3]))","v":-2.36E-8},{"$f":"INDEX(MasterTable[],MATCH(Simulator!$E94,MasterTable[P/N],0),COLUMN(MasterTable[F^2]))","v":-1.814E-7},{"$f":"INDEX(MasterTable[],MATCH(Simulator!$E94,MasterTable[P/N],0),COLUMN(MasterTable[F]))","v":-1.4753277E-3},{"$f":"INDEX(MasterTable[],MATCH(Simulator!$E94,MasterTable[P/N],0),COLUMN(MasterTable[F0]))","v":1.028029267},{"$f":"IF(Simulator!$I$8=\"case\",AE99,W99*M99^4+X99*M99^3+Y99*M99^2+Z99*M99+AA99)","v":0.99066394949999992},{"$f":"Simulator!$N$69/Q99","v":1.5294117647058822},null,{"$f":"AC99/AB99","v":1.5438249928018426},{"$f":"INDEX(MasterTable[],MATCH(Simulator!$E94,MasterTable[P/N],0),COLUMN(MasterTable[Typical Voltage]))","v":36.4},{"$f":"INDEX(MasterTable[],MATCH(Simulator!$E94,MasterTable[P/N],0),COLUMN(MasterTable[V^4]))","v":0},{"$f":"INDEX(MasterTable[],MATCH(Simulator!$E94,MasterTable[P/N],0),COLUMN(MasterTable[V^3]))","v":4.51E-8},{"$f":"INDEX(MasterTable[],MATCH(Simulator!$E94,MasterTable[P/N],0),COLUMN(MasterTable[V^2]))","v":-4.5243700000000002E-5},{"$f":"INDEX(MasterTable[],MATCH(Simulator!$E94,MasterTable[P/N],0),COLUMN(MasterTable[V]))","v":3.4480803099999999E-2},{"$f":"INDEX(MasterTable[],MATCH(Simulator!$E94,MasterTable[P/N],0),COLUMN(MasterTable[V0]))","v":31.484613049099998},{"$f":"AG99*V99^4+AH99*V99^3+AI99*V99^2+AJ99*V99+AK99","v":38.875983462375132},{"$f":"INDEX(MasterTable[],MATCH(Simulator!$E94,MasterTable[P/N],0),COLUMN(MasterTable[T^3]))","v":-4.9520000000000004E-7},{"$f":"INDEX(MasterTable[],MATCH(Simulator!$E94,MasterTable[P/N],0),COLUMN(MasterTable[T^2]))","v":1.4426829999999999E-4},{"$f":"INDEX(MasterTable[],MATCH(Simulator!$E94,MasterTable[P/N],0),COLUMN(MasterTable[T]))","v":-2.6561671799999999E-2},{"$f":"INDEX(MasterTable[],MATCH(Simulator!$E94,MasterTable[P/N],0),COLUMN(MasterTable[T0]))","v":36.771805885299997},{"$f":"AM99*M99^3+AN99*M99^2+AO99*M99+AP99","v":36.190194277799996},{"$f":"AL99+AQ99-AF99","v":38.666177740175137},null,{"$f":"INDEX(MasterTable[],MATCH(Simulator!$E94,MasterTable[P/N],0),COLUMN(MasterTable['# of Die]))","v":12},{"$f":"AL99","v":38.875983462375132},{"$f":"INDEX(Tj_to_Vf6[],MATCH(Simulator!$I$8,Tj_to_Vf6[Vf],1),COLUMN(Tj_to_Vf6[Vf]))","v":-0.5},{"$f":"AU99+AV99*AT99","v":32.875983462375132},{"$f":"IF(AND(Simulator!$I$8=25,Simulator!$N$69=Simulator!H95),AF99,AR99)","v":38.666177740175137}]
[null,"V6 HD",{"$f":"IF(Simulator!$D$10=\"Case\",Simulator!$I$8,M100)","v":25},{"$f":"Simulator!I95*AR100/1000","v":9.0088214797913881},{"$f":"INDEX(MasterTable[],MATCH(Simulator!E95,MasterTable[P/N],0),COLUMN(MasterTable[Thermal Resistance]))","v":0.36},{"$f":"C100+D100*E100","v":28.2431757327249},null,{"$f":"IF(Simulator!$D$10=\"Case\",F100,Simulator!$I$8)","v":28.2431757327249},{"$f":"Simulator!I95*AW100/1000","v":5.7545143296663852},{"$f":"E100","v":0.36},{"$f":"H100-I100*J100","v":26.171550574045},null,{"$f":"IF(Simulator!$D$10=\"Case\",Simulator!$I$8,K100)","v":25},{"$f":"IF(Simulator!$D$10=\"Case\",H100,Simulator!$I$8)","v":28.2431757327249},{"$f":"IF(#REF!=\"Tj\",N100,M100)","v":{"$error":"#REF!"}},null,{"$f":"INDEX(MasterTable[],MATCH(Simulator!E95,MasterTable[P/N],0),COLUMN(MasterTable[Typical Lumens]))","v":1587},{"$f":"INDEX(MasterTable[],MATCH(Simulator!$E95,MasterTable[P/N],0),COLUMN(MasterTable[R^3]))","v":3.07},{"$f":"INDEX(MasterTable[],MATCH(Simulator!$E95,MasterTable[P/N],0),COLUMN(MasterTable[R^2]))","v":49.6},{"$f":"INDEX(MasterTable[],MATCH(Simulator!$E95,MasterTable[P/N],0),COLUMN(MasterTable[R]))","v":297},{"$f":"INDEX(MasterTable[],MATCH(Simulator!$E95,MasterTable[P/N],0),COLUMN(MasterTable[R0]))","v":-9.9999999999999995E-8},{"$f":"R100*AE100^3+S100*AE100^2+T100*AE100+U100","v":250.55604046847844},{"$f":"INDEX(MasterTable[],MATCH(Simulator!$E95,MasterTable[P/N],0),COLUMN(MasterTable[F^4]))","v":0},{"$f":"INDEX(MasterTable[],MATCH(Simulator!$E95,MasterTable[P/N],0),COLUMN(MasterTable[F^3]))","v":-6.6000000000000004E-9},{"$f":"INDEX(MasterTable[],MATCH(Simulator!$E95,MasterTable[P/N],0),COLUMN(MasterTable[F^2]))","v":-3.8314000000000003E-6},{"$f":"INDEX(MasterTable[],MATCH(Simulator!$E95,MasterTable[P/N],0),COLUMN(MasterTable[F]))","v":-1.3420341E-3},{"$f":"INDEX(MasterTable[],MATCH(Simulator!$E95,MasterTable[P/N],0),COLUMN(MasterTable[F0]))","v":1.0238966412999999},{"$f":"IF(Simulator!$I$8=\"case\",AE100,W100*M100^4+X100*M100^3+Y100*M100^2+Z100*M100+AA100)","v":0.98784803879999994},{"$f":"Simulator!$N$69/Q100","v":0.73724007561436677},null,{"$f":"AC100/AB100","v":0.7463091960074526},{"$f":"INDEX(MasterTable[],MATCH(Simulator!$E95,MasterTable[P/N],0),COLUMN(MasterTable[Typical Voltage]))","v":36.4},{"$f":"INDEX(MasterTable[],MATCH(Simulator!$E95,MasterTable[P/N],0),COLUMN(MasterTable[V^4]))","v":0},{"$f":"INDEX(MasterTable[],MATCH(Simulator!$E95,MasterTable[P/N],0),COLUMN(MasterTable[V^3]))","v":7.0999999999999999E-9},{"$f":"INDEX(MasterTable[],MATCH(Simulator!$E95,MasterTable[P/N],0),COLUMN(MasterTable[V^2]))","v":-1.48731E-5},{"$f":"INDEX(MasterTable[],MATCH(Simulator!$E95,MasterTable[P/N],0),COLUMN(MasterTable[V]))","v":2.10941823E-2},{"$f":"INDEX(MasterTable[],MATCH(Simulator!$E95,MasterTable[P/N],0),COLUMN(MasterTable[V0]))","v":30.554811519400001},{"$f":"AG100*V100^4+AH100*V100^3+AI100*V100^2+AJ100*V100+AK100","v":35.018057318665541},{"$f":"INDEX(MasterTable[],MATCH(Simulator!$E95,MasterTable[P/N],0),COLUMN(MasterTable[T^3]))","v":-2.973E-7},{"$f":"INDEX(MasterTable[],MATCH(Simulator!$E95,MasterTable[P/N],0),COLUMN(MasterTable[T^2]))","v":1.4002040000000001E-4},{"$f":"INDEX(MasterTable[],MATCH(Simulator!$E95,MasterTable[P/N],0),COLUMN(MasterTable[T]))","v":-3.4713817700000003E-2},{"$f":"INDEX(MasterTable[],MATCH(Simulator!$E95,MasterTable[P/N],0),COLUMN(MasterTable[T0]))","v":38.202206605500002},{"$f":"AM100*M100^3+AN100*M100^2+AO100*M100+AP100","v":37.417228600500003},{"$f":"AL100+AQ100-AF100","v":36.035285919165553},null,{"$f":"INDEX(MasterTable[],MATCH(Simulator!$E95,MasterTable[P/N],0),COLUMN(MasterTable['# of Die]))","v":24},{"$f":"AL100","v":35.018057318665541},{"$f":"INDEX(Tj_to_Vf6[],MATCH(Simulator!$I$8,Tj_to_Vf6[Vf],1),COLUMN(Tj_to_Vf6[Vf]))","v":-0.5},{"$f":"AU100+AV100*AT100","v":23.018057318665541},{"$f":"IF(AND(Simulator!$I$8=25,Simulator!$N$69=Simulator!H96),AF100,AR100)","v":36.035285919165553}]
[null,"V9 HD",{"$f":"IF(Simulator!$D$10=\"Case\",Simulator!$I$8,M101)","v":25},{"$f":"Simulator!I96*AR101/1000","v":7.5222655065134028},{"$f":"INDEX(MasterTable[],MATCH(Simulator!E96,MasterTable[P/N],0),COLUMN(MasterTable[Thermal Resistance]))","v":0.18},{"$f":"C101+D101*E101","v":26.354007791172414},null,{"$f":"IF(Simulator!$D$10=\"Case\",F101,Simulator!$I$8)","v":26.354007791172414},{"$f":"Simulator!I96*AW101/1000","v":2.121933520273402},{"$f":"E101","v":0.18},{"$f":"H101-I101*J101","v":25.972059757523201},null,{"$f":"IF(Simulator!$D$10=\"Case\",Simulator!$I$8,K101)","v":25},{"$f":"IF(Simulator!$D$10=\"Case\",H101,Simulator!$I$8)","v":26.354007791172414},{"$f":"IF(#REF!=\"Tj\",N101,M101)","v":{"$error":"#REF!"}},null,{"$f":"INDEX(MasterTable[],MATCH(Simulator!E96,MasterTable[P/N],0),COLUMN(MasterTable[Typical Lumens]))","v":3417},{"$f":"INDEX(MasterTable[],MATCH(Simulator!$E96,MasterTable[P/N],0),COLUMN(MasterTable[R^3]))","v":18.597999999999999},{"$f":"INDEX(MasterTable[],MATCH(Simulator!$E96,MasterTable[P/N],0),COLUMN(MasterTable[R^2]))","v":56.865000000000002},{"$f":"INDEX(MasterTable[],MATCH(Simulator!$E96,MasterTable[P/N],0),COLUMN(MasterTable[R]))","v":624.15},{"$f":"INDEX(MasterTable[],MATCH(Simulator!$E96,MasterTable[P/N],0),COLUMN(MasterTable[R0]))","v":-9.9999999999999995E-8},{"$f":"R101*AE101^3+S101*AE101^2+T101*AE101+U101","v":223.36881146753782},{"$f":"INDEX(MasterTable[],MATCH(Simulator!$E96,MasterTable[P/N],0),COLUMN(MasterTable[F^4]))","v":0},{"$f":"INDEX(MasterTable[],MATCH(Simulator!$E96,MasterTable[P/N],0),COLUMN(MasterTable[F^3]))","v":4.3100000000000002E-8},{"$f":"INDEX(MasterTable[],MATCH(Simulator!$E96,MasterTable[P/N],0),COLUMN(MasterTable[F^2]))","v":-1.44669E-5},{"$f":"INDEX(MasterTable[],MATCH(Simulator!$E96,MasterTable[P/N],0),COLUMN(MasterTable[F]))","v":-7.5929980000000001E-4},{"$f":"INDEX(MasterTable[],MATCH(Simulator!$E96,MasterTable[P/N],0),COLUMN(MasterTable[F0]))","v":1.0176676109},{"$f":"IF(Simulator!$I$8=\"case\",AE101,W101*M101^4+X101*M101^3+Y101*M101^2+Z101*M101+AA101)","v":0.99031674089999999},{"$f":"Simulator!$N$69/Q101","v":0.34240561896400351},null,{"$f":"AC101/AB101","v":0.34575364105510853},{"$f":"INDEX(MasterTable[],MATCH(Simulator!$E96,MasterTable[P/N],0),COLUMN(MasterTable[Typical Voltage]))","v":36.4},{"$f":"INDEX(MasterTable[],MATCH(Simulator!$E96,MasterTable[P/N],0),COLUMN(MasterTable[V^4]))","v":-4.9999999999999997E-12},{"$f":"INDEX(MasterTable[],MATCH(Simulator!$E96,MasterTable[P/N],0),COLUMN(MasterTable[V^3]))","v":1E-8},{"$f":"INDEX(MasterTable[],MATCH(Simulator!$E96,MasterTable[P/N],0),COLUMN(MasterTable[V^2]))","v":-1.0000000000000001E-5},{"$f":"INDEX(MasterTable[],MATCH(Simulator!$E96,MasterTable[P/N],0),COLUMN(MasterTable[V]))","v":1.18E-2},{"$f":"INDEX(MasterTable[],MATCH(Simulator!$E96,MasterTable[P/N],0),COLUMN(MasterTable[V0]))","v":31.195},{"$f":"AG101*V101^4+AH101*V101^3+AI101*V101^2+AJ101*V101+AK101","v":33.430815645659564},{"$f":"INDEX(MasterTable[],MATCH(Simulator!$E96,MasterTable[P/N],0),COLUMN(MasterTable[T^3]))","v":-4.467E-7},{"$f":"INDEX(MasterTable[],MATCH(Simulator!$E96,MasterTable[P/N],0),COLUMN(MasterTable[T^2]))","v":1.202214E-4},{"$f":"INDEX(MasterTable[],MATCH(Simulator!$E96,MasterTable[P/N],0),COLUMN(MasterTable[T]))","v":-2.25191091E-2},{"$f":"INDEX(MasterTable[],MATCH(Simulator!$E96,MasterTable[P/N],0),COLUMN(MasterTable[T0]))","v":36.896294534399999},{"$f":"AM101*M101^3+AN101*M101^2+AO101*M101+AP101","v":36.401475494399996},{"$f":"AL101+AQ101-AF101","v":33.432291140059569},null,{"$f":"INDEX(MasterTable[],MATCH(Simulator!$E96,MasterTable[P/N],0),COLUMN(MasterTable['# of Die]))","v":48},{"$f":"AL101","v":33.430815645659564},{"$f":"INDEX(Tj_to_Vf6[],MATCH(Simulator!$I$8,Tj_to_Vf6[Vf],1),COLUMN(Tj_to_Vf6[Vf]))","v":-0.5},{"$f":"AU101+AV101*AT101","v":9.430815645659564},{"$f":"IF(AND(Simulator!$I$8=25,Simulator!$N$69=Simulator!H97),AF101,AR101)","v":33.432291140059569}]
[]
["Calculations using Lumen Input",null,"Converting Tc to Tj",null,null,null,null,"Converting Tj to Tc",null,null,null,null,null,null,null,null,"Calculating Current",null,null,null,null,null,null,null,null,null,null,null,null,null,null,"Calculating Voltage w/ Tc",null,null,null,null,null,null,null,null,null,null,null,null,null,null,"Calculating Voltage w/ Tj"]
[null,null,"Tj = Tc + Power*Thermal Resistance",null,null,null,null,"Tc = Tj - Power*Thermal Resistance",null,null,null,null,null,null,null,null,"I=Fr@I*Eqn; Fr@I=Fro/Fr@T",null,null,null,null,null,null,null,null,null,null,null,null,null,null,"Vf@Tc&I = Vf@I + Vf@Tc-Vft",null,null,null,null,null,null,null,null,null,null,null,null,null,null,"Vf@Tj&I = Vf@I + Vf@Tj Modifier",null,null,null,null,"Typical Temperature Coefficient of Forward Voltage"]
[null,null,"Tc","Power","Thermal Resistance","Tc>>Tj",null,"Tj","Power","Thermal Resistance","Tj>>Tc",null,"Tc","Tj",{"$f":"IF(Simulator!$D$10=\"Case\",\"Tj\",\"Tc\")","v":"Tj"},null,"Ft","Fr@I Eqn",null,null,null,"Req'd I",null,"Fr@Tc Eqn",null,null,null,"Fr@Tc","Fro",null,"Fr@I","Vft",null,"Vf@I Eqn",null,null,null,"Vf@I","Vf@Tc Eqn",null,null,null,"Vf@Tc","Vf@Tc&I",null,"# of Die","Vf@I","Vf@Tj Modifier, per Die","Vf@Tj&I","Voltage Report",null,"∆Vf/∆T (mV/ºC)"]
[null,"V8-D",{"$f":"IF(Simulator!$D$10=\"Case\",Simulator!$I$8,M106)","v":25},{"$f":"Simulator!I98*AR106/1000","v":7.2751621656973482},{"$f":"INDEX(MasterTable[],MATCH(Simulator!E98,MasterTable[P/N],0),COLUMN(MasterTable[Thermal Resistance]))","v":0.49},{"$f":"C106+D106*E106","v":28.5648294611917},null,{"$f":"IF(Simulator!$D$10=\"Case\",F106,Simulator!$I$8)","v":28.5648294611917},{"$f":"Simulator!I98*AW106/1000","v":2.2951621656973482},{"$f":"E106","v":0.49},{"$f":"H106-I106*J106","v":27.440199999999997},null,{"$f":"IF(Simulator!$D$10=\"Case\",Simulator!$I$8,K106)","v":25},{"$f":"IF(Simulator!$D$10=\"Case\",H106,Simulator!$I$8)","v":28.5648294611917},{"$f":"IF(#REF!=\"Tj\",N106,M106)","v":{"$error":"#REF!"}},null,{"$f":"INDEX(MasterTable[],MATCH(Simulator!E98,MasterTable[P/N],0),COLUMN(MasterTable[Typical Lumens]))","v":999},{"$f":"INDEX(MasterTable[],MATCH(Simulator!$E98,MasterTable[P/N],0),COLUMN(MasterTable[R^3]))","v":4.1257000000000001},{"$f":"INDEX(MasterTable[],MATCH(Simulator!$E98,MasterTable[P/N],0),COLUMN(MasterTable[R^2]))","v":15.747999999999999},{"$f":"INDEX(MasterTable[],MATCH(Simulator!$E98,MasterTable[P/N],0),COLUMN(MasterTable[R]))","v":330.26},{"$f":"INDEX(MasterTable[],MATCH(Simulator!$E98,MasterTable[P/N],0),COLUMN(MasterTable[R0]))","v":-9.9999999999999995E-8},{"$f":"R106*AE106^3+S106*AE106^2+T106*AE106+U106","v":415.01924551522802},{"$f":"INDEX(MasterTable[],MATCH(Simulator!$E98,MasterTable[P/N],0),COLUMN(MasterTable[F^4]))","v":0},{"$f":"INDEX(MasterTable[],MATCH(Simulator!$E98,MasterTable[P/N],0),COLUMN(MasterTable[F^3]))","v":0},{"$f":"INDEX(MasterTable[],MATCH(Simulator!$E98,MasterTable[P/N],0),COLUMN(MasterTable[F^2]))","v":-3.9999999999999998E-6},{"$f":"INDEX(MasterTable[],MATCH(Simulator!$E98,MasterTable[P/N],0),COLUMN(MasterTable[F]))","v":-1E-3},{"$f":"INDEX(MasterTable[],MATCH(Simulator!$E98,MasterTable[P/N],0),COLUMN(MasterTable[F0]))","v":1.0275000000000001},{"$f":"W106*M106^4+X106*M106^3+Y106*M106^2+Z106*M106+AA106","v":1},{"$f":"Simulator!$N$69/Q106","v":1.1711711711711712},null,{"$f":"AC106/AB106","v":1.1711711711711712},{"$f":"INDEX(MasterTable[],MATCH(Simulator!$E98,MasterTable[P/N],0),COLUMN(MasterTable[Typical Voltage]))","v":17.3},{"$f":"INDEX(MasterTable[],MATCH(Simulator!$E98,MasterTable[P/N],0),COLUMN(MasterTable[V^4]))","v":0},{"$f":"INDEX(MasterTable[],MATCH(Simulator!$E98,MasterTable[P/N],0),COLUMN(MasterTable[V^3]))","v":3.6E-9},{"$f":"INDEX(MasterTable[],MATCH(Simulator!$E98,MasterTable[P/N],0),COLUMN(MasterTable[V^2]))","v":-5.9801999999999999E-6},{"$f":"INDEX(MasterTable[],MATCH(Simulator!$E98,MasterTable[P/N],0),COLUMN(MasterTable[V]))","v":6.4073706000000001E-3},{"$f":"INDEX(MasterTable[],MATCH(Simulator!$E98,MasterTable[P/N],0),COLUMN(MasterTable[V0]))","v":15.644024655200001},{"$f":"AG106*V106^4+AH106*V106^3+AI106*V106^2+AJ106*V106+AK106","v":17.530511242644213},{"$f":"INDEX(MasterTable[],MATCH(Simulator!$E98,MasterTable[P/N],0),COLUMN(MasterTable[T^3]))","v":0},{"$f":"INDEX(MasterTable[],MATCH(Simulator!$E98,MasterTable[P/N],0),COLUMN(MasterTable[T^2]))","v":0},{"$f":"INDEX(MasterTable[],MATCH(Simulator!$E98,MasterTable[P/N],0),COLUMN(MasterTable[T]))","v":0},{"$f":"INDEX(MasterTable[],MATCH(Simulator!$E98,MasterTable[P/N],0),COLUMN(MasterTable[T0]))","v":0},{"$f":"AZ106*(M106-25)/1000+AF106","v":17.3},{"$f":"AL106+AQ106-AF106","v":17.530511242644213},null,{"$f":"INDEX(MasterTable[],MATCH(Simulator!$E98,MasterTable[P/N],0),COLUMN(MasterTable['# of Die]))","v":24},{"$f":"AL106","v":17.530511242644213},{"$f":"INDEX(Tj_to_Vf6[],MATCH(Simulator!$I$8,Tj_to_Vf6[Vf],1),COLUMN(Tj_to_Vf6[Vf]))","v":-0.5},{"$f":"AU106+AV106*AT106","v":5.5305112426442129},{"$f":"IF(AND(Simulator!$I$8=25,Simulator!$N$69=Simulator!H98),AF106,AR106)","v":17.530511242644213},null,-7.38]
[null,"V8-E",{"$f":"IF(Simulator!$D$10=\"Case\",Simulator!$I$8,M107)","v":25},{"$f":"Simulator!I99*AR107/1000","v":7.1500071829756262},{"$f":"INDEX(MasterTable[],MATCH(Simulator!E99,MasterTable[P/N],0),COLUMN(MasterTable[Thermal Resistance]))","v":0.49},{"$f":"C107+D107*E107","v":28.503503519658057},null,{"$f":"IF(Simulator!$D$10=\"Case\",F107,Simulator!$I$8)","v":28.503503519658057},{"$f":"Simulator!I99*AW107/1000","v":4.6900071829756262},{"$f":"E107","v":0.49},{"$f":"H107-I107*J107","v":26.205400000000001},null,{"$f":"IF(Simulator!$D$10=\"Case\",Simulator!$I$8,K107)","v":25},{"$f":"IF(Simulator!$D$10=\"Case\",H107,Simulator!$I$8)","v":28.503503519658057},{"$f":"IF(#REF!=\"Tj\",N107,M107)","v":{"$error":"#REF!"}},null,{"$f":"INDEX(MasterTable[],MATCH(Simulator!E99,MasterTable[P/N],0),COLUMN(MasterTable[Typical Lumens]))","v":1002},{"$f":"INDEX(MasterTable[],MATCH(Simulator!$E99,MasterTable[P/N],0),COLUMN(MasterTable[R^3]))","v":1.3463000000000001},{"$f":"INDEX(MasterTable[],MATCH(Simulator!$E99,MasterTable[P/N],0),COLUMN(MasterTable[R^2]))","v":9.7157},{"$f":"INDEX(MasterTable[],MATCH(Simulator!$E99,MasterTable[P/N],0),COLUMN(MasterTable[R]))","v":164.05},{"$f":"INDEX(MasterTable[],MATCH(Simulator!$E99,MasterTable[P/N],0),COLUMN(MasterTable[R0]))","v":-9.9999999999999995E-8},{"$f":"R107*AE107^3+S107*AE107^2+T107*AE107+U107","v":206.87863098022385},{"$f":"INDEX(MasterTable[],MATCH(Simulator!$E99,MasterTable[P/N],0),COLUMN(MasterTable[F^4]))","v":0},{"$f":"INDEX(MasterTable[],MATCH(Simulator!$E99,MasterTable[P/N],0),COLUMN(MasterTable[F^3]))","v":-2.2799999999999999E-8},{"$f":"INDEX(MasterTable[],MATCH(Simulator!$E99,MasterTable[P/N],0),COLUMN(MasterTable[F^2]))","v":1.829E-7},{"$f":"INDEX(MasterTable[],MATCH(Simulator!$E99,MasterTable[P/N],0),COLUMN(MasterTable[F]))","v":-1.1936561E-3},{"$f":"INDEX(MasterTable[],MATCH(Simulator!$E99,MasterTable[P/N],0),COLUMN(MasterTable[F0]))","v":1.0303814841000001},{"$f":"W107*M107^4+X107*M107^3+Y107*M107^2+Z107*M107+AA107","v":1.0002981441000001},{"$f":"Simulator!$N$69/Q107","v":1.1676646706586826},null,{"$f":"AC107/AB107","v":1.167316642089012},{"$f":"INDEX(MasterTable[],MATCH(Simulator!$E99,MasterTable[P/N],0),COLUMN(MasterTable[Typical Voltage]))","v":34.700000000000003},{"$f":"INDEX(MasterTable[],MATCH(Simulator!$E99,MasterTable[P/N],0),COLUMN(MasterTable[V^4]))","v":0},{"$f":"INDEX(MasterTable[],MATCH(Simulator!$E99,MasterTable[P/N],0),COLUMN(MasterTable[V^3]))","v":5.8000000000000003E-8},{"$f":"INDEX(MasterTable[],MATCH(Simulator!$E99,MasterTable[P/N],0),COLUMN(MasterTable[V^2]))","v":-4.7954200000000002E-5},{"$f":"INDEX(MasterTable[],MATCH(Simulator!$E99,MasterTable[P/N],0),COLUMN(MasterTable[V]))","v":2.6223106900000001E-2},{"$f":"INDEX(MasterTable[],MATCH(Simulator!$E99,MasterTable[P/N],0),COLUMN(MasterTable[V0]))","v":30.991923311899999},{"$f":"AG107*V107^4+AH107*V107^3+AI107*V107^2+AJ107*V107+AK107","v":34.878083819393296},{"$f":"INDEX(MasterTable[],MATCH(Simulator!$E99,MasterTable[P/N],0),COLUMN(MasterTable[T^3]))","v":0},{"$f":"INDEX(MasterTable[],MATCH(Simulator!$E99,MasterTable[P/N],0),COLUMN(MasterTable[T^2]))","v":0},{"$f":"INDEX(MasterTable[],MATCH(Simulator!$E99,MasterTable[P/N],0),COLUMN(MasterTable[T]))","v":0},{"$f":"INDEX(MasterTable[],MATCH(Simulator!$E99,MasterTable[P/N],0),COLUMN(MasterTable[T0]))","v":0},{"$f":"AZ107*(M107-25)/1000+AF107","v":34.700000000000003},{"$f":"AL107+AQ107-AF107","v":34.878083819393296},null,{"$f":"INDEX(MasterTable[],MATCH(Simulator!$E99,MasterTable[P/N],0),COLUMN(MasterTable['# of Die]))","v":24},{"$f":"AL107","v":34.878083819393296},{"$f":"INDEX(Tj_to_Vf6[],MATCH(Simulator!$I$8,Tj_to_Vf6[Vf],1),COLUMN(Tj_to_Vf6[Vf]))","v":-0.5},{"$f":"AU107+AV107*AT107","v":22.878083819393296},{"$f":"IF(AND(Simulator!$I$8=25,Simulator!$N$69=Simulator!H99),AF107,AR107)","v":34.878083819393296},null,-7.38]
[null,"V10-B",{"$f":"IF(Simulator!$D$10=\"Case\",Simulator!$I$8,M108)","v":25},{"$f":"Simulator!I100*AR108/1000","v":6.8158407634876941},{"$f":"INDEX(MasterTable[],MATCH(Simulator!E100,MasterTable[P/N],0),COLUMN(MasterTable[Thermal Resistance]))","v":0.49075000000000002},{"$f":"C108+D108*E108","v":28.344873854681587},null,{"$f":"IF(Simulator!$D$10=\"Case\",F108,Simulator!$I$8)","v":28.344873854681587},{"$f":"Simulator!I100*AW108/1000","v":3.215840763487694},{"$f":"E108","v":0.49075000000000002},{"$f":"H108-I108*J108","v":26.7667},null,{"$f":"IF(Simulator!$D$10=\"Case\",Simulator!$I$8,K108)","v":25},{"$f":"IF(Simulator!$D$10=\"Case\",H108,Simulator!$I$8)","v":28.344873854681587},{"$f":"IF(#REF!=\"Tj\",N108,M108)","v":{"$error":"#REF!"}},null,{"$f":"INDEX(MasterTable[],MATCH(Simulator!E100,MasterTable[P/N],0),COLUMN(MasterTable[Typical Lumens]))","v":1549},{"$f":"INDEX(MasterTable[],MATCH(Simulator!$E100,MasterTable[P/N],0),COLUMN(MasterTable[R^3]))","v":-0.98309999999999997},{"$f":"INDEX(MasterTable[],MATCH(Simulator!$E100,MasterTable[P/N],0),COLUMN(MasterTable[R^2]))","v":26.027999999999999},{"$f":"INDEX(MasterTable[],MATCH(Simulator!$E100,MasterTable[P/N],0),COLUMN(MasterTable[R]))","v":241.46},{"$f":"INDEX(MasterTable[],MATCH(Simulator!$E100,MasterTable[P/N],0),COLUMN(MasterTable[R0]))","v":-9.9999999999999995E-8},{"$f":"R108*AE108^3+S108*AE108^2+T108*AE108+U108","v":197.66536785761676},{"$f":"INDEX(MasterTable[],MATCH(Simulator!$E100,MasterTable[P/N],0),COLUMN(MasterTable[F^4]))","v":0},{"$f":"INDEX(MasterTable[],MATCH(Simulator!$E100,MasterTable[P/N],0),COLUMN(MasterTable[F^3]))","v":0},{"$f":"INDEX(MasterTable[],MATCH(Simulator!$E100,MasterTable[P/N],0),COLUMN(MasterTable[F^2]))","v":-3.6592E-6},{"$f":"INDEX(MasterTable[],MATCH(Simulator!$E100,MasterTable[P/N],0),COLUMN(MasterTable[F]))","v":-1.0345506E-3},{"$f":"INDEX(MasterTable[],MATCH(Simulator!$E100,MasterTable[P/N],0),COLUMN(MasterTable[F0]))","v":1.0240956264000001},{"$f":"W108*M108^4+X108*M108^3+Y108*M108^2+Z108*M108+AA108","v":0.99594486140000005},{"$f":"Simulator!$N$69/Q108","v":0.75532601678502265},null,{"$f":"AC108/AB108","v":0.7584014397375981},{"$f":"INDEX(MasterTable[],MATCH(Simulator!$E100,MasterTable[P/N],0),COLUMN(MasterTable[Typical Voltage]))","v":34.799999999999997},{"$f":"INDEX(MasterTable[],MATCH(Simulator!$E100,MasterTable[P/N],0),COLUMN(MasterTable[V^4]))","v":0},{"$f":"INDEX(MasterTable[],MATCH(Simulator!$E100,MasterTable[P/N],0),COLUMN(MasterTable[V^3]))","v":9.8000000000000001E-9},{"$f":"INDEX(MasterTable[],MATCH(Simulator!$E100,MasterTable[P/N],0),COLUMN(MasterTable[V^2]))","v":-1.42836E-5},{"$f":"INDEX(MasterTable[],MATCH(Simulator!$E100,MasterTable[P/N],0),COLUMN(MasterTable[V]))","v":1.6490447700000001E-2},{"$f":"INDEX(MasterTable[],MATCH(Simulator!$E100,MasterTable[P/N],0),COLUMN(MasterTable[V0]))","v":31.302010081999999},{"$f":"AG108*V108^4+AH108*V108^3+AI108*V108^2+AJ108*V108+AK108","v":34.079203817438469},{"$f":"INDEX(MasterTable[],MATCH(Simulator!$E100,MasterTable[P/N],0),COLUMN(MasterTable[T^3]))","v":0},{"$f":"INDEX(MasterTable[],MATCH(Simulator!$E100,MasterTable[P/N],0),COLUMN(MasterTable[T^2]))","v":0},{"$f":"INDEX(MasterTable[],MATCH(Simulator!$E100,MasterTable[P/N],0),COLUMN(MasterTable[T]))","v":0},{"$f":"INDEX(MasterTable[],MATCH(Simulator!$E100,MasterTable[P/N],0),COLUMN(MasterTable[T0]))","v":0},{"$f":"AZ108*(M108-25)/1000+AF108","v":34.799999999999997},{"$f":"AL108+AQ108-AF108","v":34.079203817438469},null,{"$f":"INDEX(MasterTable[],MATCH(Simulator!$E100,MasterTable[P/N],0),COLUMN(MasterTable['# of Die]))","v":36},{"$f":"AL108","v":34.079203817438469},{"$f":"INDEX(Tj_to_Vf6[],MATCH(Simulator!$I$8,Tj_to_Vf6[Vf],1),COLUMN(Tj_to_Vf6[Vf]))","v":-0.5},{"$f":"AU108+AV108*AT108","v":16.079203817438469},{"$f":"IF(AND(Simulator!$I$8=25,Simulator!$N$69=Simulator!H100),AF108,AR108)","v":34.079203817438469},null,-16.100000000000001]
[null,"V10-C",{"$f":"IF(Simulator!$D$10=\"Case\",Simulator!$I$8,M109)","v":25},{"$f":"Simulator!I101*AR109/1000","v":6.5116893311585287},{"$f":"INDEX(MasterTable[],MATCH(Simulator!E101,MasterTable[P/N],0),COLUMN(MasterTable[Thermal Resistance]))","v":0.37036666666666668},{"$f":"C109+D109*E109","v":27.411712671950081},null,{"$f":"IF(Simulator!$D$10=\"Case\",F109,Simulator!$I$8)","v":27.411712671950081},{"$f":"Simulator!I101*AW109/1000","v":1.8316893311585307},{"$f":"E109","v":0.37036666666666668},{"$f":"H109-I109*J109","v":26.733315999999999},null,{"$f":"IF(Simulator!$D$10=\"Case\",Simulator!$I$8,K109)","v":25},{"$f":"IF(Simulator!$D$10=\"Case\",H109,Simulator!$I$8)","v":27.411712671950081},{"$f":"IF(#REF!=\"Tj\",N109,M109)","v":{"$error":"#REF!"}},null,{"$f":"INDEX(MasterTable[],MATCH(Simulator!E101,MasterTable[P/N],0),COLUMN(MasterTable[Typical Lumens]))","v":2066},{"$f":"INDEX(MasterTable[],MATCH(Simulator!$E101,MasterTable[P/N],0),COLUMN(MasterTable[R^3]))","v":0.66473000000000004},{"$f":"INDEX(MasterTable[],MATCH(Simulator!$E101,MasterTable[P/N],0),COLUMN(MasterTable[R^2]))","v":33.152999999999999},{"$f":"INDEX(MasterTable[],MATCH(Simulator!$E101,MasterTable[P/N],0),COLUMN(MasterTable[R]))","v":322.76},{"$f":"INDEX(MasterTable[],MATCH(Simulator!$E101,MasterTable[P/N],0),COLUMN(MasterTable[R0]))","v":-9.9999999999999995E-8},{"$f":"R109*AE109^3+S109*AE109^2+T109*AE109+U109","v":194.36842939055529},{"$f":"INDEX(MasterTable[],MATCH(Simulator!$E101,MasterTable[P/N],0),COLUMN(MasterTable[F^4]))","v":0},{"$f":"INDEX(MasterTable[],MATCH(Simulator!$E101,MasterTable[P/N],0),COLUMN(MasterTable[F^3]))","v":0},{"$f":"INDEX(MasterTable[],MATCH(Simulator!$E101,MasterTable[P/N],0),COLUMN(MasterTable[F^2]))","v":-3.6592E-6},{"$f":"INDEX(MasterTable[],MATCH(Simulator!$E101,MasterTable[P/N],0),COLUMN(MasterTable[F]))","v":-1.0345506E-3},{"$f":"INDEX(MasterTable[],MATCH(Simulator!$E101,MasterTable[P/N],0),COLUMN(MasterTable[F0]))","v":1.0240956264000001},{"$f":"W109*M109^4+X109*M109^3+Y109*M109^2+Z109*M109+AA109","v":0.99594486140000005},{"$f":"Simulator!$N$69/Q109","v":0.56631171345595355},null,{"$f":"AC109/AB109","v":0.56861753637635015},{"$f":"INDEX(MasterTable[],MATCH(Simulator!$E101,MasterTable[P/N],0),COLUMN(MasterTable[Typical Voltage]))","v":34.799999999999997},{"$f":"INDEX(MasterTable[],MATCH(Simulator!$E101,MasterTable[P/N],0),COLUMN(MasterTable[V^4]))","v":0},{"$f":"INDEX(MasterTable[],MATCH(Simulator!$E101,MasterTable[P/N],0),COLUMN(MasterTable[V^3]))","v":0},{"$f":"INDEX(MasterTable[],MATCH(Simulator!$E101,MasterTable[P/N],0),COLUMN(MasterTable[V^2]))","v":-3.0000000000000001E-6},{"$f":"INDEX(MasterTable[],MATCH(Simulator!$E101,MasterTable[P/N],0),COLUMN(MasterTable[V]))","v":1.09E-2},{"$f":"INDEX(MasterTable[],MATCH(Simulator!$E101,MasterTable[P/N],0),COLUMN(MasterTable[V0]))","v":31.388000000000002},{"$f":"AG109*V109^4+AH109*V109^3+AI109*V109^2+AJ109*V109+AK109","v":33.393278621325798},{"$f":"INDEX(MasterTable[],MATCH(Simulator!$E101,MasterTable[P/N],0),COLUMN(MasterTable[T^3]))","v":0},{"$f":"INDEX(MasterTable[],MATCH(Simulator!$E101,MasterTable[P/N],0),COLUMN(MasterTable[T^2]))","v":0},{"$f":"INDEX(MasterTable[],MATCH(Simulator!$E101,MasterTable[P/N],0),COLUMN(MasterTable[T]))","v":0},{"$f":"INDEX(MasterTable[],MATCH(Simulator!$E101,MasterTable[P/N],0),COLUMN(MasterTable[T0]))","v":0},{"$f":"AZ109*(M109-25)/1000+AF109","v":34.799999999999997},{"$f":"AL109+AQ109-AF109","v":33.393278621325791},null,{"$f":"INDEX(MasterTable[],MATCH(Simulator!$E101,MasterTable[P/N],0),COLUMN(MasterTable['# of Die]))","v":48},{"$f":"AL109","v":33.393278621325798},{"$f":"INDEX(Tj_to_Vf6[],MATCH(Simulator!$I$8,Tj_to_Vf6[Vf],1),COLUMN(Tj_to_Vf6[Vf]))","v":-0.5},{"$f":"AU109+AV109*AT109","v":9.3932786213257984},{"$f":"IF(AND(Simulator!$I$8=25,Simulator!$N$69=Simulator!H101),AF109,AR109)","v":33.393278621325791},null,-16.100000000000001]
[null,"V13-B",{"$f":"IF(Simulator!$D$10=\"Case\",Simulator!$I$8,M110)","v":25},{"$f":"Simulator!I102*AR110/1000","v":6.0842377612589722},{"$f":"INDEX(MasterTable[],MATCH(Simulator!E102,MasterTable[P/N],0),COLUMN(MasterTable[Thermal Resistance]))","v":0.28036666666666665},26.705817460331641,null,{"$f":"IF(Simulator!$D$10=\"Case\",F110,Simulator!$I$8)","v":26.705817460331641},{"$f":"Simulator!I102*AW110/1000","v":0.53423776125897093},0.28036666666666665,26.556035000000001,null,{"$f":"IF(Simulator!$D$10=\"Case\",Simulator!$I$8,K110)","v":25},{"$f":"IF(Simulator!$D$10=\"Case\",H110,Simulator!$I$8)","v":26.705817460331641},{"$f":"IF(#REF!=\"Tj\",N110,M110)","v":{"$error":"#REF!"}},null,{"$f":"INDEX(MasterTable[],MATCH(Simulator!E102,MasterTable[P/N],0),COLUMN(MasterTable[Typical Lumens]))","v":2658.375},{"$f":"INDEX(MasterTable[],MATCH(Simulator!$E102,MasterTable[P/N],0),COLUMN(MasterTable[R^3]))","v":2.2275},{"$f":"INDEX(MasterTable[],MATCH(Simulator!$E102,MasterTable[P/N],0),COLUMN(MasterTable[R^2]))","v":40.991},{"$f":"INDEX(MasterTable[],MATCH(Simulator!$E102,MasterTable[P/N],0),COLUMN(MasterTable[R]))","v":404.1},{"$f":"INDEX(MasterTable[],MATCH(Simulator!$E102,MasterTable[P/N],0),COLUMN(MasterTable[R0]))","v":-9.9999999999999995E-8},{"$f":"R110*AE110^3+S110*AE110^2+T110*AE110+U110","v":186.77318644252622},{"$f":"INDEX(MasterTable[],MATCH(Simulator!$E102,MasterTable[P/N],0),COLUMN(MasterTable[F^4]))","v":0},{"$f":"INDEX(MasterTable[],MATCH(Simulator!$E102,MasterTable[P/N],0),COLUMN(MasterTable[F^3]))","v":0},{"$f":"INDEX(MasterTable[],MATCH(Simulator!$E102,MasterTable[P/N],0),COLUMN(MasterTable[F^2]))","v":-3.6592E-6},{"$f":"INDEX(MasterTable[],MATCH(Simulator!$E102,MasterTable[P/N],0),COLUMN(MasterTable[F]))","v":-1.0345506E-3},{"$f":"INDEX(MasterTable[],MATCH(Simulator!$E102,MasterTable[P/N],0),COLUMN(MasterTable[F0]))","v":1.0240956264000001},0.99594486140000005,{"$f":"Simulator!$N$69/Q110","v":0.44011849344054166},null,0.44191050177403085,{"$f":"INDEX(MasterTable[],MATCH(Simulator!$E102,MasterTable[P/N],0),COLUMN(MasterTable[Typical Voltage]))","v":34.799999999999997},{"$f":"INDEX(MasterTable[],MATCH(Simulator!$E102,MasterTable[P/N],0),COLUMN(MasterTable[V^4]))","v":0},{"$f":"INDEX(MasterTable[],MATCH(Simulator!$E102,MasterTable[P/N],0),COLUMN(MasterTable[V^3]))","v":0},{"$f":"INDEX(MasterTable[],MATCH(Simulator!$E102,MasterTable[P/N],0),COLUMN(MasterTable[V^2]))","v":-1.9999999999999999E-6},{"$f":"INDEX(MasterTable[],MATCH(Simulator!$E102,MasterTable[P/N],0),COLUMN(MasterTable[V]))","v":8.2000000000000007E-3},{"$f":"INDEX(MasterTable[],MATCH(Simulator!$E102,MasterTable[P/N],0),COLUMN(MasterTable[V0]))","v":31.425999999999998},32.887771682480924,{"$f":"INDEX(MasterTable[],MATCH(Simulator!$E102,MasterTable[P/N],0),COLUMN(MasterTable[T^3]))","v":0},{"$f":"INDEX(MasterTable[],MATCH(Simulator!$E102,MasterTable[P/N],0),COLUMN(MasterTable[T^2]))","v":0},{"$f":"INDEX(MasterTable[],MATCH(Simulator!$E102,MasterTable[P/N],0),COLUMN(MasterTable[T]))","v":0},{"$f":"INDEX(MasterTable[],MATCH(Simulator!$E102,MasterTable[P/N],0),COLUMN(MasterTable[T0]))","v":0},34.799999999999997,32.887771682480931,null,{"$f":"INDEX(MasterTable[],MATCH(Simulator!$E102,MasterTable[P/N],0),COLUMN(MasterTable['# of Die]))","v":60},32.887771682480924,{"$f":"INDEX(Tj_to_Vf6[],MATCH(Simulator!$I$8,Tj_to_Vf6[Vf],1),COLUMN(Tj_to_Vf6[Vf]))","v":-0.5},2.8877716824809241,{"$f":"IF(AND(Simulator!$I$8=25,Simulator!$N$69=Simulator!H102),AF110,AR110)","v":32.887771682480931},null,-14.1]
[null,"V13-C",{"$f":"IF(Simulator!$D$10=\"Case\",Simulator!$I$8,M111)","v":25},{"$f":"Simulator!I103*AR111/1000","v":6.0071367214120226},{"$f":"INDEX(MasterTable[],MATCH(Simulator!E103,MasterTable[P/N],0),COLUMN(MasterTable[Thermal Resistance]))","v":0.19873333333333335},26.193818304435283,null,{"$f":"IF(Simulator!$D$10=\"Case\",F111,Simulator!$I$8)","v":26.193818304435283},{"$f":"Simulator!I103*AW111/1000","v":-1.7628632785879776},0.19873333333333335,26.544157999999999,null,{"$f":"IF(Simulator!$D$10=\"Case\",Simulator!$I$8,K111)","v":25},{"$f":"IF(Simulator!$D$10=\"Case\",H111,Simulator!$I$8)","v":26.193818304435283},{"$f":"IF(#REF!=\"Tj\",N111,M111)","v":{"$error":"#REF!"}},null,{"$f":"INDEX(MasterTable[],MATCH(Simulator!E103,MasterTable[P/N],0),COLUMN(MasterTable[Typical Lumens]))","v":3721.7249999999999},{"$f":"INDEX(MasterTable[],MATCH(Simulator!$E103,MasterTable[P/N],0),COLUMN(MasterTable[R^3]))","v":6.1532},{"$f":"INDEX(MasterTable[],MATCH(Simulator!$E103,MasterTable[P/N],0),COLUMN(MasterTable[R^2]))","v":52.234999999999999},{"$f":"INDEX(MasterTable[],MATCH(Simulator!$E103,MasterTable[P/N],0),COLUMN(MasterTable[R]))","v":570.62},{"$f":"INDEX(MasterTable[],MATCH(Simulator!$E103,MasterTable[P/N],0),COLUMN(MasterTable[R0]))","v":-9.9999999999999995E-8},{"$f":"R111*AE111^3+S111*AE111^2+T111*AE111+U111","v":185.51436675428818},{"$f":"INDEX(MasterTable[],MATCH(Simulator!$E103,MasterTable[P/N],0),COLUMN(MasterTable[F^4]))","v":0},{"$f":"INDEX(MasterTable[],MATCH(Simulator!$E103,MasterTable[P/N],0),COLUMN(MasterTable[F^3]))","v":0},{"$f":"INDEX(MasterTable[],MATCH(Simulator!$E103,MasterTable[P/N],0),COLUMN(MasterTable[F^2]))","v":-3.6592E-6},{"$f":"INDEX(MasterTable[],MATCH(Simulator!$E103,MasterTable[P/N],0),COLUMN(MasterTable[F]))","v":-1.0345506E-3},{"$f":"INDEX(MasterTable[],MATCH(Simulator!$E103,MasterTable[P/N],0),COLUMN(MasterTable[F0]))","v":1.0240956264000001},0.99594486140000005,{"$f":"Simulator!$N$69/Q111","v":0.31437035245752976},null,{"$f":"AC111/AB111","v":0.31565035841002204},{"$f":"INDEX(MasterTable[],MATCH(Simulator!$E103,MasterTable[P/N],0),COLUMN(MasterTable[Typical Voltage]))","v":34.799999999999997},{"$f":"INDEX(MasterTable[],MATCH(Simulator!$E103,MasterTable[P/N],0),COLUMN(MasterTable[V^4]))","v":0},{"$f":"INDEX(MasterTable[],MATCH(Simulator!$E103,MasterTable[P/N],0),COLUMN(MasterTable[V^3]))","v":0},{"$f":"INDEX(MasterTable[],MATCH(Simulator!$E103,MasterTable[P/N],0),COLUMN(MasterTable[V^2]))","v":-8.9999999999999996E-7},{"$f":"INDEX(MasterTable[],MATCH(Simulator!$E103,MasterTable[P/N],0),COLUMN(MasterTable[V]))","v":5.7999999999999996E-3},{"$f":"INDEX(MasterTable[],MATCH(Simulator!$E103,MasterTable[P/N],0),COLUMN(MasterTable[V0]))","v":31.425999999999998},32.471009304929851,{"$f":"INDEX(MasterTable[],MATCH(Simulator!$E103,MasterTable[P/N],0),COLUMN(MasterTable[T^3]))","v":0},{"$f":"INDEX(MasterTable[],MATCH(Simulator!$E103,MasterTable[P/N],0),COLUMN(MasterTable[T^2]))","v":0},{"$f":"INDEX(MasterTable[],MATCH(Simulator!$E103,MasterTable[P/N],0),COLUMN(MasterTable[T]))","v":0},{"$f":"INDEX(MasterTable[],MATCH(Simulator!$E103,MasterTable[P/N],0),COLUMN(MasterTable[T0]))","v":0},34.799999999999997,32.471009304929851,null,{"$f":"INDEX(MasterTable[],MATCH(Simulator!$E103,MasterTable[P/N],0),COLUMN(MasterTable['# of Die]))","v":84},32.471009304929851,{"$f":"INDEX(Tj_to_Vf6[],MATCH(Simulator!$I$8,Tj_to_Vf6[Vf],1),COLUMN(Tj_to_Vf6[Vf]))","v":-0.5},-9.5289906950701493,{"$f":"IF(AND(Simulator!$I$8=25,Simulator!$N$69=Simulator!H103),AF111,AR111)","v":32.471009304929851},null,-14.1]
[null,"V18-B",{"$f":"IF(Simulator!$D$10=\"Case\",Simulator!$I$8,M112)","v":25},{"$f":"Simulator!I104*AR112/1000","v":5.9811806684018736},{"$f":"INDEX(MasterTable[],MATCH(Simulator!E104,MasterTable[P/N],0),COLUMN(MasterTable[Thermal Resistance]))","v":0.15453333333333333},25.924291785957035,null,{"$f":"IF(Simulator!$D$10=\"Case\",F112,Simulator!$I$8)","v":25.924291785957035},{"$f":"Simulator!I104*AW112/1000","v":-5.1188193315981261},0.15453333333333333,26.715319999999998,null,{"$f":"IF(Simulator!$D$10=\"Case\",Simulator!$I$8,K112)","v":25},{"$f":"IF(Simulator!$D$10=\"Case\",H112,Simulator!$I$8)","v":25.924291785957035},{"$f":"IF(#REF!=\"Tj\",N112,M112)","v":{"$error":"#REF!"}},null,{"$f":"INDEX(MasterTable[],MATCH(Simulator!E104,MasterTable[P/N],0),COLUMN(MasterTable[Typical Lumens]))","v":5324.4},{"$f":"INDEX(MasterTable[],MATCH(Simulator!$E104,MasterTable[P/N],0),COLUMN(MasterTable[R^3]))","v":7.7328999999999999},{"$f":"INDEX(MasterTable[],MATCH(Simulator!$E104,MasterTable[P/N],0),COLUMN(MasterTable[R^2]))","v":73.245000000000005},{"$f":"INDEX(MasterTable[],MATCH(Simulator!$E104,MasterTable[P/N],0),COLUMN(MasterTable[R]))","v":813.42},{"$f":"INDEX(MasterTable[],MATCH(Simulator!$E104,MasterTable[P/N],0),COLUMN(MasterTable[R0]))","v":-9.9999999999999995E-8},183.11988851375142,{"$f":"INDEX(MasterTable[],MATCH(Simulator!$E104,MasterTable[P/N],0),COLUMN(MasterTable[F^4]))","v":0},{"$f":"INDEX(MasterTable[],MATCH(Simulator!$E104,MasterTable[P/N],0),COLUMN(MasterTable[F^3]))","v":0},{"$f":"INDEX(MasterTable[],MATCH(Simulator!$E104,MasterTable[P/N],0),COLUMN(MasterTable[F^2]))","v":-3.6592E-6},{"$f":"INDEX(MasterTable[],MATCH(Simulator!$E104,MasterTable[P/N],0),COLUMN(MasterTable[F]))","v":-1.0345506E-3},{"$f":"INDEX(MasterTable[],MATCH(Simulator!$E104,MasterTable[P/N],0),COLUMN(MasterTable[F0]))","v":1.0240956264000001},0.99594486140000005,{"$f":"Simulator!$N$69/Q112","v":0.21974306964164977},null,0.22063778644608584,{"$f":"INDEX(MasterTable[],MATCH(Simulator!$E104,MasterTable[P/N],0),COLUMN(MasterTable[Typical Voltage]))","v":34.799999999999997},{"$f":"INDEX(MasterTable[],MATCH(Simulator!$E104,MasterTable[P/N],0),COLUMN(MasterTable[V^4]))","v":0},{"$f":"INDEX(MasterTable[],MATCH(Simulator!$E104,MasterTable[P/N],0),COLUMN(MasterTable[V^3]))","v":1E-10},{"$f":"INDEX(MasterTable[],MATCH(Simulator!$E104,MasterTable[P/N],0),COLUMN(MasterTable[V^2]))","v":-6.7599999999999997E-7},{"$f":"INDEX(MasterTable[],MATCH(Simulator!$E104,MasterTable[P/N],0),COLUMN(MasterTable[V]))","v":4.2656252000000004E-3},{"$f":"INDEX(MasterTable[],MATCH(Simulator!$E104,MasterTable[P/N],0),COLUMN(MasterTable[V0]))","v":31.571639686699999},32.330706315685802,{"$f":"INDEX(MasterTable[],MATCH(Simulator!$E104,MasterTable[P/N],0),COLUMN(MasterTable[T^3]))","v":0},{"$f":"INDEX(MasterTable[],MATCH(Simulator!$E104,MasterTable[P/N],0),COLUMN(MasterTable[T^2]))","v":0},{"$f":"INDEX(MasterTable[],MATCH(Simulator!$E104,MasterTable[P/N],0),COLUMN(MasterTable[T]))","v":0},{"$f":"INDEX(MasterTable[],MATCH(Simulator!$E104,MasterTable[P/N],0),COLUMN(MasterTable[T0]))","v":0},34.799999999999997,32.330706315685802,null,{"$f":"INDEX(MasterTable[],MATCH(Simulator!$E104,MasterTable[P/N],0),COLUMN(MasterTable['# of Die]))","v":120},32.330706315685802,{"$f":"INDEX(Tj_to_Vf6[],MATCH(Simulator!$I$8,Tj_to_Vf6[Vf],1),COLUMN(Tj_to_Vf6[Vf]))","v":-0.5},-27.669293684314198,{"$f":"IF(AND(Simulator!$I$8=25,Simulator!$N$69=Simulator!H104),AF112,AR112)","v":32.330706315685802},null,-14.5]
[null,"V18-C",{"$f":"IF(Simulator!$D$10=\"Case\",Simulator!$I$8,M113)","v":25},{"$f":"Simulator!I105*AR113/1000","v":6.0768245589532395},{"$f":"INDEX(MasterTable[],MATCH(Simulator!E105,MasterTable[P/N],0),COLUMN(MasterTable[Thermal Resistance]))","v":0.11206666666666666},25.681009472240028,null,{"$f":"IF(Simulator!$D$10=\"Case\",F113,Simulator!$I$8)","v":25.681009472240028},{"$f":"Simulator!I105*AW113/1000","v":-8.743175441046759},0.11206666666666666,26.660828000000002,null,{"$f":"IF(Simulator!$D$10=\"Case\",Simulator!$I$8,K113)","v":25},{"$f":"IF(Simulator!$D$10=\"Case\",H113,Simulator!$I$8)","v":25.681009472240028},{"$f":"IF(#REF!=\"Tj\",N113,M113)","v":{"$error":"#REF!"}},null,{"$f":"INDEX(MasterTable[],MATCH(Simulator!E105,MasterTable[P/N],0),COLUMN(MasterTable[Typical Lumens]))","v":6921.72},{"$f":"INDEX(MasterTable[],MATCH(Simulator!$E105,MasterTable[P/N],0),COLUMN(MasterTable[R^3]))","v":41.954999999999998},{"$f":"INDEX(MasterTable[],MATCH(Simulator!$E105,MasterTable[P/N],0),COLUMN(MasterTable[R^2]))","v":44.468000000000004},{"$f":"INDEX(MasterTable[],MATCH(Simulator!$E105,MasterTable[P/N],0),COLUMN(MasterTable[R]))","v":1098},{"$f":"INDEX(MasterTable[],MATCH(Simulator!$E105,MasterTable[P/N],0),COLUMN(MasterTable[R0]))","v":-9.9999999999999995E-8},187.84009790916286,{"$f":"INDEX(MasterTable[],MATCH(Simulator!$E105,MasterTable[P/N],0),COLUMN(MasterTable[F^4]))","v":0},{"$f":"INDEX(MasterTable[],MATCH(Simulator!$E105,MasterTable[P/N],0),COLUMN(MasterTable[F^3]))","v":0},{"$f":"INDEX(MasterTable[],MATCH(Simulator!$E105,MasterTable[P/N],0),COLUMN(MasterTable[F^2]))","v":-3.6592E-6},{"$f":"INDEX(MasterTable[],MATCH(Simulator!$E105,MasterTable[P/N],0),COLUMN(MasterTable[F]))","v":-1.0345506E-3},{"$f":"INDEX(MasterTable[],MATCH(Simulator!$E105,MasterTable[P/N],0),COLUMN(MasterTable[F0]))","v":1.0240956264000001},0.99594486140000005,{"$f":"Simulator!$N$69/Q113","v":0.16903313049357674},null,0.16972137418929678,{"$f":"INDEX(MasterTable[],MATCH(Simulator!$E105,MasterTable[P/N],0),COLUMN(MasterTable[Typical Voltage]))","v":34.799999999999997},{"$f":"INDEX(MasterTable[],MATCH(Simulator!$E105,MasterTable[P/N],0),COLUMN(MasterTable[V^4]))","v":0},{"$f":"INDEX(MasterTable[],MATCH(Simulator!$E105,MasterTable[P/N],0),COLUMN(MasterTable[V^3]))","v":0},{"$f":"INDEX(MasterTable[],MATCH(Simulator!$E105,MasterTable[P/N],0),COLUMN(MasterTable[V^2]))","v":-2.9999999999999999E-7},{"$f":"INDEX(MasterTable[],MATCH(Simulator!$E105,MasterTable[P/N],0),COLUMN(MasterTable[V]))","v":3.3E-3},{"$f":"INDEX(MasterTable[],MATCH(Simulator!$E105,MasterTable[P/N],0),COLUMN(MasterTable[V0]))","v":31.373999999999999},31.983287152385479,{"$f":"INDEX(MasterTable[],MATCH(Simulator!$E105,MasterTable[P/N],0),COLUMN(MasterTable[T^3]))","v":0},{"$f":"INDEX(MasterTable[],MATCH(Simulator!$E105,MasterTable[P/N],0),COLUMN(MasterTable[T^2]))","v":0},{"$f":"INDEX(MasterTable[],MATCH(Simulator!$E105,MasterTable[P/N],0),COLUMN(MasterTable[T]))","v":0},{"$f":"INDEX(MasterTable[],MATCH(Simulator!$E105,MasterTable[P/N],0),COLUMN(MasterTable[T0]))","v":0},34.799999999999997,31.983287152385472,null,{"$f":"INDEX(MasterTable[],MATCH(Simulator!$E105,MasterTable[P/N],0),COLUMN(MasterTable['# of Die]))","v":156},31.983287152385479,{"$f":"INDEX(Tj_to_Vf6[],MATCH(Simulator!$I$8,Tj_to_Vf6[Vf],1),COLUMN(Tj_to_Vf6[Vf]))","v":-0.5},-46.016712847614521,{"$f":"IF(AND(Simulator!$I$8=25,Simulator!$N$69=Simulator!H105),AF113,AR113)","v":31.983287152385472},null,-14.5]
[null,"V22-B",{"$f":"IF(Simulator!$D$10=\"Case\",Simulator!$I$8,M114)","v":25},{"$f":"Simulator!I106*AR114/1000","v":5.653390533382006},{"$f":"INDEX(MasterTable[],MATCH(Simulator!E106,MasterTable[P/N],0),COLUMN(MasterTable[Thermal Resistance]))","v":7.0000000000000007E-2},25.39573733733674,null,{"$f":"IF(Simulator!$D$10=\"Case\",F114,Simulator!$I$8)","v":25.39573733733674},{"$f":"Simulator!I106*AW114/1000","v":-8.386609466617994},7.0000000000000007E-2,25.982800000000001,null,{"$f":"IF(Simulator!$D$10=\"Case\",Simulator!$I$8,K114)","v":25},{"$f":"IF(Simulator!$D$10=\"Case\",H114,Simulator!$I$8)","v":25.39573733733674},{"$f":"IF(#REF!=\"Tj\",N114,M114)","v":{"$error":"#REF!"}},null,{"$f":"INDEX(MasterTable[],MATCH(Simulator!E106,MasterTable[P/N],0),COLUMN(MasterTable[Typical Lumens]))","v":10342.800000000001},{"$f":"INDEX(MasterTable[],MATCH(Simulator!$E106,MasterTable[P/N],0),COLUMN(MasterTable[R^3]))","v":4.5838000000000001},{"$f":"INDEX(MasterTable[],MATCH(Simulator!$E106,MasterTable[P/N],0),COLUMN(MasterTable[R^2]))","v":144.63999999999999},{"$f":"INDEX(MasterTable[],MATCH(Simulator!$E106,MasterTable[P/N],0),COLUMN(MasterTable[R]))","v":1018.7},{"$f":"INDEX(MasterTable[],MATCH(Simulator!$E106,MasterTable[P/N],0),COLUMN(MasterTable[R0]))","v":-9.9999999999999995E-8},117.57948733645102,{"$f":"INDEX(MasterTable[],MATCH(Simulator!$E106,MasterTable[P/N],0),COLUMN(MasterTable[F^4]))","v":0},{"$f":"INDEX(MasterTable[],MATCH(Simulator!$E106,MasterTable[P/N],0),COLUMN(MasterTable[F^3]))","v":0},{"$f":"INDEX(MasterTable[],MATCH(Simulator!$E106,MasterTable[P/N],0),COLUMN(MasterTable[F^2]))","v":-3.6592E-6},{"$f":"INDEX(MasterTable[],MATCH(Simulator!$E106,MasterTable[P/N],0),COLUMN(MasterTable[F]))","v":-1.0345506E-3},{"$f":"INDEX(MasterTable[],MATCH(Simulator!$E106,MasterTable[P/N],0),COLUMN(MasterTable[F0]))","v":1.0240956264000001},0.99594486140000005,{"$f":"Simulator!$N$69/Q114","v":0.11312217194570134},null,0.11358276580360631,{"$f":"INDEX(MasterTable[],MATCH(Simulator!$E106,MasterTable[P/N],0),COLUMN(MasterTable[Typical Voltage]))","v":52},{"$f":"INDEX(MasterTable[],MATCH(Simulator!$E106,MasterTable[P/N],0),COLUMN(MasterTable[V^4]))","v":0},{"$f":"INDEX(MasterTable[],MATCH(Simulator!$E106,MasterTable[P/N],0),COLUMN(MasterTable[V^3]))","v":2.0000000000000001E-10},{"$f":"INDEX(MasterTable[],MATCH(Simulator!$E106,MasterTable[P/N],0),COLUMN(MasterTable[V^2]))","v":-1.1008999999999999E-6},{"$f":"INDEX(MasterTable[],MATCH(Simulator!$E106,MasterTable[P/N],0),COLUMN(MasterTable[V]))","v":5.8086665000000003E-3},{"$f":"INDEX(MasterTable[],MATCH(Simulator!$E106,MasterTable[P/N],0),COLUMN(MasterTable[V0]))","v":46.4435025151},47.111587778183385,{"$f":"INDEX(MasterTable[],MATCH(Simulator!$E106,MasterTable[P/N],0),COLUMN(MasterTable[T^3]))","v":0},{"$f":"INDEX(MasterTable[],MATCH(Simulator!$E106,MasterTable[P/N],0),COLUMN(MasterTable[T^2]))","v":0},{"$f":"INDEX(MasterTable[],MATCH(Simulator!$E106,MasterTable[P/N],0),COLUMN(MasterTable[T]))","v":0},{"$f":"INDEX(MasterTable[],MATCH(Simulator!$E106,MasterTable[P/N],0),COLUMN(MasterTable[T0]))","v":0},52,47.111587778183377,null,{"$f":"INDEX(MasterTable[],MATCH(Simulator!$E106,MasterTable[P/N],0),COLUMN(MasterTable['# of Die]))","v":234},47.111587778183385,{"$f":"INDEX(Tj_to_Vf6[],MATCH(Simulator!$I$8,Tj_to_Vf6[Vf],1),COLUMN(Tj_to_Vf6[Vf]))","v":-0.5},-69.888412221816623,{"$f":"IF(AND(Simulator!$I$8=25,Simulator!$N$69=Simulator!H106),AF114,AR114)","v":47.111587778183377},null,-22.1]
[null,"V22-C",{"$f":"IF(Simulator!$D$10=\"Case\",Simulator!$I$8,M115)","v":25},{"$f":"Simulator!I107*AR115/1000","v":4.9698075727263022},{"$f":"INDEX(MasterTable[],MATCH(Simulator!E107,MasterTable[P/N],0),COLUMN(MasterTable[Thermal Resistance]))","v":6.3966666666666672E-2},25.317902024402059,null,{"$f":"IF(Simulator!$D$10=\"Case\",F115,Simulator!$I$8)","v":25.317902024402059},{"$f":"Simulator!I107*AW115/1000","v":-10.150192427273698},6.3966666666666672E-2,25.967175999999998,null,{"$f":"IF(Simulator!$D$10=\"Case\",Simulator!$I$8,K115)","v":25},{"$f":"IF(Simulator!$D$10=\"Case\",H115,Simulator!$I$8)","v":25.317902024402059},{"$f":"IF(#REF!=\"Tj\",N115,M115)","v":{"$error":"#REF!"}},null,{"$f":"INDEX(MasterTable[],MATCH(Simulator!E107,MasterTable[P/N],0),COLUMN(MasterTable[Typical Lumens]))","v":12729.599999999999},{"$f":"INDEX(MasterTable[],MATCH(Simulator!$E107,MasterTable[P/N],0),COLUMN(MasterTable[R^3]))","v":-33.948999999999998},{"$f":"INDEX(MasterTable[],MATCH(Simulator!$E107,MasterTable[P/N],0),COLUMN(MasterTable[R^2]))","v":359.03},{"$f":"INDEX(MasterTable[],MATCH(Simulator!$E107,MasterTable[P/N],0),COLUMN(MasterTable[R]))","v":1109.9000000000001},{"$f":"INDEX(MasterTable[],MATCH(Simulator!$E107,MasterTable[P/N],0),COLUMN(MasterTable[R0]))","v":-9.9999999999999995E-8},105.45929792166559,{"$f":"INDEX(MasterTable[],MATCH(Simulator!$E107,MasterTable[P/N],0),COLUMN(MasterTable[F^4]))","v":0},{"$f":"INDEX(MasterTable[],MATCH(Simulator!$E107,MasterTable[P/N],0),COLUMN(MasterTable[F^3]))","v":0},{"$f":"INDEX(MasterTable[],MATCH(Simulator!$E107,MasterTable[P/N],0),COLUMN(MasterTable[F^2]))","v":-3.6592E-6},{"$f":"INDEX(MasterTable[],MATCH(Simulator!$E107,MasterTable[P/N],0),COLUMN(MasterTable[F]))","v":-1.0345506E-3},{"$f":"INDEX(MasterTable[],MATCH(Simulator!$E107,MasterTable[P/N],0),COLUMN(MasterTable[F0]))","v":1.0240956264000001},0.99594486140000005,{"$f":"Simulator!$N$69/Q115","v":9.1911764705882359E-2},null,9.2285997215430141E-2,{"$f":"INDEX(MasterTable[],MATCH(Simulator!$E107,MasterTable[P/N],0),COLUMN(MasterTable[Typical Voltage]))","v":52},{"$f":"INDEX(MasterTable[],MATCH(Simulator!$E107,MasterTable[P/N],0),COLUMN(MasterTable[V^4]))","v":-1.9999999999999999E-23},{"$f":"INDEX(MasterTable[],MATCH(Simulator!$E107,MasterTable[P/N],0),COLUMN(MasterTable[V^3]))","v":2E-19},{"$f":"INDEX(MasterTable[],MATCH(Simulator!$E107,MasterTable[P/N],0),COLUMN(MasterTable[V^2]))","v":-2.9999999999999999E-7},{"$f":"INDEX(MasterTable[],MATCH(Simulator!$E107,MasterTable[P/N],0),COLUMN(MasterTable[V]))","v":4.0000000000000001E-3},{"$f":"INDEX(MasterTable[],MATCH(Simulator!$E107,MasterTable[P/N],0),COLUMN(MasterTable[V0]))","v":46.912999999999997},47.331500692631451,{"$f":"INDEX(MasterTable[],MATCH(Simulator!$E107,MasterTable[P/N],0),COLUMN(MasterTable[T^3]))","v":0},{"$f":"INDEX(MasterTable[],MATCH(Simulator!$E107,MasterTable[P/N],0),COLUMN(MasterTable[T^2]))","v":0},{"$f":"INDEX(MasterTable[],MATCH(Simulator!$E107,MasterTable[P/N],0),COLUMN(MasterTable[T]))","v":0},{"$f":"INDEX(MasterTable[],MATCH(Simulator!$E107,MasterTable[P/N],0),COLUMN(MasterTable[T0]))","v":0},52,47.331500692631451,null,{"$f":"INDEX(MasterTable[],MATCH(Simulator!$E107,MasterTable[P/N],0),COLUMN(MasterTable['# of Die]))","v":288},47.331500692631451,{"$f":"INDEX(Tj_to_Vf6[],MATCH(Simulator!$I$8,Tj_to_Vf6[Vf],1),COLUMN(Tj_to_Vf6[Vf]))","v":-0.5},-96.668499307368549,{"$f":"IF(AND(Simulator!$I$8=25,Simulator!$N$69=Simulator!H107),AF115,AR115)","v":47.331500692631451},null,-22.1]
[null,"V22-D",{"$f":"IF(Simulator!$D$10=\"Case\",Simulator!$I$8,M116)","v":25},{"$f":"Simulator!I108*AR116/1000","v":5.6293263882082281},{"$f":"INDEX(MasterTable[],MATCH(Simulator!E108,MasterTable[P/N],0),COLUMN(MasterTable[Thermal Resistance]))","v":7.0000000000000007E-2},{"$f":"C116+D116*E116","v":25.394052847174574},null,{"$f":"IF(Simulator!$D$10=\"Case\",F116,Simulator!$I$8)","v":25.394052847174574},{"$f":"Simulator!I108*AW116/1000","v":5.6293263882082281},{"$f":"E116","v":7.0000000000000007E-2},{"$f":"H116-I116*J116","v":25},null,{"$f":"IF(Simulator!$D$10=\"Case\",Simulator!$I$8,K116)","v":25},{"$f":"IF(Simulator!$D$10=\"Case\",H116,Simulator!$I$8)","v":25.394052847174574},{"$f":"IF(#REF!=\"Tj\",N116,M116)","v":{"$error":"#REF!"}},null,{"$f":"INDEX(MasterTable[],MATCH(Simulator!E108,MasterTable[P/N],0),COLUMN(MasterTable[Typical Lumens]))","v":8330},{"$f":"INDEX(MasterTable[],MATCH(Simulator!$E108,MasterTable[P/N],0),COLUMN(MasterTable[R^3]))","v":16.994},{"$f":"INDEX(MasterTable[],MATCH(Simulator!$E108,MasterTable[P/N],0),COLUMN(MasterTable[R^2]))","v":69.406999999999996},{"$f":"INDEX(MasterTable[],MATCH(Simulator!$E108,MasterTable[P/N],0),COLUMN(MasterTable[R]))","v":1315.8},{"$f":"INDEX(MasterTable[],MATCH(Simulator!$E108,MasterTable[P/N],0),COLUMN(MasterTable[R0]))","v":-9.9999999999999995E-8},{"$f":"R116*AE116^3+S116*AE116^2+T116*AE116+U116","v":186.99283196139683},{"$f":"INDEX(MasterTable[],MATCH(Simulator!$E108,MasterTable[P/N],0),COLUMN(MasterTable[F^4]))","v":0},{"$f":"INDEX(MasterTable[],MATCH(Simulator!$E108,MasterTable[P/N],0),COLUMN(MasterTable[F^3]))","v":0},{"$f":"INDEX(MasterTable[],MATCH(Simulator!$E108,MasterTable[P/N],0),COLUMN(MasterTable[F^2]))","v":-3.6592E-6},{"$f":"INDEX(MasterTable[],MATCH(Simulator!$E108,MasterTable[P/N],0),COLUMN(MasterTable[F]))","v":-1.0345506E-3},{"$f":"INDEX(MasterTable[],MATCH(Simulator!$E108,MasterTable[P/N],0),COLUMN(MasterTable[F0]))","v":1.0240956264000001},{"$f":"W116*M116^4+X116*M116^3+Y116*M116^2+Z116*M116+AA116","v":0.99594486140000005},{"$f":"Simulator!$N$69/Q116","v":0.14045618247298919},null,{"$f":"AC116/AB116","v":0.14102807084676341},{"$f":"INDEX(MasterTable[],MATCH(Simulator!$E108,MasterTable[P/N],0),COLUMN(MasterTable[Typical Voltage]))","v":34.799999999999997},{"$f":"INDEX(MasterTable[],MATCH(Simulator!$E108,MasterTable[P/N],0),COLUMN(MasterTable[V^4]))","v":0},{"$f":"INDEX(MasterTable[],MATCH(Simulator!$E108,MasterTable[P/N],0),COLUMN(MasterTable[V^3]))","v":2.0000000000000001E-10},{"$f":"INDEX(MasterTable[],MATCH(Simulator!$E108,MasterTable[P/N],0),COLUMN(MasterTable[V^2]))","v":-1.2157000000000001E-6},{"$f":"INDEX(MasterTable[],MATCH(Simulator!$E108,MasterTable[P/N],0),COLUMN(MasterTable[V]))","v":3.9812481999999998E-3},{"$f":"INDEX(MasterTable[],MATCH(Simulator!$E108,MasterTable[P/N],0),COLUMN(MasterTable[V0]))","v":29.725527276000001},{"$f":"AG116*V116^4+AH116*V116^3+AI116*V116^2+AJ116*V116+AK116","v":30.428791287612047},{"$f":"INDEX(MasterTable[],MATCH(Simulator!$E108,MasterTable[P/N],0),COLUMN(MasterTable[T^3]))","v":0},{"$f":"INDEX(MasterTable[],MATCH(Simulator!$E108,MasterTable[P/N],0),COLUMN(MasterTable[T^2]))","v":0},{"$f":"INDEX(MasterTable[],MATCH(Simulator!$E108,MasterTable[P/N],0),COLUMN(MasterTable[T]))","v":0},{"$f":"INDEX(MasterTable[],MATCH(Simulator!$E108,MasterTable[P/N],0),COLUMN(MasterTable[T0]))","v":0},{"$f":"AZ116*(M116-25)/1000+AF116","v":34.799999999999997},{"$f":"AL116+AQ116-AF116","v":30.428791287612043},null,{"$f":"INDEX(MasterTable[],MATCH(Simulator!$E108,MasterTable[P/N],0),COLUMN(MasterTable['# of Die]))","v":0},{"$f":"AL116","v":30.428791287612047},{"$f":"INDEX(Tj_to_Vf6[],MATCH(Simulator!$I$8,Tj_to_Vf6[Vf],1),COLUMN(Tj_to_Vf6[Vf]))","v":-0.5},{"$f":"AU116+AV116*AT116","v":30.428791287612047},{"$f":"IF(AND(Simulator!$I$8=25,Simulator!$N$69=Simulator!H108),AF116,AR116)","v":30.428791287612043},null,-22.1]
[null,"Vero 10-B",{"$f":"IF(Simulator!$D$10=\"Case\",Simulator!$I$8,M117)","v":25},{"$f":"Simulator!I110*AR117/1000","v":6.8117578817314923},{"$f":"INDEX(MasterTable[],MATCH(Simulator!E110,MasterTable[P/N],0),COLUMN(MasterTable[Thermal Resistance]))","v":0.49075000000000002},28.34287018045973,null,{"$f":"IF(Simulator!$D$10=\"Case\",F117,Simulator!$I$8)","v":28.34287018045973},{"$f":"Simulator!I110*AW117/1000","v":3.2117578817314905},0.49075000000000002,26.7667,null,{"$f":"IF(Simulator!$D$10=\"Case\",Simulator!$I$8,K117)","v":25},{"$f":"IF(Simulator!$D$10=\"Case\",H117,Simulator!$I$8)","v":28.34287018045973},{"$f":"IF(#REF!=\"Tj\",N117,M117)","v":{"$error":"#REF!"}},null,{"$f":"INDEX(MasterTable[],MATCH(Simulator!E110,MasterTable[P/N],0),COLUMN(MasterTable[Typical Lumens]))","v":1549},{"$f":"INDEX(MasterTable[],MATCH(Simulator!$E110,MasterTable[P/N],0),COLUMN(MasterTable[R^3]))","v":-0.98318000000000005},{"$f":"INDEX(MasterTable[],MATCH(Simulator!$E110,MasterTable[P/N],0),COLUMN(MasterTable[R^2]))","v":26.027999999999999},{"$f":"INDEX(MasterTable[],MATCH(Simulator!$E110,MasterTable[P/N],0),COLUMN(MasterTable[R]))","v":241.46},{"$f":"INDEX(MasterTable[],MATCH(Simulator!$E110,MasterTable[P/N],0),COLUMN(MasterTable[R0]))","v":-9.9999999999999995E-8},197.66533296066979,{"$f":"INDEX(MasterTable[],MATCH(Simulator!$E110,MasterTable[P/N],0),COLUMN(MasterTable[F^4]))","v":0},{"$f":"INDEX(MasterTable[],MATCH(Simulator!$E110,MasterTable[P/N],0),COLUMN(MasterTable[F^3]))","v":0},{"$f":"INDEX(MasterTable[],MATCH(Simulator!$E110,MasterTable[P/N],0),COLUMN(MasterTable[F^2]))","v":-3.6592E-6},{"$f":"INDEX(MasterTable[],MATCH(Simulator!$E110,MasterTable[P/N],0),COLUMN(MasterTable[F]))","v":-1.0345506E-3},{"$f":"INDEX(MasterTable[],MATCH(Simulator!$E110,MasterTable[P/N],0),COLUMN(MasterTable[F0]))","v":1.0240956264000001},{"$f":"W117*M117^4+X117*M117^3+Y117*M117^2+Z117*M117+AA117","v":0.99594486140000005},{"$f":"Simulator!$N$69/Q117","v":0.75532601678502265},null,0.7584014397375981,{"$f":"INDEX(MasterTable[],MATCH(Simulator!$E110,MasterTable[P/N],0),COLUMN(MasterTable[Typical Voltage]))","v":34.799999999999997},{"$f":"INDEX(MasterTable[],MATCH(Simulator!$E110,MasterTable[P/N],0),COLUMN(MasterTable[V^4]))","v":0},{"$f":"INDEX(MasterTable[],MATCH(Simulator!$E110,MasterTable[P/N],0),COLUMN(MasterTable[V^3]))","v":0},{"$f":"INDEX(MasterTable[],MATCH(Simulator!$E110,MasterTable[P/N],0),COLUMN(MasterTable[V^2]))","v":-5.0000000000000004E-6},{"$f":"INDEX(MasterTable[],MATCH(Simulator!$E110,MasterTable[P/N],0),COLUMN(MasterTable[V]))","v":1.4500000000000001E-2},{"$f":"INDEX(MasterTable[],MATCH(Simulator!$E110,MasterTable[P/N],0),COLUMN(MasterTable[V0]))","v":31.388000000000002},34.058789408657454,{"$f":"INDEX(MasterTable[],MATCH(Simulator!$E110,MasterTable[P/N],0),COLUMN(MasterTable[T^3]))","v":0},{"$f":"INDEX(MasterTable[],MATCH(Simulator!$E110,MasterTable[P/N],0),COLUMN(MasterTable[T^2]))","v":0},{"$f":"INDEX(MasterTable[],MATCH(Simulator!$E110,MasterTable[P/N],0),COLUMN(MasterTable[T]))","v":0},{"$f":"INDEX(MasterTable[],MATCH(Simulator!$E110,MasterTable[P/N],0),COLUMN(MasterTable[T0]))","v":0},34.799999999999997,34.058789408657461,null,{"$f":"INDEX(MasterTable[],MATCH(Simulator!$E110,MasterTable[P/N],0),COLUMN(MasterTable['# of Die]))","v":36},34.058789408657454,{"$f":"INDEX(Tj_to_Vf6[],MATCH(Simulator!$I$8,Tj_to_Vf6[Vf],1),COLUMN(Tj_to_Vf6[Vf]))","v":-0.5},16.058789408657454,{"$f":"IF(AND(Simulator!$I$8=25,Simulator!$N$69=Simulator!H110),AF117,AR117)","v":34.058789408657461},null,-16.100000000000001]
[null,"Vero 10-C",{"$f":"IF(Simulator!$D$10=\"Case\",Simulator!$I$8,M118)","v":25},{"$f":"Simulator!I111*AR118/1000","v":6.5116893311585287},{"$f":"INDEX(MasterTable[],MATCH(Simulator!E111,MasterTable[P/N],0),COLUMN(MasterTable[Thermal Resistance]))","v":0.37036666666666668},27.411712671950081,null,{"$f":"IF(Simulator!$D$10=\"Case\",F118,Simulator!$I$8)","v":27.411712671950081},{"$f":"Simulator!I111*AW118/1000","v":1.8316893311585307},0.37036666666666668,26.733315999999999,null,{"$f":"IF(Simulator!$D$10=\"Case\",Simulator!$I$8,K118)","v":25},{"$f":"IF(Simulator!$D$10=\"Case\",H118,Simulator!$I$8)","v":27.411712671950081},{"$f":"IF(#REF!=\"Tj\",N118,M118)","v":{"$error":"#REF!"}},null,{"$f":"INDEX(MasterTable[],MATCH(Simulator!E111,MasterTable[P/N],0),COLUMN(MasterTable[Typical Lumens]))","v":2066},{"$f":"INDEX(MasterTable[],MATCH(Simulator!$E111,MasterTable[P/N],0),COLUMN(MasterTable[R^3]))","v":0.66473000000000004},{"$f":"INDEX(MasterTable[],MATCH(Simulator!$E111,MasterTable[P/N],0),COLUMN(MasterTable[R^2]))","v":33.152999999999999},{"$f":"INDEX(MasterTable[],MATCH(Simulator!$E111,MasterTable[P/N],0),COLUMN(MasterTable[R]))","v":322.76},{"$f":"INDEX(MasterTable[],MATCH(Simulator!$E111,MasterTable[P/N],0),COLUMN(MasterTable[R0]))","v":-9.9999999999999995E-8},194.36842939055529,{"$f":"INDEX(MasterTable[],MATCH(Simulator!$E111,MasterTable[P/N],0),COLUMN(MasterTable[F^4]))","v":0},{"$f":"INDEX(MasterTable[],MATCH(Simulator!$E111,MasterTable[P/N],0),COLUMN(MasterTable[F^3]))","v":0},{"$f":"INDEX(MasterTable[],MATCH(Simulator!$E111,MasterTable[P/N],0),COLUMN(MasterTable[F^2]))","v":-3.6592E-6},{"$f":"INDEX(MasterTable[],MATCH(Simulator!$E111,MasterTable[P/N],0),COLUMN(MasterTable[F]))","v":-1.0345506E-3},{"$f":"INDEX(MasterTable[],MATCH(Simulator!$E111,MasterTable[P/N],0),COLUMN(MasterTable[F0]))","v":1.0240956264000001},{"$f":"W118*M118^4+X118*M118^3+Y118*M118^2+Z118*M118+AA118","v":0.99594486140000005},{"$f":"Simulator!$N$69/Q118","v":0.56631171345595355},null,0.56861753637635015,{"$f":"INDEX(MasterTable[],MATCH(Simulator!$E111,MasterTable[P/N],0),COLUMN(MasterTable[Typical Voltage]))","v":34.799999999999997},{"$f":"INDEX(MasterTable[],MATCH(Simulator!$E111,MasterTable[P/N],0),COLUMN(MasterTable[V^4]))","v":0},{"$f":"INDEX(MasterTable[],MATCH(Simulator!$E111,MasterTable[P/N],0),COLUMN(MasterTable[V^3]))","v":0},{"$f":"INDEX(MasterTable[],MATCH(Simulator!$E111,MasterTable[P/N],0),COLUMN(MasterTable[V^2]))","v":-3.0000000000000001E-6},{"$f":"INDEX(MasterTable[],MATCH(Simulator!$E111,MasterTable[P/N],0),COLUMN(MasterTable[V]))","v":1.09E-2},{"$f":"INDEX(MasterTable[],MATCH(Simulator!$E111,MasterTable[P/N],0),COLUMN(MasterTable[V0]))","v":31.388000000000002},33.393278621325798,{"$f":"INDEX(MasterTable[],MATCH(Simulator!$E111,MasterTable[P/N],0),COLUMN(MasterTable[T^3]))","v":0},{"$f":"INDEX(MasterTable[],MATCH(Simulator!$E111,MasterTable[P/N],0),COLUMN(MasterTable[T^2]))","v":0},{"$f":"INDEX(MasterTable[],MATCH(Simulator!$E111,MasterTable[P/N],0),COLUMN(MasterTable[T]))","v":0},{"$f":"INDEX(MasterTable[],MATCH(Simulator!$E111,MasterTable[P/N],0),COLUMN(MasterTable[T0]))","v":0},34.799999999999997,33.393278621325791,null,{"$f":"INDEX(MasterTable[],MATCH(Simulator!$E111,MasterTable[P/N],0),COLUMN(MasterTable['# of Die]))","v":48},33.393278621325798,{"$f":"INDEX(Tj_to_Vf6[],MATCH(Simulator!$I$8,Tj_to_Vf6[Vf],1),COLUMN(Tj_to_Vf6[Vf]))","v":-0.5},9.3932786213257984,{"$f":"IF(AND(Simulator!$I$8=25,Simulator!$N$69=Simulator!H111),AF118,AR118)","v":33.393278621325791},null,-16.100000000000001]
[null,"Vero 10-D",{"$f":"IF(Simulator!$D$10=\"Case\",Simulator!$I$8,M119)","v":25},{"$f":"Simulator!I112*AR119/1000","v":6.744909449390013},{"$f":"INDEX(MasterTable[],MATCH(Simulator!E112,MasterTable[P/N],0),COLUMN(MasterTable[Thermal Resistance]))","v":0.49075000000000002},{"$f":"C119+D119*E119","v":28.310064312288148},null,{"$f":"IF(Simulator!$D$10=\"Case\",F119,Simulator!$I$8)","v":28.310064312288148},{"$f":"Simulator!I112*AW119/1000","v":1.9749094493900134},0.49075000000000002,27.340877499999998,null,{"$f":"IF(Simulator!$D$10=\"Case\",Simulator!$I$8,K119)","v":25},{"$f":"IF(Simulator!$D$10=\"Case\",H119,Simulator!$I$8)","v":28.310064312288148},{"$f":"IF(#REF!=\"Tj\",N119,M119)","v":{"$error":"#REF!"}},null,{"$f":"INDEX(MasterTable[],MATCH(Simulator!E112,MasterTable[P/N],0),COLUMN(MasterTable[Typical Lumens]))","v":1501},{"$f":"INDEX(MasterTable[],MATCH(Simulator!$E112,MasterTable[P/N],0),COLUMN(MasterTable[R^3]))","v":-1.3307},{"$f":"INDEX(MasterTable[],MATCH(Simulator!$E112,MasterTable[P/N],0),COLUMN(MasterTable[R^2]))","v":33.133000000000003},{"$f":"INDEX(MasterTable[],MATCH(Simulator!$E112,MasterTable[P/N],0),COLUMN(MasterTable[R]))","v":313.05},{"$f":"INDEX(MasterTable[],MATCH(Simulator!$E112,MasterTable[P/N],0),COLUMN(MasterTable[R0]))","v":-9.9999999999999995E-8},{"$f":"R119*AE119^3+S119*AE119^2+T119*AE119+U119","v":264.66745196709724},{"$f":"INDEX(MasterTable[],MATCH(Simulator!$E112,MasterTable[P/N],0),COLUMN(MasterTable[F^4]))","v":0},{"$f":"INDEX(MasterTable[],MATCH(Simulator!$E112,MasterTable[P/N],0),COLUMN(MasterTable[F^3]))","v":0},{"$f":"INDEX(MasterTable[],MATCH(Simulator!$E112,MasterTable[P/N],0),COLUMN(MasterTable[F^2]))","v":-3.6592E-6},{"$f":"INDEX(MasterTable[],MATCH(Simulator!$E112,MasterTable[P/N],0),COLUMN(MasterTable[F]))","v":-1.0345506E-3},{"$f":"INDEX(MasterTable[],MATCH(Simulator!$E112,MasterTable[P/N],0),COLUMN(MasterTable[F0]))","v":1.0240956264000001},0.99594486140000005,{"$f":"Simulator!$N$69/Q119","v":0.77948034643570951},null,0.7826541173574546,{"$f":"INDEX(MasterTable[],MATCH(Simulator!$E112,MasterTable[P/N],0),COLUMN(MasterTable[Typical Voltage]))","v":26},{"$f":"INDEX(MasterTable[],MATCH(Simulator!$E112,MasterTable[P/N],0),COLUMN(MasterTable[V^4]))","v":0},{"$f":"INDEX(MasterTable[],MATCH(Simulator!$E112,MasterTable[P/N],0),COLUMN(MasterTable[V^3]))","v":3.6E-9},{"$f":"INDEX(MasterTable[],MATCH(Simulator!$E112,MasterTable[P/N],0),COLUMN(MasterTable[V^2]))","v":-6.6313999999999997E-6},{"$f":"INDEX(MasterTable[],MATCH(Simulator!$E112,MasterTable[P/N],0),COLUMN(MasterTable[V]))","v":9.5283307000000005E-3},{"$f":"INDEX(MasterTable[],MATCH(Simulator!$E112,MasterTable[P/N],0),COLUMN(MasterTable[V0]))","v":23.328428739500001},25.452488488264201,{"$f":"INDEX(MasterTable[],MATCH(Simulator!$E112,MasterTable[P/N],0),COLUMN(MasterTable[T^3]))","v":0},{"$f":"INDEX(MasterTable[],MATCH(Simulator!$E112,MasterTable[P/N],0),COLUMN(MasterTable[T^2]))","v":0},{"$f":"INDEX(MasterTable[],MATCH(Simulator!$E112,MasterTable[P/N],0),COLUMN(MasterTable[T]))","v":-1.4E-2},{"$f":"INDEX(MasterTable[],MATCH(Simulator!$E112,MasterTable[P/N],0),COLUMN(MasterTable[T0]))","v":26.85},26,25.452488488264201,null,{"$f":"INDEX(MasterTable[],MATCH(Simulator!$E112,MasterTable[P/N],0),COLUMN(MasterTable['# of Die]))","v":36},25.452488488264201,{"$f":"INDEX(Tj_to_Vf6[],MATCH(Simulator!$I$8,Tj_to_Vf6[Vf],1),COLUMN(Tj_to_Vf6[Vf]))","v":-0.5},7.4524884882642013,{"$f":"IF(AND(Simulator!$I$8=25,Simulator!$N$69=Simulator!H112),AF119,AR119)","v":25.452488488264201},null,-11.8]
[null,"Vero 13-B",{"$f":"IF(Simulator!$D$10=\"Case\",Simulator!$I$8,M120)","v":25},{"$f":"Simulator!I113*AR120/1000","v":6.0845613136520882},{"$f":"INDEX(MasterTable[],MATCH(Simulator!E113,MasterTable[P/N],0),COLUMN(MasterTable[Thermal Resistance]))","v":0.28036666666666665},26.705908173637589,null,{"$f":"IF(Simulator!$D$10=\"Case\",F120,Simulator!$I$8)","v":26.705908173637589},{"$f":"Simulator!I113*AW120/1000","v":0.5345613136520877},0.28036666666666665,26.556034999999998,null,{"$f":"IF(Simulator!$D$10=\"Case\",Simulator!$I$8,K120)","v":25},{"$f":"IF(Simulator!$D$10=\"Case\",H120,Simulator!$I$8)","v":26.705908173637589},{"$f":"IF(#REF!=\"Tj\",N120,M120)","v":{"$error":"#REF!"}},null,{"$f":"INDEX(MasterTable[],MATCH(Simulator!E113,MasterTable[P/N],0),COLUMN(MasterTable[Typical Lumens]))","v":2662.2},{"$f":"INDEX(MasterTable[],MATCH(Simulator!$E113,MasterTable[P/N],0),COLUMN(MasterTable[R^3]))","v":3.5709},{"$f":"INDEX(MasterTable[],MATCH(Simulator!$E113,MasterTable[P/N],0),COLUMN(MasterTable[R^2]))","v":37.384},{"$f":"INDEX(MasterTable[],MATCH(Simulator!$E113,MasterTable[P/N],0),COLUMN(MasterTable[R]))","v":406.89},{"$f":"INDEX(MasterTable[],MATCH(Simulator!$E113,MasterTable[P/N],0),COLUMN(MasterTable[R0]))","v":-9.9999999999999995E-8},187.13702140950664,{"$f":"INDEX(MasterTable[],MATCH(Simulator!$E113,MasterTable[P/N],0),COLUMN(MasterTable[F^4]))","v":0},{"$f":"INDEX(MasterTable[],MATCH(Simulator!$E113,MasterTable[P/N],0),COLUMN(MasterTable[F^3]))","v":0},{"$f":"INDEX(MasterTable[],MATCH(Simulator!$E113,MasterTable[P/N],0),COLUMN(MasterTable[F^2]))","v":-3.6592E-6},{"$f":"INDEX(MasterTable[],MATCH(Simulator!$E113,MasterTable[P/N],0),COLUMN(MasterTable[F]))","v":-1.0345506E-3},{"$f":"INDEX(MasterTable[],MATCH(Simulator!$E113,MasterTable[P/N],0),COLUMN(MasterTable[F0]))","v":1.0240956264000001},0.99594486140000005,{"$f":"Simulator!$N$69/Q120","v":0.43948613928329955},null,0.44127557289217167,{"$f":"INDEX(MasterTable[],MATCH(Simulator!$E113,MasterTable[P/N],0),COLUMN(MasterTable[Typical Voltage]))","v":34.799999999999997},{"$f":"INDEX(MasterTable[],MATCH(Simulator!$E113,MasterTable[P/N],0),COLUMN(MasterTable[V^4]))","v":0},{"$f":"INDEX(MasterTable[],MATCH(Simulator!$E113,MasterTable[P/N],0),COLUMN(MasterTable[V^3]))","v":2.2999999999999999E-9},{"$f":"INDEX(MasterTable[],MATCH(Simulator!$E113,MasterTable[P/N],0),COLUMN(MasterTable[V^2]))","v":-5.0931999999999998E-6},{"$f":"INDEX(MasterTable[],MATCH(Simulator!$E113,MasterTable[P/N],0),COLUMN(MasterTable[V]))","v":9.5302597999999995E-3},{"$f":"INDEX(MasterTable[],MATCH(Simulator!$E113,MasterTable[P/N],0),COLUMN(MasterTable[V0]))","v":31.269348142199998},32.889520614335609,{"$f":"INDEX(MasterTable[],MATCH(Simulator!$E113,MasterTable[P/N],0),COLUMN(MasterTable[T^3]))","v":0},{"$f":"INDEX(MasterTable[],MATCH(Simulator!$E113,MasterTable[P/N],0),COLUMN(MasterTable[T^2]))","v":0},{"$f":"INDEX(MasterTable[],MATCH(Simulator!$E113,MasterTable[P/N],0),COLUMN(MasterTable[T]))","v":0},{"$f":"INDEX(MasterTable[],MATCH(Simulator!$E113,MasterTable[P/N],0),COLUMN(MasterTable[T0]))","v":0},34.799999999999997,32.889520614335609,null,{"$f":"INDEX(MasterTable[],MATCH(Simulator!$E113,MasterTable[P/N],0),COLUMN(MasterTable['# of Die]))","v":60},32.889520614335609,{"$f":"INDEX(Tj_to_Vf6[],MATCH(Simulator!$I$8,Tj_to_Vf6[Vf],1),COLUMN(Tj_to_Vf6[Vf]))","v":-0.5},2.8895206143356091,{"$f":"IF(AND(Simulator!$I$8=25,Simulator!$N$69=Simulator!H113),AF120,AR120)","v":32.889520614335609},null,-14.3]
[null,"Vero 13-C",{"$f":"IF(Simulator!$D$10=\"Case\",Simulator!$I$8,M121)","v":25},{"$f":"Simulator!I114*AR121/1000","v":6.0076515573308402},{"$f":"INDEX(MasterTable[],MATCH(Simulator!E114,MasterTable[P/N],0),COLUMN(MasterTable[Thermal Resistance]))","v":0.19873333333333335},26.19392061949355,null,{"$f":"IF(Simulator!$D$10=\"Case\",F121,Simulator!$I$8)","v":26.19392061949355},{"$f":"Simulator!I114*AW121/1000","v":-1.762348442669158},0.19873333333333335,26.544157999999999,null,{"$f":"IF(Simulator!$D$10=\"Case\",Simulator!$I$8,K121)","v":25},{"$f":"IF(Simulator!$D$10=\"Case\",H121,Simulator!$I$8)","v":26.19392061949355},{"$f":"IF(#REF!=\"Tj\",N121,M121)","v":{"$error":"#REF!"}},null,{"$f":"INDEX(MasterTable[],MATCH(Simulator!E114,MasterTable[P/N],0),COLUMN(MasterTable[Typical Lumens]))","v":3727.08},{"$f":"INDEX(MasterTable[],MATCH(Simulator!$E114,MasterTable[P/N],0),COLUMN(MasterTable[R^3]))","v":7.8291000000000004},{"$f":"INDEX(MasterTable[],MATCH(Simulator!$E114,MasterTable[P/N],0),COLUMN(MasterTable[R^2]))","v":47.475999999999999},{"$f":"INDEX(MasterTable[],MATCH(Simulator!$E114,MasterTable[P/N],0),COLUMN(MasterTable[R]))","v":574.44000000000005},{"$f":"INDEX(MasterTable[],MATCH(Simulator!$E114,MasterTable[P/N],0),COLUMN(MasterTable[R0]))","v":-9.9999999999999995E-8},186.02353112176604,{"$f":"INDEX(MasterTable[],MATCH(Simulator!$E114,MasterTable[P/N],0),COLUMN(MasterTable[F^4]))","v":0},{"$f":"INDEX(MasterTable[],MATCH(Simulator!$E114,MasterTable[P/N],0),COLUMN(MasterTable[F^3]))","v":0},{"$f":"INDEX(MasterTable[],MATCH(Simulator!$E114,MasterTable[P/N],0),COLUMN(MasterTable[F^2]))","v":-3.6592E-6},{"$f":"INDEX(MasterTable[],MATCH(Simulator!$E114,MasterTable[P/N],0),COLUMN(MasterTable[F]))","v":-1.0345506E-3},{"$f":"INDEX(MasterTable[],MATCH(Simulator!$E114,MasterTable[P/N],0),COLUMN(MasterTable[F0]))","v":1.0240956264000001},0.99594486140000005,{"$f":"Simulator!$N$69/Q121","v":0.31391867091664255},null,0.31519683778012264,{"$f":"INDEX(MasterTable[],MATCH(Simulator!$E114,MasterTable[P/N],0),COLUMN(MasterTable[Typical Voltage]))","v":34.799999999999997},{"$f":"INDEX(MasterTable[],MATCH(Simulator!$E114,MasterTable[P/N],0),COLUMN(MasterTable[V^4]))","v":0},{"$f":"INDEX(MasterTable[],MATCH(Simulator!$E114,MasterTable[P/N],0),COLUMN(MasterTable[V^3]))","v":0},{"$f":"INDEX(MasterTable[],MATCH(Simulator!$E114,MasterTable[P/N],0),COLUMN(MasterTable[V^2]))","v":-8.9999999999999996E-7},{"$f":"INDEX(MasterTable[],MATCH(Simulator!$E114,MasterTable[P/N],0),COLUMN(MasterTable[V]))","v":5.7999999999999996E-3},{"$f":"INDEX(MasterTable[],MATCH(Simulator!$E114,MasterTable[P/N],0),COLUMN(MasterTable[V0]))","v":31.425999999999998},32.473792201788335,{"$f":"INDEX(MasterTable[],MATCH(Simulator!$E114,MasterTable[P/N],0),COLUMN(MasterTable[T^3]))","v":0},{"$f":"INDEX(MasterTable[],MATCH(Simulator!$E114,MasterTable[P/N],0),COLUMN(MasterTable[T^2]))","v":0},{"$f":"INDEX(MasterTable[],MATCH(Simulator!$E114,MasterTable[P/N],0),COLUMN(MasterTable[T]))","v":0},{"$f":"INDEX(MasterTable[],MATCH(Simulator!$E114,MasterTable[P/N],0),COLUMN(MasterTable[T0]))","v":0},34.799999999999997,32.473792201788328,null,{"$f":"INDEX(MasterTable[],MATCH(Simulator!$E114,MasterTable[P/N],0),COLUMN(MasterTable['# of Die]))","v":84},32.473792201788335,{"$f":"INDEX(Tj_to_Vf6[],MATCH(Simulator!$I$8,Tj_to_Vf6[Vf],1),COLUMN(Tj_to_Vf6[Vf]))","v":-0.5},-9.5262077982116651,{"$f":"IF(AND(Simulator!$I$8=25,Simulator!$N$69=Simulator!H114),AF121,AR121)","v":32.473792201788328},null,-14.3]
[null,"Vero 13-D",{"$f":"IF(Simulator!$D$10=\"Case\",Simulator!$I$8,M122)","v":25},{"$f":"Simulator!I115*AR122/1000","v":6.3600483121566924},{"$f":"INDEX(MasterTable[],MATCH(Simulator!E115,MasterTable[P/N],0),COLUMN(MasterTable[Thermal Resistance]))","v":0.28036666666666665},26.78314554511833,null,{"$f":"IF(Simulator!$D$10=\"Case\",F122,Simulator!$I$8)","v":26.78314554511833},{"$f":"Simulator!I115*AW122/1000","v":-0.5699516878433083},0.28036666666666665,26.942940999999998,null,{"$f":"IF(Simulator!$D$10=\"Case\",Simulator!$I$8,K122)","v":25},{"$f":"IF(Simulator!$D$10=\"Case\",H122,Simulator!$I$8)","v":26.78314554511833},{"$f":"IF(#REF!=\"Tj\",N122,M122)","v":{"$error":"#REF!"}},null,{"$f":"INDEX(MasterTable[],MATCH(Simulator!E115,MasterTable[P/N],0),COLUMN(MasterTable[Typical Lumens]))","v":2703},{"$f":"INDEX(MasterTable[],MATCH(Simulator!$E115,MasterTable[P/N],0),COLUMN(MasterTable[R^3]))","v":11.154},{"$f":"INDEX(MasterTable[],MATCH(Simulator!$E115,MasterTable[P/N],0),COLUMN(MasterTable[R^2]))","v":29.829000000000001},{"$f":"INDEX(MasterTable[],MATCH(Simulator!$E115,MasterTable[P/N],0),COLUMN(MasterTable[R]))","v":463.69},{"$f":"INDEX(MasterTable[],MATCH(Simulator!$E115,MasterTable[P/N],0),COLUMN(MasterTable[R0]))","v":-9.9999999999999995E-8},208.07662271385806,{"$f":"INDEX(MasterTable[],MATCH(Simulator!$E115,MasterTable[P/N],0),COLUMN(MasterTable[F^4]))","v":0},{"$f":"INDEX(MasterTable[],MATCH(Simulator!$E115,MasterTable[P/N],0),COLUMN(MasterTable[F^3]))","v":0},{"$f":"INDEX(MasterTable[],MATCH(Simulator!$E115,MasterTable[P/N],0),COLUMN(MasterTable[F^2]))","v":-3.6592E-6},{"$f":"INDEX(MasterTable[],MATCH(Simulator!$E115,MasterTable[P/N],0),COLUMN(MasterTable[F]))","v":-1.0345506E-3},{"$f":"INDEX(MasterTable[],MATCH(Simulator!$E115,MasterTable[P/N],0),COLUMN(MasterTable[F0]))","v":1.0240956264000001},0.99594486140000005,{"$f":"Simulator!$N$69/Q122","v":0.43285238623751388},null,0.43461480952776155,{"$f":"INDEX(MasterTable[],MATCH(Simulator!$E115,MasterTable[P/N],0),COLUMN(MasterTable[Typical Voltage]))","v":31.8},{"$f":"INDEX(MasterTable[],MATCH(Simulator!$E115,MasterTable[P/N],0),COLUMN(MasterTable[V^4]))","v":0},{"$f":"INDEX(MasterTable[],MATCH(Simulator!$E115,MasterTable[P/N],0),COLUMN(MasterTable[V^3]))","v":1.9000000000000001E-9},{"$f":"INDEX(MasterTable[],MATCH(Simulator!$E115,MasterTable[P/N],0),COLUMN(MasterTable[V^2]))","v":-4.4818E-6},{"$f":"INDEX(MasterTable[],MATCH(Simulator!$E115,MasterTable[P/N],0),COLUMN(MasterTable[V]))","v":8.2648797999999996E-3},{"$f":"INDEX(MasterTable[],MATCH(Simulator!$E115,MasterTable[P/N],0),COLUMN(MasterTable[V0]))","v":28.743142711499999},30.285944343603294,{"$f":"INDEX(MasterTable[],MATCH(Simulator!$E115,MasterTable[P/N],0),COLUMN(MasterTable[T^3]))","v":0},{"$f":"INDEX(MasterTable[],MATCH(Simulator!$E115,MasterTable[P/N],0),COLUMN(MasterTable[T^2]))","v":0},{"$f":"INDEX(MasterTable[],MATCH(Simulator!$E115,MasterTable[P/N],0),COLUMN(MasterTable[T]))","v":-1.7000000000000001E-2},{"$f":"INDEX(MasterTable[],MATCH(Simulator!$E115,MasterTable[P/N],0),COLUMN(MasterTable[T0]))","v":32.725000000000001},31.8,30.285944343603294,null,{"$f":"INDEX(MasterTable[],MATCH(Simulator!$E115,MasterTable[P/N],0),COLUMN(MasterTable['# of Die]))","v":66},30.285944343603294,{"$f":"INDEX(Tj_to_Vf6[],MATCH(Simulator!$I$8,Tj_to_Vf6[Vf],1),COLUMN(Tj_to_Vf6[Vf]))","v":-0.5},-2.714055656396706,{"$f":"IF(AND(Simulator!$I$8=25,Simulator!$N$69=Simulator!H115),AF122,AR122)","v":30.285944343603294},null,-13.3]
[null,"Vero 18-B",{"$f":"IF(Simulator!$D$10=\"Case\",Simulator!$I$8,M123)","v":25},{"$f":"Simulator!I116*AR123/1000","v":5.7347664394332529},{"$f":"INDEX(MasterTable[],MATCH(Simulator!E116,MasterTable[P/N],0),COLUMN(MasterTable[Thermal Resistance]))","v":0.15453333333333333},25.886212573773751,null,{"$f":"IF(Simulator!$D$10=\"Case\",F123,Simulator!$I$8)","v":25.886212573773751},{"$f":"Simulator!I116*AW123/1000","v":-5.0652335605667478},0.15453333333333333,26.668959999999998,null,{"$f":"IF(Simulator!$D$10=\"Case\",Simulator!$I$8,K123)","v":25},{"$f":"IF(Simulator!$D$10=\"Case\",H123,Simulator!$I$8)","v":25.886212573773751},{"$f":"IF(#REF!=\"Tj\",N123,M123)","v":{"$error":"#REF!"}},null,{"$f":"INDEX(MasterTable[],MATCH(Simulator!E116,MasterTable[P/N],0),COLUMN(MasterTable[Typical Lumens]))","v":5324.4},{"$f":"INDEX(MasterTable[],MATCH(Simulator!$E116,MasterTable[P/N],0),COLUMN(MasterTable[R^3]))","v":-10.468},{"$f":"INDEX(MasterTable[],MATCH(Simulator!$E116,MasterTable[P/N],0),COLUMN(MasterTable[R^2]))","v":92.061999999999998},{"$f":"INDEX(MasterTable[],MATCH(Simulator!$E116,MasterTable[P/N],0),COLUMN(MasterTable[R]))","v":801.04},{"$f":"INDEX(MasterTable[],MATCH(Simulator!$E116,MasterTable[P/N],0),COLUMN(MasterTable[R0]))","v":-9.9999999999999995E-8},181.10893011427055,{"$f":"INDEX(MasterTable[],MATCH(Simulator!$E116,MasterTable[P/N],0),COLUMN(MasterTable[F^4]))","v":0},{"$f":"INDEX(MasterTable[],MATCH(Simulator!$E116,MasterTable[P/N],0),COLUMN(MasterTable[F^3]))","v":0},{"$f":"INDEX(MasterTable[],MATCH(Simulator!$E116,MasterTable[P/N],0),COLUMN(MasterTable[F^2]))","v":-3.6592E-6},{"$f":"INDEX(MasterTable[],MATCH(Simulator!$E116,MasterTable[P/N],0),COLUMN(MasterTable[F]))","v":-1.0345506E-3},{"$f":"INDEX(MasterTable[],MATCH(Simulator!$E116,MasterTable[P/N],0),COLUMN(MasterTable[F0]))","v":1.0240956264000001},0.99594486140000005,{"$f":"Simulator!$N$69/Q123","v":0.21974306964164977},null,0.22063778644608584,{"$f":"INDEX(MasterTable[],MATCH(Simulator!$E116,MasterTable[P/N],0),COLUMN(MasterTable[Typical Voltage]))","v":34.799999999999997},{"$f":"INDEX(MasterTable[],MATCH(Simulator!$E116,MasterTable[P/N],0),COLUMN(MasterTable[V^4]))","v":0},{"$f":"INDEX(MasterTable[],MATCH(Simulator!$E116,MasterTable[P/N],0),COLUMN(MasterTable[V^3]))","v":4.0000000000000001E-10},{"$f":"INDEX(MasterTable[],MATCH(Simulator!$E116,MasterTable[P/N],0),COLUMN(MasterTable[V^2]))","v":-1.6286E-6},{"$f":"INDEX(MasterTable[],MATCH(Simulator!$E116,MasterTable[P/N],0),COLUMN(MasterTable[V]))","v":5.4556379E-3},{"$f":"INDEX(MasterTable[],MATCH(Simulator!$E116,MasterTable[P/N],0),COLUMN(MasterTable[V0]))","v":30.922791431899999},31.859813552406958,{"$f":"INDEX(MasterTable[],MATCH(Simulator!$E116,MasterTable[P/N],0),COLUMN(MasterTable[T^3]))","v":0},{"$f":"INDEX(MasterTable[],MATCH(Simulator!$E116,MasterTable[P/N],0),COLUMN(MasterTable[T^2]))","v":0},{"$f":"INDEX(MasterTable[],MATCH(Simulator!$E116,MasterTable[P/N],0),COLUMN(MasterTable[T]))","v":0},{"$f":"INDEX(MasterTable[],MATCH(Simulator!$E116,MasterTable[P/N],0),COLUMN(MasterTable[T0]))","v":0},34.799999999999997,31.859813552406962,null,{"$f":"INDEX(MasterTable[],MATCH(Simulator!$E116,MasterTable[P/N],0),COLUMN(MasterTable['# of Die]))","v":120},31.859813552406958,{"$f":"INDEX(Tj_to_Vf6[],MATCH(Simulator!$I$8,Tj_to_Vf6[Vf],1),COLUMN(Tj_to_Vf6[Vf]))","v":-0.5},-28.140186447593042,{"$f":"IF(AND(Simulator!$I$8=25,Simulator!$N$69=Simulator!H116),AF123,AR123)","v":31.859813552406962},null,-14.9]
[null,"Vero 18-C",{"$f":"IF(Simulator!$D$10=\"Case\",Simulator!$I$8,M124)","v":25},{"$f":"Simulator!I117*AR124/1000","v":5.9148999947324477},{"$f":"INDEX(MasterTable[],MATCH(Simulator!E117,MasterTable[P/N],0),COLUMN(MasterTable[Thermal Resistance]))","v":0.11206666666666666},25.662863126076349,null,{"$f":"IF(Simulator!$D$10=\"Case\",F124,Simulator!$I$8)","v":25.662863126076349},{"$f":"Simulator!I117*AW124/1000","v":-8.5151000052675521},0.11206666666666666,26.617121999999998,null,{"$f":"IF(Simulator!$D$10=\"Case\",Simulator!$I$8,K124)","v":25},{"$f":"IF(Simulator!$D$10=\"Case\",H124,Simulator!$I$8)","v":25.662863126076349},{"$f":"IF(#REF!=\"Tj\",N124,M124)","v":{"$error":"#REF!"}},null,{"$f":"INDEX(MasterTable[],MATCH(Simulator!E117,MasterTable[P/N],0),COLUMN(MasterTable[Typical Lumens]))","v":6922},{"$f":"INDEX(MasterTable[],MATCH(Simulator!$E117,MasterTable[P/N],0),COLUMN(MasterTable[R^3]))","v":8.4052000000000007},{"$f":"INDEX(MasterTable[],MATCH(Simulator!$E117,MasterTable[P/N],0),COLUMN(MasterTable[R^2]))","v":91.317999999999998},{"$f":"INDEX(MasterTable[],MATCH(Simulator!$E117,MasterTable[P/N],0),COLUMN(MasterTable[R]))","v":1071},{"$f":"INDEX(MasterTable[],MATCH(Simulator!$E117,MasterTable[P/N],0),COLUMN(MasterTable[R0]))","v":-9.9999999999999995E-8},184.43555959142861,{"$f":"INDEX(MasterTable[],MATCH(Simulator!$E117,MasterTable[P/N],0),COLUMN(MasterTable[F^4]))","v":0},{"$f":"INDEX(MasterTable[],MATCH(Simulator!$E117,MasterTable[P/N],0),COLUMN(MasterTable[F^3]))","v":0},{"$f":"INDEX(MasterTable[],MATCH(Simulator!$E117,MasterTable[P/N],0),COLUMN(MasterTable[F^2]))","v":-3.6592E-6},{"$f":"INDEX(MasterTable[],MATCH(Simulator!$E117,MasterTable[P/N],0),COLUMN(MasterTable[F]))","v":-1.0345506E-3},{"$f":"INDEX(MasterTable[],MATCH(Simulator!$E117,MasterTable[P/N],0),COLUMN(MasterTable[F0]))","v":1.0240956264000001},0.99594486140000005,{"$f":"Simulator!$N$69/Q124","v":0.16902629297890784},null,0.16971450883466332,{"$f":"INDEX(MasterTable[],MATCH(Simulator!$E117,MasterTable[P/N],0),COLUMN(MasterTable[Typical Voltage]))","v":34.799999999999997},{"$f":"INDEX(MasterTable[],MATCH(Simulator!$E117,MasterTable[P/N],0),COLUMN(MasterTable[V^4]))","v":0},{"$f":"INDEX(MasterTable[],MATCH(Simulator!$E117,MasterTable[P/N],0),COLUMN(MasterTable[V^3]))","v":0},{"$f":"INDEX(MasterTable[],MATCH(Simulator!$E117,MasterTable[P/N],0),COLUMN(MasterTable[V^2]))","v":-2.9999999999999999E-7},{"$f":"INDEX(MasterTable[],MATCH(Simulator!$E117,MasterTable[P/N],0),COLUMN(MasterTable[V]))","v":3.3E-3},{"$f":"INDEX(MasterTable[],MATCH(Simulator!$E117,MasterTable[P/N],0),COLUMN(MasterTable[V0]))","v":31.373999999999999},31.972432403959171,{"$f":"INDEX(MasterTable[],MATCH(Simulator!$E117,MasterTable[P/N],0),COLUMN(MasterTable[T^3]))","v":0},{"$f":"INDEX(MasterTable[],MATCH(Simulator!$E117,MasterTable[P/N],0),COLUMN(MasterTable[T^2]))","v":0},{"$f":"INDEX(MasterTable[],MATCH(Simulator!$E117,MasterTable[P/N],0),COLUMN(MasterTable[T]))","v":0},{"$f":"INDEX(MasterTable[],MATCH(Simulator!$E117,MasterTable[P/N],0),COLUMN(MasterTable[T0]))","v":0},34.799999999999997,31.972432403959175,null,{"$f":"INDEX(MasterTable[],MATCH(Simulator!$E117,MasterTable[P/N],0),COLUMN(MasterTable['# of Die]))","v":156},31.972432403959171,{"$f":"INDEX(Tj_to_Vf6[],MATCH(Simulator!$I$8,Tj_to_Vf6[Vf],1),COLUMN(Tj_to_Vf6[Vf]))","v":-0.5},-46.027567596040825,{"$f":"IF(AND(Simulator!$I$8=25,Simulator!$N$69=Simulator!H117),AF124,AR124)","v":31.972432403959175},null,-14.9]
[null,"Vero 18-D",{"$f":"IF(Simulator!$D$10=\"Case\",Simulator!$I$8,M125)","v":25},{"$f":"Simulator!I118*AR125/1000","v":5.7355055902919219},{"$f":"INDEX(MasterTable[],MATCH(Simulator!E118,MasterTable[P/N],0),COLUMN(MasterTable[Thermal Resistance]))","v":0.15453333333333333},25.886326797219777,null,{"$f":"IF(Simulator!$D$10=\"Case\",F125,Simulator!$I$8)","v":25.886326797219777},{"$f":"Simulator!I118*AW125/1000","v":-7.1644944097080776},0.15453333333333333,26.993479999999998,null,{"$f":"IF(Simulator!$D$10=\"Case\",Simulator!$I$8,K125)","v":25},{"$f":"IF(Simulator!$D$10=\"Case\",H125,Simulator!$I$8)","v":25.886326797219777},{"$f":"IF(#REF!=\"Tj\",N125,M125)","v":{"$error":"#REF!"}},null,{"$f":"INDEX(MasterTable[],MATCH(Simulator!E118,MasterTable[P/N],0),COLUMN(MasterTable[Typical Lumens]))","v":5176.5},{"$f":"INDEX(MasterTable[],MATCH(Simulator!$E118,MasterTable[P/N],0),COLUMN(MasterTable[R^3]))","v":2.1145999999999998},{"$f":"INDEX(MasterTable[],MATCH(Simulator!$E118,MasterTable[P/N],0),COLUMN(MasterTable[R^2]))","v":124.15},{"$f":"INDEX(MasterTable[],MATCH(Simulator!$E118,MasterTable[P/N],0),COLUMN(MasterTable[R]))","v":922.15},{"$f":"INDEX(MasterTable[],MATCH(Simulator!$E118,MasterTable[P/N],0),COLUMN(MasterTable[R0]))","v":-9.9999999999999995E-8},215.69306660930417,{"$f":"INDEX(MasterTable[],MATCH(Simulator!$E118,MasterTable[P/N],0),COLUMN(MasterTable[F^4]))","v":0},{"$f":"INDEX(MasterTable[],MATCH(Simulator!$E118,MasterTable[P/N],0),COLUMN(MasterTable[F^3]))","v":0},{"$f":"INDEX(MasterTable[],MATCH(Simulator!$E118,MasterTable[P/N],0),COLUMN(MasterTable[F^2]))","v":-3.6592E-6},{"$f":"INDEX(MasterTable[],MATCH(Simulator!$E118,MasterTable[P/N],0),COLUMN(MasterTable[F]))","v":-1.0345506E-3},{"$f":"INDEX(MasterTable[],MATCH(Simulator!$E118,MasterTable[P/N],0),COLUMN(MasterTable[F0]))","v":1.0240956264000001},0.99594486140000005,{"$f":"Simulator!$N$69/Q125","v":0.22602144305998262},null,0.22694172320168829,{"$f":"INDEX(MasterTable[],MATCH(Simulator!$E118,MasterTable[P/N],0),COLUMN(MasterTable[Typical Voltage]))","v":29},{"$f":"INDEX(MasterTable[],MATCH(Simulator!$E118,MasterTable[P/N],0),COLUMN(MasterTable[V^4]))","v":0},{"$f":"INDEX(MasterTable[],MATCH(Simulator!$E118,MasterTable[P/N],0),COLUMN(MasterTable[V^3]))","v":1E-10},{"$f":"INDEX(MasterTable[],MATCH(Simulator!$E118,MasterTable[P/N],0),COLUMN(MasterTable[V^2]))","v":-7.3689999999999999E-7},{"$f":"INDEX(MasterTable[],MATCH(Simulator!$E118,MasterTable[P/N],0),COLUMN(MasterTable[V]))","v":3.5548380999999999E-3},{"$f":"INDEX(MasterTable[],MATCH(Simulator!$E118,MasterTable[P/N],0),COLUMN(MasterTable[V0]))","v":25.943295943100001},26.676770187404291,{"$f":"INDEX(MasterTable[],MATCH(Simulator!$E118,MasterTable[P/N],0),COLUMN(MasterTable[T^3]))","v":0},{"$f":"INDEX(MasterTable[],MATCH(Simulator!$E118,MasterTable[P/N],0),COLUMN(MasterTable[T^2]))","v":0},{"$f":"INDEX(MasterTable[],MATCH(Simulator!$E118,MasterTable[P/N],0),COLUMN(MasterTable[T]))","v":-1.4999999999999999E-2},{"$f":"INDEX(MasterTable[],MATCH(Simulator!$E118,MasterTable[P/N],0),COLUMN(MasterTable[T0]))","v":29.875},29,26.676770187404287,null,{"$f":"INDEX(MasterTable[],MATCH(Simulator!$E118,MasterTable[P/N],0),COLUMN(MasterTable['# of Die]))","v":120},26.676770187404291,{"$f":"INDEX(Tj_to_Vf6[],MATCH(Simulator!$I$8,Tj_to_Vf6[Vf],1),COLUMN(Tj_to_Vf6[Vf]))","v":-0.5},-33.323229812595713,{"$f":"IF(AND(Simulator!$I$8=25,Simulator!$N$69=Simulator!H118),AF125,AR125)","v":26.676770187404287},null,-12.2]
[null,"Vero 29-B",{"$f":"IF(Simulator!$D$10=\"Case\",Simulator!$I$8,M126)","v":25},{"$f":"Simulator!I119*AR126/1000","v":5.9135676509980595},{"$f":"INDEX(MasterTable[],MATCH(Simulator!E119,MasterTable[P/N],0),COLUMN(MasterTable[Thermal Resistance]))","v":6.2849999999999989E-2},25.371667726865226,null,{"$f":"IF(Simulator!$D$10=\"Case\",F126,Simulator!$I$8)","v":25.371667726865226},{"$f":"Simulator!I119*AW126/1000","v":-16.586432349001939},6.2849999999999989E-2,26.414124999999999,null,{"$f":"IF(Simulator!$D$10=\"Case\",Simulator!$I$8,K126)","v":25},{"$f":"IF(Simulator!$D$10=\"Case\",H126,Simulator!$I$8)","v":25.371667726865226},{"$f":"IF(#REF!=\"Tj\",N126,M126)","v":{"$error":"#REF!"}},null,{"$f":"INDEX(MasterTable[],MATCH(Simulator!E119,MasterTable[P/N],0),COLUMN(MasterTable[Typical Lumens]))","v":15911.999999999998},{"$f":"INDEX(MasterTable[],MATCH(Simulator!$E119,MasterTable[P/N],0),COLUMN(MasterTable[R^3]))","v":32.515999999999998},{"$f":"INDEX(MasterTable[],MATCH(Simulator!$E119,MasterTable[P/N],0),COLUMN(MasterTable[R^2]))","v":86.605000000000004},{"$f":"INDEX(MasterTable[],MATCH(Simulator!$E119,MasterTable[P/N],0),COLUMN(MasterTable[R]))","v":1680.8},{"$f":"INDEX(MasterTable[],MATCH(Simulator!$E119,MasterTable[P/N],0),COLUMN(MasterTable[R0]))","v":-9.9999999999999995E-8},124.57658534618155,{"$f":"INDEX(MasterTable[],MATCH(Simulator!$E119,MasterTable[P/N],0),COLUMN(MasterTable[F^4]))","v":0},{"$f":"INDEX(MasterTable[],MATCH(Simulator!$E119,MasterTable[P/N],0),COLUMN(MasterTable[F^3]))","v":0},{"$f":"INDEX(MasterTable[],MATCH(Simulator!$E119,MasterTable[P/N],0),COLUMN(MasterTable[F^2]))","v":-3.6592E-6},{"$f":"INDEX(MasterTable[],MATCH(Simulator!$E119,MasterTable[P/N],0),COLUMN(MasterTable[F]))","v":-1.0345506E-3},{"$f":"INDEX(MasterTable[],MATCH(Simulator!$E119,MasterTable[P/N],0),COLUMN(MasterTable[F0]))","v":1.0240956264000001},0.99594486140000005,{"$f":"Simulator!$N$69/Q126","v":7.3529411764705885E-2},null,7.3828797772344107E-2,{"$f":"INDEX(MasterTable[],MATCH(Simulator!$E119,MasterTable[P/N],0),COLUMN(MasterTable[Typical Voltage]))","v":52},{"$f":"INDEX(MasterTable[],MATCH(Simulator!$E119,MasterTable[P/N],0),COLUMN(MasterTable[V^4]))","v":0},{"$f":"INDEX(MasterTable[],MATCH(Simulator!$E119,MasterTable[P/N],0),COLUMN(MasterTable[V^3]))","v":0},{"$f":"INDEX(MasterTable[],MATCH(Simulator!$E119,MasterTable[P/N],0),COLUMN(MasterTable[V^2]))","v":-1.9999999999999999E-7},{"$f":"INDEX(MasterTable[],MATCH(Simulator!$E119,MasterTable[P/N],0),COLUMN(MasterTable[V]))","v":3.2000000000000002E-3},{"$f":"INDEX(MasterTable[],MATCH(Simulator!$E119,MasterTable[P/N],0),COLUMN(MasterTable[V0]))","v":46.912999999999997},47.308541207984476,{"$f":"INDEX(MasterTable[],MATCH(Simulator!$E119,MasterTable[P/N],0),COLUMN(MasterTable[T^3]))","v":0},{"$f":"INDEX(MasterTable[],MATCH(Simulator!$E119,MasterTable[P/N],0),COLUMN(MasterTable[T^2]))","v":0},{"$f":"INDEX(MasterTable[],MATCH(Simulator!$E119,MasterTable[P/N],0),COLUMN(MasterTable[T]))","v":0},{"$f":"INDEX(MasterTable[],MATCH(Simulator!$E119,MasterTable[P/N],0),COLUMN(MasterTable[T0]))","v":0},52,47.308541207984476,null,{"$f":"INDEX(MasterTable[],MATCH(Simulator!$E119,MasterTable[P/N],0),COLUMN(MasterTable['# of Die]))","v":360},47.308541207984476,{"$f":"INDEX(Tj_to_Vf6[],MATCH(Simulator!$I$8,Tj_to_Vf6[Vf],1),COLUMN(Tj_to_Vf6[Vf]))","v":-0.5},-132.69145879201551,{"$f":"IF(AND(Simulator!$I$8=25,Simulator!$N$69=Simulator!H119),AF126,AR126)","v":47.308541207984476},null,-24.9]
[null,"Vero 29-C",{"$f":"IF(Simulator!$D$10=\"Case\",Simulator!$I$8,M127)","v":25},{"$f":"Simulator!I120*AR127/1000","v":4.7167392036539839},{"$f":"INDEX(MasterTable[],MATCH(Simulator!E120,MasterTable[P/N],0),COLUMN(MasterTable[Thermal Resistance]))","v":4.1266666666666667E-2},25.194644104470786,null,{"$f":"IF(Simulator!$D$10=\"Case\",F127,Simulator!$I$8)","v":25.194644104470786},{"$f":"Simulator!I120*AW127/1000","v":-12.383260796346018},4.1266666666666667E-2,25.705659999999998,null,{"$f":"IF(Simulator!$D$10=\"Case\",Simulator!$I$8,K127)","v":25},{"$f":"IF(Simulator!$D$10=\"Case\",H127,Simulator!$I$8)","v":25.194644104470786},{"$f":"IF(#REF!=\"Tj\",N127,M127)","v":{"$error":"#REF!"}},null,{"$f":"INDEX(MasterTable[],MATCH(Simulator!E120,MasterTable[P/N],0),COLUMN(MasterTable[Typical Lumens]))","v":20175},{"$f":"INDEX(MasterTable[],MATCH(Simulator!$E120,MasterTable[P/N],0),COLUMN(MasterTable[R^3]))","v":-60.183},{"$f":"INDEX(MasterTable[],MATCH(Simulator!$E120,MasterTable[P/N],0),COLUMN(MasterTable[R^2]))","v":469.14},{"$f":"INDEX(MasterTable[],MATCH(Simulator!$E120,MasterTable[P/N],0),COLUMN(MasterTable[R]))","v":1276.5},{"$f":"INDEX(MasterTable[],MATCH(Simulator!$E120,MasterTable[P/N],0),COLUMN(MasterTable[R0]))","v":-9.9999999999999995E-8},75.90769829284207,{"$f":"INDEX(MasterTable[],MATCH(Simulator!$E120,MasterTable[P/N],0),COLUMN(MasterTable[F^4]))","v":0},{"$f":"INDEX(MasterTable[],MATCH(Simulator!$E120,MasterTable[P/N],0),COLUMN(MasterTable[F^3]))","v":0},{"$f":"INDEX(MasterTable[],MATCH(Simulator!$E120,MasterTable[P/N],0),COLUMN(MasterTable[F^2]))","v":-3.6592E-6},{"$f":"INDEX(MasterTable[],MATCH(Simulator!$E120,MasterTable[P/N],0),COLUMN(MasterTable[F]))","v":-1.0345506E-3},{"$f":"INDEX(MasterTable[],MATCH(Simulator!$E120,MasterTable[P/N],0),COLUMN(MasterTable[F0]))","v":1.0240956264000001},0.99594486140000005,{"$f":"Simulator!$N$69/Q127","v":5.7992565055762078E-2},null,5.8228690466098604E-2,{"$f":"INDEX(MasterTable[],MATCH(Simulator!$E120,MasterTable[P/N],0),COLUMN(MasterTable[Typical Voltage]))","v":69.400000000000006},{"$f":"INDEX(MasterTable[],MATCH(Simulator!$E120,MasterTable[P/N],0),COLUMN(MasterTable[V^4]))","v":-9.9999999999999996E-24},{"$f":"INDEX(MasterTable[],MATCH(Simulator!$E120,MasterTable[P/N],0),COLUMN(MasterTable[V^3]))","v":6.0000000000000006E-20},{"$f":"INDEX(MasterTable[],MATCH(Simulator!$E120,MasterTable[P/N],0),COLUMN(MasterTable[V^2]))","v":-2.9999999999999999E-7},{"$f":"INDEX(MasterTable[],MATCH(Simulator!$E120,MasterTable[P/N],0),COLUMN(MasterTable[V]))","v":4.4999999999999997E-3},{"$f":"INDEX(MasterTable[],MATCH(Simulator!$E120,MasterTable[P/N],0),COLUMN(MasterTable[V0]))","v":62.55},62.889856048719778,{"$f":"INDEX(MasterTable[],MATCH(Simulator!$E120,MasterTable[P/N],0),COLUMN(MasterTable[T^3]))","v":0},{"$f":"INDEX(MasterTable[],MATCH(Simulator!$E120,MasterTable[P/N],0),COLUMN(MasterTable[T^2]))","v":0},{"$f":"INDEX(MasterTable[],MATCH(Simulator!$E120,MasterTable[P/N],0),COLUMN(MasterTable[T]))","v":0},{"$f":"INDEX(MasterTable[],MATCH(Simulator!$E120,MasterTable[P/N],0),COLUMN(MasterTable[T0]))","v":0},69.400000000000006,62.889856048719793,null,{"$f":"INDEX(MasterTable[],MATCH(Simulator!$E120,MasterTable[P/N],0),COLUMN(MasterTable['# of Die]))","v":456},62.889856048719778,{"$f":"INDEX(Tj_to_Vf6[],MATCH(Simulator!$I$8,Tj_to_Vf6[Vf],1),COLUMN(Tj_to_Vf6[Vf]))","v":-0.5},-165.11014395128024,{"$f":"IF(AND(Simulator!$I$8=25,Simulator!$N$69=Simulator!H120),AF127,AR127)","v":62.889856048719793},null,-33.200000000000003]
[null,"Vero 29-D",{"$f":"IF(Simulator!$D$10=\"Case\",Simulator!$I$8,M128)","v":25},{"$f":"Simulator!I121*AR128/1000","v":5.3189154484328984},{"$f":"INDEX(MasterTable[],MATCH(Simulator!E121,MasterTable[P/N],0),COLUMN(MasterTable[Thermal Resistance]))","v":6.2849999999999989E-2},25.334293835934009,null,{"$f":"IF(Simulator!$D$10=\"Case\",F128,Simulator!$I$8)","v":25.334293835934009},{"$f":"Simulator!I121*AW128/1000","v":-18.861084551567103},6.2849999999999989E-2,26.519712999999999,null,{"$f":"IF(Simulator!$D$10=\"Case\",Simulator!$I$8,K128)","v":25},{"$f":"IF(Simulator!$D$10=\"Case\",H128,Simulator!$I$8)","v":25.334293835934009},{"$f":"IF(#REF!=\"Tj\",N128,M128)","v":{"$error":"#REF!"}},null,{"$f":"INDEX(MasterTable[],MATCH(Simulator!E121,MasterTable[P/N],0),COLUMN(MasterTable[Typical Lumens]))","v":13423.199999999999},{"$f":"INDEX(MasterTable[],MATCH(Simulator!$E121,MasterTable[P/N],0),COLUMN(MasterTable[R^3]))","v":-21.628},{"$f":"INDEX(MasterTable[],MATCH(Simulator!$E121,MasterTable[P/N],0),COLUMN(MasterTable[R^2]))","v":383.61},{"$f":"INDEX(MasterTable[],MATCH(Simulator!$E121,MasterTable[P/N],0),COLUMN(MasterTable[R]))","v":1719.8},{"$f":"INDEX(MasterTable[],MATCH(Simulator!$E121,MasterTable[P/N],0),COLUMN(MasterTable[R0]))","v":-9.9999999999999995E-8},{"$f":"(R128*AE128^3)+(S128*AE128^2)+(T128*AE128)+U128","v":153.43614443935408},{"$f":"INDEX(MasterTable[],MATCH(Simulator!$E121,MasterTable[P/N],0),COLUMN(MasterTable[F^4]))","v":0},{"$f":"INDEX(MasterTable[],MATCH(Simulator!$E121,MasterTable[P/N],0),COLUMN(MasterTable[F^3]))","v":0},{"$f":"INDEX(MasterTable[],MATCH(Simulator!$E121,MasterTable[P/N],0),COLUMN(MasterTable[F^2]))","v":-3.6592E-6},{"$f":"INDEX(MasterTable[],MATCH(Simulator!$E121,MasterTable[P/N],0),COLUMN(MasterTable[F]))","v":-1.0345506E-3},{"$f":"INDEX(MasterTable[],MATCH(Simulator!$E121,MasterTable[P/N],0),COLUMN(MasterTable[F0]))","v":1.0240956264000001},0.99594486140000005,{"$f":"Simulator!$N$69/Q128","v":8.7162524584301806E-2},null,8.7517419851714892E-2,{"$f":"INDEX(MasterTable[],MATCH(Simulator!$E121,MasterTable[P/N],0),COLUMN(MasterTable[Typical Voltage]))","v":37.6},{"$f":"INDEX(MasterTable[],MATCH(Simulator!$E121,MasterTable[P/N],0),COLUMN(MasterTable[V^4]))","v":0},{"$f":"INDEX(MasterTable[],MATCH(Simulator!$E121,MasterTable[P/N],0),COLUMN(MasterTable[V^3]))","v":0},{"$f":"INDEX(MasterTable[],MATCH(Simulator!$E121,MasterTable[P/N],0),COLUMN(MasterTable[V^2]))","v":-1.9579999999999999E-7},{"$f":"INDEX(MasterTable[],MATCH(Simulator!$E121,MasterTable[P/N],0),COLUMN(MasterTable[V]))","v":2.6016281E-3},{"$f":"INDEX(MasterTable[],MATCH(Simulator!$E121,MasterTable[P/N],0),COLUMN(MasterTable[V0]))","v":33.921009404300001},34.315583538276769,{"$f":"INDEX(MasterTable[],MATCH(Simulator!$E121,MasterTable[P/N],0),COLUMN(MasterTable[T^3]))","v":0},{"$f":"INDEX(MasterTable[],MATCH(Simulator!$E121,MasterTable[P/N],0),COLUMN(MasterTable[T^2]))","v":0},{"$f":"INDEX(MasterTable[],MATCH(Simulator!$E121,MasterTable[P/N],0),COLUMN(MasterTable[T]))","v":-0.02},{"$f":"INDEX(MasterTable[],MATCH(Simulator!$E121,MasterTable[P/N],0),COLUMN(MasterTable[T0]))","v":38.5},37.6,34.315583538276762,null,{"$f":"INDEX(MasterTable[],MATCH(Simulator!$E121,MasterTable[P/N],0),COLUMN(MasterTable['# of Die]))","v":312},34.315583538276769,{"$f":"INDEX(Tj_to_Vf6[],MATCH(Simulator!$I$8,Tj_to_Vf6[Vf],1),COLUMN(Tj_to_Vf6[Vf]))","v":-0.5},-121.68441646172323,{"$f":"IF(AND(Simulator!$I$8=25,Simulator!$N$69=Simulator!H121),AF128,AR128)","v":34.315583538276762},null,-17.399999999999999]
[null,null,null,null,null,null,null,null,null,null,null,null,null,null,null,null,null,"REV TABLE"]
[null,null,null,null,null,null,null,null,null,null,null,null,null,null,null,null,null,"Bridgelux Product Simulator EXPIRES 06-30-15 Rev 1.0.","Rev 1.0.1","Added efficacy graphic to Section 2, updated Vero 10 data"]
[null,null,null,null,null,null,null,null,null,null,null,null,null,null,null,null,null,"Bridgelux Product Simulator EXPIRES 06-30-15 Rev 1.01","Rev 1.01","Updated V6 data to 130 lm/W performance data"]
[null,null,null,null,null,null,null,null,null,null,null,null,null,null,null,null,null,"Bridgelux Product Simulator EXPIRES 06-30-15 Rev 1.01","Rev 1.01.1","Updated Vero 10 typical lumens value, adjusted flux vs. current equation calculation to be 1 if Tc = 25C for Vero/V 18 and Vero 29"]
[null,null,null,null,null,null,null,null,null,null,null,null,null,null,null,null,null,"Bridgelux Product Simulator EXPIRES 09-30-15 Rev 2.01","Rev 2.01","Added 35E and 35G for all form factors, updated flux vs. temperature equations for Vero 13, 18 & 29 to remove unenven bump",null,null,null,null,null,null,null,null,null,null,null,null,"y = -0.00000000000004773529x4 + 0.00000000039481665238x3 - 0.00000137893876986040x2 + 0.00478211933972296000x + 30.96295733186940000000"]
[null,null,null,null,null,null,null,null,null,null,null,null,null,null,null,null,null,"Bridgelux Product Simulator EXPIRES 09-30-15 Rev 2.02","Rev 2.02","Added 35A SKU's, added data validation to Tc input to limit Tc input to a range of 0-105C."]
[null,null,null,null,null,null,null,null,null,null,null,null,null,null,null,null,null,"Bridgelux Product Simulator EXPIRES 09-30-15 Rev 2.03","Rev 2.03","fixed V18 max current error that was causing an error for V18 50C parts"]
[null,null,null,null,null,null,null,null,null,null,null,null,null,null,null,null,null,"Bridgelux Product Simulator EXPIRES 09-30-15 Rev 2.04","Rev 2.04","Updated Vero and V Series Specs "]
[null,null,null,null,null,null,null,null,null,null,null,null,null,null,null,null,null,"Bridgelux Product Simulator EXPIRES 09-30-15 Rev 2.05","Rev 2.05","Updated with V22 Specs"]
[null,null,null,null,null,null,null,null,null,null,null,null,null,null,null,null,null,"Bridgelux Product Simulator EXPIRES 09-30-15 Rev 2.06","Rev 2.06","Updated with H6 & H9"]
[null,null,null,null,null,null,null,null,null,null,null,null,null,null,null,null,null,"Bridgelux Product Simulator EXPIRES 07-01-16 Rev 2.07","Rev 2.07","Updated Tj Values"]
[null,null,null,null,null,null,null,null,null,null,null,null,null,null,null,null,null,"Bridgelux Gen7 Product Simulator EXPIRES 07-01-16 Rev 1","Rev 1","Add Gen7 Vero and V series; modified formulas for column AL and column AX to get the correct Vf @Tc&I; modified the column AB from Simulator!$I$8=85 to Simulator!$I$8=\"case\", to fix the 85C Tc input issue (Tc=85C does not work), others functions&formulas updated"]

{"sheet":"25C SPD","index":4,"n_rows":632,"n_cols":64,"rows_kept":632,"cut":false,"hidden":true,"merged":[]}
[null,"27S-25","30S-25","35S-25","40S-25","50S-25","57S-25","65S-25","50C-25","57C-25","65C-25","27E-25","30E-25","35E-25","40E-25","50E-25","57E-25","65E-25","27G-25","28G-25","30G-25","35G-25","40G-25","50G-25","57G-25","27H-25","30H-25","30A-25","35A-25","40A-25","56G-25","56H-25","25E-25","30G-C-25","27S-85","30S-85","35S-85","40S-85","50S-85","57S-85","65S-85","30E-85","65E-85","50G-85","50E-85","57C-85","57E-85","35A-85","30H-85","35G-85","27G-85","25E-85","20E-85","17E-85","27G-85","27E-85","40G-85","30G-C-85","30A-85","40A-85","30G-85","56G-85","56H-85","27H-85"]
[380,-0.26837619518720696,-0.31898601492887996,null,-0.41672573791353784,-0.36115177323950909,null,null,3.2086596384516739E-3,7.0516010896317001E-4,1.1939021074435286E-3,1.3941426622889199E-4,-1.4754250588045807E-4,-3.9490837835078479E-3,-1.1071223146197579E-3,3.2354936199329191E-4,3.3731465572516196E-4,3.7203101023777956E-3,5.7603395437437963E-3,4.6419312462681805E-3,4.6484963840329489E-3,2.6062524272216169E-3,4.0773823580247228E-3,9.5049951019390356E-4,4.8898828219020125E-3,2.8398437054230142E-3,3.1087530182218829E-3,1.1833809751828795E-3,4.3732405139455862E-3,3.9510684912534878E-3,8.9034910119130341E-4,1.6580991897955999E-3,3.0659535174093065E-4,9.2438792344258607E-3,1.2519513718159117E-3,3.1092706262853811E-4,1.9279606762683675E-3,3.2156893815536735E-3,3.6651912002843858E-3,2.8179396950959966E-3,2.0104053815556615E-3,null,229.97637900000001,168.70297199999999,215.479828,75.893981999999994,138.394867,58.725197000000001,-18.123007000000001,19.195281999999999,-47.441947999999996,-54.753571000000001,-146.79663099999999,-193.33389299999999,-52.769489,-12.332273000000001,49.316563000000002,-26.316832000000002,347.93920900000001,62.073512999999998,-16.482220000000002,150.28656000000001,1.6580991897955999E-3,-41.997753000000003]
[381,-0.15411536115130173,-0.18455972668376999,null,-0.23676809491718187,-0.2033313767028477,null,null,2.7006717251288632E-3,6.7848021415739784E-4,1.0493464475613207E-3,1.06890857317826E-4,3.7498223182249116E-3,-1.6934399180615354E-3,-6.6634410039243615E-4,1.5648230232980279E-3,9.1531780835225405E-5,3.0947781603769269E-3,4.5131263212405846E-3,1.5568873434983845E-3,4.0816240763946353E-3,2.466436778043272E-3,3.3794932978028379E-3,1.5868516869029152E-3,2.7673857038143625E-3,2.433808121126643E-3,3.8574693693092816E-3,-5.6885789172831758E-4,3.6895444751036907E-3,3.3576100271777271E-3,1.2257095399130697E-3,5.4898561174112348E-3,9.6240623429512319E-4,1.3090806140925127E-2,1.414035552758045E-3,6.7885348698842982E-4,1.4520714134018079E-3,2.6599320642898016E-3,3.4202855711775674E-3,2.7570734072797981E-3,2.5798957787107096E-3,null,214.504425,169.43722500000001,206.539413,94.179703000000003,152.998718,48.766674000000002,-11.542827000000001,29.056175,-53.906624000000001,-49.066096999999999,-138.70318599999999,-170.796829,-46.495128999999999,-7.2608790000000001,49.68121,-24.850922000000001,245.69697600000001,78.541809000000001,-14.009240999999999,169.03772000000001,5.4898561174112348E-3,-50.630718000000002]
[382,-0.1155343336112174,-0.1323616497158831,null,-0.17500219552265037,-0.14480045951177689,null,null,2.1897861964234894E-3,8.0611224753220718E-4,6.7710844161179406E-4,1.4819905677498601E-4,4.5111317078238263E-3,-8.9361884319264992E-4,-1.0164181702311326E-3,3.2348932488179515E-3,3.624365795782773E-4,1.58355900277186E-3,3.7529025332601971E-3,-2.2806514972581053E-4,3.1678661967790601E-3,1.8933175517121174E-3,2.9884902783779239E-3,-2.0526637292125048E-3,1.6433321244861837E-3,1.6826304489175833E-3,3.3457651670711274E-3,-2.2136932086826446E-3,4.0033121740331197E-3,3.7879054057968304E-3,1.0058005687759862E-3,7.1509233689123959E-4,9.5479910476001402E-4,8.2287812166914089E-3,1.3699463592086742E-3,1.5780936217957362E-3,9.2421301308687242E-4,1.6759407450968691E-3,2.966983315231504E-3,2.8273231630652437E-3,1.9935550985227253E-3,null,212.17137099999999,146.74302700000001,192.987762,100.262001,126.543747,25.442411,-22.940850999999999,37.405543999999999,-69.204123999999993,-55.886063,-152.683258,-153.00941499999999,-43.398758000000001,-17.374835999999998,49.015681999999998,-32.451534000000002,-20.103935,85.825226000000001,-25.348369999999999,164.06317100000001,7.1509233689123959E-4,-71.406799000000007]
[383,-0.10616538704766661,-0.11181534555537227,null,-0.14970359452554982,-0.12406761927923697,null,null,2.2676797487480964E-3,8.2160890018360098E-4,1.1502234726015897E-3,1.24775633120494E-4,3.7912796599974784E-3,-1.6751103895245628E-3,-4.26563194620219E-4,2.9456693501573781E-3,2.461182763945002E-4,1.0265172631591423E-3,4.35073963372798E-3,2.6477326118791238E-4,3.0629932586366958E-3,2.1446087347407423E-3,3.3664551629790751E-3,-2.873262307924172E-3,4.073417289272214E-3,1.7394806160689613E-3,2.3991107422038963E-3,4.968702215010901E-4,4.3856096588065106E-3,3.8521397458206666E-3,1.1013687434910063E-3,-2.0171457135158334E-3,9.3509117965254001E-4,1.0893968332091353E-2,1.703659557403659E-3,1.1080371843206864E-3,9.2116616116197868E-4,1.9618211257367664E-3,3.1127756825637606E-3,2.7767308674344284E-3,2.3889720942262436E-3,null,206.93112199999999,160.43310500000001,199.35725400000001,110.781189,118.37204699999999,28.745441,-18.491275999999999,22.98678,-60.674621999999999,-64.757758999999993,-163.70202599999999,-160.038895,-45.392254000000001,-26.73826,57.795864000000002,-42.048389,-152.44924900000001,96.672400999999994,-17.170759,162.766434,-2.0171457135158334E-3,-79.087051000000002]
[384,-8.7197056147784432E-2,-8.9567916268741485E-2,null,-0.11740392760395486,-9.8915942486715341E-2,null,null,2.0045753025281277E-3,1.0439243675816187E-3,1.1109074399674272E-3,1.0804824726545E-4,4.971452379536119E-3,-1.096490432031363E-3,1.2952884538705821E-3,1.745653031071691E-3,5.8873920955497625E-4,1.0950652502613228E-3,4.9004987225030805E-3,-4.2395557238253615E-3,3.2167094735074337E-3,1.979462286154747E-3,3.5932146818466789E-3,-5.0343283237232639E-4,4.276135688811745E-3,1.7211486104216766E-3,2.2296282317744915E-3,2.3319740597112296E-3,4.1683098086259494E-3,3.7225600358095864E-3,5.5606608529666017E-4,1.1129413591272476E-3,7.2056848200244608E-4,8.5696248533727662E-3,8.2153823397226107E-4,6.8065375150769812E-4,1.3737861068565723E-3,1.6277050510680095E-3,2.7613459040443759E-3,2.6834858455195075E-3,2.9748677890054399E-3,null,179.964508,137.94314600000001,170.80174299999999,100.39965100000001,113.165459,32.153503000000001,-24.956112000000001,36.065598000000001,-62.995944999999999,-56.146296999999997,-164.192352,-167.76480100000001,-50.536391999999999,-25.737680000000001,35.768096999999997,-59.334698000000003,-230.74653599999999,98.414444000000003,-28.054098,164.563751,1.1129413591272476E-3,-78.243720999999994]
[385,-7.2525116549365193E-2,-7.3167896922981507E-2,null,-9.7334324422291743E-2,-8.2890297090591272E-2,null,null,2.088506991723524E-3,8.8353218785672163E-4,8.9634478691907817E-4,9.8245247008034E-5,5.5494322938085599E-3,-5.6356413105954576E-5,4.7231607181988378E-4,2.1578975678123E-3,-1.3132996796049124E-4,1.6248851287092678E-3,3.7926659900300312E-3,-4.0490219642256584E-3,3.0091282472600946E-3,1.447592867420096E-3,2.8705667084428263E-3,1.3971486827239882E-3,3.0892518487783856E-3,1.3590926826815605E-3,1.7486916127995983E-3,6.3743365479798225E-3,3.8479896671131295E-3,3.1850593150792336E-3,8.8708299384583525E-4,1.8539489295463668E-3,8.7716025911837594E-4,4.9244785137555584E-3,1.1788478121261068E-3,1.250918276386626E-3,1.2605888851139366E-3,1.8753009310805695E-3,3.7692384733675702E-3,2.3305792942056695E-3,2.9459055812097843E-3,null,160.97769199999999,134.44956999999999,157.48185699999999,107.721222,110.08094800000001,35.001904000000003,-26.278794999999999,29.932542999999999,-60.985866999999999,-40.767353,-159.27989199999999,-153.55316199999999,-40.854919000000002,-31.087240000000001,47.179665,-62.485405,-146.323914,104.821259,-29.835557999999999,160.15965299999999,1.8539489295463668E-3,-67.524696000000006]
[386,-6.0295928280119732E-2,-6.299039241572861E-2,null,-8.3106917484605844E-2,-7.2985963549807117E-2,null,null,2.0249209921832912E-3,7.7904016364646177E-4,1.3398072098110556E-3,9.9740806127465999E-5,4.6973763666406342E-3,5.8342423890498458E-4,-5.4503117063824146E-4,2.8751397931662381E-3,1.643216050332153E-4,1.9344269786591187E-3,2.9503016447963923E-3,-2.8663392077739763E-3,2.6369367434924663E-3,2.0801330969089796E-3,2.6475923895240678E-3,7.7479275400083242E-4,3.1394476970647068E-3,1.1805329305539607E-3,1.9252496023061431E-3,3.1237243911442741E-3,3.4275735096154026E-3,2.7829244039430834E-3,9.6478997199700152E-4,5.0808136290897551E-4,7.6603812466445142E-4,1.0762878069466202E-2,1.4211344894461515E-3,1.989345346699306E-3,2.1593827969689085E-3,2.2566938699897267E-3,3.0226912217609469E-3,3.1208052065902605E-3,3.097123988306917E-3,null,149.94177199999999,127.130585,157.32583600000001,107.32538599999999,119.492012,25.188845000000001,-33.784554,19.398510000000002,-57.034236999999997,-31.310365999999998,-167.22747799999999,-146.829193,-35.810890000000001,-26.943017999999999,50.521976000000002,-67.290336999999994,-216.166901,91.311653000000007,-43.146236000000002,150.21391299999999,5.0808136290897551E-4,-64.369597999999996]
[387,-5.5241265189153524E-2,-5.5840452684946078E-2,null,-7.3475003181293519E-2,-6.4920980138195333E-2,null,null,1.5097861985546883E-3,8.5157581390883283E-4,1.2889290157569364E-3,1.2632775451371699E-4,3.0462033743589791E-3,-1.2033839221941311E-3,-1.0368085558460137E-3,2.9969292951424731E-3,-5.9039139996354384E-4,2.3781595595961749E-3,1.8231862849304981E-3,2.1389580773776913E-3,2.1511262056022173E-3,1.7136128980505185E-3,3.0382116166845041E-3,4.1570322870525299E-4,2.8582995153682827E-3,2.1554736425944358E-3,2.6302031317712807E-3,2.8231791259605071E-3,2.7307445848186182E-3,2.6606657097578454E-3,8.7485108243605392E-4,7.8131088729921469E-5,8.7786503896289359E-4,5.4438374477480816E-3,1.2158229622348301E-3,1.1924875482697119E-3,1.8816207203852916E-3,2.137235451203247E-3,2.2077411200012577E-3,2.9816346507854177E-3,3.4867910228717825E-3,null,143.249527,112.560181,138.52024800000001,103.650215,100.352844,7.91275,-40.721111000000001,2.192726,-59.824717999999997,-38.585540999999999,-157.87178,-146.99392700000001,-48.066825999999999,-26.852651999999999,35.437263000000002,-75.286995000000005,-309.17336999999998,65.939223999999996,-51.909992000000003,128.86525,7.8131088729921469E-5,-67.878356999999994]
[388,-4.8753369970845749E-2,-5.0793045421202714E-2,null,-6.8806660040379011E-2,-6.0948820566263565E-2,null,null,1.7065972704858117E-3,1.0064910244844448E-3,1.2891459240892056E-3,1.05754701343128E-4,2.8424554134831356E-3,-2.5862619917721729E-3,-3.8602446437823368E-4,3.121721418925018E-3,5.7671400348252383E-5,2.0939438575675374E-3,1.5021621725446262E-3,5.4462631747356435E-4,2.3876145255680411E-3,1.9983318990219852E-3,3.0030771614828452E-3,-3.4693425844931894E-4,3.1513825075494394E-3,2.2300805922473806E-3,2.2787139314808668E-3,3.8620117199058427E-3,2.597364829150716E-3,2.8142347975367225E-3,7.9552451483831394E-4,8.4999693310180968E-4,7.9124051312525845E-4,8.6316490134173141E-3,1.4660574690988372E-3,1.7516776731375085E-3,2.0760844766023845E-3,2.0500570453325516E-3,3.4383305217004782E-3,3.3286182919341606E-3,3.0386431862208883E-3,null,132.34141500000001,109.62190200000001,102.315788,59.809638999999997,80.106216000000003,-1.01718,-51.397300999999999,-19.908418999999999,-61.946120999999998,-52.934299000000003,-173.21530200000001,-163.08427399999999,-60.480034000000003,-46.878574,26.282616000000001,-95.076836,-169.71752900000001,43.047427999999996,-63.339908999999999,117.399361,8.4999693310180968E-4,-77.123772000000002]
[389,-4.4129068457284204E-2,-4.625955700112061E-2,null,-6.4168672485242426E-2,-5.4888013423156246E-2,null,null,1.6402823192225263E-3,9.2072833687053385E-4,8.7706564504677154E-4,9.6146164100364696E-5,1.2873334891744268E-3,-1.7346200881016799E-3,-6.7553934127551269E-4,1.8889508171940829E-3,-3.2435699263274958E-4,2.1418670807814887E-3,1.9574795291185895E-3,-7.1685125532075782E-4,2.2970595679422225E-3,1.9341998076415085E-3,2.8449127253653604E-3,-4.6210926212945317E-4,2.5978476901992748E-3,2.0861881997786946E-3,1.8492930249146638E-3,3.3712385320246751E-3,2.8460134510210834E-3,2.8749343574658239E-3,1.2144995033330937E-3,7.8574650017406876E-4,7.173427219549452E-4,2.1271900106683943E-3,1.6978419688241943E-3,9.0969466727978585E-4,2.0246968483823907E-3,2.3162950032687164E-3,4.3481822988067961E-3,3.8097191749338118E-3,3.3879001073013944E-3,null,115.35021999999999,109.06594800000001,99.239577999999995,41.808368999999999,81.739234999999994,4.5808989999999996,-46.433739000000003,-25.340761000000001,-51.483974000000003,-53.790748999999998,-177.79106100000001,-177.86721800000001,-82.015831000000006,-34.120837999999999,26.110427999999999,-85.536850000000001,-82.720596,35.633414999999999,-54.594169999999998,116.320015,7.8574650017406876E-4,-70.457168999999993]
[390,-3.9103591088380026E-2,-4.0144073498851823E-2,null,-5.6470944817731794E-2,-4.8749404178759274E-2,null,null,1.5117812654209487E-3,1.1361158910386927E-3,1.5653178110218639E-3,9.3709423568536602E-5,4.2454504520786091E-4,-7.8681494148956008E-4,-5.0657339255662665E-5,9.2615019438569064E-4,-7.3945968757729307E-5,2.5765680331989249E-3,2.1201320256962327E-3,1.4301074100946201E-3,2.1197285718083515E-3,6.4950556918270572E-4,2.8062325476035537E-3,-1.5320172838414271E-4,2.0056545400684985E-3,1.8340678252245697E-3,1.931580468870109E-3,2.6603961626643999E-3,2.940113255360532E-3,2.5131149040305651E-3,1.1078039826844422E-3,1.0141812992637141E-3,7.6338427918241079E-4,5.4749559992005219E-3,1.4024179511316071E-3,1.6532660961339346E-3,2.2036455575746489E-3,2.0323714142401052E-3,4.9603485703986882E-3,3.0851207012248111E-3,3.2089573786836223E-3,null,99.886688000000007,97.118804999999995,77.814712999999998,20.851015,58.956726000000003,-4.1270600000000002,-58.513168,-32.656165999999999,-60.598475999999998,-63.899116999999997,-156.42111199999999,-163.291336,-78.351287999999997,-52.308590000000002,21.957304000000001,-86.425010999999998,71.078834999999998,16.742529000000001,-57.128239000000001,96.299423000000004,1.0141812992637141E-3,-62.433459999999997]
[391,-3.4757488546322414E-2,-3.6081033944650322E-2,null,-5.1999757444290556E-2,-4.3944821421419956E-2,null,null,2.0423338217155306E-3,1.1915465291849746E-3,1.5795321615010985E-3,1.15690571072038E-4,9.8628167955477995E-4,-3.8781276174091749E-4,1.6039374531752761E-3,1.2483896754747819E-3,4.2487622895886557E-4,2.9869810628941557E-3,2.4055570506372748E-3,1.0089204083481946E-3,2.2825432701020004E-3,1.5288893026600011E-3,2.4865608552552794E-3,4.442004371050316E-4,1.6387337417654738E-3,1.4487073518455401E-3,2.0453261382401356E-3,2.3756287089108292E-3,3.051981366014382E-3,2.4152073810502672E-3,6.7900426000682779E-4,1.2523727778618082E-3,8.2338060187159235E-4,8.2099169725102054E-3,1.5333132766154492E-3,1.7524683126371218E-3,2.9253387774833797E-3,2.7489052571037296E-3,4.4435418705034537E-3,3.848752419541468E-3,3.2253125575800231E-3,null,114.202637,93.155822999999998,91.169265999999993,25.595317999999999,64.828850000000003,-9.3434179999999998,-62.938746999999999,-42.708767000000002,-44.298805000000002,-67.054062000000002,-151.96554599999999,-146.263428,-71.945839000000007,-54.007613999999997,23.877984999999999,-73.374519000000006,150.72375500000001,18.946745,-58.639870000000002,86.166222000000005,1.2523727778618082E-3,-58.692833]
[392,-3.3069454365007613E-2,-3.3047589507092738E-2,null,-4.8111242697680828E-2,-3.8210031327473734E-2,null,null,1.9965103014465556E-3,9.6587507458882149E-4,1.4268357619170345E-3,1.2653755510636701E-4,1.7824737094667023E-3,1.1868609593714899E-4,8.1174106760634993E-4,2.0104715150150217E-3,-2.3827912868787886E-5,2.3571325781842002E-3,1.6887236771734907E-3,-9.9922086378681843E-4,1.9686145117360655E-3,1.7819785536050048E-3,2.1066315620602402E-3,6.858648524022394E-4,1.9103823165996102E-3,1.5173755175161652E-3,1.5161492121425623E-3,2.5363392302535808E-3,2.8636998929920318E-3,2.4896056533206343E-3,9.35290477639951E-4,9.5386529347880119E-4,7.7783447738812733E-4,5.1535167451516187E-3,1.753742829151049E-3,2.041543347321356E-3,3.0508477383513759E-3,3.2440567267574875E-3,4.3132792785284257E-3,5.0842577395699374E-3,3.994178829094557E-3,null,135.26792900000001,100.291489,98.934853000000004,38.956378999999998,76.752883999999995,-6.0910589999999996,-45.413342,-22.49765,-26.069133999999998,-58.141945,-124.177589,-123.740021,-51.221600000000002,-37.999813000000003,29.651958,-51.549084000000001,118.21801000000001,36.759937000000001,-38.480656000000003,93.589264,9.5386529347880119E-4,-41.849415]
[393,-3.0529794813368497E-2,-3.1420924163702388E-2,null,-4.2458783490880378E-2,-3.2233863858722137E-2,null,null,1.6637390813655823E-3,1.1293646467812539E-3,1.8482312067494107E-3,9.8755507694827001E-5,2.2086920290137709E-3,6.3728356550416389E-4,5.6511551961730398E-4,2.0513057391425807E-3,8.5118653125136634E-4,2.5608008556172765E-3,2.0083075330522113E-3,-3.7782833521850931E-3,1.7913867025862692E-3,1.1377394869211588E-3,2.1054217291416543E-3,6.767792456485426E-4,1.8911314877617569E-3,1.6719473155570948E-3,1.084975388595454E-3,1.6497434016774183E-3,2.5229074058012529E-3,2.5072870369795808E-3,5.7345476937948909E-4,2.2667697288745651E-4,7.9433470448241961E-4,2.6001940520506872E-3,1.780883719804795E-3,1.7905261775593082E-3,3.3517141700879129E-3,3.1591872581365932E-3,5.4166242492135024E-3,4.7397351549276672E-3,4.6353359463449026E-3,null,138.16494800000001,101.47592899999999,87.835296999999997,41.714328999999999,91.884406999999996,-9.1993469999999995,-37.534194999999997,-15.335800000000001,-27.761628999999999,-49.572029000000001,-120.3657,-112.41986799999999,-33.708705999999999,-42.496535999999999,27.198198000000001,-55.419894999999997,141.43632500000001,47.529003000000003,-24.889696000000001,88.513039000000006,2.2667697288745651E-4,-40.001465000000003]
[394,-2.8166570041412171E-2,-2.9130935121309709E-2,null,-3.8234308178100439E-2,-2.9595820248579041E-2,null,null,1.5710164895015627E-3,1.162971676677972E-3,1.9664491852769473E-3,1.1718252187638099E-4,2.9950037512069681E-3,-5.4174521422534151E-4,8.248097483245938E-5,1.2692441249473332E-3,1.1037125988151155E-3,2.7951561860526009E-3,2.4291041609285683E-3,-2.6669548176612304E-3,1.995763102730344E-3,1.3036486415140102E-3,2.3292727281965906E-3,3.7779388167723303E-4,2.0095202371169319E-3,1.5552201381488148E-3,1.0761370891724585E-3,1.5486161611067706E-3,2.3113491337828939E-3,2.6689437971571606E-3,8.2309039804671035E-4,1.2068305053371364E-4,7.4820820513262333E-4,4.0796830348377317E-5,2.2068810304356258E-3,2.3240611646607868E-3,3.4010012614372914E-3,3.7087615246210355E-3,5.589064639555533E-3,5.5800927940614121E-3,5.1685250325147029E-3,null,144.844696,120.154495,111.103897,84.511657999999997,109.638649,3.3321519999999998,-24.336314999999999,8.1623420000000007,-8.4710549999999998,-31.724087000000001,-116.956818,-100.85020400000001,-17.095285000000001,-38.995350000000002,43.254311000000001,-37.195782000000001,110.670372,52.948883000000002,-14.194364999999999,102.279877,1.2068305053371364E-4,-29.815359000000001]
[395,-2.5723776479308222E-2,-2.630083061271845E-2,null,-3.5562846373886133E-2,-2.6662900461238506E-2,null,null,1.3693364380456046E-3,1.0579829033581958E-3,1.2425092964765071E-3,1.07573279138499E-4,2.3383113931982643E-3,-1.4923723579616378E-3,3.7639181975881086E-4,1.8106700989619347E-3,4.7141913211499944E-4,2.6831769097197013E-3,1.306167412282785E-3,-2.2929056404226672E-3,2.1447044731462061E-3,1.7646249631787479E-3,2.1661396381259753E-3,9.587604057168887E-4,2.1981102708081624E-3,1.379102071538136E-3,1.3828123565078022E-3,2.3018449811209698E-4,2.3612842064193915E-3,2.574795112924379E-3,9.0618550156546429E-4,5.8410835178462266E-4,7.0605658715481971E-4,3.8464214238528556E-3,2.1965579950199167E-3,2.4828344382743653E-3,3.7890861484142888E-3,4.4871497361145176E-3,6.8085448977672231E-3,6.4716703647753225E-3,5.9885571355085543E-3,null,143.92047099999999,114.01136,98.691040000000001,108.172363,98.146079999999998,-2.0999859999999999,-29.056736000000001,9.6848869999999998,-10.875830000000001,-34.452373999999999,-115.928932,-94.665672000000001,-14.468385,-43.508884000000002,38.043982999999997,-36.122204000000004,130.82797199999999,42.016666000000001,-26.930719,97.190651000000003,5.8410835178462266E-4,-37.750022999999999]
[396,-2.3636399439871218E-2,-2.4997659746725152E-2,null,-3.1024557284056599E-2,-2.3811471103038738E-2,null,null,1.7395241004690739E-3,1.2865421015046147E-3,1.0470229715988238E-3,1.02364743450405E-4,7.5891538803621198E-4,-5.7946440779292575E-4,2.4949811713306113E-4,2.1123030396968541E-3,1.0111960145244734E-3,2.03777952410937E-3,5.6382939729003893E-4,-2.01090547940806E-4,2.1150737319417085E-3,1.5652918386585932E-3,1.9485430284071426E-3,8.6887089233020072E-4,2.7992790154025456E-3,1.2776378399851007E-3,1.6723502517867785E-3,1.4599580874011001E-4,2.3358843132293854E-3,2.4718481753336487E-3,1.0123795301299483E-3,1.0053389458008308E-3,8.8803295567418516E-4,2.7812971859756375E-3,2.1061772367350286E-3,2.4441847952555227E-3,4.2633548652303418E-3,5.0175040568809399E-3,7.4877405186826416E-3,7.5012031554535863E-3,6.3355888658554321E-3,null,158.769958,115.60485799999999,94.050506999999996,135.02709999999999,108.863159,1.015523,-20.911816000000002,7.5758340000000004,-5.6888259999999997,-25.896415999999999,-111.40342699999999,-89.267493999999999,-13.321664999999999,-31.784227000000001,43.895203000000002,-36.674328000000003,-3.5736919999999999,48.551048000000002,-28.405445,101.617867,1.0053389458008308E-3,-35.693801999999998]
[397,-2.2039970339464077E-2,-2.3198134971987409E-2,null,-2.7484815775226906E-2,-2.1304315025414636E-2,null,null,2.0460472177737739E-3,1.2994585077579603E-3,1.2323852030949258E-3,1.35270477036442E-4,1.3986585852628861E-4,2.6414871019588649E-4,-2.9627442385601079E-5,1.5892255841645606E-3,8.4752026342730898E-4,1.861173889401279E-3,8.9023478572732538E-4,1.6804594540688921E-3,1.9409817889411356E-3,1.5547329609351286E-3,2.0511769263374985E-3,1.0055055388084513E-3,3.1274452032250006E-3,1.7195043543377631E-3,1.929888608644321E-3,-1.364546253299428E-3,2.2516905420920863E-3,2.3902602722772415E-3,9.9149905635249631E-4,1.0922185628824659E-3,6.9182517733965107E-4,3.5640107974376813E-3,3.0960404730298848E-3,2.8473022814789711E-3,5.4615822532323487E-3,6.2316001436532615E-3,8.9860498197230059E-3,8.4262905275114611E-3,7.6123768432085088E-3,null,188.58175700000001,129.789841,114.41031599999999,164.580307,132.199173,10.574198000000001,-8.1473709999999997,35.716617999999997,2.8015289999999999,-10.865417000000001,-110.19869199999999,-85.028319999999994,7.9187500000000002,-9.659027,55.336201000000003,-28.99193,11.267922,66.081062000000003,-18.885961999999999,110.17321800000001,1.0922185628824659E-3,-26.741637999999998]
[398,-2.0523255847594152E-2,-2.2292948338848956E-2,null,-2.4684148291417574E-2,-1.971436026123435E-2,null,null,1.996928988036226E-3,1.3851850082593426E-3,1.229230727017114E-3,1.35464793281219E-4,1.0748050772998662E-3,-1.6727033015165559E-3,8.6956236488998806E-4,9.9161179930702106E-4,1.6512471875565888E-3,2.1704239514322306E-3,1.754506433037497E-3,7.4358742924376063E-4,1.6818677364904744E-3,2.2755914925017815E-3,2.2394240960953871E-3,9.3353937520853898E-4,2.1678899771539681E-3,1.5914007929506925E-3,1.8257012519506839E-3,-2.3410689641550765E-3,2.2145968212975427E-3,2.341490265204462E-3,1.0238745296593994E-3,3.5330034534880394E-4,8.9414920383784906E-4,4.5913629629001857E-3,3.2525673924621969E-3,3.6111242808557977E-3,6.7009533994515594E-3,7.6573581954018626E-3,1.0279110298278837E-2,1.0462078570489216E-2,9.2732614533551239E-3,null,220.291122,149.80651900000001,119.410431,187.810272,133.59120200000001,24.225628,-3.8534459999999999,31.504705000000001,-5.60114,-7.2406410000000001,-113.228317,-80.378960000000006,12.507816,6.8348000000000006E-2,61.419623999999999,-33.154045000000004,12.257441,74.632339000000002,-17.588681999999999,116.815178,3.5330034534880394E-4,-24.787226]
[399,-1.8262919990452778E-2,-2.0663504955476721E-2,null,-2.0574923540628988E-2,-1.6477846357872493E-2,null,null,1.9965268459315442E-3,1.4176362602191051E-3,1.3665060218319744E-3,1.4520920472120701E-4,1.716804040005269E-3,-1.8198908985319149E-3,1.1843373518290888E-3,1.2232849868692832E-3,1.4019336078496402E-3,1.891257787468839E-3,1.7035455714959221E-3,-2.5445799546480209E-4,1.8981543834871411E-3,3.2168299276198083E-3,2.1493464849038938E-3,5.9369383383766825E-4,1.9557900128816439E-3,1.1687933545324067E-3,1.8115496497819092E-3,-2.0412360855009905E-3,2.2597774924924176E-3,2.2944456275790187E-3,1.1031826281464479E-3,2.4113148346526053E-4,9.0695357071507638E-4,3.2315344015615495E-3,3.6133640839771191E-3,4.2467207335202869E-3,7.4288624963500353E-3,9.1571512465527354E-3,1.1630475557736957E-2,1.2701770441494542E-2,1.1123828578145317E-2,null,258.077789,164.69122300000001,135.48968500000001,223.73140000000001,164.119766,39.054760000000002,6.2306929999999996,41.247954999999997,2.2282090000000001,-0.88773999999999997,-105.186829,-87.936638000000002,18.189854,12.022696,65.809119999999993,-26.131865999999999,79.805519000000004,89.121566999999999,-6.5934080000000002,134.14170799999999,2.4113148346526053E-4,-14.765271]
[400,-1.7202457277287329E-2,-1.8466105826073286E-2,null,-1.6873309111428557E-2,-1.2566270290396486E-2,null,null,1.9898443304105433E-3,1.616373232681543E-3,1.6790153348724638E-3,1.5770453047665001E-4,3.3518777914641768E-3,-1.1958925800786538E-3,9.5653182114800587E-4,1.879764502988503E-3,2.1818406207703444E-3,1.8693063506265973E-3,1.1863772889762088E-3,8.4557041617212174E-4,2.3159728694457878E-3,1.524328422633045E-3,2.3481419164340777E-3,7.6736998917145824E-4,2.4419066713168179E-3,1.1505210714151833E-3,2.0854992332344845E-3,8.2109126404335058E-4,2.3890041231633716E-3,2.4057033477286722E-3,7.3190699589048341E-4,2.8557142865538515E-4,7.441400828091634E-4,3.155512741000161E-3,4.2385462804791912E-3,4.5046277781500242E-3,8.7447459041143406E-3,1.0465042978001902E-2,1.4316467296773628E-2,1.5540570315998236E-2,1.3214892984443061E-2,null,321.695312,181.94487000000001,158.931839,270.12283300000001,195.204849,72.03331,28.151109999999999,53.499721999999998,9.8888719999999992,11.217287000000001,-93.034508000000002,-79.881279000000006,22.262734999999999,18.820910000000001,76.487555999999998,-6.2626460000000002,195.28645299999999,119.434189,3.0290750000000002,150.18345600000001,2.8557142865538515E-4,6.9508E-2]
[401,-1.6306736639787069E-2,-1.704840033090638E-2,null,-1.2111307980309051E-2,-9.04311764526744E-3,null,null,2.1987146634027468E-3,1.7045769515785447E-3,1.483740254390648E-3,1.5468467981665201E-4,3.3089230363004363E-3,-8.6730568989158794E-4,1.372628515107277E-3,1.9341856441188418E-3,2.6073121266634723E-3,2.1803487416972999E-3,1.7407728492045778E-3,-1.2756928386262005E-3,2.5815648572490657E-3,1.7473416619232123E-3,2.6054943780515743E-3,6.5039343616440492E-4,2.1220245144167077E-3,1.7342880741932282E-3,2.0234345261119281E-3,1.9429355640793267E-3,2.4689815942721145E-3,2.4482927835543138E-3,1.0651308800121006E-3,-2.1685314103937338E-4,8.4752542736871985E-4,3.8727653534120382E-3,4.6409676133076427E-3,5.6865570324104407E-3,1.0643548688978819E-2,1.283448017587773E-2,1.6630674731039241E-2,1.7708759071677953E-2,1.5864477918733275E-2,null,381.621826,204.308975,192.75683599999999,318.04269399999998,232.52032500000001,81.270813000000004,36.505875000000003,61.297356000000001,6.188447,6.6631600000000004,-86.609855999999994,-79.791893000000002,24.026496999999999,21.420652,78.081703000000005,-11.485103000000001,236.171875,147.06448399999999,3.2365710000000001,166.490646,-2.1685314103937338E-4,2.6352190000000002]
[402,-1.5727881281126344E-2,-1.5958732897326928E-2,null,-8.0115298950469427E-3,-5.3124084103680575E-3,null,null,2.2648612801627974E-3,1.9883534006840302E-3,1.8082928811371211E-3,1.9533585524103499E-4,3.2142186188668827E-3,-1.6518072301150981E-4,1.8537001266120743E-3,2.0616074664378519E-3,1.8271992075146498E-3,2.3602053418700039E-3,1.9707317254123937E-3,-1.0754883468655667E-3,2.6591120536010714E-3,2.2109996999696764E-3,2.8170813319206133E-3,8.260272466694221E-4,1.7832410664874625E-3,2.2190970257519619E-3,1.8616329091093856E-3,9.3495492457939427E-4,2.6374969916393813E-3,2.6630845248640247E-3,1.1522072710048097E-3,4.0961768019749493E-4,9.0825942612567827E-4,4.0106905325341747E-3,5.5792764800728107E-3,7.2611442200117508E-3,1.2114900832539589E-2,1.5734379981034188E-2,2.1635089009228739E-2,2.1730407705006047E-2,1.9353073166588658E-2,null,475.25894199999999,233.402863,225.85792499999999,379.590485,275.018036,90.654410999999996,41.378940999999998,58.362544999999997,7.8676620000000002,3.4070369999999999,-87.767585999999994,-80.762855999999999,24.713965999999999,24.888377999999999,86.999495999999994,-5.6343139999999998,248.151703,177.468109,0.76770700000000003,194.80354299999999,4.0961768019749493E-4,0.67010899999999995]
[403,-1.4842506925351487E-2,-1.4194389953877347E-2,null,-4.5338453150267546E-3,1.7940395738000811E-4,null,null,2.3308747789477654E-3,2.3586055122151624E-3,2.199751539200729E-3,1.6180456519607E-4,4.2540212463127499E-3,4.0828136067200922E-4,2.7063822158193231E-3,2.2355695580549709E-3,2.8402263617013325E-3,2.5145906452580581E-3,1.8175102974027355E-3,6.3720502132035483E-4,2.845377484684589E-3,2.5832022794138429E-3,3.0726427671852814E-3,1.0968276980471211E-3,2.2319756775008551E-3,2.35512975612121E-3,2.1099104529510278E-3,7.6963278633451662E-4,2.7493919519168504E-3,2.8726182201249048E-3,1.2232352342048994E-3,1.3567110823112531E-3,9.2381871561340683E-4,5.9219557653741291E-3,6.5685290155834122E-3,8.7527633184817759E-3,1.4375426078993047E-2,1.9376886108835051E-2,2.5730640028297225E-2,2.6619114999644401E-2,2.2668126053303948E-2,null,577.50286900000003,282.02621499999998,266.84164399999997,478.91525300000001,326.63900799999999,110.42340900000001,67.045592999999997,62.600245999999999,25.469332000000001,9.1210400000000007,-75.323813999999999,-67.969513000000006,44.120201000000002,41.565474999999999,108.526489,3.4257209999999998,243.676895,216.028885,4.7893179999999997,236.556747,1.3567110823112531E-3,10.77619]
[404,-1.3656678667779041E-2,-1.3182875983678559E-2,null,6.4116888051985485E-4,6.8499148536745437E-3,null,null,2.3156172070194795E-3,2.4665985329229952E-3,2.2198364656361726E-3,1.9136319125769201E-4,4.5489085238137831E-3,1.4259161070493797E-3,3.6302893293195929E-3,2.4569781012971988E-3,2.7768740082117719E-3,2.4019553971722967E-3,2.6642386025150042E-3,1.8401797945056075E-3,3.2393751731574134E-3,2.9170208672386557E-3,3.332575156324655E-3,8.398797801569259E-4,2.6419611765871156E-3,2.1898889996490923E-3,2.4846957153391428E-3,1.0185801727502389E-3,2.8959163724487143E-3,2.9273724307967699E-3,1.6236661826736984E-3,1.4805374698519912E-3,9.5574123351929393E-4,2.7040611954496124E-3,7.8605317438013838E-3,9.7893233360274844E-3,1.7516380783247642E-2,2.1895852431776028E-2,2.9956345031898167E-2,3.0697274080713956E-2,2.7769009653093348E-2,null,692.14672900000005,331.129639,328.92623900000001,614.97766100000001,410.59960899999999,138.458572,96.596512000000004,91.920326000000003,37.487544999999997,28.669778999999998,-67.713165000000004,-71.439957000000007,55.614559,59.495505999999999,132.615723,13.795267000000001,351.34368899999998,266.26574699999998,13.868556,292.05584700000003,1.4805374698519912E-3,25.782309000000001]
[405,-1.2597651622665906E-2,-1.1434149780534694E-2,null,5.5208677163671484E-3,1.3113669782605497E-2,null,null,2.891774779314237E-3,2.884517651231109E-3,2.4842524139731393E-3,2.4891129273440902E-4,4.0460262595265464E-3,1.8629495245049588E-3,3.9449935706079081E-3,3.0975191626111589E-3,2.8974353180197623E-3,2.4645743560025939E-3,2.8171971868547643E-3,1.3275490658345181E-3,3.359410311013012E-3,3.2528955354416997E-3,3.4882542572848662E-3,9.1629889116267302E-4,3.5321823392008419E-3,2.4765480190601734E-3,2.7369314885121068E-3,1.8788071322103893E-3,2.8924065446138776E-3,3.1320289541666565E-3,1.6868132103771362E-3,1.6926445550162128E-3,1.1725801757910507E-3,3.5874856686668607E-3,9.0935268236245897E-3,1.1610626682268215E-2,1.979729703420981E-2,2.5703581958218074E-2,3.5090206098002084E-2,3.6686923150225551E-2,3.4107470530926672E-2,null,857.98297100000002,414.94549599999999,429.76361100000003,797.42486599999995,523.75787400000002,184.734711,132.28093000000001,131.150879,73.815842000000004,65.600227000000004,-39.475948000000002,-51.997677000000003,94.874306000000004,97.945250999999999,183.116592,46.378677000000003,427.82238799999999,340.64041099999997,38.187869999999997,369.17550699999998,1.6926445550162128E-3,58.487212999999997]
[406,-1.0636923216256186E-2,-9.5687380123136954E-3,null,1.1512954340329395E-2,2.0409418404410646E-2,null,null,3.6852538050745186E-3,3.511158621148374E-3,2.5410881523769196E-3,2.5662704928002998E-4,2.6134263676156066E-3,1.5735816103649731E-3,3.7667376824424711E-3,3.375765634322903E-3,3.5906866241521237E-3,2.5454810000666225E-3,3.4446781818906107E-3,1.3009564791451168E-3,3.5933791914540439E-3,3.6238788337684541E-3,3.5615908292614433E-3,1.5538824784808083E-3,3.9655252488807052E-3,2.9313142427156518E-3,3.340145581921675E-3,2.9644446780497896E-3,3.2436553345806876E-3,3.3011834524924997E-3,2.0469665838481741E-3,1.0841364906206607E-3,1.6617930945516002E-3,3.4052391170892151E-3,1.1364314509929863E-2,1.3853264532120893E-2,2.5320651480586973E-2,3.0895794833967982E-2,4.1696910085688793E-2,4.3234342581865079E-2,3.8971761261632445E-2,null,1041.747192,507.89382899999998,533.11096199999997,993.19183299999997,641.94824200000005,236.80072000000001,164.64021299999999,169.954117,104.70948,98.006446999999994,-12.672964,-28.955231000000001,140.48962399999999,141.864487,238.33261100000001,80.874808999999999,444.12677000000002,423.188873,66.761497000000006,449.31594799999999,1.0841364906206607E-3,88.435058999999995]
[407,-9.4067377089751721E-3,-8.0392305434856346E-3,null,1.8165285976781683E-2,2.8971138537130486E-2,null,null,4.3119432137017962E-3,4.0658410197757996E-3,2.8152380549362243E-3,3.1274866025304002E-4,3.699802410395961E-3,1.4822217723364265E-3,3.9924642334650175E-3,3.2603360915817816E-3,4.5785699612189684E-3,2.7526822562465966E-3,3.9664118073718798E-3,3.3597937499045723E-3,4.1007851253466948E-3,4.3872353989152253E-3,3.9594195353498613E-3,2.3957869428908362E-3,3.591907164855016E-3,2.9506941414195321E-3,3.3062583873512161E-3,2.9273666240706383E-3,3.6648045029927965E-3,3.5889225229163782E-3,2.2886233171308091E-3,1.8770114484638648E-3,1.6311002846789344E-3,5.6499254528231515E-3,1.2771395983394053E-2,1.6339723500070302E-2,2.7991087778689364E-2,3.6626625729457157E-2,4.9941140063222401E-2,5.1511389983293007E-2,4.7109099860762463E-2,null,1249.020874,616.69183299999997,633.82574499999998,1225.300659,773.03723100000002,277.28225700000002,205.07191499999999,217.47212200000001,140.164276,127.373306,13.009921,-9.0714989999999993,189.363586,184.538971,302.18160999999998,113.94901299999999,415.873535,520.822632,96.961844999999997,559.70190400000001,1.8770114484638648E-3,122.798035]
[408,-8.3980582286131717E-3,-6.2704144648454306E-3,null,2.4639305235125149E-2,3.806029098387629E-2,null,null,4.8841666482103835E-3,5.0063253058436012E-3,3.4845384267843645E-3,3.6682295268701098E-4,5.0726036076992956E-3,1.7405079000868376E-3,3.3784526419107083E-3,3.6605351767925931E-3,5.0262132474711649E-3,3.2692264740457905E-3,4.3916590021958225E-3,2.9852546347517465E-3,4.9132679581416474E-3,5.0556938514764605E-3,4.4519184346130435E-3,2.3773186196967052E-3,4.1746865192298557E-3,3.0110392840341175E-3,3.5563749935138924E-3,4.8891833552062785E-3,3.8193859634960184E-3,3.9453753767455307E-3,2.5067078052379366E-3,3.0798506771999787E-3,1.8963675736172424E-3,3.2863191226380596E-3,1.4883763076655482E-2,1.8981453198244156E-2,3.2986355477551695E-2,4.2259551535089673E-2,5.6973543693636983E-2,5.9655789742837452E-2,5.5162471541817873E-2,null,1494.2730710000001,740.16796899999997,755.70941200000004,1505.7260739999999,929.93756099999996,343.47933999999998,254.74693300000001,277.51138300000002,178.42356899999999,174.07501199999999,40.512591999999998,7.2903060000000002,238.91551200000001,231.63502500000001,373.97576900000001,153.88563500000001,429.24679600000002,625.62780799999996,136.14239499999999,675.31433100000004,3.0798506771999787E-3,159.214935]
[409,-7.2195312050410331E-3,-4.8687935594031008E-3,null,3.3959870586827423E-2,4.8916258702912621E-2,null,null,5.6079650492320129E-3,5.8345050946047956E-3,4.1320512794929699E-3,4.3917653730130398E-4,5.2996184676541254E-3,2.5597474671693776E-3,3.6506114855990265E-3,5.2506574482234893E-3,6.3042728312077637E-3,4.0113803533407457E-3,4.8687953090901463E-3,3.9469429744249575E-3,5.8048088414189517E-3,5.8009760660926394E-3,5.2253660695245402E-3,3.1549415853003256E-3,4.427753558416834E-3,3.3908345204688066E-3,4.498338175616041E-3,7.0648875195390478E-3,4.198961690356765E-3,4.4525003328411911E-3,3.0794037714328933E-3,3.3857590190321642E-3,2.1171623958042545E-3,6.9922953903614289E-3,1.7861681094632473E-2,2.2510010341529427E-2,3.8412142958155766E-2,4.901397768186834E-2,6.7718277331255627E-2,7.0681571480648964E-2,6.4208044522746269E-2,null,1832.212769,902.12048300000004,920.40374799999995,1865.290405,1152.329346,428.34518400000002,322.29864500000002,345.975189,225.474243,221.357193,74.157866999999996,31.587516999999998,303.21228000000002,291.39541600000001,469.61676,202.736435,398.30197099999998,762.31719999999996,182.63717700000001,828.46630900000002,3.3857590190321642E-3,212.79092399999999]
[410,-5.6611206726576834E-3,-2.843472672577597E-3,null,4.3110315311589618E-2,6.2369956272145449E-2,null,null,6.2704550645061351E-3,6.8957965929438286E-3,4.6205920342988109E-3,5.1073668621965198E-4,5.6032963102315633E-3,3.503623035030691E-3,5.132683423201263E-3,6.107843365711998E-3,6.9436938552685989E-3,4.4579378568547438E-3,5.8908326187239093E-3,5.3325733247927788E-3,6.6050051514412135E-3,7.9436891968702097E-3,5.9393519883614021E-3,3.9183235146668608E-3,5.6002104435209071E-3,4.0381810934841719E-3,5.0126386525111933E-3,6.7635708480381128E-3,4.678088288844179E-3,5.0268675154812679E-3,3.3280427388434034E-3,3.7131654439152184E-3,2.4625465285612997E-3,6.8107716754828929E-3,2.076163843543118E-2,2.6510060090005262E-2,4.574562304818082E-2,5.7664617209468312E-2,8.0233432833375265E-2,8.3171339016189019E-2,7.5278061552780995E-2,null,2205.873779,1085.074707,1101.7177730000001,2267.4428710000002,1402.250366,525.71527100000003,391.245453,414.88204999999999,280.67446899999999,277.94085699999999,117.937904,62.247802999999998,378.64355499999999,355.79956099999998,580.30163600000003,270.46530200000001,386.64746100000002,931.76879899999994,236.07844499999999,991.76086399999997,3.7131654439152184E-3,273.16433699999999]
[411,-3.9977461200264271E-3,-3.0104392234248974E-4,null,5.2456992121543311E-2,7.6185961778605413E-2,null,null,7.1557399778337067E-3,8.3381039630260577E-3,5.2788489016755025E-3,5.9741029342746498E-4,6.6060357811160431E-3,4.6774493481546893E-3,5.8444394814399876E-3,5.9450027890787923E-3,9.1854799901367884E-3,4.8570044919604522E-3,6.7558798993353321E-3,5.7636898954808499E-3,7.8190416523045269E-3,8.6515218817631717E-3,6.7842713540208583E-3,5.2888212265835705E-3,6.2350290724118764E-3,4.5669933680110696E-3,6.0365644347476636E-3,6.4086412550129175E-3,5.4564322007502938E-3,5.7056875476456537E-3,3.9073852212611199E-3,5.0071823587933403E-3,2.9764391441985073E-3,6.7642334163088968E-3,2.3796233923235419E-2,2.9497529664534949E-2,5.160514939449258E-2,6.3856912590127102E-2,9.2113653965903361E-2,9.4457971420129141E-2,8.7558796128975463E-2,null,2569.7353520000001,1271.677612,1299.4404300000001,2679.976318,1640.06665,625.56616199999996,473.13748199999998,502.76776100000001,339.17459100000002,329.24646000000001,168.026794,101.43676000000001,455.68215900000001,428.36801100000002,688.50848399999995,327.590485,354.54040500000002,1096.361572,296.301422,1172.7799070000001,5.0071823587933403E-3,332.41018700000001]
[412,-2.4538922377886924E-3,1.8884913251904258E-3,null,6.424994808294647E-2,9.4564795498268864E-2,null,null,8.5323827231130467E-3,1.0109787421608295E-2,6.0823106557651762E-3,7.3027148776386305E-4,7.5751756176215086E-3,4.8267686390523895E-3,5.9971551235258541E-3,6.3460442055556857E-3,1.1062272250422533E-2,6.151994714629694E-3,7.8531132223304597E-3,5.4882757477122445E-3,9.1180388478019087E-3,9.8677586393908345E-3,8.0761289646965242E-3,6.046441071257804E-3,6.3355539183287462E-3,5.4424803691952095E-3,7.269418078631607E-3,5.7118347357361871E-3,6.1755701507714275E-3,6.6436930953057702E-3,4.7184544278409445E-3,5.319589721268992E-3,3.3438144382076907E-3,7.2399402679307178E-3,2.6762950437671046E-2,3.5107007023316518E-2,5.8677564950216379E-2,7.4471069145615215E-2,0.10579127700013891,0.1095954195247547,0.10241979970683984,null,3032.5668949999999,1510.373413,1540.093018,3213.056885,1945.5002440000001,749.73236099999997,568.49176,618.60638400000005,410.39679000000001,397.49588,222.690887,139.08912699999999,547.28826900000001,517.32904099999996,829.50164800000005,400.88107300000001,416.12344400000001,1304.7200929999999,368.17074600000001,1394.035034,5.319589721268992E-3,404.57144199999999]
[413,-1.0783160790482213E-3,4.2568770485277869E-3,null,7.6897372004629733E-2,0.11438774711766057,null,null,1.0142682562557563E-2,1.216812497360824E-2,7.1585279482836422E-3,8.5684202365243398E-4,8.7432131194346528E-3,5.7432326270583194E-3,7.3737757907267497E-3,7.4069455645618615E-3,1.3606708808112255E-2,7.8253246426976623E-3,9.3912736643110423E-3,7.334390617969983E-3,1.0614805198766947E-2,1.3096446921540605E-2,9.6229349165107437E-3,6.7408680083321819E-3,8.1671276993711076E-3,6.0083227252172725E-3,8.1846913028357643E-3,7.4454010469971726E-3,7.0552835129745863E-3,7.6529901882947506E-3,5.5374838814332902E-3,6.0948341428875364E-3,3.942628363571123E-3,4.2249166254735623E-3,3.0404837382417005E-2,4.0024662629109246E-2,6.707550352716056E-2,8.4706276553021514E-2,0.12224911253506268,0.12417271577829082,0.11733836756743604,null,3598.9331050000001,1793.558716,1847.895874,3859.38501,2318.3415530000002,899.16674799999998,683.16442900000004,743.67126499999995,492.917755,481.78051799999997,288.54315200000002,185.80896000000001,653.567139,621.96191399999998,992.85046399999999,487.287781,445.13476600000001,1549.7542719999999,453.41204800000003,1655.2835689999999,6.0948341428875364E-3,489.95700099999999]
[414,8.1272547683431014E-4,7.3085304747237791E-3,null,9.3003840348576741E-2,0.13650580291387801,null,null,1.2170300928529991E-2,1.4690558544494232E-2,8.4199994723645269E-3,9.9423172560525203E-4,1.0741451843108735E-2,7.4271797865817311E-3,9.3759456957767107E-3,9.1649837702902585E-3,1.5569918125870028E-2,8.7651496376443018E-3,1.1293676119919662E-2,8.6306892045595156E-3,1.2402741155306752E-2,1.5225327049588186E-2,1.1046885067256545E-2,8.5913091901070188E-3,9.6296402183699177E-3,6.6088490202675524E-3,9.4092757099886563E-3,1.0929143395293881E-2,7.9801833009487313E-3,8.8012340726209004E-3,6.5258940512397052E-3,7.12512617833527E-3,4.5981528237949128E-3,4.5268521787457461E-3,3.6168195696807147E-2,4.4990142511188998E-2,7.6320435153286653E-2,9.7639563306142055E-2,0.14032031934710815,0.14475978088387201,0.13495587467185827,null,4226.4399409999996,2096.8972170000002,2187.2312010000001,4572.515625,2741.836182,1061.0020750000001,796.81982400000004,877.47760000000005,580.30297900000005,565.86737100000005,365.75921599999998,244.17739900000001,767.35778800000003,737.09179700000004,1172.0185550000001,582.25268600000004,594.49005099999999,1817.106567,546.01812700000005,1942.3686520000001,7.12512617833527E-3,580.36261000000002]
[415,2.9382025312713936E-3,1.0687768575911359E-2,null,0.11152784628276445,0.16099215827887353,null,null,1.4094361163129071E-2,1.7521668109270382E-2,1.0295515763960924E-2,1.14830425463632E-3,1.2546426128525943E-2,8.6428927243496941E-3,1.0144011035500576E-2,1.0682126294378787E-2,1.8881446477080517E-2,9.6005689504593747E-3,1.2524243883508212E-2,9.4975915877108189E-3,1.4804242095436205E-2,1.7339155262445189E-2,1.2660210702206229E-2,9.6201132704531993E-3,1.0467530432825596E-2,7.7187049472097367E-3,1.0802105162733404E-2,1.3105075859723368E-2,9.3565976385497473E-3,1.0231166218424912E-2,7.7858014729304788E-3,8.1388311856697513E-3,5.5471812392096564E-3,6.5600716891382922E-3,4.1081116246207458E-2,5.1777829016560868E-2,8.6574945176668416E-2,0.11004055991800647,0.16018535793227456,0.16557779728685673,0.15428925299283444,null,4888.1108400000003,2423.9001459999999,2555.3203119999998,5337.8349609999996,3176.7482909999999,1228.931274,916.962402,1018.09082,667.92932099999996,649.01007100000004,444.75125100000002,301.55007899999998,883.58941700000003,854.36608899999999,1358.657471,676.28241000000003,806.11505099999999,2108.8154300000001,646.91937299999995,2248.1770019999999,8.1388311856697513E-3,673.05157499999996]
[416,5.2913022491000734E-3,1.3838181127135524E-2,null,0.13059133970021095,0.18935896161649871,null,null,1.6836948427087939E-2,2.1174633418962623E-2,1.2387070987705627E-2,1.35794708108961E-3,1.4735732669562558E-2,9.8095450586090718E-3,1.2494171961184413E-2,1.2978670992716294E-2,2.098860587568081E-2,1.1933880493190389E-2,1.3505507856027374E-2,1.1197904119562485E-2,1.7430819703939577E-2,1.9849832343608324E-2,1.5296841714554397E-2,1.0428027117538692E-2,1.2131853415273423E-2,8.7442035978129787E-3,1.2202428318819203E-2,1.551976329288835E-2,1.1081617123364569E-2,1.2068885457593171E-2,9.6880230063676534E-3,1.0022603170814834E-2,6.4492431703871318E-3,5.9416453108934132E-3,4.5194881278704205E-2,5.8651425831637752E-2,9.7350370500772027E-2,0.12254508021956578,0.18137717570864281,0.18750213815264108,0.17605967580094348,null,5630.8862300000001,2795.2714839999999,2968.6743160000001,6235.4990230000003,3669.530029,1412.581909,1041.3798830000001,1181.85022,764.87896699999999,748.832764,529.46905500000003,365.52694700000001,1008.655396,987.68505900000002,1572.9782709999999,778.30578600000001,901.31604000000004,2434.3715820000002,752.02325399999995,2603.7470699999999,1.0022603170814834E-2,765.73400900000001]
[417,7.7681701128590932E-3,1.7552005905643122E-2,null,0.15294041213410664,0.2187393015425432,null,null,2.0428306627829747E-2,2.483723048350827E-2,1.4483053033338456E-2,1.5614222038123501E-3,1.7792285280220501E-2,1.2147369336252153E-2,1.5443896750091415E-2,1.4997314535200658E-2,2.5616797099011317E-2,1.4912437531618833E-2,1.5907648763316316E-2,1.3953361088955995E-2,2.0271108489435613E-2,2.3884393110911416E-2,1.7933229318070249E-2,1.2916246111379431E-2,1.4710127271040783E-2,1.0084342290087202E-2,1.4526595354316454E-2,1.7755285266530113E-2,1.2711479718297993E-2,1.3930962305895425E-2,1.0946466879190039E-2,1.2058003059584564E-2,7.5644388377177491E-3,5.1301652378323232E-3,5.065088909182601E-2,6.5193447810972471E-2,0.10700996413101813,0.13701248387740131,0.20295427997763812,0.21004103916688385,0.1980843724880349,null,6503.8178710000002,3222.469482,3457.9812010000001,7288.1884769999997,4267.095703,1634.4487300000001,1193.5002440000001,1368.9814449999999,881.08715800000004,868.28985599999999,627.13604699999996,454.63073700000001,1160.174438,1137.369019,1822.48938,905.45556599999998,1096.790649,2807.9736330000001,882.33282499999996,3019.3637699999999,1.2058003059584564E-2,886.00506600000006]
[418,9.951188606983118E-3,2.1323679129362717E-2,null,0.17566980450481356,0.25018469316027625,null,null,2.4262888117485823E-2,2.9716898965300949E-2,1.7109736852256911E-2,1.8167634932087699E-3,2.1059536258584543E-2,1.5096037042422076E-2,1.740046201963797E-2,1.6702261046334269E-2,2.9364449088250869E-2,1.6568947118259191E-2,1.8849875823823151E-2,1.5607776405901891E-2,2.3547688754728423E-2,2.7107878977151792E-2,2.0439483956607725E-2,1.5654274441988938E-2,1.7628322185247455E-2,1.1752122096145108E-2,1.7316676937188337E-2,2.065410495419219E-2,1.4714018137403995E-2,1.6052353545643716E-2,1.2877579268310936E-2,1.3832832651399637E-2,8.68221528827752E-3,8.3108761172299393E-3,5.6178228725170705E-2,7.2648084337405772E-2,0.11948927870726932,0.15272836573565737,0.22897578315588879,0.23428669852899847,0.22092107836592936,null,7390.8476559999999,3652.1791990000002,3957.9572750000002,8369.8837889999995,4874.5229490000002,1856.5660399999999,1338.3991699999999,1550.5325929999999,994.27728300000001,987.73175000000003,737.45373500000005,540.32830799999999,1313.485962,1285.893188,2074.1748050000001,1038.9605710000001,1239.883789,3193.7785640000002,1009.552551,3443.595703,1.3832832651399637E-2,1006.726929]
[419,1.3129115218540476E-2,2.5774106051822902E-2,null,0.20218794752372701,0.28656162167071814,null,null,2.8782807312135152E-2,3.4311347843632448E-2,2.0364741409178759E-2,2.1184125206773498E-3,2.3749006934976093E-2,1.8070589208161507E-2,1.9656043189443501E-2,1.9663916523765691E-2,3.4039829837378272E-2,1.8480676956316285E-2,2.2311238060296845E-2,1.9933652201727308E-2,2.7006656746741579E-2,3.1725489105175773E-2,2.3927197040141568E-2,1.7979078936391894E-2,1.9896987171567057E-2,1.3720125510865445E-2,2.0018985976630377E-2,2.3603161144018902E-2,1.7117384359538239E-2,1.8354868087259175E-2,1.5357512502784684E-2,1.5420179511333421E-2,9.9457797400771333E-3,8.0284976267502393E-3,6.2260499828020337E-2,8.0158547783793263E-2,0.13148037021243217,0.16622475089449004,0.25414103175939234,0.26195468417759971,0.2494106250844465,null,8379.7792969999991,4137.9018550000001,4532.9282229999999,9609.6132809999999,5564.6884769999997,2112.8403320000002,1508.2044679999999,1759.25647,1123.986938,1120.1416019999999,856.78369099999998,638.21661400000005,1485.2700199999999,1448.3786620000001,2359.2014159999999,1187.9522710000001,1497.8085940000001,3615.7145999999998,1145.9956050000001,3921.890625,1.5420179511333421E-2,1139.913452]
[420,1.6366944854736644E-2,3.1313723101982494E-2,null,0.23164134550045617,0.32600225734378063,null,null,3.3584811150806033E-2,4.0862364645141667E-2,2.3550823375310476E-2,2.4517414063701501E-3,2.6489000725460878E-2,2.1041062493853003E-2,2.2812708466478791E-2,2.2720418285486797E-2,4.0003000285070006E-2,2.168897494499613E-2,2.5062333202356221E-2,2.4286803086908622E-2,3.0818843631886684E-2,3.5975355586021947E-2,2.7800594250971589E-2,2.0806655399029182E-2,2.2641963541784813E-2,1.581804136014564E-2,2.2849961910706453E-2,2.874509857976933E-2,1.9777890124197582E-2,2.1223130027700581E-2,1.8046441986008868E-2,1.7582004551311758E-2,1.1826541347192791E-2,9.4233009186239416E-3,6.8006044299026402E-2,8.7990305813949093E-2,0.14247835793175229,0.18125348793973334,0.28041805139189757,0.28753468300303009,0.27373291591324173,null,9482.8017579999996,4679.1289059999999,5173.7734380000002,11012.53613,6332.3237300000001,2396.8603520000001,1684.520264,1992.8138429999999,1258.696289,1264.5804439999999,989.68695100000002,735,1676.169189,1625.9646,2676.959961,1346.860107,1759.863525,4094.4165039999998,1293.6450199999999,4476.3759769999997,1.7582004551311758E-2,1279.793457]
[421,1.9650415835556351E-2,3.6960043915256029E-2,null,0.26383300798487153,0.36995397400984514,null,null,3.9479915081032838E-2,4.815840050773345E-2,2.7574680686523526E-2,2.7884349743835602E-3,3.0690947885610952E-2,2.5082483335192921E-2,2.642899453801623E-2,2.6659965306390553E-2,4.6731207979540078E-2,2.6404673426785905E-2,2.8105985995833836E-2,2.7647980710468964E-2,3.5335725449754794E-2,4.1665021759103436E-2,3.2202487134178809E-2,2.4917954347081314E-2,2.6170394219548029E-2,1.8097589002979097E-2,2.6220945011993031E-2,3.2860920800096498E-2,2.3166402298037733E-2,2.5078994630086806E-2,2.1259737339816162E-2,2.0671558726654646E-2,1.32044240942619E-2,1.0171823817954898E-2,7.4688860858503348E-2,9.7126672982521367E-2,0.15596181447340512,0.19985289608802154,0.30381321533925937,0.3142190917271559,0.30322282087817798,null,10684.325194999999,5277.6308589999999,5913.1889650000003,12632.127930000001,7202.7041019999997,2722.9995119999999,1887.068237,2272.3610840000001,1422.7666019999999,1437.1108400000001,1134.6876219999999,857.76831100000004,1890.671143,1827.5860600000001,3040.1567380000001,1536.6795649999999,1980.4798579999999,4621.2348629999997,1469.3836670000001,5105.1933589999999,2.0671558726654646E-2,1441.2413329999999]
[422,2.3274614486932792E-2,4.3172497079060297E-2,null,0.30226629253199866,0.42155756021264162,null,null,4.576446142267121E-2,5.6663526448076748E-2,3.2530974500210516E-2,3.2716851207938501E-3,3.6259909339082491E-2,2.9858917292560027E-2,3.1188462590139847E-2,2.9978762632433747E-2,5.4385108594009517E-2,3.1480136500634706E-2,3.1525938232967683E-2,3.2130463452016852E-2,4.049891902386242E-2,4.908574284328196E-2,3.7443700068408393E-2,2.8696439391915757E-2,3.0708741659869219E-2,2.0269681617840301E-2,2.9725383404639427E-2,3.6780238187759967E-2,2.7138254699611203E-2,2.9096368928305177E-2,2.5603198096028915E-2,2.5954031030067621E-2,1.5450828595771968E-2,1.4507656179502542E-2,8.1135878663148031E-2,0.10615268484234049,0.1694358220767691,0.21491881599999585,0.3350453797612763,0.34351521790665912,0.33102533604324136,null,12065.039062,5964.5668949999999,6774.9892579999996,14503.333979999999,8227.578125,3092.8259280000002,2122.5639649999998,2590.2114259999998,1606.226318,1625.396362,1300.154663,1001.51825,2139.1071780000002,2053.429932,3453.6296390000002,1751.2745359999999,2333.4841310000002,5232.3691410000001,1670.3709719999999,5836.671875,2.5954031030067621E-2,1626.2264399999999]
[423,2.7274822444019353E-2,5.1301012747760256E-2,null,0.34722906195904468,0.4810356712195229,null,null,5.3463394056389266E-2,6.7086473741965316E-2,3.7957979153974787E-2,3.71542427527276E-3,4.1082521136372882E-2,3.4121885218201135E-2,3.6221339295981418E-2,3.4980420963113934E-2,6.3327265669629734E-2,3.5529542274262763E-2,3.6922427605320746E-2,3.693594197143122E-2,4.6685920547160413E-2,5.6229764635926403E-2,4.3533080056674993E-2,3.424445569843991E-2,3.628449320387906E-2,2.2965820762079713E-2,3.3269584254948407E-2,4.1465090926073846E-2,3.1453904916861654E-2,3.3665896076126266E-2,2.9227119808177396E-2,3.1404835557858467E-2,1.7845373823407902E-2,1.212960565372747E-2,8.7528437817161825E-2,0.11436420209375586,0.18245409682529423,0.23302699898846704,0.36585444069377338,0.37692011458837721,0.36354711059702777,null,13527.310546999999,6702.765625,7720.9326170000004,16534.882809999999,9322.2236329999996,3497.4816890000002,2369.4440920000002,2949.5703119999998,1800.5600589999999,1830.828857,1484.7905270000001,1155.843018,2399.9572750000002,2290.077393,3897.7983399999998,1980.380249,2837.226318,5885.3032229999999,1881.170044,6622.8916019999997,3.1404835557858467E-2,1825.0654300000001]
[424,3.1877510099896755E-2,5.7864956487715197E-2,null,0.39367668818996793,0.53938070223063028,null,null,6.1898225415367193E-2,7.6535480913162354E-2,4.4202282904019195E-2,4.2257195366084402E-3,4.5736681686110857E-2,3.8587733976431497E-2,4.0561807628356102E-2,4.1797191393744347E-2,7.2074359583781972E-2,4.0497152854509319E-2,4.3128468359207243E-2,4.048034609503956E-2,5.3298158597813679E-2,6.3024728800150059E-2,5.0218224331195119E-2,4.0040125089357975E-2,4.1887571154174949E-2,2.5826182542566689E-2,3.8025565903853004E-2,4.8931772149226706E-2,3.6084813505176186E-2,3.8834659061073674E-2,3.4189199024786204E-2,3.5494976020516489E-2,2.0161191568449723E-2,1.6030861353402211E-2,9.4353900736710988E-2,0.12316456974292758,0.19323275829790745,0.25049307937714804,0.39583807426490508,0.40588296694889181,0.39113363825873299,null,14925.505859000001,7409.5097660000001,8672.5673829999996,18552.371090000001,10394.771484000001,3889.5996089999999,2598.960693,3303.1997070000002,1991.243164,2032.0958250000001,1660.2669679999999,1312.7926030000001,2648.6203609999998,2521.602539,4339.1381840000004,2206.8884280000002,3293.8635250000002,6514.7690430000002,2088.0451659999999,7402.4003910000001,3.5494976020516489E-2,2019.2026370000001]
[425,3.7151054486769267E-2,6.660090156009664E-2,null,0.45488440267382857,0.6145326890602516,null,null,7.14768740271748E-2,8.8412081947428195E-2,5.1638542860418933E-2,4.8393700982060804E-3,5.111782116137855E-2,4.6142602307222322E-2,4.7871503727705607E-2,4.9019741456454324E-2,8.1915560339566748E-2,4.7599955155336514E-2,4.9297619686796641E-2,4.3935731731509366E-2,5.9636690183290708E-2,7.0977239628030875E-2,5.715264396139056E-2,4.6639002911391898E-2,4.855240836281962E-2,2.8715542765915494E-2,4.4021566570808759E-2,5.7311976723962696E-2,4.2251807112327608E-2,4.5337767671742885E-2,3.9763205699537646E-2,4.0184752514748685E-2,2.2843203032220379E-2,1.5912333086633427E-2,0.10139606833498127,0.13317322306944471,0.20605643572591725,0.2676361455553869,0.4281366245882412,0.43962087325504312,0.42756096493295681,null,16669.353515999999,8299.6308590000008,9867.9208980000003,21078.964840000001,11757.545898,4402.9599609999996,2891.6594239999999,3752.3142090000001,2235.9838869999999,2286.5034179999998,1885.294189,1506.138062,2965.5373540000001,2826.701904,4892.2822269999997,2492.788086,3959.6232909999999,7306.6679690000001,2358.3479000000002,8404.6142579999996,4.0184752514748685E-2,2266.2319339999999]
[426,4.2439402852153613E-2,7.3915454459022367E-2,null,0.51115662154784247,0.68442268615879165,null,null,8.3335417014968313E-2,0.1013549045273561,6.0070735277357235E-2,5.39400989996963E-3,5.8584792011321399E-2,5.4308853200901799E-2,5.7501176990841271E-2,5.6670907211037548E-2,9.538956711041649E-2,5.5619648890645829E-2,5.5806156315360025E-2,5.0477747150965681E-2,6.8870360837068323E-2,8.0139570374126723E-2,6.606002786059445E-2,5.4211745795784423E-2,5.505968728927664E-2,3.2242853157898509E-2,4.9177856677691922E-2,6.7758342109188727E-2,4.8771046801212491E-2,5.2381912715501938E-2,4.6547088863477568E-2,4.7584540397862904E-2,2.598600976123237E-2,1.9295386900104426E-2,0.1084225392894617,0.14064755521715891,0.21941694115012894,0.28491878347191613,0.46202701816684444,0.4715674567451289,0.4624879051267326,null,18282.935547000001,9135.8085940000001,11030.21875,23523.365229999999,13074.850586,4890.8330079999996,3176.36499,4198.8837890000004,2470.3156739999999,2542.2272950000001,2095.3354490000002,1703.0802000000001,3272.9724120000001,3119.7758789999998,5431.9575199999999,2767.0141600000002,4515.7822269999997,8064.2475590000004,2621.4233399999998,9378.1542969999991,4.7584540397862904E-2,2502.5288089999999]
[427,4.8724211135719904E-2,8.2898127569410701E-2,null,0.57502699360211118,0.76219078705065757,null,null,9.6119264260746545E-2,0.11602897476478113,6.9756877291636626E-2,6.0952140651502696E-3,6.6307733600687022E-2,6.3356404003650904E-2,6.6710873401894716E-2,6.4912051792378384E-2,0.10673809214174108,6.4640479056471453E-2,6.2780997493352572E-2,5.765924929668563E-2,7.9238710321364952E-2,9.0450682520671691E-2,7.6127208150500641E-2,6.287535935372153E-2,6.2948315500967633E-2,3.6352811518393514E-2,5.4836966569593026E-2,7.5446567091824152E-2,5.6299093128896679E-2,6.0915117184711376E-2,5.3711103242698809E-2,5.6288264932882588E-2,2.957388252670955E-2,1.8604684471311372E-2,0.11486834725876509,0.15067936222811959,0.23493766464299837,0.30119295166820498,0.49764980570693373,0.50744405365857181,0.49805072218269236,null,20104.898438,10097.061523,12392.222656,26353.755860000001,14586.149414,5458.9770509999998,3497.1220699999999,4710.0390619999998,2739.951904,2833.281982,2336.0563959999999,1940.909058,3618.7009280000002,3459.673096,6047.9775390000004,3089.7392580000001,5228.1782229999999,8925.5498050000006,2919.9108890000002,10496.477539,5.6288264932882588E-2,2776.1049800000001]
[428,5.5649285452154931E-2,9.2411140062966871E-2,null,0.6387111871038994,0.83949701016468348,null,null,0.109125318800808,0.13252466375718669,8.0767778714297175E-2,6.9684246719039196E-3,7.4706225875221258E-2,7.1371994616506729E-2,7.6582769122674962E-2,7.4737768366979235E-2,0.1210809596212164,7.3654819287662154E-2,6.9777112403973274E-2,6.6566685725364491E-2,8.8722433657179939E-2,0.10382797020845141,8.6443490497116374E-2,7.1323297635178862E-2,7.3029637105686676E-2,4.0988096734880124E-2,6.2590828776272672E-2,8.3697193269889988E-2,6.4774206987447999E-2,6.9253270798630542E-2,6.2767640684589274E-2,6.3874542006343196E-2,3.2970234749317887E-2,2.4822874164580237E-2,0.12191072022672499,0.15976985306016397,0.25027172521136798,0.32598474331842758,0.53807502090344983,0.54389101283157015,0.5381865413830822,null,22111.394531000002,11164.230469,13903.667969,29484.935549999998,16274.425781,6098.998047,3854.0434570000002,5279.1000979999999,3046.7172850000002,3156.1604000000002,2602.9765619999998,2191.6689449999999,3990.0627439999998,3832.1779790000001,6745.529297,3444.1989749999998,6043.1040039999998,9879.3066409999992,3247.6752929999998,11766.032227,6.3874542006343196E-2,3070.2058109999998]
[429,6.2667674984426006E-2,0.10169220346217057,null,0.69153333098732184,0.90539286260133445,null,null,0.1238274961134604,0.1511209637437407,9.2674472860054452E-2,7.8302937724459998E-3,8.4421271206533047E-2,7.965233551225713E-2,8.7020259146506129E-2,8.4657155365128342E-2,0.13532325062672143,8.368615800830409E-2,7.7357281320192983E-2,7.6343423362534593E-2,9.9179838105625182E-2,0.11587375788567113,9.834803870428345E-2,8.0873644732463126E-2,8.4388171502207579E-2,4.6009444451387334E-2,7.067597642417861E-2,9.5558895319947115E-2,7.4193310151117214E-2,7.7863569579511002E-2,7.2708365303189609E-2,7.4133864419414108E-2,3.8331575102809365E-2,2.4004964900941304E-2,0.12964656356278143,0.17105698278734835,0.26405639946850895,0.34452977176857169,0.58363878800746827,0.58360405344935629,0.58258409170533387,null,24126.074218999998,12246.972656,15448.559569999999,32694.066409999999,18030.677734000001,6760.3833009999998,4220.0717770000001,5863.4409180000002,3356.8315429999998,3489.3378910000001,2866.4692380000001,2449.0659179999998,4369.2973629999997,4216.4482420000004,7458.7866210000002,3809.2077640000002,6948.0839839999999,10832.394531,3587.888672,13075.236328000001,7.4133864419414108E-2,3373.7761230000001]
[430,7.045721137502936E-2,0.11377153879472481,null,0.73891822726345291,0.96176192394742965,null,null,0.14040020116008384,0.16965444539175564,0.10634931440500529,8.9086770431968804E-3,9.3892209846108396E-2,9.0433241038682166E-2,9.6099043532974701E-2,9.5162807008448924E-2,0.15493729064835918,9.6603138526910617E-2,8.6769767977425014E-2,8.3808615625482946E-2,0.11083276179019194,0.13061813205057279,0.11169516486554409,9.0844798927938467E-2,9.6114364600518365E-2,5.1493180070680378E-2,7.8362008930773594E-2,0.11119388496835443,8.5399947438877577E-2,8.990368226631297E-2,8.259983863826427E-2,8.3892289965599928E-2,4.2158609870230929E-2,2.9746381380073676E-2,0.1377594413581224,0.18111650572303814,0.28117831340561233,0.36426774530160039,0.63052918589567752,0.62777624687238087,0.6301000264291674,null,26243.880859000001,13386.219727,17104.158202999999,36083.90625,19905.755859000001,7472.8154299999997,4618.548828,6496.8969729999999,3691.6477049999999,3846.8718260000001,3150.9738769999999,2729.7678219999998,4776.6909180000002,4631.4877930000002,8223.1914059999999,4198.5200199999999,7849.265625,11848.030273,3954.6906739999999,14502.655273,8.3892289965599928E-2,3696.1042480000001]
[431,7.8483154689820672E-2,0.12634760547643797,null,0.7687746681673493,0.99575350692298326,null,null,0.15811435817422384,0.19125588144785674,0.12105812514138235,9.8640373916655706E-3,0.10352929457801525,0.10191778047932237,0.10899859079848445,0.10629741560045992,0.17483071807654099,0.11046227093395947,9.4409186400074244E-2,9.239461533840565E-2,0.12203673510271104,0.14673292510564889,0.12506956494110688,0.10133069530945023,0.10940518820148121,5.6709492737139482E-2,8.657921595298286E-2,0.12840375758352512,9.7762523723686406E-2,0.10344203068189685,9.4589193036181698E-2,9.5621129473685201E-2,4.8445947251337475E-2,3.3714122143616701E-2,0.14802372238772368,0.19522959471362392,0.30081460777805935,0.3963446671236463,0.68576005938332285,0.68119182300905612,0.68509470946712492,null,28667.742188,14694.898438,19012.603515999999,40216.132810000003,22075.720702999999,8313.4179690000001,5094.232422,7251.8496089999999,4073.3979490000002,4264.3828119999998,3467.3122560000002,3071.6096189999998,5249.0546880000002,5120.0307620000003,9122.7832030000009,4655.3183589999999,8921.1875,13030.563477,4377.0952150000003,16167.994140999999,9.5621129473685201E-2,4069.0214839999999]
[432,8.8172357116374528E-2,0.13975348834153131,null,0.77791541416841403,1,null,null,0.17662427465477457,0.21250988527923706,0.13722997360981237,1.1097079070911E-2,0.11381915829014187,0.11479871912575496,0.12305646626414163,0.12095263635246435,0.19137314588549997,0.12531841418242032,0.10239454195035123,9.9364933071722075E-2,0.13469227964736719,0.16136160409101713,0.14012447449200754,0.11596406432309543,0.12371656698126782,6.2263422328609888E-2,9.7012559483129063E-2,0.14169287225049274,0.11059656138778086,0.11768711484236853,0.10719372674929825,0.10815048432823453,5.3650948505844703E-2,3.588663437301897E-2,0.15714939281330087,0.20561095402071494,0.32011009859371531,0.42269266485690754,0.73680120303312135,0.72960812609987102,0.73309349742508978,null,31170.193359000001,16085.385742,20994.617188,44336.449220000002,24339.763672000001,9192.0234380000002,5598.0683589999999,8047.5483400000003,4479.2177730000003,4714.2490230000003,3793.4255370000001,3439.6323240000002,5736.6430659999996,5641.9101559999999,10081.323242,5146.2202150000003,10058.719730000001,14246.541015999999,4831.5976559999999,17941.101562,0.10815048432823453,4465.5366210000002]
[433,9.8592580369140342E-2,0.1559612459535234,null,0.76654309510516005,0.97664183249600167,null,null,0.19872598371909381,0.23601694503734913,0.15576256310369815,1.25500862120733E-2,0.12558078827481109,0.13200886103565795,0.14040266509907939,0.13827830048528256,0.21575106546011502,0.14157853700883646,0.11239473950666697,0.10942784768939365,0.14911377481677737,0.18057191092461766,0.15855717676435094,0.13318276155535916,0.14049495048024599,6.9844068767800596E-2,0.10995352541977764,0.15773103363630797,0.12600816371962886,0.1344598823492997,0.12263252850452766,0.12179851835568674,5.9411362804291636E-2,3.99813785581173E-2,0.16863731116200525,0.22041657340985057,0.33723185700377756,0.45140190086391774,0.78288123272006538,0.77444863978956913,0.78443648232659724,null,33815.652344000002,17584.78125,23109.455077999999,48693.457029999998,26817.107422000001,10159.597659999999,6147.6508789999998,8919.9658199999994,4919.939453,5192.6728519999997,4148.3798829999996,3827.3588869999999,6268.5205079999996,6213.4204099999997,11118.628906,5687.0415039999998,11475.66504,15536.402344,5328.1069340000004,19874.59375,0.12179851835568674,4901.7890619999998]
[434,0.11042828939651562,0.17430140146754064,null,0.73753139914404242,0.93325369007039161,null,null,0.22447607335710149,0.26545779076188081,0.17780399471016764,1.3931402656916199E-2,0.13901536783109752,0.15035997779818183,0.16055860815701054,0.15772525417803865,0.24728232903710631,0.16129886526963347,0.1230871798850959,0.12513333392424342,0.16370565104635149,0.20433485796759512,0.17954348305906775,0.15253336035496226,0.1570166169595402,7.8313255223376912E-2,0.12339630188949657,0.17600872961776548,0.14529225931281581,0.15380067953034135,0.13957309444535237,0.13873243511455854,6.7279410492553565E-2,4.2504670110330357E-2,0.17932191632621935,0.23567724424026057,0.35514623878581714,0.48237491532681365,0.83211524198551012,0.82466044264312988,0.83545933512358239,null,36794.40625,19216.871093999998,25400.591797000001,53357.625,29512.503906000002,11225.31738,6751.2529299999997,9877.5800780000009,5393.2788090000004,5716.4316410000001,4523.123047,4261.1416019999997,6839.6752930000002,6837.8427730000003,12270.623046999999,6275.654297,13008.28125,16936.466797000001,5881.6992190000001,22082.177734000001,0.13873243511455854,5368.7192379999997]
[435,0.12413858621256781,0.19513639777601796,null,0.68892333374136305,0.86310220787057312,null,null,0.24959299495341269,0.29303416248424241,0.2010553914992157,1.5578457987726601E-2,0.15307333910644247,0.16771405742582818,0.18156769007255444,0.17934309821368027,0.27557124417348694,0.18185353034298823,0.1343067158630212,0.13983515840671012,0.17929065563101951,0.22623096493263209,0.20033770541311025,0.17358784508102812,0.17698335694103343,8.7087426570797155E-2,0.13845241858538054,0.19607824817976871,0.16616560486673454,0.17439713388703534,0.15808422824432364,0.15838693606356571,7.4256276761385728E-2,4.6580911250937281E-2,0.19071656599211492,0.24955082883027038,0.36992175555308116,0.50362077354885826,0.87189298758750944,0.86665604602134449,0.88320064722971092,null,39581.886719000002,20826.427734000001,27645.720702999999,57788.304689999997,32170.570312,12292.630859999999,7345.6904299999997,10832.306640999999,5869.123047,6226.8496089999999,4881.0747069999998,4696.2226559999999,7384.9111329999996,7470.6650390000004,13401.609375,6859.9672849999997,14506.058590000001,18295.855468999998,6435.3232420000004,24238.908202999999,0.15838693606356571,5827.0322269999997]
[436,0.13903141284088624,0.2183917970522308,null,0.62848942458062673,0.78219962491983297,null,null,0.2755657545155018,0.32175154356803831,0.2272899970902813,1.7738880072604799E-2,0.16898648337531941,0.18884767673166097,0.20522914869595904,0.20292885718336739,0.30173000679907858,0.20470983425780356,0.14621830132931615,0.15477291637931009,0.19764480533018286,0.25019739994902834,0.22303628641386236,0.19595503835092398,0.20087637410966444,9.6520917026486353E-2,0.15581527133637965,0.2201586087450354,0.18974036660433843,0.19948770663184437,0.17767721277530843,0.18030808014756794,8.5372611990702049E-2,5.300175058120947E-2,0.19803088420023163,0.26216893812575898,0.37506215817724842,0.52087166480295732,0.89357492345792611,0.8937363598929331,0.91080858348984872,null,42381.644530999998,22643.957031000002,29942.201172000001,62282.347659999999,35064.984375,13420.594730000001,7970.1396480000003,11814.600586,6357.2045900000003,6747.2148440000001,5234.2495120000003,5152.34375,7941.998047,8128.0639650000003,14595.954102,7476.9472660000001,16142.88672,19680.849609000001,7009.6533200000003,26573.421875,0.18030808014756794,6296.3149409999996]
[437,0.15884647861325044,0.24523110745785437,null,0.57037428491785858,0.70463634854889212,null,null,0.30547848672187433,0.35735268709420781,0.25610375299748239,1.99112959332273E-2,0.18596814650900778,0.21378432085760019,0.23062227417520267,0.22869508368938443,0.33853354198601282,0.23057994970843704,0.15972605735927334,0.17127688843978192,0.21869932979293932,0.28415098141014278,0.24833718022205928,0.22095913749317123,0.22587300602841343,0.10850457596019679,0.17512501713030279,0.25020250399766586,0.21740791177340316,0.22783806930728828,0.20116954615463814,0.20347614746673914,9.524962342869922E-2,5.9418087886880716E-2,0.20637740365051735,0.27297846729160735,0.37800076246071507,0.53566696653784518,0.90130401800550564,0.90394790879975417,0.92629836596891513,null,45624.125,24599.205077999999,32696.683593999998,67357.914059999996,38337.238280999998,14737.11621,8713.1337889999995,12943.331055000001,6938.9570309999999,7356.8491210000002,5640.6850590000004,5679.2753910000001,8586.7900389999995,8906.4648440000001,15982.375977,8188.5727539999998,18094.441409999999,21345.060547000001,7677.8691410000001,29266.126952999999,0.20347614746673914,6852.6083980000003]
[438,0.18084530948750355,0.27740322593587502,null,0.51480388137882005,0.63300029833032767,null,null,0.33857882160909802,0.40033815360069414,0.2887882922438359,2.2943316604935898E-2,0.20591566796537855,0.24218672143330536,0.26246540929942014,0.25798742791374807,0.38099919576207109,0.26210861594808893,0.17667383471079157,0.19119447280467838,0.2411590904381761,0.31798661056500366,0.27802108661664804,0.25050723224081617,0.25846407375112579,0.12348193415766254,0.20032826914303797,0.28486850175594119,0.25072416038054729,0.26123376927386843,0.23086783389848919,0.22861262064244955,0.10872121402666926,6.4451139342383876E-2,0.21542759117040119,0.28446958238426517,0.3779872311704936,0.55155014416715908,0.8958959602993436,0.90719714691562381,0.92797590999297763,null,48937.332030999998,26629.222656000002,35385.175780999998,72297.546879999994,41695.105469000002,16138.960940000001,9482.6015619999998,14111.578125,7549.2919920000004,7991.9389650000003,6064.1162109999996,6237.482422,9253.3398440000001,9737.3828119999998,17419.464843999998,8930.4189449999994,20353.859380000002,22968.919922000001,8381.8447269999997,32072.666015999999,0.22861262064244955,7435.9233400000003]
[439,0.20306448229440219,0.31021053425739137,null,0.46257340870646596,0.5715577750148344,null,null,0.37752163769906744,0.44357440286010613,0.32626404951745458,2.57276318389538E-2,0.22791048859183191,0.27402387187503319,0.29955337166775153,0.2915103569615467,0.42780982399815887,0.2985409862095218,0.19785647277967644,0.21651758610524588,0.26617223210826868,0.35702010807805074,0.31196494584906242,0.28446270935493634,0.29532701549038515,0.13970266373880927,0.2301788513719373,0.32177839994332447,0.2895874266580527,0.30212260937991531,0.26150482611074055,0.26173782645742377,0.12408748432235513,7.3282990572107715E-2,0.21793287354453911,0.29098052747923481,0.37311388564479286,0.55357168548101754,0.88408823489207333,0.90459311733072523,0.92867537801413047,null,52602.335937999997,28909.857422000001,38272.296875,77604.3125,45466.203125,17727.533200000002,10366.517578000001,15396.164062,8248.3769530000009,8698.7880860000005,6523.216797,6871.4663090000004,9975.4199219999991,10703.783203000001,19032.988281000002,9754.7421880000002,22881.21875,24793.634765999999,9166.9140619999998,35303.515625,0.26173782645742377,8088.8330079999996]
[440,0.22693945942478308,0.34391617684430947,null,0.42084165230172721,0.52477192655417793,null,null,0.42233536508510428,0.50080880039631492,0.37263962037904014,2.9453590352333501E-2,0.25415998144078256,0.3134004471191002,0.34256891879745532,0.33406222740335784,0.48584796470697511,0.3416360398401469,0.2223966025111235,0.24744580440114866,0.29713127764910796,0.40499831874809927,0.35315150140143214,0.32303188832905666,0.33686054018011125,0.15926606372091634,0.26167899706733783,0.36396191280774937,0.33693022178891902,0.35266212123635243,0.30374301435401407,0.29914347814915676,0.14190418738295468,7.9210618923805959E-2,0.22261512591320029,0.29997336330908214,0.36834521955932104,0.55468843022465864,0.87135412775030385,0.89688581774244824,0.91977171232317056,null,56394.554687999997,31408.539062,41366.308594000002,83120.117190000004,49534.046875,19482.349610000001,11342.146484000001,16770.416015999999,9018.8935550000006,9463.6894530000009,7012.388672,7565.5751950000003,10740.92188,11782.035156,20828.148438,10658.664062,25761.753909999999,26778.541015999999,10032.705078000001,38954.71875,0.29914347814915676,8805.1708980000003]
[441,0.25264428803550204,0.3810304608442131,null,0.39231591780365915,0.49482702418587998,null,null,0.47171893075375165,0.56323175854920215,0.42397802380680089,3.3318002546378803E-2,0.28466315323185964,0.3561744275028017,0.39298080887456188,0.3847012827384253,0.54910048517274668,0.39003264174390123,0.24739469879107509,0.28170873231914328,0.33104774264158454,0.45702241250565551,0.40078575189330262,0.36790172194468512,0.38865851322194689,0.18138465010658139,0.29698717178374551,0.4149340336486359,0.39080697919783447,0.40823246822550485,0.35464462316327833,0.34612809884090845,0.16376155874296339,8.7116745003509119E-2,0.22344320912149054,0.30148396764260749,0.36110345656991588,0.55943155047160253,0.85999306381240159,0.89077818554820176,0.906801104179775,null,60808.050780999998,34284.148437999997,44978.640625,89578.125,54380.976562000003,21619.808590000001,12499.200194999999,18372.679688,9938.59375,10355.324219,7591.296875,8378.0322269999997,11649.387699999999,13062.778319999999,22920.314452999999,11726.238281,29343.849610000001,29079.007812,11051.420898,43314.980469000002,0.34612809884090845,9691.0810550000006]
[442,0.275733343165671,0.41245669947365993,null,0.3729793505614688,0.47639923413847385,null,null,0.52691970762962226,0.63044657217063149,0.48314724502258455,3.7387649759071703E-2,0.31526250185961174,0.40607061637104674,0.44936023029659522,0.43919102509756008,0.61693165294708086,0.44872671732303154,0.27776188785825706,0.31619340775524502,0.36731408011916578,0.51358885340900262,0.45478856964079406,0.42786530069522216,0.44368167830468996,0.20461386965918885,0.33615190877776385,0.47158821517546018,0.45072151196650007,0.47052960921805487,0.40962112150347252,0.39569398355660446,0.18620216719280608,9.4830340383012343E-2,0.22325743566431169,0.30267580373260483,0.35506410682034373,0.55389813460632475,0.83815191222873864,0.87177201102316348,0.88612547723747559,null,65386.226562000003,37267.300780999998,48759.683594000002,95975.976559999996,59458.683594000002,23855.800780000001,13753.948242,20025.873047000001,10938.322265999999,11310.783203000001,8194.3701170000004,9242.0498050000006,12593.17578,14468.102539,25114.158202999999,12855.575194999999,33334.03125,31431.785156000002,12142.203125,47997.914062000003,0.39569398355660446,10644.629883]
[443,0.29696168360019537,0.43979782180219867,null,0.36393252998158065,0.47090494140410877,null,null,0.58568955559010205,0.7050078734928048,0.54792336411639431,4.1346708657287699E-2,0.34589069458419308,0.46569648087846294,0.51317786647402386,0.49940491935632619,0.69032650696062592,0.51148824754327538,0.30882545377372955,0.3521137416920383,0.40504446399297322,0.58406665616267395,0.51405640600387636,0.49256183063296149,0.50009099600169737,0.22807158459378535,0.37563227974694541,0.52828579960593336,0.51943981647431381,0.54101307031608803,0.47743257383077337,0.45272784355752405,0.21288529788445182,0.10915277881906968,0.22087828493167516,0.30216855643633733,0.34917113494484492,0.55012748998362093,0.83172856307065779,0.86259713625208767,0.87440985432706542,null,70682.15625,40767.421875,53135.707030999998,103301.82030000001,65373.175780999998,26507.917969999999,15217.601562,21880.992188,12125.433594,12423.529296999999,8894.1982420000004,10228.599609000001,13692.007809999999,16130.490234000001,27620.789062,14177.884765999999,37851.742189999997,34158.464844000002,13421.703125,53486.6875,0.45272784355752405,11751.392578000001]
[444,0.31182092919993593,0.45880453067484478,null,0.36052663701686233,0.47283376176089748,null,null,0.65123674568422296,0.77880166135855278,0.61698955953993539,4.51049204492203E-2,0.38194845594393784,0.53047167463252487,0.58603443690017654,0.56610680535459246,0.76636918140137311,0.57945551462585054,0.34118933051775135,0.38825761554724586,0.44500682194267566,0.65179824010986176,0.58345703194762577,0.56220587293534419,0.57294940820002094,0.25161113493262699,0.41635813929576421,0.58472184793122561,0.59539704181457298,0.61841361408630924,0.54871494680566402,0.51243940260130294,0.24045630420931641,0.12243419785761937,0.21948320855305939,0.30089774711233891,0.3466262337227457,0.54385301190924706,0.82231518306328089,0.86250204297194322,0.86309856923172257,null,75785.53125,44308.160155999998,57472.464844000002,110431.96090000001,71310.304688000004,29237.677729999999,16721.271484000001,23734.09375,13337.517578000001,13552.341796999999,9583.9912110000005,11221.903319999999,14798.52441,17841.164062,30136.767577999999,15541.079102,42237.261720000002,36809.710937999997,14732.651367,59111.328125,0.51243940260130294,12891.573242]
[445,0.32282030627207753,0.47131254215031471,null,0.36505306145099359,0.4850707263955733,null,null,0.72248061778173345,0.84657716641612424,0.6912458696002779,4.8610794655604299E-2,0.41940053042386338,0.59483142617044438,0.65881348165067333,0.64256862514361823,0.83437468582543428,0.65871161912053455,0.37609530373807404,0.42582739718339763,0.48680969107924771,0.70943944810072268,0.65909654332775847,0.63950042569035748,0.65049927058658719,0.27476495771835974,0.4550058916995845,0.64189370986493954,0.67525178647442863,0.69938203959707601,0.62726410412017353,0.58127307129622652,0.26701982571446681,0.1381622063184533,0.22138486898364643,0.30232452662044301,0.35018406836072274,0.54510008783107744,0.83219238462238387,0.8671886214519493,0.86311084116759007,null,81519.8125,48272.011719000002,62357.863280999998,118437.3125,77874.289061999996,32293.804690000001,18478.419922000001,25844.890625,14703.426758,14839.664062,10365.379883,12331.541015999999,16053.0332,19842.144531000002,33083.113280999998,17115.455077999999,46925.820310000003,39788.789062000003,16247.133789,65471.222655999998,0.58127307129622652,14197.747069999999]
[446,0.32851400306228051,0.47582258829760643,null,0.37626642695240298,0.50167773324561415,null,null,0.79856805418150889,0.91794542258628598,0.76895029362001632,5.1268614663207798E-2,0.45412494087931821,0.6676843153212968,0.738010605203956,0.72146120089606569,0.90498970792001854,0.74088940857573282,0.40680422819014178,0.45917599133429532,0.524189813677851,0.77220509815286786,0.73708355792379343,0.71803910535143345,0.72648886329896012,0.29294642516243047,0.48575669373419078,0.69288397195089013,0.75807373069517303,0.77966129218423941,0.71175678403746989,0.65968116231095331,0.2914915989880128,0.14385102186211871,0.2210804066327513,0.30423754778764617,0.35606771582976221,0.54868537671767181,0.84451607225106984,0.8809392767709282,0.87287131332250556,null,88108.734375,52860.734375,68023.367188000004,127546.14840000001,85422.203125,35835.238279999998,20462.421875,28295.291015999999,16283.639648,16360.191406,11269.555664,13588.265625,17516.925780000001,22092.726562,36529.640625,19004.064452999999,52041.582029999998,43236.421875,18035.496093999998,72712.960938000004,0.65968116231095331,15723.331055000001]
[447,0.32664753050566625,0.46894823543388081,null,0.38792336130885641,0.51718503595497212,null,null,0.86844196114056493,0.97258918394833827,0.84488970744808967,5.2609307870920899E-2,0.4873036035767494,0.73994043492109651,0.82034757966485106,0.79730062121291323,0.96333806834781199,0.81371915597545275,0.43265045819309644,0.4835677934913738,0.55862248375395085,0.82257969904917816,0.8161251903952913,0.79394629481745982,0.80287563981678634,0.30673900834521178,0.50918098852507387,0.73836720689728408,0.83973632295964795,0.85705930384491613,0.79916799519933057,0.74165653885060168,0.31513075632084675,0.15735958913234119,0.22251151192084209,0.3073705509730334,0.36287558103602235,0.54343958776355128,0.85203341344753614,0.89094535998828073,0.87511696159771324,null,94329.296875,57319.515625,73555.101561999996,135999.625,92520.1875,39353.695310000003,22415.638672000001,30820.339843999998,17824.857422000001,17928.935547000001,12123.225586,14782.809569999999,18932.777340000001,24291.347656000002,39989.09375,20916.527343999998,56499.019529999998,46564.910155999998,19837.837890999999,79798.34375,0.74165653885060168,17215.474609000001]
[448,0.31572065888402545,0.44847417991296912,null,0.39655492678500676,0.52999212010042818,null,null,0.9257981493731211,0.99664600254064817,0.90840846188714475,5.2947356645844101E-2,0.51192443406312005,0.79901449152625015,0.88682767090708092,0.86759944403966383,0.99547212754920056,0.88262020128601681,0.45301773113220728,0.49799534545743268,0.58368230380882624,0.84961050264696969,0.88286770859638519,0.86265922596386146,0.87554628512355237,0.31466747472234419,0.51900716253567825,0.7742097947341906,0.90323668658156542,0.91866189675540089,0.87026117741970188,0.82534545779752855,0.32884703382201619,0.16824105180375129,0.22810196916982889,0.31263965406539607,0.37133286381529518,0.54114992795637729,0.86637525405881832,0.89691626555268722,0.88277388403779167,null,101514.648438,62627.453125,79860.71875,145589.375,100571.179688,43422.59375,24715.396484000001,33800.191405999998,19645.292968999998,19714.828125,13108.957031,16119.526367,20583.052729999999,26764.601562,44130.015625,23225.900390999999,60771.707029999998,50410.117187999997,22022.726562,87841.507811999996,0.82534545779752855,18911.714843999998]
[449,0.30072229848398557,0.42394670752334324,null,0.40734891468347451,0.54275471404427889,null,null,0.96914977841890959,1,0.95666807682142196,5.1963682223761597E-2,0.52641268408801067,0.84554936382411194,0.93812497759317481,0.92509242519514023,1,0.93905506015181484,0.4667574222668528,0.49548456798665991,0.59924790469561129,0.86342309934986483,0.93728540840833252,0.92311284166196161,0.93402249540853455,0.31495317407183848,0.5167990089442499,0.7886045848748976,0.95282613193171173,0.96433061548655186,0.93013961952298352,0.90100740572473559,0.33748366344437108,0.16881128712186175,0.23046402158097587,0.31628217010552034,0.37498349128557917,0.53816528353228832,0.87132600859409759,0.90320825047669351,0.88702964478786905,null,108011.476562,67684.046875,85715.039061999996,154035.57810000001,107714.859375,47192.941409999999,26828.847656000002,36746.109375,21221.232422000001,21401.480468999998,13999.450194999999,17331.644531000002,22127.083979999999,29069.648438,48285.738280999998,25510.271484000001,63817.824220000002,53984.667969000002,24178.357422000001,95339.46875,0.90100740572473559,20481.402343999998]
[450,0.28230426197246966,0.39607715487155015,null,0.41665199785551821,0.55367276319276482,null,null,0.99418600037218119,0.9817917034279815,0.98933577794280803,4.9949147215951097E-2,0.53603696486008368,0.87702659997649268,0.97969049968340993,0.96813814461260728,0.99253928379364598,0.97830146711165311,0.47167941654538043,0.49263949298939835,0.60941570895964092,0.85819961081729401,0.9805921181130467,0.9713509190248939,0.9771870282149614,0.30986877322225698,0.50463824811635982,0.78925781096593839,0.98751316082230889,0.99413664843373872,0.97773306888770173,0.94414266162709415,0.33710988393712499,0.17205726444985978,0.23518917390936928,0.32011327270567685,0.37652374784369685,0.52646420664944904,0.87257575928505726,0.90359022344841977,0.88623442865554847,null,114787.359375,73061.554688000004,91811.875,162554.26560000001,114772.34375,51039.132810000003,29037.183593999998,40065.386719000002,22786.634765999999,23269.765625,14893.613281,18534.396484000001,23735.509770000001,31427.179688,52916.171875,28081.814452999999,66189.65625,57773.460937999997,26588.953125,102907.90625,0.94414266162709415,22092.132812]
[451,0.26008756128570498,0.36293825557490955,null,0.42257396260519292,0.55849636514298828,null,null,1,0.93878934919842227,1,4.7044823337849297E-2,0.53473142471280566,0.89502901993086548,1,0.99329981622380847,0.95413078034026921,0.99820186906480213,0.46470880256952185,0.47854688709123189,0.60644194939161122,0.83028194255255783,1,0.99577668776575712,0.99921184983384115,0.29738307011687304,0.48077475999670688,0.762213557958622,1,1,1,0.97918732419214083,0.33088397690540666,0.17401169538812411,0.23797296515060759,0.32334845432965059,0.37672287986724529,0.51401643941359765,0.86314588954108062,0.89399186708294454,0.87322727896387875,null,120763.453125,78131.78125,97325.5,169520.92189999999,120592.773438,54542.816409999999,30993.267577999999,43410.347655999998,24173,25020.0625,15658.594727,19514.640625,25168.58008,33494.289062000003,57533.066405999998,30626.322265999999,67123.101559999996,61284.265625,28961.041015999999,109532.445312,0.97918732419214083,23471.716797000001]
[452,0.23894167635487359,0.3310429581466553,null,0.42413168449189337,0.55845811408454671,null,null,0.98896571755584783,0.87145997558380084,0.98943149582628831,4.3923084569385699E-2,0.52664941717289671,0.89756851455405484,0.99822316978053538,1,0.89851431108379587,1,0.45057714596757525,0.4531203657248653,0.59335217790215511,0.78679399884143586,0.99895809229364119,1,1,0.281806465061119,0.45293945450312117,0.72922549704413087,0.99446238906414308,0.9880577657847075,0.98915586343310147,1,0.31530086351410674,0.16523965202071283,0.24203393276360077,0.32675464122774051,0.37340550774828896,0.50085897226409515,0.84204270544514581,0.87872246365955975,0.85994374379789607,null,125874.210938,82929.554688000004,102178.632812,175020.01560000001,125246.578125,57590.515630000002,32705.121093999998,46765.761719000002,25292.560547000001,26663.320312,16285.517578000001,20312.820312,26437.73242,35279.125,62125.910155999998,33175.703125,66648.851559999996,64484.988280999998,31309.910156000002,115215.882812,1,24695.878906000002]
[453,0.21774246403204042,0.29962049025656584,null,0.4218222095643096,0.55400976210439667,null,null,0.94955324692204313,0.79228230164668312,0.95196876351383952,4.0295866045386403E-2,0.50828019628131382,0.8725152547744951,0.96681966093970162,0.97866042785494212,0.83063518958161842,0.97553214683166567,0.42504201957932214,0.42148307615845632,0.56667952230390939,0.73658552713570791,0.96665528751594409,0.97673711495420334,0.97277205769936104,0.26411268747735034,0.41999757036381952,0.68522944123397567,0.96330937348524703,0.95227920153475443,0.9608859148938913,0.99897207403856603,0.29686727528138879,0.15431858322662229,0.24347520017815102,0.32701237012377499,0.36455920906879796,0.48558418905032052,0.81278202566449631,0.85243191033309296,0.83582925462202207,null,129652.953125,86953.796875,105860.867188,178400.73439999999,128216.53125,59938.304689999997,34042.132812000003,49981.3125,26064.882812,28101.003906000002,16710.046875,20839.804688,27609.25,36611.308594000002,66416.890625,35517.011719000002,64575.085939999997,67050.820311999996,33461.179687999997,119385.296875,0.99897207403856603,25606.412109000001]
[454,0.19651198927793009,0.26975937883664725,null,0.41344807365906805,0.53984615934681301,null,null,0.89174792717313689,0.71077363579846264,0.89631187849145777,3.6849468843224299E-2,0.48171604081557601,0.82949213173376457,0.91763809668556717,0.93611222645490488,0.7623618382841566,0.9274991391439884,0.3941377431178868,0.39046541780672567,0.53236131373501849,0.67696484818176683,0.9166328239088104,0.93085535893484816,0.93287099098593396,0.24401795386129388,0.38167503414817605,0.62617306384103288,0.91295094090714091,0.89940667450233724,0.91738579144919874,0.96968580462675025,0.27481303798366813,0.14716830936157027,0.24165139759934884,0.32675466367977285,0.35393090138329708,0.47308037155604926,0.78904335285200711,0.8257161145988704,0.81216087173341589,null,131225.796875,89638.359375,107672.8125,178505.1563,128697.945312,61187.578130000002,34773.589844000002,52616.867187999997,26343.130859000001,29064.408202999999,16819.853515999999,20965.564452999999,28116.931639999999,37263.027344000002,69850.6875,37411.238280999998,61433.414060000003,68616.4375,35126.777344000002,121273.039062,0.96968580462675025,26084.759765999999]
[455,0.18176638482029622,0.2495973744280143,null,0.40942297309387149,0.53219391449098874,null,null,0.82130859605442685,0.63239096064629241,0.82449285331421163,3.3591784619031E-2,0.45065476207288735,0.77546527867722492,0.8581193640521112,0.87787239538374573,0.68403556779024988,0.86714971923576734,0.36526004064759804,0.35635029663942408,0.49377629623454006,0.61629751528814292,0.85383362753028724,0.87087263218549271,0.87750565576145367,0.22396265913333066,0.34868365956842212,0.57230230063744392,0.85075774087595812,0.83778125165572648,0.85163905439377197,0.92346051771139404,0.25245478402620974,0.13239583961062171,0.24091140704515887,0.32322920886665696,0.34200016439207448,0.45853059781802596,0.75331195538928186,0.79271055792123912,0.77892176256856605,null,131262.46875,91264.1875,108221.40625,176129.07810000001,127331.9375,61652.945310000003,35074.945312000003,54801.675780999998,26251.804688,29713.392577999999,16679.621093999998,20767.886718999998,28254.800780000001,37390.753905999998,72613.398438000004,38923.277344000002,57441.9375,69373.460938000004,36414.894530999998,121362.109375,0.92346051771139404,26187.820312]
[456,0.16997101292679864,0.23220433176580776,null,0.40337896384075195,0.52394693567126205,null,null,0.74644144348115615,0.55764706712512835,0.74519031980893979,3.1062563946415701E-2,0.41755264799478298,0.72040241637357472,0.79217007171845777,0.81209513961774593,0.60929922860500318,0.80312579029182229,0.33514851009809665,0.32465376970272203,0.45582663648375443,0.55892288569010351,0.7865357713473452,0.81120099194930007,0.81104478984989403,0.20725350977309456,0.31943271425130287,0.52634536027753143,0.78407343065791546,0.77336985597943286,0.77551654492683986,0.85843361267234741,0.22986648474685267,0.1204497177073946,0.23935255338837361,0.31892278166905919,0.33279222530655644,0.44993011886159079,0.72563565340559033,0.76726491757028226,0.75500956401818597,null,129577.03125,91537.851561999996,107176.304688,171453.35939999999,124314.679688,61240.777340000001,34844.25,56262.261719000002,25818.763672000001,29903.082031000002,16299.789062,20273.460938,27969.097659999999,36974.867187999997,74304.445311999996,39865.546875,53250.875,69238.09375,37165.695312000003,119722.367188,0.85843361267234741,25934.048827999999]
[457,0.16067223029179714,0.21945236400981954,null,0.40039412116710682,0.51758950293319639,null,null,0.67262188485000429,0.50100295082766688,0.66831146179151368,2.8658189281156599E-2,0.38555823419431434,0.65950954017825336,0.72706949975889357,0.74466253864101684,0.55158356296385402,0.73694169027883949,0.30653200062631147,0.29780411046109445,0.41896102626491361,0.51632542807470594,0.72215494068723007,0.75005230846946191,0.74577049274005291,0.19260877080374345,0.29540117886512346,0.48267038186630912,0.72070591866229905,0.71116284749450376,0.71149967969513661,0.78942795656008791,0.21143973507904273,0.10663043394524822,0.23588505483905267,0.31317336501380655,0.32319886057788688,0.4456099427361403,0.70866729164714992,0.75246219310636464,0.73787132730575578,null,126209.53125,90622.0625,104745.867188,164417.07810000001,119681.578125,60000.007810000003,34211.71875,57125.777344000002,25091.136718999998,29718.587890999999,15694.070312,19511.439452999999,27374.152340000001,36129.941405999998,75035.21875,40303.296875,48794.550779999998,68284.257811999996,37444.253905999998,116503.726562,0.78942795656008791,25382.873047000001]
[458,0.15322696093029428,0.21093967643143499,null,0.39967783787631178,0.51730763064964247,null,null,0.60320889395513433,0.45062992004691543,0.59753387881639253,2.72166046155265E-2,0.35739997675556096,0.60093845780691435,0.66758694914701422,0.68233224641180434,0.5025250275161266,0.67256292100306436,0.2805596242253614,0.27376204583601893,0.38385405953478891,0.47192318101273362,0.66097271498652277,0.68903136864496928,0.68738600243091819,0.18024813309810273,0.2761876507574002,0.44230472411306365,0.66198628071689891,0.65407278499471244,0.64415809583891903,0.72806770402554211,0.19645156354609539,9.689526982061418E-2,0.2314715324099931,0.30857464622643144,0.3196118338088822,0.44697010741784271,0.69431581050759539,0.74250354590328693,0.72792639809643322,null,121384.9375,88410.210938000004,101018.554688,155627.0938,113864.65625,58061.636720000002,33174.734375,57083.5625,24146.052734000001,29133.046875,14906.275390999999,18546.613281000002,26397.324219999999,34855.972655999998,74593.867188000004,40042.484375,44714.777340000001,66463.914061999996,37171.0625,111831.320312,0.72806770402554211,24584.212890999999]
[459,0.14763316259866796,0.20537277029206111,null,0.40562527726797071,0.52495687532661983,null,null,0.53959184913865887,0.41355166790116271,0.53286716980213322,2.6312499440460799E-2,0.33205559533785489,0.55396474919676153,0.6104619315753087,0.62676146454479642,0.46426302727350788,0.61415338640526229,0.2591322688422702,0.25563435460123435,0.35310796391975779,0.4431044699561249,0.60963036850220531,0.63615268139166437,0.63542094847717046,0.17104626795156797,0.26140188404104969,0.41054376559972111,0.6106338089344554,0.60364237374854135,0.59232525561880045,0.66992467387667654,0.18654932568185631,8.8947004497688914E-2,0.22778657272840677,0.30364171122653943,0.32234040868860958,0.45300562127635025,0.69615061008648549,0.74801603950123863,0.72831931424870466,null,115986.726562,85637.609375,96878.734375,146234.70310000001,107778.125,55853.25,32023.685547000001,56502.171875,23188.373047000001,28389.353515999999,14058.428711,17521.34375,25284.837889999999,33531.480469000002,73411.335938000004,39415.363280999998,41475.601560000003,64335.429687999997,36517.707030999998,106788.226562,0.66992467387667654,23736.685547000001]
[460,0.14352208886022347,0.19983626880228872,null,0.41506312294888609,0.53944438603626166,null,null,0.48537529510848237,0.38373728963422327,0.47921237557423302,2.52734898055651E-2,0.31084069584519919,0.51434386697786849,0.56028472188229239,0.57802454439600981,0.43463439545096294,0.56418252266633906,0.24126899256931697,0.23594553294916171,0.32681372893788541,0.41984749274482952,0.56797875968196587,0.5909599534351262,0.58482039136585728,0.16435112734671598,0.24863241625574337,0.38901392057078632,0.5671007664170945,0.56116841720028943,0.55223109500607692,0.61953018326463716,0.17728125640337627,8.3714410959978003E-2,0.22291877911517757,0.29682371120526002,0.32660747416897862,0.46237435930635795,0.70509403244806113,0.75522995680184835,0.73289656937344616,null,109874.5,82069.867188000004,92115.46875,136147.98439999999,101237.554688,53270.53125,30702.755859000001,55137.433594000002,22159.714843999998,27411.945312,13117.955078000001,16391.480468999998,23999.85742,32014.931640999999,71248.273438000004,38287.605469000002,38653.140630000002,61665.566405999998,35403.261719000002,101137.867188,0.61953018326463716,22769.017577999999]
[461,0.13991913746079773,0.19391668184878608,null,0.4298377960068569,0.56085031195949719,null,null,0.44173841341725839,0.35531521499354451,0.43458828197010457,2.45048274300078E-2,0.29378758556943918,0.4810031730735102,0.52479614158591747,0.53856968314487175,0.40594722206563238,0.5225271135935714,0.22471466548568481,0.21779862498796737,0.30573780865073419,0.40005078865001842,0.53512169906422113,0.55181461952716626,0.54717408676252111,0.15927399991978464,0.2393833007143768,0.37034698878268563,0.5303241324382878,0.52526797859739549,0.5136125938967171,0.5752484507027511,0.17036386627488878,7.7646817816756697E-2,0.2188291679962788,0.28705441813835941,0.33620469396318914,0.47621726986425239,0.71595237798858213,0.77062318655151141,0.74400426378496376,null,103455.726562,77978.585938000004,87090.992188000004,125866.5938,94674.4375,50556.21875,29329.533202999999,53294.722655999998,21132.152343999998,26322.902343999998,12169.727539,15258.539062,22620.134770000001,30522.179688,68473.765625,36787.597655999998,36465.917970000002,58694.15625,33981.292969000002,95306.984375,0.5752484507027511,21780.34375]
[462,0.13632598243449728,0.18715640620291593,null,0.44860015438433537,0.58734892766811009,null,null,0.4067483997589923,0.33403788158352282,0.39581633863619947,2.3872369538636501E-2,0.28131610741753887,0.45091600160418649,0.49859288931433121,0.50806246456175541,0.38847952061859387,0.48790720775556978,0.21326472616540468,0.2071741693474094,0.28816753459642652,0.38387770676936278,0.50941585872025985,0.5223742274410299,0.51928764082830214,0.15434654128185857,0.23153058686543834,0.35388301592528565,0.50079535887445192,0.49720185481462015,0.48880824622089736,0.54135735084240277,0.16534981399810739,6.6047624456403956E-2,0.21204162868887783,0.27927256135428813,0.34823947667077187,0.49371686532666925,0.73869173565910207,0.79246538738309802,0.76570572842329121,null,97216.359375,73851.164061999996,82326.914061999996,116247.14840000001,88661.65625,47960.609380000002,28021.787109000001,51056.476562000003,20226.015625,25218.525390999999,11283.010742,14219.751953000001,21390.355469999999,29153.994140999999,65321.292969000002,35067.074219000002,34683.890630000002,55800.710937999997,32411.027343999998,89832.5625,0.54135735084240277,20866.886718999998]
[463,0.13131459312832802,0.17977027142670801,null,0.46896710018388732,0.61531162192643507,null,null,0.37894587049403639,0.31240952529606281,0.36654505163051104,2.3158465975360601E-2,0.27140992315391643,0.42648019225642914,0.47469743880074411,0.48198533053102555,0.36852759820830638,0.46022365157736372,0.20242911497328872,0.19954914555164796,0.2744962864754999,0.36920832637832834,0.49015872013125733,0.49813522418788203,0.49590061752088455,0.1506930617688951,0.22438798266682111,0.33742759439569642,0.4794545933031189,0.47661411582231161,0.4686452013107133,0.51539429180010277,0.16166696159951432,6.2640590993975898E-2,0.20464250985125448,0.27021923210796689,0.3628125259774278,0.51055119014534633,0.76553248544843855,0.82276519293842409,0.79263912303865336,null,91102.804688000004,69694.765625,77592.398438000004,107196.7656,82991.25,45458.175779999998,26776.738281000002,48541.949219000002,19381.695312,24151.271484000001,10454.353515999999,13235.992188,20213.822270000001,27853.894531000002,61883.699219000002,33196.617187999997,33004.929689999997,52889.949219000002,30676.103515999999,84563.757811999996,0.51539429180010277,19996.21875]
[464,0.12682023963650119,0.17260435050556891,null,0.49412046696737238,0.6495343485389764,null,null,0.3538935107979046,0.29285391489187218,0.34126670039991785,2.2340028317472099E-2,0.26313118500519272,0.40803431774750631,0.45312849019690965,0.459479569309937,0.34864761113322768,0.43922673120834921,0.19192577746080686,0.19313348974558939,0.26243185980207967,0.35124398264959317,0.47536477806205218,0.47740702166861931,0.47750962650628248,0.14645511199656469,0.21691728498047727,0.32319411445388269,0.46042572513088131,0.45897227199094948,0.45308633546277782,0.49469619382889274,0.15700119885609468,6.1746983680454538E-2,0.19882050101776899,0.26117201596065109,0.38123267663086935,0.53480135383412775,0.80360293079924072,0.85456380619040795,0.82417085256017752,null,85706.921875,65992.070311999996,73476.507811999996,99222.515629999994,78063.023438000004,43291.546880000002,25740.017577999999,46124.683594000002,18691.935547000001,23269.652343999998,9729.7568360000005,12363.096680000001,19191.646479999999,26819.439452999999,58681.472655999998,31421.001952999999,31902.871090000001,50336.082030999998,29083.597656000002,80074.546875,0.49469619382889274,19291.355468999998]
[465,0.1232823850630648,0.16528242814390251,null,0.51770001024959567,0.68368902722722624,null,null,0.33253026841810818,0.27194602797381567,0.32029153806110916,2.1571935378251899E-2,0.25673824899915776,0.39195454672288527,0.43756173771788659,0.4439743608497671,0.330216569632793,0.4192674032312449,0.18354485849886315,0.18608432882736256,0.25228744998224806,0.34028323176965974,0.46228320391947553,0.46137631989997863,0.46286948213334583,0.14130614958574486,0.20982482840403655,0.31211624769315149,0.4451080977970156,0.44261696721404065,0.43518902495856138,0.47696543819376985,0.15148064212005413,5.7841435604932989E-2,0.19330939383028733,0.25183621961927849,0.39943592260220734,0.55954472524518817,0.83797423535057447,0.8909549146482818,0.86088998852920529,null,80814.148438000004,62529.871094000002,69611.632811999996,91876.46875,73709.671875,41343.527340000001,24874.707031000002,43751.222655999998,18079.150390999999,22459.533202999999,9086.7871090000008,11550.109375,18277.503909999999,25846.783202999999,55588.492187999997,29718.236327999999,30685.23242,47968.285155999998,27529.740234000001,75962.023438000004,0.47696543819376985,18659.189452999999]
[466,0.11939305823333017,0.15833849454059992,null,0.54178636170705186,0.71469647362015531,null,null,0.31238665787425479,0.24998704518217404,0.30219656261438399,2.0584177444049299E-2,0.24845709923553833,0.37239610009579871,0.41875062233469945,0.42535866643239267,0.31299771291797346,0.39812842263334403,0.1756672955192696,0.17550582397032452,0.24353414857362327,0.32224655278479569,0.44633157910352056,0.44517327045675698,0.44393777954871,0.13599420132330664,0.2009666123504984,0.299166224844783,0.42829919214293871,0.42533729508692292,0.42038583470327828,0.46213326296361901,0.14643562414001013,5.475585127590895E-2,0.18744081301359231,0.24492050998368947,0.41829384095101546,0.5804097328658524,0.87392481488632745,0.92163391470399869,0.89390940712413791,null,76434.53125,59433.894530999998,66230.289061999996,85425.109379999994,69804.289061999996,39634.582029999998,24111.484375,41592.496094000002,17541.982422000001,21770.673827999999,8527.3378909999992,10841.258789,17486.23242,25033.142577999999,52804.835937999997,28200.71875,29482.398440000001,45904.617187999997,26139.304688,72333.898438000004,0.46213326296361901,18115.474609000001]
[467,0.1158295073590016,0.15200669563392763,null,0.56166481805422463,0.73868404680815491,null,null,0.29196971093964857,0.22814448319083785,0.2818294475128168,1.9786371508146799E-2,0.24037708360048954,0.35552348352222429,0.39940994315047901,0.40616865848022621,0.29088255376808825,0.37805966600445667,0.16792981644304203,0.16367360965602817,0.23315559680617276,0.3075336102362074,0.42769776721031882,0.42605770691595374,0.42533884395196486,0.13070561205861875,0.18958360243637307,0.28243059110738139,0.41107354144449781,0.40880718619724649,0.40131945892626009,0.44673616859354703,0.13950743247409797,5.0070442504265664E-2,0.18347185824049561,0.23867202722128134,0.43679749791175143,0.60210396670469435,0.91443902450084336,0.95385577165157565,0.93056218889393916,null,72404.421875,56647.8125,62989.808594000002,79487.195309999996,66194.570311999996,38053.039060000003,23408.642577999999,39604.117187999997,17055.345702999999,21120.316406000002,8023.3393550000001,10183.120117,16748.681639999999,24278.318359000001,50252.003905999998,26793.125,28176.939450000002,44057.804687999997,24892.845702999999,68944.757811999996,0.44673616859354703,17620.986327999999]
[468,0.11202523865693621,0.14692260469579729,null,0.57739017894385769,0.75532275906229984,null,null,0.27116441873738678,0.2080548451288825,0.26058271619135653,1.8773483968655601E-2,0.23244465675415407,0.33936213650241276,0.37916349631869023,0.3876521005299684,0.26840924245069803,0.35704398414904448,0.15953658693862802,0.15226379825282987,0.22149544202957838,0.28999842405059695,0.4082223192112287,0.40767756414919237,0.40804524539839887,0.12561258235961761,0.17908417178198749,0.26671735608903402,0.39338577511803008,0.39055940723611454,0.38088190192932264,0.43064280554744488,0.13361880021985106,4.5771782003267737E-2,0.17871655793678892,0.23288185319433632,0.45059443261794691,0.61852462070128233,0.93894943174962009,0.97311225788304867,0.95593252540507145,null,68788.171875,54270.578125,60048.558594000002,74282.640629999994,62909.292969000002,36613.015630000002,22741.302734000001,37929.945312000003,16571.726562,20581.630859000001,7583.2700199999999,9569.3154300000006,16100.72363,23585.8125,48047.738280999998,25592.769531000002,26862.175780000001,42419.75,23809.925781000002,65882.570311999996,0.43064280554744488,17146.769531000002]
[469,0.10923585569482604,0.142994864130814,null,0.58713344712285531,0.76368742351049446,null,null,0.25048892095925984,0.18571563404598085,0.2398900112667646,1.8048402316116E-2,0.22431436961365891,0.32235193806555873,0.35994428973499287,0.36686650667098658,0.24881166175097186,0.33498449075291897,0.15089654168632566,0.14244151740488775,0.20984431309834906,0.27102788472580358,0.3871712675083529,0.39114177775008535,0.38804804638256668,0.12058860099416031,0.17011414734220057,0.25193741279445092,0.37518420477573466,0.37216461535768514,0.35753600679429459,0.40902141461821562,0.12746944992934295,4.380686846874772E-2,0.17445164794917134,0.23008383865423701,0.4610446213583736,0.62964226860076733,0.96972503043357139,0.99083416044489436,0.98006734860361366,null,65094.839844000002,51847.0625,57035.6875,69100.53125,59519.648437999997,35089.851560000003,22050.804688,36218.914062000003,16049.241211,19981.285156000002,7139.8950199999999,8943.5888670000004,15422.10449,22809.859375,45894,24422.134765999999,25550.808590000001,40755.019530999998,22758.998047000001,62699.277344000002,0.40902141461821562,16634.353515999999]
[470,0.10810590081770877,0.14057145741143817,null,0.59354254007537732,0.76655217015081234,null,null,0.22926578372773604,0.16894190495925096,0.21961495144861254,1.7317365412588898E-2,0.21567967196286572,0.30293755510116255,0.34017713537361421,0.34528457250760924,0.23047694323607307,0.31447866851275708,0.1423744036083873,0.13578895945485037,0.19898885949525297,0.25958597883079843,0.36677224768258682,0.37184291547236742,0.36731368982924473,0.11582773702551162,0.16274805570315878,0.23285326591567609,0.35559688596094358,0.35310724404389587,0.34262726949952516,0.38833767672506808,0.1215475759254063,3.7094774719238464E-2,0.17320736705179959,0.22627776001126312,0.46971288747464351,0.64070779891131513,0.98754446829680864,1,0.99014748028631117,null,62437.554687999997,50185.488280999998,54838.371094000002,65060.398439999997,57001.589844000002,34041.347659999999,21612.810547000001,35105.957030999998,15725.288086,19622.117188,6802.8974609999996,8451.8574219999991,14942.91113,22265.544922000001,44454.996094000002,23630.720702999999,24345.539059999999,39653.359375,22042.066406000002,60365.875,0.38833767672506808,16317.931640999999]
[471,0.10860803472848753,0.14024571412867251,null,0.59539355030254304,0.7600046746514838,null,null,0.21048097755525683,0.15343016284579108,0.20016654092257585,1.6928604649514799E-2,0.20656067608096867,0.28460345383906305,0.3201202952230946,0.32319195350709018,0.21389981083586801,0.29473685550362833,0.13330545986157435,0.12924912564431482,0.18828061792319578,0.24593092856106782,0.34667061706084762,0.35110520267381817,0.34615499195685945,0.11249098311688693,0.15707541453456164,0.21610813134380988,0.33633540217069235,0.33495673157817918,0.31960176103042603,0.36952712660151649,0.11520308095246329,3.7102447244868789E-2,0.17119945503028347,0.22274901008416451,0.47601098275550607,0.64479655968100591,1,0.99508930272489715,1,null,59266.609375,48154.324219000002,52174.757812000003,60616.136720000002,53946.9375,32713.910159999999,20950.640625,33759.75,15256.888671999999,19098.03125,6412.3046880000002,7904.2939450000003,14347.666020000001,21563.029297000001,42731.246094000002,22720.285156000002,22926.20117,38266.398437999997,21161.917968999998,57519.867187999997,0.36952712660151649,15854.590819999999]
[472,0.10917405247134968,0.14092897934471091,null,0.59199668073360212,0.74481827936623557,null,null,0.19209296777146159,0.13940406246638257,0.18009565302781139,1.6527070359669001E-2,0.19875842508650071,0.26615584598022801,0.29960155660512811,0.30164961111774907,0.19737131018441198,0.27352562907882316,0.12494621779119429,0.12134510814969977,0.17864774435391859,0.23275551022700275,0.32670570699815293,0.33176237183724178,0.3247522014025182,0.1097938399351072,0.15152272944984768,0.20675914700594908,0.31891520513710703,0.31824595178928172,0.30079336953518643,0.35130424282777795,0.11123746156577899,3.3699248566374941E-2,0.16950660836278347,0.21971886493977152,0.47421526983596918,0.63853161650664825,0.9997646438655895,0.98326720648615917,0.99406667926910086,null,56190.324219000002,46185.769530999998,49533.464844000002,56307.195310000003,50903.589844000002,31396.744139999999,20316.001952999999,32442.253906000002,14812.527344,18574.78125,6027.7607420000004,7362.8627930000002,13765.5,20842.748047000001,41100.5625,21825.71875,21664.42383,36891.128905999998,20376.78125,54674.816405999998,0.35130424282777795,15404.788086]
[473,0.11168012332141397,0.14393857380184358,null,0.58520916359731046,0.72890265734288717,null,null,0.17437721174235937,0.12617906739890708,0.16307549002594554,1.6564431743701199E-2,0.19228956561289706,0.2480217919652318,0.28119981684637363,0.28201435560885219,0.18418490201412313,0.25485985945533601,0.1196771437563121,0.11454733971362242,0.17060814516013126,0.22208734984252665,0.31008989669842674,0.31510268802091385,0.30841043306849081,0.10796663746076837,0.14818293752319753,0.19990021503815694,0.30467960304082581,0.30511825227266254,0.28218169916712627,0.33288285591743733,0.10676445266799553,3.0227935485813488E-2,0.16813595935761441,0.21911950316910858,0.47201201906178986,0.63331823167327861,0.98799785468027501,0.95787769208920726,0.97794328922566243,null,53228.65625,44287.179687999997,46993.339844000002,52241.914060000003,48042.617187999997,30105.203130000002,19682.785156000002,31178.777343999998,14361.302734000001,18055.871093999998,5659.1484380000002,6848.5034180000002,13198.375980000001,20153.130859000001,39517.449219000002,20961.757812,20560.966799999998,35558.582030999998,19579.701172000001,51974.972655999998,0.33288285591743733,14952.588867]
[474,0.1150524066638092,0.14818044223577898,null,0.57981461971801718,0.71231262834924125,null,null,0.1589143631081098,0.11691563460551271,0.14897146550109697,1.6557719931302201E-2,0.18556039369570346,0.2353256294177872,0.26710710188727116,0.26636170307251006,0.17500334616407096,0.23961108828331981,0.11495265324424288,0.11124638640151176,0.16397419888280917,0.21561787755711403,0.29610097012247633,0.30029344262570706,0.29583305518255459,0.10786994373975257,0.14710822106592197,0.19313264990979684,0.29258646265947658,0.29385014402623572,0.26774273830298306,0.31785633829571269,0.1048740057151393,2.7572121979620973E-2,0.16900979522103585,0.21745435846101765,0.46826257296266632,0.6284489011932537,0.97736366684801645,0.93981859965722081,0.96591384159606819,null,50579.777344000002,42582.109375,44685.757812000003,48575.355470000002,45557.480469000002,29003.740229999999,19159.087890999999,30006.861327999999,14002.729492,17609.435547000001,5323.0493159999996,6383.6884769999997,12695.58887,19554.207031000002,38096.109375,20183.396484000001,19704.73242,34406.859375,18840.058593999998,49561.652344000002,0.31785633829571269,14562.637694999999]
[475,0.11967239346877011,0.15300568643548157,null,0.57489005301433682,0.69702941183963951,null,null,0.14660550095207114,0.10817259506087806,0.13671769231854072,1.66434148409937E-2,0.18278674662593769,0.22586972640818867,0.25549244621757,0.25432945478726493,0.16769674329540385,0.22570261562545979,0.11127500716870901,0.10979248041435394,0.15948747575215474,0.21380537152011786,0.2851503825117212,0.28934273583590214,0.28292055951047002,0.10960745212927799,0.14832316825252934,0.18948345718650364,0.28421287135556328,0.28659043432096221,0.25591885874401521,0.30433433154171252,0.10512867196231156,2.6222995138609768E-2,0.16951846922395414,0.21753210171906856,0.46648326375405436,0.61655915232716219,0.96273032395480262,0.91963165313842987,0.94458934448472132,null,47937.472655999998,40802.144530999998,42428.097655999998,44987.011720000002,43078.292969000002,27900.742190000001,18627.433593999998,28824.601562,13669.286133,17146.623047000001,4992.8046880000002,5937.6191410000001,12192.762699999999,18972.199218999998,36588.277344000002,19351.986327999999,18958.4375,33199.507812000003,18073.958984000001,47200.601562000003,0.30433433154171252,14224.663086]
[476,0.12529783042865322,0.15977038773790847,null,0.57247070677031509,0.6852790075107309,null,null,0.13564845412178192,0.10246881657796318,0.12621417007291333,1.7134859569705702E-2,0.18222430623034219,0.21640356106713074,0.24562798058388399,0.24443809604386318,0.1625883433743584,0.21443743505666241,0.10825242555470192,0.10722245981976998,0.1551155148124104,0.21319581611776597,0.2773502516360703,0.2823752087739656,0.27296137010540278,0.11229775595350316,0.15084070614106199,0.18514817877142062,0.27849335699601752,0.2821891486109937,0.24865411285738154,0.2961736233428835,0.10522744555436749,2.641761639506629E-2,0.17052061328829723,0.22036303829722642,0.46193295897755615,0.60800475787418984,0.94413975839850883,0.90009495854150656,0.9273232090649659,null,45608.605469000002,39245.691405999998,40458.171875,41789.289060000003,40936.753905999998,26998.255860000001,18223.919922000001,27743.623047000001,13417.817383,16770.628906000002,4697.3359380000002,5538.0014650000003,11765.804690000001,18539.236327999999,35221.835937999997,18583.171875,18556.17383,32148.740234000001,17395.138672000001,45128.945312000003,0.2961736233428835,13972.314453000001]
[477,0.13106797907410195,0.16708580739185283,null,0.57011082737718288,0.67748415606214285,null,null,0.1256102399982609,9.6539281439067093E-2,0.11680441529998926,1.7654253307045401E-2,0.18141550865640629,0.20889890439761269,0.23782753108118052,0.23673479762687039,0.15839615620121922,0.20510328778885242,0.10627729508102247,0.10588754364615882,0.15316107879695198,0.21076323780723391,0.27208413264150205,0.27651532120523981,0.26642329419826127,0.11488506089328716,0.15345612483802162,0.18534158936126729,0.27447450291234032,0.27888172677547868,0.24234876111557221,0.28956701844072313,0.10619372141383314,2.5040670587487233E-2,0.17248837116493534,0.22177111187794069,0.45644611996341422,0.59502150265045428,0.92045838832453086,0.869937977518634,0.89702218768794584,null,43312.277344000002,37650.449219000002,38517.558594000002,38738.578130000002,38906.335937999997,26092.664059999999,17836.101562,26618.167968999998,13188.489258,16381.480469,4412.5556640000004,5154.3647460000002,11352.168949999999,18127.398438,33784.488280999998,17786.507812,18298.560549999998,31073.392577999999,16692.117188,43141.140625,0.28956701844072313,13725.552734000001]
[478,0.13822797093569367,0.17472316775136218,null,0.57265058446590777,0.67358928715770849,null,null,0.11836399283283335,9.2707663679418448E-2,0.10841614072491518,1.81985625443742E-2,0.182821833250531,0.20338329770109073,0.23263187264718377,0.23113806496743081,0.15644150373618584,0.19773939266138615,0.10536036478423147,0.10624857444149416,0.15253331474068671,0.21318859051980887,0.26873213738317464,0.27300222731065699,0.26240698880945301,0.118130451194324,0.15633195479935863,0.18744624436340218,0.27305551223912217,0.27821804502027225,0.24087877813491149,0.28369552632000578,0.10922084195363936,2.280955426528565E-2,0.1727658425797873,0.22379301210457395,0.45307163522470029,0.58860409809191727,0.90314709766468548,0.84924708356125611,0.87548866667710457,null,41200.320312000003,36158.546875,36738.28125,35901.460939999997,37131.394530999998,25249.3125,17493.275390999999,25520.304688,13014.905273,16047.716796999999,4151.5283200000003,4802.1435549999997,10978.034180000001,17768.296875,32369.103515999999,17016.556640999999,18195.308590000001,30089.78125,15988.940430000001,41383.910155999998,0.28369552632000578,13516.197265999999]
[479,0.14519008497844169,0.18227683950917128,null,0.57670617654270584,0.67134917328479982,null,null,0.11264743750784138,8.8350980128368214E-2,0.10302465961829727,1.89515111718731E-2,0.18520552582137617,0.20239933017470729,0.2314199986252328,0.22832839976348845,0.15626631491524839,0.19340239753155025,0.10562052237474787,0.10914534910471818,0.15352258517369821,0.21727274229032151,0.26968750447985085,0.27307151711352762,0.26153093063700045,0.12197962972351568,0.16183281980251352,0.19174297481272626,0.2753240097005048,0.28173072114984998,0.2396680758105334,0.28265358576420041,0.11296551258990936,2.2073662406461726E-2,0.17595641053608732,0.22404967760312502,0.44884231909717326,0.58010586408079934,0.88452860668325461,0.83590982619951515,0.85577440048845821,null,39398.769530999998,34896.796875,35291.164062000003,33484.984380000002,35752.652344000002,24622.644530000001,17279.601562,24563.498047000001,12948.494140999999,15801.932617,3929.0017090000001,4497.888672,10701.744140000001,17571.345702999999,31152.294922000001,16339.725586,18110.289059999999,29317.035156000002,15386.641602,39969.492187999997,0.28265358576420041,13422.506836]
[480,0.1522683583528591,0.19117601573206727,null,0.58395495853899959,0.67233661264611111,null,null,0.10783780806976714,8.5502478648081984E-2,9.9635416216682815E-2,1.9542582023253801E-2,0.18773075321422897,0.20282745181936693,0.23156279940789193,0.22833050994937387,0.15712545077360759,0.19238443243854944,0.10683861407440989,0.11103015113969505,0.15562936991357401,0.22275359421481725,0.27247171127067799,0.27444959174949529,0.26411951822190122,0.12700313585666123,0.16846887635541338,0.19420476862050584,0.27971689207172218,0.28713476365044238,0.24339211601127189,0.28289791582491108,0.11586192292046625,2.2682602749282649E-2,0.17915998408823042,0.227596445896492,0.45064992359236578,0.57846737880625665,0.8701358652007275,0.82413146480440036,0.84378038783947362,null,38019.09375,33910.90625,34178.421875,31507.064450000002,34703.304687999997,24206.191409999999,17213.791015999999,23779.433593999998,12992.698242,15683.542969,3751.9223630000001,4245.0410160000001,10516.037109999999,17502.492188,30151.740234000001,15782.570312,18238.068360000001,28739.619140999999,14923.672852,38962.058594000002,0.28289791582491108,13446.533203000001]
[481,0.16048967664292546,0.20120775222769904,null,0.59170117528484445,0.67621682207764156,null,null,0.10404734742455705,8.2265216887761866E-2,9.590560457835999E-2,2.03010595152158E-2,0.19351823778903132,0.20361599723029722,0.2327231466260076,0.22824426308174378,0.15503262015739544,0.19241033392726783,0.10834242490256514,0.11267777077513962,0.15883602798732666,0.22610758612356283,0.27730494290912927,0.27694200958084514,0.26762441900704564,0.13323125890863935,0.17556618281119829,0.19563053650725415,0.28547797619149545,0.29350542878335972,0.24334840119334056,0.2824115206366159,0.11880362602567091,2.1922438060016876E-2,0.18339643293745397,0.23239808950547713,0.45324295328803316,0.57906948673594849,0.86532494785730296,0.81863928425570975,0.82884049056618769,null,36736.5625,33019.226562000003,33136.21875,29726.29492,33778.082030999998,23823.28125,17177.65625,23013.267577999999,13043.610352,15586.116211,3598.6970209999999,4011.2016600000002,10364.26856,17464.832031000002,29224.742188,15255.420898,18362.287110000001,28222.65625,14488.527344,38042.34375,0.2824115206366159,13487.359375]
[482,0.1686413914162434,0.21071537241149299,null,0.59955395779677212,0.6796983599660229,null,null,0.1004996402863529,8.0441960668619486E-2,9.2537686764178576E-2,2.10705316951839E-2,0.20071399268223489,0.20410594911325347,0.23465165383545741,0.22828160738277936,0.16054547961659688,0.19202878443306312,0.11049096599433494,0.11488250556182375,0.16269804456920581,0.23423577404498841,0.28305702633047308,0.28176127025026976,0.27215255732861626,0.13903887931178457,0.18275345741811019,0.20038602434195429,0.29175305636399673,0.30035998807657976,0.24999290341239505,0.28888107310373179,0.12454136744505685,2.2449917245338995E-2,0.18719915946305263,0.23738162666029386,0.45164648020383169,0.57827976955182347,0.85697529780359505,0.81192089721528438,0.81602104351845817,null,36000.042969000002,32590.802734000001,32551.765625,28372.216799999998,33317.097655999998,23714.814450000002,17328.228515999999,22523.314452999999,13253.425781,15680.849609000001,3497.7963869999999,3837.4978030000002,10355.74512,17632.056640999999,28646.166015999999,14954.061523,18653.458979999999,28066.486327999999,14234.436523,37607.15625,0.28888107310373179,13662.087890999999]
[483,0.17690840570531349,0.22026860755369104,null,0.60650521198470531,0.68157021253308148,null,null,9.8432449119203694E-2,7.7691233305847623E-2,8.9787545798806656E-2,2.20074713990146E-2,0.20626673724441219,0.20627759313571231,0.23788084100375453,0.23090693754362535,0.16061884818476468,0.19279204336320299,0.11313193012693845,0.11905273461028426,0.16719501329454187,0.24224750512354096,0.28788128050520201,0.28889697666855735,0.27568836551062614,0.14441797560536238,0.18958675713826553,0.2032987423239086,0.29895727609672679,0.30791317187600092,0.24927900726481944,0.29472654657665376,0.12766577637121887,2.0466290419679019E-2,0.19164731082154146,0.2433554109574998,0.45556242691922577,0.58066949830122472,0.85317526063546245,0.8080781205084252,0.80955484999736038,null,35158.816405999998,32081.210938,31880.15625,27050.53125,32799.449219000002,23529.164059999999,17435.050781000002,21989.394531000002,13427.702148,15698.633789,3401.2170409999999,3667.8081050000001,10329.63184,17757.337890999999,28016.296875,14642.40625,18864.539059999999,27838.412109000001,13975.029296999999,37107.351562000003,0.29472654657665376,13798.521484000001]
[484,0.18679457232947472,0.23288067887697961,null,0.61458193716975551,0.68378278019792793,null,null,9.6221573182235662E-2,7.5024616216598228E-2,8.8130559092469127E-2,2.29328554743688E-2,0.21304053572423992,0.21024906827020468,0.24086294350754417,0.2337782958432521,0.1631778200738325,0.19397454652863322,0.11615128895482785,0.1233237399808858,0.17229691568044223,0.24621547070774527,0.29244255323550572,0.29550437957050252,0.27978774773930276,0.15059090444951029,0.19627526376045612,0.20901397700878355,0.30614475421535781,0.31509629003043249,0.2512475811821871,0.30089008660577632,0.13121775201048605,2.0029085209006751E-2,0.19736349099890055,0.25153618940817896,0.458565422353514,0.58176185475506548,0.84975335916354588,0.80523931039655905,0.80375225147049556,null,34635.738280999998,31833.519531000002,31457.628906000002,26041.574219999999,32556.6875,23521.712889999999,17654.541015999999,21672.976562,13663.006836,15834.799805000001,3340.8249510000001,3532.8544919999999,10384.51856,17990.996093999998,27634.431640999999,14449.625,19166.59375,27805.943359000001,13851.664062,36850.738280999998,0.30089008660577632,14025.973633]
[485,0.19587629896134662,0.2453237433115755,null,0.62151526213221409,0.68820027858179189,null,null,9.4429469246345404E-2,7.3336408672217149E-2,8.6515280423486315E-2,2.3629687192462199E-2,0.22227602993412751,0.21493291368748063,0.24627422514582509,0.23771524375417219,0.16398229562019087,0.19677814648741038,0.11969334683526163,0.12531568851902899,0.17798571559262985,0.25332856125575759,0.29797413342015516,0.30197095909344202,0.28514243604414846,0.15874241733521513,0.20508683876690073,0.21649169391204615,0.31416443319161541,0.32389111949149529,0.25629782342250185,0.30724131945012195,0.13685555474893568,2.1612675061203582E-2,0.20383813743154364,0.25814035123939594,0.46513163742720925,0.58803206277587783,0.85202051918002342,0.80275247184191467,0.79993067262456885,null,34330.609375,31783.193359000001,31234.791015999999,25251.585940000001,32470.230468999998,23621.3125,17957.238281000002,21459.964843999998,13960.535156,16027.028319999999,3306.6674800000001,3417.7541500000002,10497.63672,18282.029297000001,27431.962890999999,14353.140625,19508.03125,27873.345702999999,13800.037109000001,36777.742187999997,0.30724131945012195,14291.255859000001]
[486,0.20595624363400683,0.2571096652024894,null,0.62899580462734994,0.69139148964492603,null,null,9.3948001111284124E-2,7.3172209450971207E-2,8.5241728799372446E-2,2.4714075682596599E-2,0.23108234567211816,0.21975998000529198,0.25227531183621266,0.24128088040067533,0.16890861185062103,0.19911736921246742,0.1234951560560149,0.12920794156235499,0.18459190248555549,0.2658930398286819,0.30413070696651051,0.30765454133093134,0.29188225083183328,0.16684249514416052,0.21427196745081661,0.22052847161225886,0.32269235067361413,0.33447072451767956,0.26354954050759122,0.31387605344543645,0.14427672445257358,2.0676810286683337E-2,0.21155573055254623,0.26814320492368232,0.47184890212765235,0.59280927879044687,0.85406813242071389,0.8025235162275518,0.79833212708445578,null,34277.210937999997,31941.4375,31212.46875,24693.67383,32592.119140999999,23857.591799999998,18338.835938,21434.351562,14329.872069999999,16327.811523,3301.806885,3333.3623050000001,10693.81934,18677.84375,27431.433593999998,14392.330078000001,20014.949219999999,28150.722656000002,13869.577148,36904.285155999998,0.31387605344543645,14652.428711]
[487,0.2156951266406141,0.26794417645995044,null,0.63244864074813567,0.69110532166661875,null,null,9.2859982386472209E-2,7.2946693167146429E-2,8.4553202697315075E-2,2.5743103490660401E-2,0.23800317384449149,0.22386388976836144,0.25709498305324113,0.24653258690461491,0.17070963788602897,0.20114023320682398,0.12894543206551204,0.13620305792159787,0.19096976798613929,0.27136433159752338,0.31074089805340233,0.31440856176116205,0.29755922312419897,0.17429463481847468,0.22264653509923932,0.22772019395688617,0.32984900878983381,0.34389275537536856,0.26538695787634514,0.32191667289318499,0.14787227949202275,2.0762477831864471E-2,0.21924145183616248,0.27557383536615454,0.47373956940623951,0.59380580800336791,0.85073528185839264,0.7986345628116589,0.78941894226402132,null,34119.855469000002,31948.740234000001,31066.533202999999,24100.4375,32579.525390999999,23934.75,18615.994140999999,21324.751952999999,14633.099609000001,16539.244140999999,3289.9926759999998,3242.8305660000001,10841.91699,18954.125,27308.867188,14401.163086,20391.14258,28260.527343999998,13891.730469,36838.480469000002,0.32191667289318499,14921.177734000001]
[488,0.2265458381695751,0.28117183356466147,null,0.63630910937354035,0.69168086202649537,null,null,9.2792937543770174E-2,7.3728668507464776E-2,8.420241340364569E-2,2.7029945166322501E-2,0.24535236400578708,0.22860070193059509,0.26218307921061484,0.25244698555913886,0.17753862786424854,0.20639292814639995,0.13346436331685965,0.14363821696334803,0.19803482381483442,0.28524734670861956,0.31913796161933777,0.32268160460449929,0.30385504439717698,0.18173233572616274,0.23293076248220149,0.23219009820356326,0.33871818929755965,0.35259970828610881,0.27408176125058376,0.32716609694411958,0.15426701521240832,2.3408857497671732E-2,0.2266283192377182,0.28501501196924955,0.47755534109003794,0.59550218231832419,0.85268311818394305,0.79343513061721238,0.78368661020910269,null,34221.285155999998,32222.070312,31197.734375,23821.558590000001,32813.558594000002,24219.556639999999,19045.376952999999,21429.664062,15030.673828000001,16874.035156000002,3309.336182,3188.4895019999999,11092.17383,19373.570312,27430.896484000001,14537.162109000001,20979.654299999998,28597.425781000002,14069.804688,37065.875,0.32716609694411958,15295.619140999999]
[489,0.2367211670942895,0.29434746887671087,null,0.63940965706261177,0.6911640964060477,null,null,9.3130851111078605E-2,7.4378687563292495E-2,8.4280136214034948E-2,2.8057060611710798E-2,0.25403652008562094,0.23606857754777016,0.26807989053649095,0.25859517528522408,0.18200547961597785,0.20967760346166334,0.13988422818855348,0.15086524189707859,0.20603680301255736,0.29185468291495131,0.32843160352285594,0.33098073352000806,0.3125320258184548,0.19087321112548919,0.24592923303395872,0.23705305845924296,0.34931113724222979,0.3623085269024135,0.2762378526854492,0.33159122323375928,0.15964296832393915,2.4076366995337002E-2,0.23414587742729404,0.29469268259303372,0.48081061610612386,0.59765168486537201,0.8477918694598533,0.78891736918538047,0.77597352021847132,null,34354.921875,32480.908202999999,31331.548827999999,23622.441409999999,33116.25,24465.746090000001,19431.289062,21550.832031000002,15403.795898,17167.400390999999,3340.3728030000002,3141.3723140000002,11349.027340000001,19766.875,27563.625,14690.240234000001,21426.214840000001,28920.326172000001,14246.400390999999,37228.511719000002,0.33159122323375928,15660.791992]
[490,0.2472763593704746,0.30663806282831124,null,0.64228700124741112,0.69043411944868505,null,null,9.4771809382302744E-2,7.6149452665240008E-2,8.6128138193398665E-2,2.9304278006246898E-2,0.26348915001777701,0.24369482407518864,0.27801185649752286,0.26635600180157826,0.18944483746728949,0.21480422040471336,0.14613438582580277,0.15611391720312956,0.21508838517192885,0.29994650029089454,0.337595330903393,0.34094075660183643,0.31765893158448971,0.2005130159686502,0.25746200401424968,0.24220259301809541,0.35908476954358293,0.37417114986438194,0.28293260778500584,0.33864099452691149,0.16493879403758957,2.5543536092485622E-2,0.24187837957871783,0.30371276101973094,0.48325728331407497,0.59981222085557051,0.84579913822124753,0.78798444276023416,0.76944121428313828,null,34580.242187999997,32774.828125,31546.208984000001,23562.238280000001,33451.148437999997,24742.261719999999,19849.199218999998,21702.5625,15793.125,17503.333984000001,3385.4819339999999,3107.1923830000001,11673.150390000001,20172.361327999999,27762.572265999999,14880.714844,21926.005860000001,29265.314452999999,14452.356444999999,37492.230469000002,0.33864099452691149,16030.072265999999]
[491,0.2575046164397734,0.31830640847984532,null,0.64676574359557981,0.68803411426634198,null,null,9.7835348580498999E-2,7.9875212181060223E-2,8.7904794219869742E-2,3.0408977051238E-2,0.27302651754058116,0.25265148286818168,0.28597324479826064,0.27419059015291425,0.19394254405159406,0.22303048623954744,0.15312237714824231,0.16337406701529719,0.22519549152783522,0.31629305494954435,0.34800706288660355,0.35297079399566184,0.32453071217400098,0.2100377889565396,0.26864803532316445,0.24804031169064578,0.36950096997926074,0.38681941904538825,0.28981363047191222,0.34808012304624131,0.17319630369601291,2.6217916454954665E-2,0.24917760113908355,0.313793933688784,0.48419385506868529,0.60316560912010697,0.84279518744822168,0.78329473504437919,0.76361909387806226,null,34962.796875,33168.523437999997,31866.304688,23649.33008,33895.351562000003,25082.712889999999,20298.859375,21939.332031000002,16229.533203000001,17875.265625,3453.3232419999999,3097.408203,12003.523440000001,20656.878906000002,28040.037109000001,15124.222656,22573.587889999999,29684.621093999998,14726.635742,37829.15625,0.34808012304624131,16457.271484000001]
[492,0.26850999725470226,0.33160535581672229,null,0.65165480151978206,0.68725859072603912,null,null,0.10158579978242631,8.3883486451766631E-2,9.0323218450029427E-2,3.1553585109692403E-2,0.28145389070783244,0.26083988683021125,0.296147485771668,0.27931579685774094,0.20397084588501668,0.22705238548422599,0.15987430239478564,0.17394523413315788,0.23376701660619989,0.32872081937150077,0.35683672931622884,0.36230668214924799,0.33251513924602949,0.21947154628701987,0.27991692617398883,0.25785936396436804,0.37793582780945945,0.39724022267342723,0.29622311659194761,0.35289741206692465,0.18044666167833806,2.7715402961397413E-2,0.25900056236104391,0.3238851151100684,0.48766310608956992,0.60348485079699665,0.84154059297924444,0.78062569563513784,0.75956558344148917,null,35364.585937999997,33573.09375,32209.472656000002,23877.3125,34366.953125,25410.578130000002,20764.707031000002,22189.023438,16677.898438,18259.681640999999,3546.6560060000002,3098.9272460000002,12359.76563,21122.923827999999,28304.064452999999,15413.227539,23109.314450000002,30086.994140999999,15020.8125,38166.277344000002,0.35289741206692465,16884.025390999999]
[493,0.27970567053345879,0.34503924678929332,null,0.65568666930324793,0.68691242126540486,null,null,0.10549318385856149,8.9329822352398613E-2,9.3533292641257051E-2,3.2934035179889201E-2,0.29016097294460769,0.26908040663305921,0.30622578526710731,0.28729344085956743,0.21427504893052116,0.23294556936501429,0.16705367043359473,0.18124489402300706,0.24243311731944878,0.34528495756370087,0.3666822272986911,0.3711033953092544,0.3406693206170423,0.22794515479994884,0.29110192489986991,0.26838789203984764,0.38666330607895777,0.40707292281633867,0.30671986635052928,0.35823426305087169,0.18870390758353878,2.7309813240496486E-2,0.26656106113762185,0.33463250846215953,0.49142040260896808,0.60535929083406015,0.83847048794838941,0.77726449686471633,0.7537140188674748,null,35883.734375,34117.644530999998,32736.21875,24332.664059999999,35005.421875,25828.816409999999,21285.207031000002,22536.6875,17155.236327999999,18670.984375,3665.040039,3130.0283199999999,12785.184569999999,21642.667968999998,28674.314452999999,15734.621094,23607.064450000002,30578.544922000001,15369.892578000001,38641.480469000002,0.35823426305087169,17325.841797000001]
[494,0.29061046178548749,0.35765651082229827,null,0.66080157596852462,0.68804113749162021,null,null,0.1110105318412393,9.494994525488662E-2,9.7927215392765249E-2,3.42147694328232E-2,0.30003834010968511,0.27924488755653509,0.31830484144002891,0.29585716361639036,0.22375946714013931,0.24066103518063503,0.17601553163514255,0.19041489349563165,0.25320825476381598,0.35784957878813978,0.37877393053946218,0.38018173338782218,0.35039543097021836,0.2378721337898792,0.30246100324042124,0.2782832671525603,0.39880360130455378,0.41906298728261498,0.31244366254047806,0.36537849185644961,0.19669448513202284,2.8666793131566573E-2,0.27472843137860836,0.34426062690354658,0.49642175001793454,0.61019548223742148,0.83679824386499202,0.78105982438700305,0.74605938930615845,null,36509.566405999998,34713.796875,33343.789062000003,24924.11133,35754.644530999998,26282.474610000001,21835.158202999999,22950.564452999999,17679.869140999999,19120.574218999998,3808.8327640000002,3182.8596189999998,13243.51074,22215.787109000001,29116.939452999999,16116.25,24245.64258,31123.1875,15762.786133,39178.6875,0.36537849185644961,17822.816406000002]
[495,0.30238224864724117,0.37171536589896886,null,0.66948619066911474,0.69413084598524366,null,null,0.11841253068999902,0.10150273331849781,0.10410436401078445,3.5450781389435998E-2,0.31145302932715202,0.29128120015429437,0.3317348504519177,0.30639556181673605,0.23605617402089438,0.25013658155056251,0.18598737660041337,0.2026650973787863,0.26642268285857923,0.37205164714884148,0.39234478818013702,0.39358129159980576,0.36000730965629857,0.24826248209988494,0.3144005986713016,0.28706098618362458,0.41158365336838743,0.43342050632700313,0.32078952702869035,0.37350326304248832,0.20442007948344812,3.3466295398787212E-2,0.28322279471077938,0.35397623659848637,0.49958070155229012,0.61471439780322856,0.83513518623312788,0.78052168700727254,0.74349881809882046,null,37190.152344000002,35318.847655999998,33986.6875,25652.818360000001,36529.9375,26752.92383,22390.816406000002,23389.951172000001,18200.763672000001,19585.341797000001,3979.9411620000001,3248.1708979999999,13728.67188,22784.986327999999,29582.820312,16507.705077999999,24899.685549999998,31641.636718999998,16175.575194999999,39772.785155999998,0.37350326304248832,18306.064452999999]
[496,0.31334729226539887,0.38391511342761947,null,0.67635172596245197,0.69754651853231597,null,null,0.12662944827410921,0.10828192588264929,0.11114156636938538,3.6679482839831599E-2,0.32186475561726968,0.30405696375938268,0.34457590158782042,0.31563076035168336,0.24406562728672407,0.25919782452325651,0.1965448029371854,0.21604432085936362,0.27804755797659059,0.38617471149593224,0.40493539919996768,0.40309764136206111,0.36847356489195104,0.25726135419854557,0.32626381969110363,0.29543162150995156,0.42320597662406706,0.44627423478390033,0.32900991171940858,0.38143500023623156,0.21054145575016586,3.3975106297828669E-2,0.29290148692262918,0.36617670879064279,0.50607648579639319,0.62079073000538909,0.83874975379991767,0.77989106036584321,0.74313138481650909,null,37951.542969000002,35950.316405999998,34685.605469000002,26531.552729999999,37392.902344000002,27231.789059999999,22922.421875,23851.818359000001,18724.945312,20047.291015999999,4182.7221680000002,3339.188721,14246.058590000001,23361.009765999999,30068.699218999998,16916.978515999999,25551.136719999999,32152.007812,16618.914062,40367.585937999997,0.38143500023623156,18803.832031000002]
[497,0.32297026147624058,0.39566858568465924,null,0.68354940335373637,0.7016790763789742,null,null,0.13604876100052377,0.11675882006928566,0.11812787943213986,3.7898213957556201E-2,0.33264980544759426,0.31837721085449155,0.35710170825346982,0.32684133951828892,0.25399055731094472,0.26656961330068896,0.20606418539074783,0.22742535723069709,0.28972043194403246,0.39828954395688482,0.41895690246730666,0.41376646293015323,0.37796879636345571,0.26636352544545755,0.33808731486096216,0.30783605918028545,0.4357078849344122,0.45949550288737262,0.33685529255879404,0.38909033867744086,0.21864288250976321,3.677155974307731E-2,0.29946608351046716,0.37352722332922123,0.51024003365169812,0.62530346729531228,0.84167873983366859,0.78185812221484252,0.74123200680848012,null,38790.089844000002,36666.777344000002,35505.515625,27636.79883,38328.828125,27744.808590000001,23514.035156000002,24371.003906000002,19280.435547000001,20537.011718999998,4419.8544920000004,3452.6293949999999,14818.749019999999,23963.572265999999,30598.929688,17399.277343999998,26233.20117,32740.519531000002,17120.417968999998,41006.351562000003,0.38909033867744086,19331.4375]
[498,0.33092108920079133,0.4059534331987138,null,0.68869526829025529,0.70720729061417564,null,null,0.14582521490650882,0.12494503750081327,0.1258673387361065,3.8662815088864398E-2,0.3428891945226088,0.33137197484701575,0.36922748063233596,0.33675338020352613,0.26616935715150281,0.27445004034787596,0.21582311813230554,0.2377293224247527,0.30170665799144902,0.4109108778917222,0.43197474878778619,0.42491981482220553,0.38699700056662389,0.275827502113903,0.34859896143161689,0.31718468837883695,0.44745281790920183,0.47168553638533289,0.34309727470219376,0.39790593216734055,0.22603263605086465,4.0620687131227753E-2,0.30732560420956745,0.38426279048445905,0.51607436841403942,0.63331378607123645,0.84281061260180323,0.7851310413691055,0.74020036000215672,null,39525.84375,37289.5,36261.390625,28802.251950000002,39211.617187999997,28190.73242,24039.611327999999,24866.013672000001,19775.828125,20953.671875,4672.2934569999998,3578.8308109999998,15394.032230000001,24481.501952999999,31079.0625,17857.001952999999,26732.697270000001,33224.5,17591.580077999999,41567.96875,0.39790593216734055,19796.976562]
[499,0.33955643505012445,0.41689414486723886,null,0.69575487722405394,0.71293248820005828,null,null,0.15652504830201616,0.1349390117133015,0.13424490054124544,4.0010886804885001E-2,0.35130054006803357,0.34241883220461555,0.37879578156689769,0.34421898473796947,0.27544367417560139,0.28292547767869147,0.22552576159815699,0.24556678580481109,0.31307761981423204,0.42306500345322667,0.4438806103343762,0.43488870001722096,0.39364394139935599,0.28477397206306565,0.35864796450091324,0.32367124847705342,0.45698088192189001,0.48139588310823278,0.3511030036290374,0.4044258987938521,0.23110709097035856,4.4746362980268434E-2,0.31492158936190301,0.39234091348020944,0.52138954619512756,0.63907987013962919,0.84578965370102899,0.78666441828438927,0.73999161519799184,null,40401.820312000003,37943.847655999998,37118.269530999998,30165.613280000001,40157.390625,28673.558590000001,24556.080077999999,25427.927734000001,20281.064452999999,21407.144531000002,4961.8266599999997,3732.4841310000002,15996.51074,25069.742188,31645.460938,18365.736327999999,27444.808590000001,33763.269530999998,18126.738281000002,42180.3125,0.4044258987938521,20285.134765999999]
[500,0.34682950003191843,0.4258500722913573,null,0.70256191821517222,0.71817712548876544,null,null,0.16796028142707711,0.14527453081270861,0.14291210602357293,4.08914256984379E-2,0.35940018460195877,0.35248675717984412,0.39017493260685848,0.35214237969248618,0.2852281866299492,0.29091113590002415,0.23569242058169615,0.25675521693740083,0.32410451008670565,0.43547255208074515,0.45511615644565973,0.44369687923321588,0.39972314359997813,0.29329844140558992,0.36950209474797996,0.32971124090421838,0.46602538568252083,0.49099330193187518,0.36004112410753625,0.40753147100649406,0.23932150349847139,4.4225777354067387E-2,0.32112699521255078,0.39941252008012129,0.52658190056974463,0.6419492794508892,0.84842339163733527,0.78994405165478609,0.73841164782779356,null,41220.339844000002,38570.101562000003,37924.574219000002,31633.175780000001,41067.113280999998,29064.644530000001,25058.330077999999,25931.300781000002,20732.671875,21829.544922000001,5278.4384769999997,3896.5419919999999,16569.976559999999,25600.949218999998,32180.527343999998,18860.777343999998,27961.625,34225.78125,18671.654297000001,42732.4375,0.40753147100649406,20750.007812]
[501,0.35423314244132748,0.43479989620784532,null,0.7076087632003768,0.72159341140728706,null,null,0.18011831848339593,0.15595391278701831,0.15253559704466244,4.1730631462101403E-2,0.3686187348406732,0.36391896654136385,0.40433612254363771,0.36269957095071259,0.29607846562810941,0.29948984988296351,0.24600220685984939,0.26960088940581628,0.3371055264632985,0.44970147323772436,0.46698540255230309,0.45489543821977363,0.40758829598454649,0.30201200921627153,0.37999878508495538,0.33482257265348592,0.47785190352789575,0.5027152649087675,0.36680689663664712,0.41341304037568932,0.245101179771473,4.9783423734208236E-2,0.32989018783288937,0.40822701615734219,0.53159611281875352,0.64745861873602428,0.84921128099273269,0.79208309082155937,0.73714172633682939,null,42152.953125,39253.800780999998,38804.867187999997,33304.589840000001,42066.996094000002,29507.335940000001,25581.380859000001,26540.728515999999,21224.955077999999,22281.416015999999,5628.0439450000003,4090.7768550000001,17225.640630000002,26170.681640999999,32783.425780999998,19412.171875,28401.730469999999,34755.015625,19262.701172000001,43354.839844000002,0.41341304037568932,21243.220702999999]
[502,0.36016981442982554,0.44040760812248669,null,0.70930198636654029,0.72179441745529771,null,null,0.19364287401412397,0.16673471853044494,0.16220840670665243,4.2744120818675402E-2,0.37542403792428064,0.37656374724917013,0.41715428453627479,0.37201087197608024,0.30805381217420674,0.30767787098375909,0.25579256436967035,0.28174715437250625,0.34913784803236314,0.458853502851714,0.47765694024977384,0.46305214473702067,0.41580046568628071,0.30978424004356381,0.38887167957765006,0.3432302481275567,0.48681793905077109,0.51247838379854327,0.3718572647352375,0.42105024069603281,0.25047329427523196,5.4108633070219084E-2,0.33648711687838329,0.41559191031042231,0.53599287743475832,0.65326160373387909,0.85291076016429634,0.79647294538797375,0.73874425966106316,null,42938.671875,39839.296875,39633.101562000003,35021.886720000002,42922.300780999998,29890.757809999999,26050.488281000002,27090.005859000001,21643.451172000001,22664.369140999999,5988.5039059999999,4289.5610349999997,17855.384770000001,26647.654297000001,33314.332030999998,19961.855468999998,28836.283200000002,35176.652344000002,19824.457031000002,43845.917969000002,0.42105024069603281,21657.441406000002]
[503,0.36676235281760938,0.44803202687312399,null,0.71426381219835056,0.72652378921298078,null,null,0.20805553047298633,0.17836671752768299,0.17255774405675328,4.3638040388959597E-2,0.38235863407814968,0.38830382180992523,0.42904209793920489,0.38015198252868382,0.31814166139865074,0.31500288970927381,0.26600228800586218,0.29372626848019412,0.36022820509583242,0.46769499551253091,0.48817029805474244,0.47324539883094224,0.42311433255878322,0.31639577859033402,0.39701444254953022,0.35395524635369274,0.49307507330702277,0.52037291277002085,0.37825256823740544,0.42434364600826019,0.25654353936002228,5.935398664738676E-2,0.34344574985041065,0.42448793493501891,0.54406513769319043,0.66071853700406125,0.85449763025319525,0.79798438087255874,0.73780347384435385,null,44028.617187999997,40660.390625,40705.953125,37044.894529999998,44037.070312000003,30423.496090000001,26636.458984000001,27808.070312,22180.224609000001,23160.375,6413.9204099999997,4528.0820309999999,18590.859380000002,27252.486327999999,34029.863280999998,20647.212890999999,29449.253909999999,35781.453125,20529.509765999999,44554.363280999998,0.42434364600826019,22165.777343999998]
[504,0.37203084356111332,0.45406722482358836,null,0.71641448928338969,0.72638878500499082,null,null,0.22227122691873313,0.19095326653970068,0.18357997462283021,4.42735384041976E-2,0.39088831732402202,0.39975939415571149,0.44111725935577739,0.39005319113857434,0.32412414179011251,0.32262864533618918,0.27691448888609371,0.30563340390922722,0.37162209276042424,0.48156694478050982,0.49892175757408203,0.4835326795858465,0.43157889321678367,0.32353959279298877,0.40536545076647545,0.3607456018512708,0.50172566641368344,0.52900186817189088,0.3839551491552623,0.43184927421507541,0.26228024690398039,6.2788008435727696E-2,0.34704064068988161,0.43107171860923998,0.54739459934628731,0.66254973599556621,0.85932499090088399,0.79982574062349998,0.73974814298508462,null,44953.003905999998,41308.386719000002,41617.699219000002,39037.578130000002,44974.382812000003,30836.884770000001,27089.251952999999,28438.0625,22634.599609000001,23566.529297000001,6841.0034180000002,4769.9399409999996,19237.189450000002,27760.011718999998,34648.820312000003,21245.886718999998,29873.511719999999,36241.359375,21170.988281000002,45093.074219000002,0.43184927421507541,22605.445312]
[505,0.37783153306165473,0.46096432914761792,null,0.71923738388517588,0.72632080585370773,null,null,0.23814858079958967,0.20449257929545281,0.19616986825734839,4.5219422163465903E-2,0.39901873369231267,0.41097827256495578,0.45202375957143243,0.39819554592084655,0.33820856705203023,0.33085475138518944,0.28887248955955325,0.31768965770350877,0.38266287074218719,0.49324230454115714,0.50936496175718748,0.48935499305694646,0.4388248051657761,0.33081597525307849,0.41379353909650268,0.36431778340910959,0.51117447285503581,0.53773971218425942,0.39108959303326413,0.43569260631383422,0.26815237093930083,7.0847627298829624E-2,0.35335546559325182,0.43963142693311524,0.55253115668990771,0.66788607446362735,0.86445244532189491,0.80295353454435403,0.74003496526682511,null,46005.648437999997,42091.707030999998,42599.261719000002,41254.199220000002,46028.175780999998,31324.515630000002,27626.0625,29162.351562,23135.287109000001,24037.849609000001,7302.7724609999996,5041.1225590000004,19959.929690000001,28309.236327999999,35347.117187999997,21904.777343999998,30401.121090000001,36766.765625,21889.378906000002,45746.328125,0.43569260631383422,23088.044922000001]
[506,0.38133867004949396,0.46621252211416764,null,0.720666838072064,0.72650824337120412,null,null,0.25386424801418611,0.21742180927032587,0.20691368444910441,4.5995177108702802E-2,0.40477399718843443,0.42187486873794861,0.46086709467864545,0.4038785510708004,0.34305263018273546,0.33714413457586134,0.29854762460444101,0.3270259717307491,0.39238516364637072,0.50057719669469991,0.5179730016998132,0.49571868379215273,0.44177163635912603,0.33764654064621269,0.42214151751353007,0.3685888089245552,0.51859662559343511,0.54503463030752564,0.3945953804070112,0.43881806905173998,0.27174583995019297,7.6965531677435722E-2,0.35961024486527671,0.44401959621497822,0.5556681834192978,0.67362208238895049,0.86795612186058357,0.80888468012504944,0.74141849872791066,null,47084.949219000002,42859.433594000002,43636.253905999998,43530.046880000002,47073.875,31846.771479999999,28152.693359000001,29950.210938,23646.560547000001,24475.707031000002,7790.7075199999999,5322.966797,20708.136719999999,28848.253906000002,36045.410155999998,22580.457031000002,30887.029299999998,37307.773437999997,22594.476562,46362.625,0.43881806905173998,23558.623047000001]
[507,0.38634351818861923,0.47042008748055758,null,0.72225691890718724,0.7253896182748174,null,null,0.2701730825748388,0.23028904177532922,0.21756087548120823,4.6500758870141198E-2,0.41024906910233488,0.43265997487824714,0.47026044097170522,0.41179786717645878,0.35577676615998555,0.34412509730947888,0.30539307538138505,0.33633990792340074,0.40197041532455591,0.50983293499931648,0.5266733505519352,0.50267752898444906,0.44526735460443834,0.34417627665033862,0.43146970815565311,0.37211211754220064,0.52594101819678796,0.55228390941850369,0.39980503573957427,0.44266248152680099,0.27759506371868792,7.7808301108786448E-2,0.36595859740456477,0.45111190747331947,0.56122103546144164,0.67592831593412872,0.87127726307291709,0.80866349534729898,0.74194604993099156,null,47987.425780999998,43487.871094000002,44529.46875,45780.398439999997,47923.546875,32264.845700000002,28575.314452999999,30620.333984000001,24078.716797000001,24834.177734000001,8283.4550780000009,5606.8710940000001,21385.9375,29284.357422000001,36636.75,23230.0625,31325.265630000002,37725.152344000002,23233.259765999999,46828.445312000003,0.44266248152680099,23943.886718999998]
[508,0.39255860424411071,0.47607506010506284,null,0.72677957051358588,0.72798401577602823,null,null,0.28609563606887373,0.2426633439205382,0.22882309132374609,4.7167208787690797E-2,0.41473227389114087,0.44321944413156761,0.47861140287341769,0.41953507708702303,0.36275316127108609,0.35170718776805521,0.31487494359186086,0.34285851124459377,0.41080991365007286,0.51583697286149388,0.53405922064496991,0.50777930711317065,0.4494075792904173,0.35004478429545371,0.43652313763687312,0.37723184068445609,0.53114157491094094,0.55801209965911802,0.40091977429573278,0.44375053557759769,0.28060666202508922,8.2546273756680777E-2,0.37052060888264576,0.45620062265653244,0.56442651353435291,0.67912360421140072,0.87004665131748316,0.80719735723257557,0.73990850739122094,null,48848.246094000002,44087.242187999997,45369.757812000003,48078.523439999997,48781.765625,32660.82617,28980.933593999998,31264.042968999998,24474.470702999999,25201.894531000002,8790.3974610000005,5904.9726559999999,22056.17383,29697.878906000002,37212.515625,23863.351562,31699.556639999999,38151.058594000002,23884.585938,47291.226562000003,0.44375053557759769,24342.765625]
[509,0.39633518795540729,0.4807332785283307,null,0.72692518398932227,0.72782862438576268,null,null,0.30150419851262472,0.25697958006517718,0.24088589949006078,4.7669439237624997E-2,0.41906018891252117,0.45237716806854456,0.48968454347866086,0.42415534100533692,0.37272485484445506,0.35905616712747063,0.32433133799537284,0.35176586886905103,0.4197368868685476,0.52682827374727992,0.54050262803920379,0.51375848110501676,0.45162941635747278,0.35516794556962644,0.44046015491434753,0.38453010761628403,0.53616428928701543,0.56373118372228348,0.40760879813997924,0.44631685456291287,0.2861956319398069,8.8978192585825525E-2,0.37614300041581628,0.46461908461797519,0.56922127900655139,0.68195837071107035,0.86998616484258451,0.80996756949523196,0.73875701823891293,null,49707.035155999998,44722.097655999998,46226.90625,50442.652340000001,49646.882812000003,33051.25,29394.5,31922.285156000002,24913.042968999998,25572.447265999999,9317.1689449999994,6219.9921880000002,22739.029299999998,30129.869140999999,37803.8125,24501.884765999999,31998.974610000001,38553.871094000002,24549.841797000001,47769.347655999998,0.44631685456291287,24751.302734000001]
[510,0.39932136618340408,0.48430373690914552,null,0.72640511378676065,0.72572187848181036,null,null,0.31768282212257576,0.27016686860479083,0.25281659574185195,4.83781318359617E-2,0.42294654622658345,0.46300549875966351,0.50031537270436832,0.43100262817909468,0.37935755947181948,0.36493897528398944,0.33293458204531529,0.36294116242419122,0.4278455499782815,0.53617070104677245,0.54751477476296129,0.51941587935775713,0.45690961804009211,0.35889646984023432,0.44643263276267475,0.38901036567727076,0.54252166434177806,0.56841989835961015,0.41062347635213625,0.44894264991642319,0.29014332255523712,9.5180567317740883E-2,0.37969135953309929,0.46680284042746206,0.57037505487311146,0.6840235029909536,0.87499036485638304,0.81064150390105949,0.7381104340599941,null,50550.914062000003,45306.953125,47037.203125,52873.820310000003,50527.542969000002,33418.160159999999,29815.080077999999,32622.279297000001,25307.873047000001,25921.183593999998,9862.2734380000002,6545.4121089999999,23453.041020000001,30540.65625,38378.441405999998,25155.097656000002,32421.949219999999,38968.671875,25211.486327999999,48229.96875,0.44894264991642319,25144.650390999999]
[511,0.40447835004149391,0.48910993618867354,null,0.72707888730172909,0.72851537279457468,null,null,0.33247715126318472,0.28384114049469711,0.26400687019355323,4.9211303296731498E-2,0.42850356285884755,0.47354070809829391,0.50834089450020314,0.43610713915697252,0.3888465825011434,0.3686874797052368,0.34225128385316272,0.37710698027635031,0.43645177856900552,0.54497711168278851,0.5550649991725497,0.52474511142452518,0.46221161228405244,0.3639275173082358,0.45237817690658072,0.39363973309944411,0.54769196675852083,0.57287196375331872,0.41514592106704168,0.44782786064993602,0.29448996362019841,0.10153852891956655,0.3860418881031949,0.47394091798295035,0.57428377449369461,0.68807285726532696,0.87882995095453176,0.81285989019430038,0.74036066278537915,null,51478.996094000002,45974.609375,48005.140625,55453.375,51460.675780999998,33861.023439999997,30292.810547000001,33364.6875,25760.923827999999,26346.027343999998,10441.792969,6893.2475590000004,24202.197270000001,31011.03125,39062.230469000002,25879.417968999998,32835.054689999997,39468.886719000002,25896.867188,48765.714844000002,0.44782786064993602,25596.773438]
[512,0.40822837008877089,0.49125481210392336,null,0.72769961151260587,0.73003007805319609,null,null,0.34738416185889764,0.29711772806827719,0.27531788362023479,4.97095906382687E-2,0.43451115478366342,0.48195823653780512,0.51538097174424247,0.44148474215672079,0.39252766448847837,0.37343822815967909,0.35092649905297629,0.38685488507229127,0.44519438221262897,0.54840873696040127,0.56123072483363634,0.52905733145165657,0.46575657664700121,0.36985476056345989,0.45771891860994712,0.39559197657117207,0.55237299773301263,0.57857856455932466,0.4152366385742724,0.44773362077227874,0.29793106837853606,0.10465748080037778,0.39039674225533361,0.47716882621378504,0.57799326646658777,0.68909353198828227,0.87659211637498324,0.81483227030714822,0.73841139212401441,null,52128.191405999998,46422.234375,48683.519530999998,57777.152340000001,52157.980469000002,34080.609380000002,30616.998047000001,33930.605469000002,26074.785156000002,26640.623047000001,10985.588867,7215.4877930000002,24841.152340000001,31330.537109000001,39533.480469000002,26460.859375,33042.207029999998,39758.386719000002,26492.580077999999,49082,0.44773362077227874,25936.054688]
[513,0.41070532075171468,0.49299923568266979,null,0.72681970786007943,0.72928394153350606,null,null,0.36400965050657808,0.30746173796605514,0.28603805654381997,5.0129376712179201E-2,0.4387809953062346,0.48906024377935453,0.52341628263844842,0.44907464079329096,0.4001685619881028,0.3798092645963681,0.35788747711852281,0.39502531842625388,0.45393020230698761,0.55358600196999197,0.56827316395136374,0.53446219097652037,0.46804946077178611,0.3757554191638684,0.4650766688292195,0.39891658423073195,0.55790518740496764,0.58462887248734818,0.41939044795037267,0.45340550708311228,0.29996325816755626,0.11030487581180858,0.39304267049258551,0.48093178082184634,0.57890094632076283,0.69172009378610966,0.87563168423109894,0.81391587128267839,0.73653988041956642,null,52821.707030999998,46897.988280999998,49402.234375,60121.207029999998,52891.542969000002,34342.476560000003,30944.570312,34495.550780999998,26413.490234000001,26973.005859000001,11544.773438,7552.8100590000004,25482.228520000001,31668.585938,40043.347655999998,27037.855468999998,33322.796880000002,40094.996094000002,27093.652343999998,49426.828125,0.45340550708311228,26276.533202999999]
[514,0.41439204800780383,0.49653511908177833,null,0.72831372382625392,0.72931905626349069,null,null,0.38137423308808632,0.32204519519651453,0.29690256535569909,5.0721527417414397E-2,0.44201350192185457,0.49607736502647221,0.53209674027410214,0.45668873082368089,0.40747692829994975,0.38556102024473238,0.3670712010586154,0.40302535568341813,0.46262196702222075,0.56292366758853329,0.57568919632523874,0.53840767871394801,0.47076664207999486,0.38107915926550423,0.47096255525063047,0.40703864817476515,0.56286321400530792,0.58988044536514039,0.42270210839727584,0.45715347345319474,0.3042155645739148,0.11741097489352517,0.39847298584073138,0.48728509087424332,0.58351695250614677,0.69342780416613925,0.87861899230538321,0.81507306577576999,0.7359285373279657,null,53637.769530999998,47509.0625,50283.621094000002,62628.902340000001,53746.367187999997,34751.757810000003,31385.265625,35191.484375,26832.058593999998,27368.470702999999,12178.835938,7916.0463870000003,26231.962889999999,32099.197265999999,40657.511719000002,27693.794922000001,33703.921880000002,40537.894530999998,27801.296875,49901.324219000002,0.45715347345319474,26689.802734000001]
[515,0.41722673548883749,0.5000272573495349,null,0.72989501468524598,0.72759973105746101,null,null,0.39756941127101508,0.33374475242574847,0.3081462986807747,5.0985444424765103E-2,0.44627390357834662,0.50612506281549718,0.53852362116005625,0.46236141197337716,0.41322576813137346,0.39041709206055247,0.37857858604352612,0.40976283964940163,0.47138028020878747,0.56968026560150109,0.58184553809008899,0.54305253402713483,0.47579700712066575,0.38502690080166674,0.47662654144373251,0.41684166172052184,0.56877150490494355,0.59516341427802744,0.4237708315922174,0.45595945796319298,0.30729414679787609,0.12274691610490394,0.4025767433222458,0.49155455191250963,0.58623482398150295,0.70004021286290408,0.87894115401218309,0.81520602154717703,0.73226752554065022,null,54326.816405999998,47958.464844000002,51037.53125,64974.066409999999,54380.003905999998,35038.839840000001,31736.134765999999,35788.261719000002,27185.240234000001,27687.380859000001,12751.709961,8270.2792969999991,26892.533200000002,32461.339843999998,41179.941405999998,28286.576172000001,34001.640630000002,40884.46875,28399.861327999999,50227.003905999998,0.45595945796319298,27029.615234000001]
[516,0.42125001014156366,0.50265151334923974,null,0.7310217298437256,0.7279461054407137,null,null,0.41210062411046267,0.34489329304047028,0.31935068708761044,5.1536948297897303E-2,0.45154017323035006,0.51366557683914504,0.5439572593966796,0.46488700920967962,0.41708332995651293,0.39584885333807346,0.38612797211228783,0.41921536276073501,0.47924824119593401,0.57483115687972797,0.58833293926015917,0.54944993352481974,0.48020457468465833,0.38801267195883887,0.4818348805701802,0.41996421422385072,0.57355759825154129,0.59943254777198762,0.42655424312456824,0.4568080718639278,0.31020447272339768,0.12608012099558491,0.40656908018613536,0.49725082290753347,0.59012090813425555,0.70252107304716938,0.88349255696016282,0.82345675033977095,0.7363397769232578,null,54951.128905999998,48408.964844000002,51689.289062000003,67268.804690000004,55008.269530999998,35338.25,32071.119140999999,36332.925780999998,27527.318359000001,27999.037109000001,13323.391602,8624.8583980000003,27533.76367,32792.894530999998,41686.921875,28859.451172000001,34193.4375,41206.128905999998,28972.748047000001,50526.03125,0.4568080718639278,27363.191406000002]
[517,0.42445318292582063,0.50623328349002794,null,0.73432774695854319,0.72569930941475558,null,null,0.42668047788695374,0.35619989627578919,0.32787009774028614,5.1711236731020398E-2,0.45422354830541389,0.52145822867375635,0.55109876446637052,0.46784991935085624,0.42272757464002875,0.39959746529884566,0.39160331633965578,0.42842197081950695,0.48641580434316706,0.57959712896694815,0.59402685674273137,0.55353867200362283,0.48312999202333795,0.39178204616364204,0.48541394595586185,0.42177123232558345,0.57644994349767975,0.60310432864372576,0.42745153688597343,0.45765759982898396,0.31313089374338027,0.1301982442163106,0.41007185759520487,0.50153225408701607,0.59125384981494711,0.70490539428762777,0.88546840292058371,0.82243002046258162,0.73714908249208455,null,55658.417969000002,48913.191405999998,52407.515625,69546.125,55686.433594000002,35686.964840000001,32411.673827999999,36907.996094000002,27879.6875,28342.816406000002,13904.389648,8986.0664059999999,28184.634770000001,33174.699219000002,42203.300780999998,29436.363281000002,34501.410159999999,41546.273437999997,29583.039062,50861.398437999997,0.45765759982898396,27732.513672000001]
[518,0.42649930738623443,0.50837825560595551,null,0.73462986390627016,0.72105196325891197,null,null,0.4420788868919367,0.36749062884803529,0.33675031100054348,5.2294626854911E-2,0.45690935218938722,0.52817245468732288,0.55767529932827287,0.47248517659779155,0.42892826417968472,0.40326405019681572,0.40071495093961085,0.43764024892411824,0.49360973623020382,0.58527823246890887,0.59976166919884855,0.55643401873824694,0.48502323310174122,0.39694218357376959,0.48861149291686218,0.42630086159211744,0.57959920130720721,0.60643993886832126,0.43086942388473193,0.45694422839937321,0.31681817333880474,0.13716433701269914,0.41360266092161202,0.50542089163522841,0.59321137762007914,0.70542806504763389,0.88477042318038135,0.81974636888821428,0.73491537329643042,null,56198.851562000003,49280.039062000003,52971.046875,71594.882809999996,56222.566405999998,35966.785159999999,32722.234375,37393.660155999998,28174.787109000001,28605.498047000001,14477.402344,9332.6962889999995,28786.726559999999,33480.742187999997,42661.589844000002,29974.585938,34620.765630000002,41802.863280999998,30123.435547000001,51124.972655999998,0.45694422839937321,28033.935547000001]
[519,0.4305636102457151,0.51295022913992006,null,0.73690367433507609,0.72190228460225914,null,null,0.45538529358838664,0.37655437070894332,0.34745451406829447,5.2789490658003098E-2,0.46205561031922332,0.53531687994637189,0.56498299006718244,0.47822495219173006,0.43151372218165274,0.40585063854957748,0.40970370757917174,0.44984797987156228,0.5018303488018182,0.59139070044211806,0.60634859097182847,0.56192472161782314,0.48790898313205949,0.40196782659714431,0.49393052947811605,0.43009651905335505,0.58534147647873236,0.61097771154412706,0.43270417702775243,0.45881230126344436,0.31926686369191942,0.14583085025466996,0.41869565505734113,0.50901756950595689,0.59990851288436986,0.71176281417640952,0.88797592628416355,0.82400901006414329,0.73447565328824593,null,56889.058594000002,49802.199219000002,53677.230469000002,73814.132809999996,56874.832030999998,36378.703130000002,33133.992187999997,37982.878905999998,28580.251952999999,28961.507812,15094.621094,9711.7353519999997,29450.394530000001,33878.765625,43205.320312000003,30611.775390999999,34989.507810000003,42178.929687999997,30733.650390999999,51525.699219000002,0.45881230126344436,28416.962890999999]
[520,0.43390534509146744,0.51819554590253092,null,0.73862412249187581,0.72100007524604948,null,null,0.46727953061835736,0.38950960075225599,0.35671614308680577,5.33333708300699E-2,0.46703953791230757,0.54254306984528833,0.57233243085167818,0.48471205566158143,0.44126366866004535,0.41091303232187137,0.41640502364455262,0.45618332111280163,0.50927848038943513,0.60205675111718981,0.61228580978763736,0.56688332933885455,0.49003652559930633,0.40643183717515979,0.49951099370994967,0.43591349172328903,0.59075752808026338,0.61625301270419486,0.43800806488321209,0.46089198135351656,0.3233592446241294,0.15303862618550154,0.42230559520359656,0.51357992995793544,0.60164761673330625,0.71350202039337707,0.89002094872635285,0.82240523670453569,0.73548777774150598,null,57550.285155999998,50283.546875,54393.566405999998,75982.585940000004,57546.304687999997,36752.308590000001,33521.914062000003,38574.160155999998,28993.121093999998,29319.189452999999,15731.121094,10107.482421999999,30108.79492,34284.511719000002,43769.207030999998,31244.21875,35328.882810000003,42556.550780999998,31357.619140999999,51951.015625,0.46089198135351656,28817.617188]
[521,0.43367136805448325,0.51855957057624691,null,0.73702408517977913,0.71781247773321122,null,null,0.47866258084506935,0.39831716872390999,0.36472982415193822,5.37912340557875E-2,0.46850534440168479,0.54885239247834006,0.5774829614556537,0.48681666763330567,0.44350239925543061,0.41464249071184395,0.42480097333129296,0.46118254419122284,0.51554760924408749,0.6048185151295743,0.61650022286450534,0.56736479950771568,0.49011190206213334,0.41038560295155024,0.50349046967846511,0.442162246111586,0.59468455606375725,0.61971816192960816,0.43810109556201543,0.46319636331545833,0.32664320980359507,0.15744674324354946,0.42446742487587508,0.51711195755070882,0.6051004171964055,0.71741966448060568,0.89582796506597728,0.82635044715046313,0.73676190149807563,null,58077.507812000003,50662.203125,54928.339844000002,77928.59375,58075.125,37008.980470000002,33819.773437999997,39070.394530999998,29333.152343999998,29615.519531000002,16299.711914,10472.280273,30680.492190000001,34617.5625,44178.273437999997,31773.814452999999,35574.972659999999,42818.480469000002,31889.414062,52214.660155999998,0.46319636331545833,29136.435547000001]
[522,0.43590558911792926,0.52085990482357147,null,0.73746388148587216,0.71722282354617639,null,null,0.49088566418838342,0.40714292075951242,0.3712285031873066,5.4183011746774902E-2,0.47134316129121667,0.55538184938935853,0.582871291233238,0.48961395263167035,0.45045285805325935,0.41741279085590083,0.43297404017866348,0.46813132847141131,0.52187225330818043,0.61258072816868703,0.62097598657908815,0.56879882660907277,0.49123122314277595,0.41411443892597916,0.50732781454328957,0.44388461237334581,0.59765837146938028,0.62326707538078652,0.44061173990033109,0.46139619339495819,0.32959547401324502,0.16335699931785597,0.4281265334037706,0.52255149085691732,0.60731164075879085,0.71864811024330255,0.89582914056870355,0.82474760777340772,0.73593468367542536,null,58615.78125,51097.046875,55561.886719000002,79857.195309999996,58648.21875,37309.945310000003,34179.855469000002,39615.089844000002,29682.058593999998,29969.888672000001,16893.587890999999,10848.792969,31263.994139999999,34974.351562000003,44623.707030999998,32326.394531000002,35899.621090000001,43145.269530999998,32466.398438,52535.316405999998,0.46139619339495819,29471.007812]
[523,0.43791682722832165,0.52131694868126055,null,0.73532946173469427,0.71866177655807562,null,null,0.50024076296413722,0.41523220545704886,0.3772938983203144,5.4882355578235599E-2,0.47271480857669612,0.56010355077426566,0.58451559339617443,0.49389666608031202,0.4520568972545439,0.41999266166607979,0.43764466517643136,0.47718877651732466,0.52748973839095226,0.61584189163518044,0.62485848778957409,0.57186654864009612,0.49582488075354486,0.41615684164727224,0.51153484375204261,0.44605042331581946,0.60006034052273194,0.626062975413615,0.44212098103500241,0.46142397649763367,0.33256549362823284,0.16490700899024185,0.43108276702374215,0.52146709326731211,0.60874770634746667,0.71910522120522091,0.89817151788146377,0.82725986997391199,0.73489406641407451,null,59213.753905999998,51553.089844000002,56192.503905999998,81796.734379999994,59241.058594000002,37668.015630000002,34550.28125,40171.792969000002,30066.148438,30333.341797000001,17493.951172000001,11245.640625,31862.101559999999,35373.527344000002,45115.226562000003,32891.328125,36207.167970000002,43509.363280999998,33077.164062000003,52894.347655999998,0.46142397649763367,29851.132812]
[524,0.44021489391609953,0.52504455904962077,null,0.73694777834199576,0.72019441411676977,null,null,0.51086800816742661,0.42245734687290143,0.38551329306132892,5.53186040832645E-2,0.47658140918196862,0.56730693320882042,0.59228596289304924,0.4974114444352899,0.45522858753566059,0.42437033621707271,0.4443150774506735,0.48413766533084174,0.53483254836816163,0.62212281511416523,0.6305630752479543,0.57818060354031742,0.49872610377141585,0.42191249115076346,0.51631816200308756,0.44905681123831442,0.60512982777123792,0.62996356254719188,0.44397592665480851,0.46207790860221354,0.33519893205930268,0.16871612624902341,0.43593766942715934,0.52672500309386727,0.61217508630012729,0.7234968391724812,0.89855703852015756,0.82670712024123227,0.73739012411886384,null,59718.773437999997,51957.429687999997,56773.140625,83591.59375,59790.199219000002,37999.574220000002,34873.59375,40681.988280999998,30433.414062,30688.277343999998,18103.871093999998,11630.740234000001,32447.910159999999,35737.503905999998,45550.941405999998,33446.535155999998,36621.742189999997,43830.183594000002,33630.503905999998,53206.117187999997,0.46207790860221354,30202.933593999998]
[525,0.44329286351530806,0.52812445319915113,null,0.74029113224546372,0.72214767856511697,null,null,0.52217180497176041,0.43024823157079406,0.39154826950372029,5.5670812792322402E-2,0.48087460687165973,0.57356871325379366,0.59944153470553285,0.50022936766389181,0.46038266204378053,0.42710805943981284,0.45115672566123932,0.48437621611185822,0.54311037214097491,0.6285714020767087,0.63627787436904581,0.58173168427764699,0.49969081421710621,0.42745188823137142,0.52093052277072327,0.45426448822954024,0.60908870991687669,0.63368891732633226,0.44534430893820359,0.46315235591076981,0.34061839042906938,0.17270044610963264,0.43953502859711735,0.53000964333898415,0.61645435271051607,0.72861575096386311,0.89947518812105065,0.8310903786475855,0.7366631134824686,null,60122.097655999998,52209.039062000003,57256.226562000003,85116.585940000004,60197.683594000002,38233.863279999998,35113.203125,41122.015625,30733.638672000001,30978.962890999999,18684.693359000001,11987.713867,32934.835939999997,36056.59375,45871.726562000003,33925.761719000002,36819.230470000002,44054.035155999998,34113.511719000002,53418.023437999997,0.46315235591076981,30496.130859000001]
[526,0.4457715950053821,0.53130736813101564,null,0.74105902553203906,0.72258835086661388,null,null,0.52925779169459797,0.43573157072571256,0.39522682198851933,5.6287927395259903E-2,0.48476515678777043,0.57831606526681889,0.60208072355193298,0.50198433161331024,0.46292440466736923,0.42784381116415193,0.45639986917234049,0.4882251032341684,0.54773823707594826,0.62923305530275941,0.63830343955848456,0.57985430385380976,0.50038099164628591,0.42995216717544854,0.5242390506080824,0.45642009413620238,0.61158542928728976,0.63577971279049661,0.44748417288123038,0.46412443681545767,0.34002050787219434,0.17787105758736246,0.44536115912981755,0.53508939860658744,0.62188366439377574,0.73086340632778191,0.9044554660815417,0.83257999316535392,0.73776816987891725,null,60528.261719000002,52514.828125,57676.703125,86620.414059999996,60596.273437999997,38472.675779999998,35399.367187999997,41566.925780999998,31011.304688,31285.171875,19258.355468999998,12356.838867,33440.789060000003,36384.917969000002,46218.625,34404.375,36993.207029999998,44315.789062000003,34617.773437999997,53627.507812000003,0.46412443681545767,30797.638672000001]
[527,0.44837807875073543,0.53427452719303137,null,0.74232240886908307,0.7245512972977558,null,null,0.5370579660797471,0.44175674807846693,0.40024384310231342,5.6819415611057397E-2,0.48766294562217005,0.58375915357335273,0.60391505760362685,0.50444766944216601,0.46593312143113375,0.42801733473531872,0.46267140285471214,0.49645847171303192,0.55235347247475819,0.6381999009951711,0.64187637605472125,0.58019897519210539,0.5021729659941242,0.43135046905350838,0.52789335541243476,0.46179783183898604,0.61468235731772947,0.63771713251197504,0.44815188977628889,0.46489323001088478,0.34377992497320808,0.18226300307981005,0.44814524011158352,0.54108064331558292,0.62634082667938284,0.73270881492513684,0.90537156816159892,0.8315825655343263,0.7391874348594859,null,60937.757812000003,52834.496094000002,58171.285155999998,88075.289059999996,61083.789062000003,38768.390630000002,35724.773437999997,42054.257812000003,31344.367188,31646.148438,19849.431640999999,12725.599609000001,34003.460939999997,36760.964844000002,46609.253905999998,34905.503905999998,37226.601560000003,44602.09375,35131.855469000002,53870.644530999998,0.46489323001088478,31116.427734000001]
[528,0.45319737904259233,0.53769933742041653,null,0.74443349342604881,0.7271244212478184,null,null,0.54520697208016067,0.44832090395935209,0.40435045765099109,5.7082001600969899E-2,0.49302287902436348,0.58932028419567495,0.60975327728159667,0.50795029908866229,0.47034022260401287,0.42977474413460015,0.47109892086364025,0.50372323780171213,0.55874174249222441,0.64253439155040959,0.64921954261472803,0.58484226952165297,0.50718530993016775,0.43707200490858661,0.53249678131996869,0.46936151900862205,0.61985181309704795,0.64150805023923363,0.45114402907000389,0.46512378895285356,0.34970422411897084,0.19265217190766656,0.4515796309918938,0.54444341501204485,0.62830932785587668,0.73645692769494964,0.91046850791296274,0.83641506081022376,0.74013966575991053,null,61404.535155999998,53206.675780999998,58715.78125,89563.195309999996,61609.191405999998,39148.269529999998,36077.886719000002,42574.914062000003,31719.689452999999,32032.064452999999,20463.425781000002,13108.224609000001,34561.183590000001,37191.539062000003,47087.460937999997,35458.492187999997,37615.699220000002,44928.230469000002,35683.785155999998,54194.511719000002,0.46512378895285356,31515.089843999998]
[529,0.45597365677741042,0.54024405901891559,null,0.74685843998923862,0.72826779694693777,null,null,0.55377724246519511,0.4559054780832163,0.41046804359630584,5.7895234400889103E-2,0.49779911491465667,0.59655220541235165,0.61692197167725937,0.51155404578780239,0.4738824820866992,0.43427868013861448,0.47786372623912043,0.50951674021053839,0.56522482219830594,0.65031335198397378,0.6553863585731643,0.59184596207509776,0.51102625236764265,0.4445948243923703,0.53855411351455207,0.47499282298506684,0.626894387411148,0.64758442891176304,0.45276841668583712,0.46459673192494844,0.35393868123028233,0.1923053481085748,0.45486168447327924,0.54862458096414446,0.62933937641193016,0.7411876092405788,0.91301016749263653,0.8378769566231814,0.74053064382597411,null,61742.351562000003,53433.015625,59115.988280999998,90757.414059999996,61936.917969000002,39403.277340000001,36345.15625,42981.351562000003,32040.072265999999,32352.726562,21050.302734000001,13446.012694999999,35069.914060000003,37531.296875,47408.785155999998,35913.316405999998,37936.972659999999,45142.183594000002,36120.878905999998,54385.292969000002,0.46459673192494844,31825.65625]
[530,0.4601202000136479,0.54555449905942455,null,0.75332369384403608,0.73032306433416294,null,null,0.56248042187540104,0.4610207303218069,0.41696230243822296,5.84358314398261E-2,0.50276226557235448,0.60388715859676201,0.62151336288531689,0.5172159320247125,0.47796675646237602,0.43758231257240127,0.48419220081809433,0.519536026375509,0.57330140158714049,0.65742568151501524,0.66223272129958344,0.59889441327237936,0.51350089461938786,0.45116147861158562,0.54684012286093353,0.48004788807266019,0.63333156727047801,0.65459305517797184,0.45676621363820136,0.46842589776382587,0.35949434355141591,0.1992184124801579,0.45999861702168787,0.55234949915747178,0.63826560099385543,0.74761876952444906,0.91627095046377127,0.84414161343804039,0.74042844601233593,null,62211.855469000002,53857.566405999998,59690.386719000002,92115.867190000004,62468.839844000002,39784.917970000002,36751.410155999998,43525.550780999998,32453.376952999999,32775.164062000003,21688.414062,13845.315430000001,35660.148439999997,38020.367187999997,47892.308594000002,36444.464844000002,38342.253909999999,45514.835937999997,36702.140625,54728.308594000002,0.46842589776382587,32225.347656000002]
[531,0.46276371980604925,0.54976800792619507,null,0.75516113060527346,0.73352634383838811,null,null,0.56979987310602909,0.464050187319135,0.42273704936690887,5.8877644524346497E-2,0.50911417222760902,0.61257618071196307,0.6282846417350052,0.5225803055055751,0.47973669609402148,0.44060874696800501,0.49125498917473953,0.52579376566248726,0.58086246121597274,0.66028612075017068,0.66821975629884722,0.60255385224451075,0.51537025228887812,0.45545843286946658,0.55234529623348216,0.48221299685845259,0.63811051934483964,0.66016804551364328,0.45878705525903463,0.47078187102187785,0.36166328208040111,0.20908880018827608,0.46395737898666012,0.55664349636039689,0.64004299426093003,0.74805155304819826,0.9193734790610204,0.84507601691908685,0.74379714040587208,null,62597.519530999998,54234.542969000002,60170.46875,93299.070309999996,62884.453125,40096.289060000003,37113.144530999998,44034.492187999997,32807.660155999998,33188.539062000003,22270.980468999998,14216.874023,36214.929689999997,38452.921875,48294.078125,36910.328125,38787.546880000002,45854.378905999998,37214.847655999998,55001.679687999997,0.47078187102187785,32600.375]
[532,0.46593891602565168,0.55377790315016584,null,0.75699296664908378,0.73690356075350194,null,null,0.57654921070347043,0.47159719741827838,0.42493830488996726,5.9619604709997401E-2,0.51318805175686699,0.61948062711861174,0.63361298198747673,0.52450317436192351,0.48343534701887791,0.44352007840197055,0.49863573287156487,0.53451909008103538,0.5871859504506628,0.66979055304553736,0.67199933635527087,0.60388663480452931,0.51691767567544367,0.45919691684555169,0.55589837911173512,0.48528880485715881,0.64195207258422571,0.66419924082031123,0.46141811206575917,0.47134900860674855,0.367793624367799,0.20759313600765822,0.46793506579124389,0.56117273855084704,0.64166411551647651,0.75009124644523417,0.92066039465454408,0.84416661728416509,0.7437414513861923,null,62992.96875,54633.710937999997,60675.054687999997,94431.90625,63354.886719000002,40442.085939999997,37472.707030999998,44531.480469000002,33217.40625,33622.539062000003,22913.460938,14614.747069999999,36791.574220000002,38930.167969000002,48761.757812000003,37398.480469000002,39166.847659999999,46169.023437999997,37727.257812000003,55304.085937999997,0.47134900860674855,32991.203125]
[533,0.47054641172610034,0.55812504555646092,null,0.76218822526960861,0.74054792170625761,null,null,0.58031584481856235,0.47317054862004687,0.42671476697668148,6.02648164224844E-2,0.51745550528143658,0.62374290185381864,0.63564577580134873,0.52606608468252214,0.48648497768626703,0.44507885239503636,0.50264641746848249,0.5442693182198568,0.5923877525805229,0.67256119445670992,0.6750630248197137,0.60550269912878152,0.51845735637261625,0.46311220764972166,0.55855627579738476,0.49079087409340022,0.64594997818031674,0.66780634497452784,0.46016208681029291,0.47324626852584417,0.36988021448572933,0.21376836654961096,0.47071218663793885,0.56615816134091101,0.64738263509985949,0.754841344591763,0.9253952060657813,0.84835713361931919,0.74774903905230727,null,63256.980469000002,54896.46875,61003.1875,95305.6875,63653.609375,40703.984380000002,37714.597655999998,44912.457030999998,33546.707030999998,34004.617187999997,23519.513672000001,14963.577148,37267.398439999997,39326.417969000002,49073.628905999998,37812.632812000003,39614.476560000003,46382.667969000002,38159.386719000002,55473.464844000002,0.47324626852584417,33298.578125]
[534,0.4746113900608902,0.56248554480516577,null,0.76772807118603836,0.74177775485157993,null,null,0.58395023858224404,0.47732411814963877,0.43007909780749681,6.0843999607046499E-2,0.52165856465071248,0.63099071439090682,0.64030358046648217,0.53084313188317955,0.49207715075721381,0.44594736096450399,0.50659160060142494,0.54477202326105123,0.59670539072845119,0.67713265394752309,0.6788116726925062,0.60665094911003392,0.52153761506409335,0.46657436023859816,0.56244252615170398,0.49617627851732854,0.6509617517848697,0.67136636463940202,0.46385789135480848,0.47491279135100395,0.37572291907195104,0.22285931009576174,0.47637588141195997,0.56923439562480282,0.65014380769393343,0.75850103312303419,0.9301932612039564,0.84963828373828587,0.74502986609310196,null,63589.667969000002,55180.078125,61401.613280999998,96187.34375,63977.972655999998,40979.910159999999,38010.296875,45319.476562000003,33872.585937999997,34406.261719000002,24119.533202999999,15314.936523,37745.316409999999,39760.753905999998,49394.214844000002,38249.703125,39945.074220000002,46677.382812000003,38625.367187999997,55708.5,0.47491279135100395,33620.753905999998]
[535,0.47822444522502161,0.5671969674386782,null,0.77121501620563981,0.74339050877565616,null,null,0.58884509035521726,0.48166005737919526,0.43239099598690867,6.1609447252662299E-2,0.52645879661435946,0.63586179668976295,0.6450376146081328,0.53241757714941951,0.49264405908097697,0.44842591764261863,0.513071221597306,0.54754633683309917,0.60290812423703222,0.68447692027669615,0.68416832344376988,0.61207352351616962,0.52430462617532059,0.47130717419780011,0.56968785464309457,0.49838118564024914,0.65623973389832024,0.67667927431194552,0.46718974061422497,0.47370646811226941,0.38056756166878924,0.22318271549506097,0.47920633103868671,0.5725826597826037,0.65555178429645811,0.76210946779310851,0.92781130893376584,0.84991298885130095,0.74756566689992598,null,63938.3125,55536.226562000003,61876.242187999997,97071.265629999994,64393.398437999997,41303.144529999998,38366.414062000003,45768.824219000002,34262.371094000002,34871.347655999998,24761.765625,15695.324219,38268.3125,40236.0625,49782.894530999998,38727.941405999998,40277.625,47009.753905999998,39111.332030999998,56001.085937999997,0.47370646811226941,34000.386719000002]
[536,0.48299675941663839,0.57141808139440731,null,0.77468259269145523,0.74801317240357235,null,null,0.59351243835113288,0.48263591387435584,0.43520560478966452,6.2348498978377798E-2,0.53306467591796181,0.63985556814339184,0.65144278780334108,0.53538946809714549,0.49319332611661715,0.452208353908924,0.51923701148026957,0.55417157379009752,0.6100401699835728,0.68551766239540535,0.69032118319075264,0.61863151191839805,0.52802745096095949,0.47694972964779958,0.57605540706421865,0.50162763108658592,0.66242021749516344,0.68256124365555848,0.4679384240941617,0.47663750965768092,0.3856390461237989,0.22962931031268052,0.48177364908427484,0.57880054501420741,0.6580404579642869,0.76406713295599527,0.93020768566026957,0.8536072050590332,0.74919050971666812,null,64121.839844000002,55698.925780999998,62203.546875,97675.84375,64616.007812000003,41513.277340000001,38607.742187999997,46134.6875,34538.808594000002,35270.328125,25351.919922000001,16022.162109000001,38671.5,40628.855469000002,50017.402344000002,39101.253905999998,40663.457029999998,47203.507812000003,39489.546875,56111.988280999998,0.47663750965768092,34281.761719000002]
[537,0.48803139607979035,0.57592422879654182,null,0.77653877550753814,0.74947121708184061,null,null,0.59941153922717461,0.48426062966211619,0.43873161840840352,6.3309060422354999E-2,0.53873332606871127,0.64814485465885996,0.65700464169732919,0.5401256368486933,0.4964158701681457,0.45568470944098111,0.52399635232859409,0.56279112558765232,0.61561459024810572,0.69072220500449766,0.69480513578582737,0.62026162376323624,0.53068754046749511,0.4810761552589044,0.57810570174044218,0.51003488788975537,0.66668688698344813,0.68691421145302667,0.46795618029275426,0.48041125106461996,0.38977312085098054,0.23821592604217592,0.48726252202945836,0.58093646118636544,0.65959601745211327,0.7704841403885484,0.93479366341542336,0.85485073890672081,0.75037990373274766,null,64433.757812000003,55957.417969000002,62627.941405999998,98485.65625,64949.636719000002,41797.289060000003,38928.3125,46527.171875,34880.316405999998,35743.277344000002,26009.46875,16360.535156,39126.410159999999,41109.96875,50363.792969000002,39590.582030999998,41068.707029999998,47482.464844000002,39943.476562000003,56324.933594000002,0.48041125106461996,34608.941405999998]
[538,0.49139327663072407,0.58039458725603588,null,0.78003839950317655,0.7499757777624857,null,null,0.60374467585000169,0.48963013211560985,0.44095315293106857,6.3849768841919299E-2,0.54535745176770278,0.65997357164056103,0.66200592669808156,0.54400214944033143,0.50027596588991208,0.45757246699748544,0.53123032430088291,0.56897312969904446,0.62258590276388093,0.70070641827913693,0.69977718397474475,0.62384222575832859,0.53177762039208964,0.48731471208027116,0.58304321027521988,0.51892540384745101,0.67137881904342145,0.69186837962140912,0.47154235582784731,0.48157912263402569,0.39621521810498855,0.24097082018831778,0.49128833099642533,0.58430847258089691,0.66403580864846912,0.77368218208056327,0.93789132178549661,0.85923549650473496,0.75060884914688142,null,64816.894530999998,56257.253905999998,63096.875,99329.03125,65354.15625,42133.890630000002,39281.152344000002,46942.257812000003,35244.210937999997,36282.933594000002,26710.990234000001,16739.457031000002,39637,41642.636719000002,50710.070312000003,40090.785155999998,41556.078130000002,47824.664062000003,40430.699219000002,56579.902344000002,0.48157912263402569,34997.234375]
[539,0.49547437769321406,0.58469341434435607,null,0.78220284400631546,0.74885074351047298,null,null,0.60562030608354367,0.49062767654452882,0.44204648173928962,6.4522212019618802E-2,0.55149739766154604,0.66505768506002849,0.66649142025481567,0.54650991405572169,0.50281180801861103,0.45914859552330795,0.53658200175081838,0.5777141539467523,0.62780505200961811,0.7031796982305456,0.70489051764460642,0.62666731842729606,0.53367136499284074,0.49319917366084631,0.58931563974129608,0.52042106354670692,0.67606578301191811,0.6954165973174582,0.47559151202153888,0.48261034461575658,0.40257253177257496,0.25042558046635782,0.49545785727840519,0.58886666492007522,0.6661119121591188,0.77635481707753529,0.94185002214168789,0.85938290490990166,0.75106727020410657,null,65183.609375,56564.476562000003,63567.496094000002,100060.4219,65741.015625,42455.425779999998,39631.015625,47357.636719000002,35615.003905999998,36823.945312000003,27406.738281000002,17099.582031000002,40107.9375,42187.296875,51076.023437999997,40583.109375,42017.785159999999,48141.507812000003,40911.644530999998,56816.25,0.48261034461575658,35378.40625]
[540,0.49865028020590046,0.58985309352534387,null,0.7842438441253472,0.75133352381571461,null,null,0.60694532026114956,0.49316904115124571,0.44281250946296513,6.54055558985326E-2,0.55628559830806401,0.66829858222020577,0.6687321952095624,0.54865832129015191,0.50369904069468208,0.4588843243154469,0.54158139895779978,0.58558084751447292,0.62983602585259824,0.71145780601503583,0.7069055657824348,0.62627576850873412,0.53501413254078789,0.49599028232808251,0.59399656551139934,0.52350575199416249,0.67857041316630806,0.69737913717882904,0.4755436735262723,0.48401818160924009,0.40658717164442942,0.25014909889193415,0.49749739547088184,0.5895056983740905,0.66751267583452389,0.7777986280599325,0.94317820206817127,0.85977496992843039,0.75143778867262578,null,65364.933594000002,56710.777344000002,63888.34375,100568.82030000001,66023.507811999996,42669.90625,39898.886719000002,47675.8125,35893.5,37289.269530999998,28077.628906000002,17438.433593999998,40493.792970000002,42635.367187999997,51318.515625,40960.875,42331.871090000001,48322.164062000003,41264.886719000002,56906.480469000002,0.48401818160924009,35681.953125]
[541,0.50253241322359266,0.59462644387274222,null,0.78769788617462388,0.75477606077549353,null,null,0.60981220644365097,0.49752489508877779,0.44297005881246143,6.6009575149632696E-2,0.5615326952276174,0.67339158959898282,0.67352540082452617,0.55047914175210333,0.50683469889144928,0.45934708217821735,0.54555346244547986,0.588319310246607,0.63515061268913442,0.71566431679429166,0.70844962440124426,0.62813258067488376,0.53480930544652772,0.49897351241196025,0.59734869326682571,0.52694062891039184,0.68213803424624575,0.69944830687278059,0.47842639020552513,0.48460848317758703,0.41425101031989031,0.25449931611665727,0.50112512651665564,0.59568149145214,0.67297362307775987,0.77943406158083872,0.94370889250647638,0.85752200210103424,0.7518742049147894,null,65650.148438000004,56951.117187999997,64254.921875,101152.5781,66370.671875,42934.742189999997,40188.6875,48029.96875,36229.628905999998,37809.625,28801.509765999999,17801.320312,40921.132810000003,43174.167969000002,51604.152344000002,41379.34375,42689.441409999999,48548.902344000002,41678.78125,57064.785155999998,0.48460848317758703,36023.027344000002]
[542,0.50538049008438091,0.59806000934344838,null,0.78983207254598164,0.75497877148644466,null,null,0.61369468609989541,0.49551683824740517,0.44361154591262442,6.6795272829458796E-2,0.56632980865823923,0.67818185879703385,0.67985165415180104,0.55198514797694409,0.50491712867715932,0.46034877116852252,0.55061836817736332,0.59315962995085203,0.6403701187359222,0.72001339476969062,0.71170979305631588,0.62896208614781701,0.53735564733680607,0.50329710437432618,0.60237511254731535,0.52885353505729149,0.68631360100697758,0.70293420373342208,0.4771276412066342,0.4831278952751959,0.41796486160205237,0.26407394274253582,0.50649203669829268,0.60081394667816457,0.67626269284240859,0.78183946738803423,0.94784863858694679,0.85952865812269852,0.75229922615325995,null,65818.679688000004,57089.167969000002,64529.289062000003,101579.0313,66605.78125,43148.757810000003,40447.34375,48305.027344000002,36517.644530999998,38306.007812000003,29519.068359000001,18146.546875,41310.046880000002,43680.40625,51842.1875,41764.578125,43069.757810000003,48739.324219000002,42042.996094000002,57136.8125,0.4831278952751959,36300.714844000002]
[543,0.5082908153911514,0.60182609245703234,null,0.79331893950680354,0.75491754221391461,null,null,0.61680242807091079,0.49630070474098537,0.44483563261382175,6.7791576751129901E-2,0.57377805883777766,0.68601846037176573,0.68496415316709269,0.55563885493863863,0.50839885623635517,0.46387042739784923,0.55783445167184753,0.59703005649843266,0.64585413835671812,0.72515383429582136,0.71685120599681573,0.63172068192271091,0.54008278351690397,0.50817964952378181,0.60708395418092731,0.53455932038389586,0.6915045627916756,0.70808998251641575,0.47796809256010298,0.48485076559707463,0.42409291467268828,0.26679219489117606,0.50934910903578967,0.60188076772400989,0.67816955640398946,0.78695662832090107,0.94898480904869587,0.86179980668287548,0.75220930093747007,null,66076.320311999996,57300.855469000002,64889.628905999998,102085.8281,66920.289061999996,43399.6875,40748.507812000003,48631.0625,36848.960937999997,38875.074219000002,30276.582031000002,18539.09375,41739.117189999997,44229.820312000003,52102.1875,42163.117187999997,43255.019529999998,48986.464844000002,42442.035155999998,57275.386719000002,0.48485076559707463,36619.902344000002]
[544,0.51342510510276307,0.60714790839129995,null,0.79863071997212565,0.75774949250773904,null,null,0.62049358261753906,0.50242167040702101,0.4467183500225963,6.8401026214626903E-2,0.5808753317491685,0.69646388611419985,0.69074919058904483,0.56033593800468928,0.51188445685040751,0.46771853323604556,0.56391579313465423,0.60269075730197541,0.65237710407908323,0.73378105041765307,0.72310053486263259,0.63654843701405428,0.54245242558296136,0.51317542732524901,0.61121724101499553,0.5434949403131264,0.69821603402810184,0.71260076159668961,0.48240526168951164,0.49046010981629251,0.43253366594147918,0.27336633947789069,0.51308740670698738,0.60458721458298337,0.68256507099039065,0.78932712764288193,0.94939493027081701,0.86035621086090397,0.75345340329673238,null,66252.96875,57449.625,65237.945312000003,102498.82030000001,67206.96875,43634.976560000003,41003.425780999998,48976.941405999998,37167.484375,39426.800780999998,31058.677734000001,18900.017577999999,42161.339840000001,44774.234375,52363.242187999997,42547.804687999997,43537.90625,49211.65625,42826.34375,57383.601562000003,0.49046010981629251,36917.449219000002]
[545,0.51763150148915893,0.60979494791820132,null,0.80136213964084801,0.76168506700371619,null,null,0.62337230057666382,0.50168408513303253,0.44876119463074637,6.9543026713869804E-2,0.58772892876071414,0.70185114277711425,0.69805206383040574,0.56445478773087754,0.51422652163897653,0.46967761286366322,0.56866675868059346,0.60866213832670879,0.65914549785570042,0.73739031085434126,0.72852446952689176,0.63890790226060601,0.54515637065018985,0.51875822889101908,0.61646695802356255,0.5483673594560734,0.70299732706995233,0.71632703006919973,0.4826548608166904,0.49204034308577449,0.43879412293379372,0.28479611497077917,0.51473534723431003,0.60895870540886854,0.68501398981779837,0.79143129940349577,0.95281141253791646,0.86280029963232696,0.75259048800413708,null,66212.476561999996,57408.667969000002,65414.347655999998,102596.2188,67286.429688000004,43746.679689999997,41164.464844000002,49123.5,37353.957030999998,39873.300780999998,31765.53125,19207.537109000001,42410.941409999999,45214.730469000002,52460.558594000002,42779.839844000002,43711.167970000002,49266.929687999997,43052.382812000003,57279.675780999998,0.49204034308577449,37091.207030999998]
[546,0.52039887320152345,0.61094741600501479,null,0.80372260248353089,0.76229217661808646,null,null,0.62286118761753184,0.50272417687572313,0.44824352440131426,7.03226375468506E-2,0.59435818422190745,0.70569481569961723,0.70101286048918621,0.56636799541247251,0.51334747711111306,0.47104789289858051,0.57294755282138343,0.61414708143989771,0.66434230262335359,0.73966736873636019,0.73023923378864075,0.64127398296068205,0.54438348481468213,0.52345432631809985,0.62208892979917474,0.54939080797690754,0.70512732770504183,0.71933268670987249,0.48275421508059624,0.49215528902553252,0.4430917900778733,0.28885584223782274,0.51858318698083405,0.6124318676334598,0.68849168066965427,0.79455070483613721,0.95327242129044298,0.86619284760777449,0.75127056672644532,null,66361.75,57559.707030999998,65747.9375,102952.72659999999,67528.820311999996,43968.445310000003,41421.855469000002,49410.179687999997,37680.65625,40453.636719000002,32597.908202999999,19572.101562,42781.558590000001,45768.238280999998,52681.855469000002,43144.636719000002,44021.195310000003,49475.941405999998,43449.054687999997,57348.039062000003,0.49215528902553252,37391.1875]
[547,0.52600971546074304,0.61502671609147297,null,0.80754666744130699,0.76491084715108926,null,null,0.62337205853951183,0.50403080246336696,0.44688643351603113,7.0872746491497801E-2,0.59947798291023757,0.7096209980009347,0.70110666287150136,0.56926422467429971,0.51366482584308615,0.47046393261819391,0.57723545071075988,0.62001420008324548,0.66788871168264019,0.74826213158271349,0.73193109930307987,0.64310229869191671,0.5430325465752297,0.52708187948504159,0.62744371744325089,0.55389601730293858,0.70676840344436132,0.72219676479422013,0.48512946228758969,0.4906517590309416,0.45033949337377333,0.29552551130824478,0.52311360910735571,0.61579838178039326,0.69152011878152631,0.79663373113093461,0.95651277595331552,0.86505154235795068,0.75301881142705618,null,66584.1875,57732.183594000002,66091.265625,103328.5313,67782.15625,44221.738279999998,41725.386719000002,49727.257812000003,38006.566405999998,41113.699219000002,33511.632812000003,19950.992188,43196.847659999999,46404.996094000002,52933.941405999998,43533.710937999997,44286.671880000002,49716.382812000003,43837.867187999997,57449.375,0.4906517590309416,37719.945312000003]
[548,0.52959218366890637,0.61700725081818297,null,0.80748171696115956,0.76434826195027772,null,null,0.62501205892933187,0.50262787344420934,0.44706780233028681,7.1998050621394596E-2,0.60600448585664723,0.71453349135579047,0.70390943883460988,0.57132154052891981,0.51593808763723548,0.46889895785075747,0.58018738850053642,0.62486427184049909,0.67041761308459547,0.74382083386561615,0.73348855586564543,0.64298080945248426,0.54215174074960948,0.52997693952169134,0.62900833067632256,0.55843908345932025,0.70901605501090381,0.72432829242750707,0.48341933846755814,0.49335133852170648,0.45704416848678014,0.30202322636317869,0.52550535495820594,0.61992782408223968,0.69153501800372019,0.80016555188677374,0.95655072865640389,0.86413539695537989,0.7546333732003625,null,66636.539061999996,57718.421875,66270.34375,103406.9688,67842.484375,44354.488279999998,41888.273437999997,49899.761719000002,38243.804687999997,41696.503905999998,34355.863280999998,20297.416015999999,43486.21875,46927.195312000003,53031.398437999997,43790.8125,44484.175779999998,49806.914062000003,44124.355469000002,57392.164062000003,0.49335133852170648,37926.839844000002]
[549,0.53238357028952676,0.62062270101260308,null,0.81177179163760427,0.76684849733375327,null,null,0.62608741681571456,0.50229163270882227,0.44758559627060679,7.2829625608916995E-2,0.61507451262386303,0.71983859816068241,0.71209241827731296,0.57407094214788845,0.51836520562005817,0.47003968410858082,0.58371593010783607,0.62805060101177679,0.67526375594909671,0.74884512150511529,0.73627277148827164,0.64341370195678849,0.54293914506412821,0.5331009213665,0.63120541656822282,0.56397065902005061,0.7129240682665321,0.7271916624686936,0.48337189388655555,0.49398214524945144,0.46182052214516367,0.31106460748069814,0.5280594018653012,0.61949908135010989,0.69483617092147465,0.80069637637097468,0.95621243266765887,0.86572093882482892,0.75214135155240502,null,66798.78125,57824.394530999998,66558.046875,103664.16409999999,68068.296875,44582.597659999999,42109.59375,50194.675780999998,38556.535155999998,42334.160155999998,35301.574219000002,20660.757812,43847.992189999997,47552.066405999998,53246.726562000003,44149.757812000003,44753.730470000002,49984.632812000003,44495.917969000002,57458.03125,0.49398214524945144,38231.988280999998]
[550,0.53527138541306662,0.62123801494530728,null,0.81369339169347521,0.76681399632431935,null,null,0.62689256186515585,0.50544779734076895,0.44800143568478817,7.4054610572514001E-2,0.62244884557660618,0.72941717085681512,0.71801549626739014,0.57828296222655651,0.52171954403406384,0.47193676556483166,0.58892074503690039,0.63349880891904631,0.68041153523999798,0.75194330414717669,0.73906288055750946,0.6454940236764396,0.54409934733506915,0.53632705175052842,0.63506360670345474,0.56532132538606028,0.71653716205247386,0.72912009533290623,0.48616563313801742,0.49295723899746158,0.47137282153135357,0.3174385232941217,0.53102691114500644,0.62331835041784756,0.69638369201226691,0.80120331431987923,0.95405357316314865,0.86251208553495062,0.74926492561763558,null,66832.351561999996,57847.199219000002,66789.34375,103860.13280000001,68221.585938000004,44741.324220000002,42300.414062000003,50424.578125,38819.21875,42997.15625,36274.988280999998,21023.650390999999,44198.191409999999,48161.421875,53382.910155999998,44452.507812000003,44987.1875,50094,44815.117187999997,57425.542969000002,0.49295723899746158,38494.21875]
[551,0.53834259900131542,0.62472417764579069,null,0.81542192968694538,0.76738776394645059,null,null,0.62816294135220951,0.50598512407008378,0.44828650900418804,7.4880373576155901E-2,0.62807212114286226,0.73671664195151043,0.72109223662641764,0.57963947228311519,0.52108066157490351,0.47105275891654058,0.59435549055603032,0.63696044891571502,0.68382672545802137,0.75765039928178823,0.74048764217275853,0.64453656777501145,0.54474994530225584,0.53993378421150828,0.63994968729803303,0.5671799206691891,0.71922227272472261,0.73072490117631239,0.48445977266489093,0.49454898236327266,0.47986069690619398,0.32276280021206016,0.53551008833497382,0.62457216410361538,0.69930625180123929,0.80429203415381179,0.95403304476803019,0.86382232645075196,0.74684777304036298,null,67011.773438000004,57950.78125,67089.460938000004,104142.19530000001,68498.039061999996,44953.035159999999,42559.183594000002,50729.601562000003,39121.402344000002,43710.394530999998,37350.117187999997,21431.673827999999,44608.765630000002,48871.21875,53579.476562000003,44817.417969000002,45355.832029999998,50263.742187999997,45215.710937999997,57486.007812000003,0.49454898236327266,38827.699219000002]
[552,0.54035451258701694,0.62672509906308149,null,0.81484453168300719,0.76643891671580955,null,null,0.63055173066115555,0.50555955795796181,0.44753027283240598,7.5606705750061204E-2,0.63469680926064453,0.74202635145315665,0.72616161905478804,0.58195062481430682,0.52124406655237887,0.47097861248000344,0.59863177219641006,0.63622192461735383,0.68839152785990754,0.76253719394272457,0.74389495409354778,0.64414988576437993,0.5454291879257589,0.54293021314647016,0.64421532984785246,0.57296933851669096,0.7219673741490934,0.7334438461447127,0.48503148570849897,0.4914110336327428,0.48578170530761167,0.33477974054340298,0.53995411285215844,0.62905125227842906,0.70312588707873147,0.80554942756760162,0.95787160931719806,0.86254515725998204,0.74765434802872555,null,67064.796875,57937.492187999997,67267.171875,104227.375,68620.84375,45094.390630000002,42725.445312000003,50935.03125,39362.484375,44372.125,38429.984375,21811.205077999999,44943.035159999999,49506.09375,53680.015625,45107.757812000003,45553.023439999997,50354.566405999998,45502.757812000003,57440.425780999998,0.4914110336327428,39073.285155999998]
[553,0.54426262593227692,0.62992341624700587,null,0.81777266943247495,0.76851511623285274,null,null,0.63112383499559954,0.50645915754448911,0.44686931406800506,7.6672507225140102E-2,0.64198238811514008,0.74706518997433713,0.72911467111083017,0.58480182239401601,0.5237229925085447,0.47175153809227255,0.60263859085758065,0.63844567037966182,0.69103448191349681,0.76300200965631704,0.74543001359812944,0.64568441770237395,0.54641250850633249,0.5463270482892999,0.64633920070817408,0.57748905198880873,0.72487289640060448,0.73522533886482277,0.48535661309692379,0.49118588002804664,0.49429920170768565,0.3435152694177282,0.54026203539537909,0.63180350731491552,0.70302865699966155,0.80812836269566701,0.95781243355399981,0.86198512223405066,0.7456545135658218,null,67266.703125,58052.191405999998,67643.101561999996,104579.80469999999,68945.617188000004,45339.546880000002,42990.738280999998,51308.558594000002,39713.707030999998,45183.699219000002,39600.667969000002,22280.535156000002,45390.851560000003,50299.53125,53912.699219000002,45542.375,45874.992189999997,50561.5,45942.828125,57526.519530999998,0.49118588002804664,39402.617187999997]
[554,0.54502416459459058,0.63071371266839737,null,0.81788156820024238,0.76668321973627773,null,null,0.6301428701116063,0.50763231031367362,0.44750482669656427,7.7659760681704201E-2,0.64985419856166082,0.75630145989510189,0.73232947279172345,0.58486361555619037,0.52497217237152705,0.47347739316677073,0.60773811945674194,0.64677965175551821,0.6945964706019867,0.76814330559030641,0.74696265694595954,0.64839847813307727,0.54733668738526775,0.55098098236357385,0.64796830036167075,0.5808025910535688,0.72663609997653911,0.73599903067922157,0.4857894612038387,0.49324574038371899,0.50677330265351017,0.35775773539732242,0.54071112257493981,0.63256761234814995,0.70329028726660447,0.81021856577656115,0.95615108918568048,0.85860645139017322,0.74366360181439983,null,67116.5,57932.6875,67722.976561999996,104488.2344,68960.15625,45401.582029999998,43078.636719000002,51407.796875,39853.445312000003,45802.242187999997,40630.148437999997,22628.666015999999,45625.839840000001,50871.644530999998,53921.535155999998,45748.019530999998,46064.011720000002,50559.195312000003,46156.078125,57339.183594000002,0.49324574038371899,39585.167969000002]
[555,0.54817049399320683,0.63221371682907657,null,0.81734407416297727,0.76604754104626049,null,null,0.6305510929280026,0.50484815393233284,0.44548408148247293,7.8738274421280605E-2,0.65633741852202188,0.7650851764730191,0.73654427493043062,0.58714092446215016,0.52241626469038072,0.47482657197263373,0.61312396124907376,0.65248334401139341,0.69748965014503495,0.76626545284058567,0.74837029582778614,0.64580722848948002,0.54391498313312903,0.55387387623439854,0.65021111040909074,0.58620357248251598,0.72876037501528002,0.7364093341257596,0.48269696999555756,0.49193432434799239,0.50920712580961514,0.36192108237816323,0.5428507101218234,0.63378668596308407,0.70365073403085621,0.81005518819487776,0.95461869417271306,0.85914420898892108,0.73979595052946201,null,67137.28125,57909.121094000002,67965.671875,104546.02340000001,69108.898438000004,45527.855470000002,43255.652344000002,51609.980469000002,40073.90625,46531.625,41840.609375,23028.673827999999,45973.101560000003,51557.753905999998,54004.402344000002,46048.207030999998,46281.484380000002,50615.878905999998,46466.226562000003,57259.554687999997,0.49193432434799239,39844.664062000003]
[556,0.5499136366452273,0.63355279852462376,null,0.81610433706048602,0.76421987182053219,null,null,0.63082885985604442,0.50615367788308108,0.4447779649176849,7.9821302626011503E-2,0.6620013348428635,0.76870655628963414,0.73968684861557266,0.58941632614547101,0.52451233223487648,0.47292677791816179,0.61528621684899965,0.6562058255625276,0.69973138482368746,0.7736582020605336,0.74855450933739054,0.64155286227873831,0.54045718515044094,0.55522049814471985,0.65225470107904149,0.59068230658643517,0.72915305146496268,0.73541057817867828,0.48158323523989038,0.49014143803288873,0.52023507808672798,0.36536710556720098,0.54771759130582931,0.63619119202501329,0.70486004329201235,0.81210627239849498,0.95465958947799645,0.8568485928860502,0.7369484000853902,null,67112.164061999996,57874.191405999998,68109.59375,104504.5938,69156.515625,45610.636720000002,43401.957030999998,51772.5,40277.683594000002,47245.464844000002,43036.402344000002,23439.175781000002,46251.492189999997,52228.699219000002,54061.648437999997,46310.496094000002,46487.101560000003,50626.464844000002,46747.726562000003,57118.839844000002,0.49014143803288873,40064.332030999998]
[557,0.55199053202485671,0.634861395730551,null,0.81588700588633278,0.76207876070765457,null,null,0.63192229187099946,0.5043313093016113,0.44484097549916696,8.0766426542801806E-2,0.66775007812024367,0.77327366400812558,0.74292189667310049,0.59048884471771657,0.52229803060864954,0.47261346303784929,0.61707692117519741,0.65840195466410367,0.70285262617788591,0.76995310593903898,0.74926842554388862,0.63876656857632474,0.54013896040218923,0.5580212369470321,0.655074716483252,0.5857623403917358,0.73015414696821979,0.73521464426348804,0.48018678965888301,0.48980707791145506,0.52655573929060617,0.38528254187764988,0.55077851144617462,0.63893346946310159,0.70834085637201705,0.80876865423202537,0.95113590661470915,0.8544499683603004,0.73413252311397792,null,67145.71875,57903.226562000003,68355.648438000004,104559.5938,69239.09375,45770.164060000003,43584.394530999998,51987.164062000003,40564.328125,48082.113280999998,44333.699219000002,23889.560547000001,46598.082029999998,52970.75,54174.21875,46629.425780999998,46626.902340000001,50717.738280999998,47047.722655999998,57057.410155999998,0.48980707791145506,40343.332030999998]
[558,0.5560725236581453,0.63926209344684315,null,0.81915304137395684,0.76244463555520858,null,null,0.63266726303814413,0.5052831124484537,0.4437490762231131,8.1893943373994804E-2,0.67615541115172551,0.78178920104335392,0.74621761728299407,0.5905990137549828,0.52441210844323227,0.47193555626903277,0.62045481008540404,0.66274815774091478,0.70487704439105647,0.77557072034087959,0.74911069046215084,0.64062335567046247,0.54095202875390547,0.56088067157721688,0.65659848564292622,0.58917107988890116,0.73201843243875586,0.73641329946397072,0.47946171104021501,0.48716928148108413,0.53770269859495745,0.40091956461074757,0.55306035700195555,0.64150695816478809,0.70936704440241338,0.81150065615330302,0.95035542326471045,0.85156075340441773,0.73295865003139615,null,67249.71875,57948.332030999998,68660.90625,104709.5156,69436.539061999996,45964.003909999999,43797.574219000002,52264.957030999998,40890.800780999998,48957.472655999998,45703.195312000003,24362.375,46991.785159999999,53786.773437999997,54346.507812000003,46975.089844000002,46883.078130000002,50833.695312000003,47427.535155999998,57036.808594000002,0.48716928148108413,40659.664062000003]
[559,0.55669169206250468,0.64002874380706953,null,0.81760659858263096,0.75878493298509175,null,null,0.63223159271375895,0.50582188558794261,0.44263944082723744,8.2777645559390101E-2,0.68339165645046429,0.78702989299074011,0.75113970225572357,0.59247775635301592,0.52596648505401267,0.472094304689336,0.62428460859144097,0.66625255083869706,0.70738373905329033,0.77505380436990878,0.74875524061940202,0.64148092193977502,0.53902662734260798,0.56329502759694416,0.65784293584380293,0.59580063951064544,0.73291032607372375,0.73633131219528603,0.47871357422743344,0.48704002203454189,0.54709419998459174,0.40552794125545555,0.55639954518864265,0.64376486210011463,0.70886129836920431,0.81282306557520057,0.94855907161630748,0.85179312985328448,0.73296699844524649,null,67197.109375,57878.84375,68803.632811999996,104637.71090000001,69462.15625,46064.460939999997,43921.574219000002,52364.199219000002,41093.96875,49746.65625,47068.175780999998,24785.107422000001,47286.164060000003,54507.503905999998,54396.011719000002,47218.335937999997,47163.609380000002,50814.003905999998,47678.003905999998,56898.230469000002,0.48704002203454189,40884.894530999998]
[560,0.55907537713251931,0.64210367168593663,null,0.81726745588659411,0.75647131682504509,null,null,0.63175950484608612,0.50455676197878974,0.44085395926761028,8.3840614156258597E-2,0.69108728327632873,0.79396451888228325,0.75715449459370643,0.59447838638883199,0.52522898866204415,0.47169399490412856,0.62846639524043491,0.66521496265352842,0.71163013500661898,0.7784536352182766,0.74882181422604677,0.6368329828288033,0.53657018224540975,0.56466760027793206,0.66050693499408097,0.59775413637216535,0.73394746284191159,0.73672312952284946,0.47832048915235492,0.48586203700923702,0.55591892747636917,0.41334029330861094,0.55675367655860686,0.64300136962733845,0.70940190030738792,0.81325165987247106,0.94328635171549735,0.8466675769746097,0.72640757868835693,null,67307.023438000004,57915.074219000002,69123.882811999996,104786.47659999999,69652.46875,46242.265630000002,44161.558594000002,52598.765625,41442.484375,50664.976562000003,48619.972655999998,25294.423827999999,47711.507810000003,55378.9375,54578.9375,47607.234375,47335.3125,50954.648437999997,48044.289062000003,56865.125,0.48586203700923702,41201.191405999998]
[561,0.56037851177191822,0.64363352096166293,null,0.81632376865302148,0.75601059841350138,null,null,0.63315181633126594,0.50374904855186475,0.44121036023122751,8.4829150802834902E-2,0.70094544819703308,0.80106530043046864,0.76236351907198707,0.59550515813349836,0.52375243347402012,0.47130054381261638,0.6317606736461826,0.66974000291535563,0.71448652168060856,0.77669511057623764,0.74943386087990527,0.63613652413015143,0.53535237171492545,0.56598846390928614,0.66127168556836224,0.59912360659289043,0.73557638456693841,0.73828668794075547,0.47427447482752977,0.48557338360699898,0.56380387397784526,0.43430757344380422,0.56036946406295129,0.6462270337621755,0.71127485668993173,0.8123354980536176,0.9467929938319245,0.84357267345607589,0.72329531281270243,null,67330.703125,57874.742187999997,69314.890625,104774.0625,69770.140625,46376.128909999999,44358.335937999997,52823.324219000002,41727.238280999998,51566.53125,50120.035155999998,25798.375,48070.546880000002,56247.175780999998,54666.914062000003,47959.730469000002,47567.148439999997,51029.75,48361.015625,56790.105469000002,0.48557338360699898,41476.054687999997]
[562,0.56100376071192826,0.64510949556731878,null,0.81671914951359503,0.75419697494012605,null,null,0.63411316732126888,0.50572870723842556,0.43970350004549064,8.6187963714955101E-2,0.70877174924823128,0.8069988986102381,0.76333825673707145,0.59802704544111851,0.52636680102902955,0.4711016162683071,0.63626178944802303,0.67929936732688434,0.71784779188542136,0.7778409304566164,0.75024042480953101,0.63521662837157589,0.53463488410211646,0.56760836527404246,0.66168212899759382,0.6016740236929653,0.73741513757409793,0.73816332036265764,0.47514922866534148,0.48348446826697261,0.57769016156768938,0.44824360454958995,0.5636699388932247,0.64569565423432396,0.71259538713999038,0.81325353394493838,0.94700785397809772,0.84297760274766409,0.72256718748945781,null,67182.8125,57689.273437999997,69408.984375,104507.77340000001,69728.539061999996,46432.027340000001,44456.753905999998,52910.234375,41930.160155999998,52372.609375,51577.378905999998,26234.890625,48316.175779999998,56967.300780999998,54661.179687999997,48155.148437999997,47641.421880000002,50989.941405999998,48596.132812000003,56574.429687999997,0.48348446826697261,41649.417969000002]
[563,0.56244951089361162,0.64659780414695289,null,0.81643212300062784,0.75338756376183857,null,null,0.63449514933182538,0.50525064180218804,0.4387242353375358,8.7313960866605006E-2,0.71586626655370722,0.81331040955672107,0.76439199187936424,0.59770485472408763,0.52815380644106302,0.47168959946981737,0.64223013534003281,0.68018126455118488,0.72144113236685092,0.77997803199598759,0.75063463027645538,0.63482718666258364,0.53321370155927317,0.57129035182718158,0.66474964594360075,0.60233350940214703,0.73747895542884556,0.73727708888088117,0.47369124048669231,0.48075762478963369,0.58735420667238902,0.46409183388776187,0.56393079700548465,0.64779437457272993,0.7130993045214421,0.81264130027620329,0.94412061421863824,0.84111101325155846,0.71712467961019488,null,67143.398438000004,57546.292969000002,69546.25,104398.1406,69767.546875,46539.007810000003,44587.867187999997,53028.402344000002,42188.464844000002,53266.601562000003,53130.816405999998,26726.894531000002,48659.050779999998,57793.359375,54705.414062000003,48444.382812000003,47764.097659999999,50985.433594000002,48871.257812000003,56417.359375,0.48075762478963369,41873.601562000003]
[564,0.56245896943474227,0.6456045969366937,null,0.812439108974644,0.75041665498660104,null,null,0.6338571373134263,0.50286082593466874,0.43867298494370205,8.8365822546964998E-2,0.72434516345020783,0.82169437082439745,0.76938719793513488,0.59711146570294338,0.52427583673996736,0.47173738562905032,0.64459728857348797,0.6803242167674145,0.72294695452202462,0.7792689385729249,0.75161399830114939,0.63453205954894665,0.53205271446004332,0.57527217448997492,0.66760262866731557,0.60372457741438024,0.7379903700163235,0.73655002940034375,0.47084015527612721,0.4794603476247965,0.59578933984289051,0.47188941215635843,0.56640838971276697,0.64865904216501347,0.71407283473681082,0.81286691296821367,0.94133165083224324,0.83802026360639947,0.71410329500292657,null,66949,57354.730469000002,69568.710938000004,104079.3281,69690.46875,46563.582029999998,44664.421875,53095.804687999997,42357.824219000002,54077.257812000003,54660.316405999998,27172.064452999999,48872.652340000001,58535.972655999998,54648.886719000002,48670.085937999997,47850.125,50926.167969000002,49073.535155999998,56162.746094000002,0.4794603476247965,42025.601562000003]
[565,0.56486415116055644,0.64643458104588281,null,0.81198850073107609,0.74946855762612097,null,null,0.63392132901146325,0.50482954231381905,0.43754701984019612,8.9619917563056498E-2,0.7340070141619216,0.82977131562093265,0.77462317353994681,0.59993741225593822,0.52499206703962509,0.4705585365804027,0.6463741810158834,0.68589748254698424,0.72451555152250746,0.78473206857551892,0.75070868496501453,0.63316367076405744,0.531543504593053,0.57821861779339079,0.6706768153017314,0.60633478977036304,0.7386199341922256,0.73710757619835487,0.46864393374240293,0.47833182555477344,0.60845413136162818,0.48757902583441182,0.56952794239060833,0.65245673674555493,0.7139676728701716,0.8118968499563739,0.93757348438778632,0.83388706268153157,0.71291776801998752,null,66829.898438000004,57193.785155999998,69690.929688000004,103831.21090000001,69685.078125,46620.035159999999,44762.578125,53206.507812000003,42578.304687999997,54954.96875,56240.1875,27675.138672000001,49165.585939999997,59322.101562000003,54633.695312000003,48938.171875,47807.046880000002,50915.582030999998,49318.195312000003,55933.515625,0.47833182555477344,42261.640625]
[566,0.56589869882952204,0.64590222056500524,null,0.81054138893140526,0.74731803752787229,null,null,0.63441753915207766,0.50137948068580729,0.43538179879272748,9.0706813052157595E-2,0.74352090062150211,0.83834085360675004,0.77698742976382484,0.60471032723282114,0.52407216054662165,0.46832320668283239,0.64988471972941919,0.69256982182036897,0.72767285372964008,0.78732439072629656,0.7498500029010472,0.63008617042571446,0.52709757322808259,0.58026143600584301,0.67335430193494761,0.60963946443303585,0.74002943598827609,0.73774628037437429,0.46516124325997904,0.4767229638049717,0.61593883572522057,0.50616538519523968,0.57075002831633836,0.65183833288043502,0.71342892924988643,0.81013296056119621,0.93086670380160652,0.82951885197393371,0.70830623027895478,null,66720.515625,57049.289062000003,69814.90625,103621.4219,69702.15625,46699.6875,44869.949219000002,53379.050780999998,42807.273437999997,55895.941405999998,57917.933594000002,28193.019531000002,49474.488279999998,60120.425780999998,54669.179687999997,49228.132812000003,47871.351560000003,50892.34375,49625.542969000002,55737.335937999997,0.4767229638049717,42511.136719000002]
[567,0.56925876742108372,0.64864940532472837,null,0.81197519927609874,0.74586415239474713,null,null,0.63637805165010952,0.5020100188990011,0.43371041757604673,9.1882437435741995E-2,0.75052226719089532,0.84647108180590913,0.77962299124792067,0.6061872461662875,0.51985451746363087,0.46773305063957044,0.65316940917096766,0.69286294204774435,0.72990958351286517,0.78511671793816196,0.74907027581063301,0.62569406048468579,0.52323102004991051,0.58190684021333661,0.67317521302383565,0.61089503360398223,0.74006744678312397,0.73583112749856228,0.46492764445261892,0.47741063752540097,0.6259182912474911,0.51974623845446122,0.57356580277628944,0.65537797617871996,0.71610730017390789,0.8134351093208998,0.93150446316053814,0.82511769136004598,0.70388131978360691,null,66633.359375,56945.007812000003,69973.3125,103496.875,69745.765625,46834.292970000002,45000.769530999998,53554.261719000002,43089.222655999998,56895.265625,59672.515625,28735.017577999999,49808.679689999997,60967.625,54733.847655999998,49534.316405999998,47944.996090000001,50899.152344000002,49947.609375,55559.796875,0.47741063752540097,42808.683594000002]
[568,0.57041928620373128,0.64791451754884144,null,0.80799914272343687,0.74267812339523909,null,null,0.63382883213131136,0.49984233250658017,0.43131296425803151,9.3050136971269196E-2,0.75570232694180017,0.85022030688915684,0.78105579939723091,0.60320326955226822,0.52001095661246532,0.46837208878854369,0.6550855896469957,0.69290817393174953,0.73012482546576507,0.78560532181210385,0.74647672328735259,0.62105736845067916,0.52071307660413135,0.5821186120602474,0.67169334250045321,0.61370899012168867,0.73888793737562231,0.73345096401770316,0.46257227996625261,0.472667745227001,0.63873365015552697,0.53577775587956411,0.57467157519814616,0.65610198140645426,0.71661491264736554,0.81243603428057465,0.93096249599889547,0.82375813039868451,0.69985676363690219,null,66558.515625,56820.25,70082.4375,103287.7031,69740.554688000004,46955.457029999998,45117.355469000002,53701.53125,43349.347655999998,57903.4375,61448.546875,29323.476562,50165.074220000002,61846.5625,54795.355469000002,49856.953125,48015.378909999999,50907.523437999997,50280.953125,55338.332030999998,0.472667745227001,43071.761719000002]
[569,0.57251743264036314,0.64745558828875238,null,0.80629596268204096,0.73969828215826627,null,null,0.6302363758814773,0.49955212774125407,0.4292801026493101,9.40702275682503E-2,0.76303838547971248,0.85460747466166764,0.78249060099188683,0.60140765658708983,0.52152560975244577,0.46563361865724667,0.65644228444852959,0.69729884283994203,0.73105988227535534,0.79180787570958833,0.74308602959664227,0.61996499661719273,0.51770478052932001,0.58258232853212888,0.67083389362572643,0.61441688287009399,0.73799525736414429,0.73076440653253139,0.46066359715580896,0.46590057432834309,0.64981320105673213,0.55504750655386403,0.57710421344410856,0.65647723266640678,0.71620013746039368,0.81254000186186603,0.92782397626338375,0.82309420831203373,0.69914551183782625,null,66509.34375,56791.796875,70289.023438000004,103176.16409999999,69832.914061999996,47115.980470000002,45305.390625,53950.304687999997,43668.902344000002,58965.65625,63348.410155999998,29936.214843999998,50533.601560000003,62804.007812000003,54915.71875,50261.289062000003,48298.242189999997,51001.355469000002,50627.128905999998,55219.351562000003,0.46590057432834309,43405.253905999998]
[570,0.57246829715756342,0.64672178718786888,null,0.80360522477997298,0.73352307101121927,null,null,0.62949196262343265,0.49796116179617494,0.4274535111483827,9.4920201417098796E-2,0.77268011227858202,0.85785245092201967,0.78476664547380082,0.60465557593936237,0.52158985335589036,0.46276706119467642,0.66075326523174416,0.69860387070971464,0.73271519316331624,0.7846464357113454,0.7410584717669737,0.61713162097839325,0.51543823739203931,0.5845105242845694,0.66976328924041217,0.61509803811342001,0.73750564214341807,0.72878499154637366,0.45504331642304102,0.46320488038100743,0.66160921782668514,0.57004214929313446,0.58080592752780658,0.6583688510987491,0.71412031737353565,0.81396062925166157,0.92477479559901266,0.81803497049670737,0.69159203217402199,null,66383.125,56656,70407.65625,102906.44530000001,69801.445311999996,47215.667970000002,45451.257812000003,54111.179687999997,43951.785155999998,59970.976562000003,65183.589844000002,30509.744140999999,50869.640630000002,63678.214844000002,54951.328125,50567.53125,48371.976560000003,51018.382812000003,50944.910155999998,55008.191405999998,0.46320488038100743,43722.261719000002]
[571,0.57356389578183287,0.64693505100206383,null,0.80166783454814028,0.7290703213986589,null,null,0.62889282698412885,0.49810499581798778,0.42653840951565569,9.6640168903220205E-2,0.78174999364037256,0.86408838744086791,0.79265879381619009,0.6038907609538523,0.51863240680695399,0.46337827360182038,0.66719162843833457,0.69980420892220885,0.73596395427347416,0.7865842302543633,0.74166362378388628,0.61500760817421229,0.51254544107372502,0.58803070247417388,0.67169077390676468,0.61759071403639787,0.73854129385340594,0.7288763579444455,0.45503313690073804,0.46028408107777563,0.67359382131505929,0.58898888007895955,0.5827657229916664,0.6610051199891358,0.71632771111941107,0.81365046049877621,0.92404944677209677,0.81849903519273814,0.68838389603852823,null,66236.546875,56497.859375,70463.859375,102581.1719,69754.945311999996,47336.160159999999,45606.144530999998,54276.816405999998,44226.726562000003,61012.78125,67028.484375,31141.591797000001,51208.460939999997,64578.003905999998,54962.105469000002,50888.53125,48557.640630000002,50998.210937999997,51259.199219000002,54786.878905999998,0.46028408107777563,43982.792969000002]
[572,0.57505472765105969,0.64799331735643606,null,0.80016082816732892,0.72476580380147571,null,null,0.62922131622283184,0.49641347185472501,0.42591117526987604,9.7886427615670707E-2,0.7912129282303989,0.87277248863463808,0.79613284649922078,0.60544952882449776,0.51941799374059539,0.46327917472087016,0.6711498448943225,0.70444479834696772,0.73771174364689029,0.78875664333222406,0.74116430909299746,0.61182223939308433,0.50969701679639812,0.58929389645044639,0.67505826305751537,0.62393613639693768,0.73878980901772606,0.72869272631069792,0.45294680777010127,0.46206509494736164,0.6836757059885451,0.59941098472983256,0.58559346992776073,0.66183349070024211,0.71707499901034688,0.81285178673510927,0.91944820453651954,0.81145068266769627,0.68352004879090278,null,66156.492188000004,56409.792969000002,70629.484375,102339.4219,69794.359375,47518.832029999998,45831.792969000002,54522.992187999997,44565.148437999997,62114.949219000002,68948.601561999996,31818.777343999998,51585.261720000002,65551.226561999996,55040.890625,51224.390625,48826.378909999999,51068.453125,51620.199219000002,54671.929687999997,0.46206509494736164,44312.503905999998]
[573,0.57486254643499668,0.64821648689552747,null,0.79777220721298803,0.72114789776529131,null,null,0.62793184635555466,0.49383046114829482,0.42387404563834952,9.9006203300940704E-2,0.79876261219357425,0.88020145182279796,0.79532924201897559,0.60677273213546212,0.51730941206728587,0.46186360983348212,0.67346667938378746,0.70846081006382511,0.74073093147704983,0.78684746555303497,0.73940908244864501,0.61039489711070061,0.50803337377864377,0.59095251566431595,0.67619702535295001,0.62667310695601997,0.73712115887991758,0.72650563624767206,0.44872218829862665,0.45788053510893439,0.69464939562845618,0.61140772182375414,0.58845497446377926,0.66404226160843338,0.71843538017731068,0.80922724388650058,0.91879403925002967,0.80764469858453891,0.67997756682631694,null,65972.40625,56237.699219000002,70661.921875,101951.24219999999,69720.6875,47642.871090000001,45999.792969000002,54642.324219000002,44879.992187999997,63164.167969000002,70813.09375,32453.601562,51924.695310000003,66459.359375,55060.511719000002,51537.230469000002,48935.710939999997,51099.339844000002,51937.96875,54464.214844000002,0.45788053510893439,44594.753905999998]
[574,0.57500055566334785,0.6494273036383561,null,0.79666773840839866,0.71611381235777916,null,null,0.62665048553010161,0.4931261723034725,0.42263994691909662,0.100020207279003,0.80700131044781764,0.88623520568845415,0.79588941292783633,0.60652192422774431,0.51772223404056772,0.46021655509361281,0.67737989114566466,0.71552538792809239,0.74301685199228329,0.78722908251881774,0.73827845766707856,0.61094112725953797,0.50578891218480371,0.5928287362614173,0.6758146371416982,0.62934064377343035,0.73698404100788084,0.72501097302846396,0.44642218263304634,0.45389844830026976,0.70724408585611365,0.6330553878678431,0.58952043258341891,0.6654294161887262,0.71612677607279485,0.81197221450378054,0.91740790376039805,0.80821608353987129,0.67793054302860301,null,65716.75,56036.128905999998,70624.25,101460.02340000001,69566.671875,47721.140630000002,46141.378905999998,54755.292969000002,45152.515625,64127.855469000002,72616.6875,33101.332030999998,52196.128909999999,67322.242188000004,55019.15625,51830.800780999998,49159.144529999998,51060.496094000002,52183.59375,54220.796875,0.45389844830026976,44851.882812000003]
[575,0.5749910971222173,0.64866026978427127,null,0.79244626983218691,0.70989196333630078,null,null,0.62610425076225051,0.49160991386340291,0.41916051040219265,0.10165574550775,0.81584374992476405,0.89056245313904892,0.800453419539218,0.6076816314633976,0.51497489363506987,0.45967881051637455,0.68246708040333603,0.71828142930583561,0.74478948069554163,0.78886780622722874,0.73784377680359015,0.60533658964937342,0.50337271465903022,0.59556398714570002,0.67605620945519229,0.63008463265794412,0.73845537866117184,0.72306861826845659,0.4443790618962517,0.45020758952290219,0.71788313063097975,0.65033536321040342,0.59276136988738826,0.66626962406684054,0.71843537334581442,0.81409820043712311,0.91401563343293302,0.80465267943158525,0.67378456166544531,null,65450.445312000003,55842.066405999998,70638.367188000004,100968.4844,69420.289061999996,47819.71875,46273.273437999997,54907.976562000003,45451.714844000002,65150.515625,74432.671875,33751.433594000002,52516.699220000002,68192.695311999996,54984.390625,52128.265625,49290.359380000002,51028.234375,52489.964844000002,53985.085937999997,0.45020758952290219,45176.707030999998]
[576,0.578022879367594,0.64965827001333554,null,0.79098095639783139,0.70730111165968235,null,null,0.62481533583236182,0.49091058518254765,0.41614043509732052,0.10298001238889801,0.82584967553033706,0.89794838087530893,0.80464756340545618,0.60793763802747258,0.51243844130613736,0.45729305897023298,0.68597014146110491,0.72045736571464158,0.74768918187220057,0.78994509922795475,0.7362527040793776,0.60130386332961472,0.50064542360365849,0.59761303354104589,0.67698067030609499,0.63395720498181696,0.73949699208636277,0.72257186480448377,0.44259118012759946,0.44808480566433645,0.73358028852807666,0.6645723156952007,0.5988602630431592,0.67088557488170741,0.72054547878281949,0.81308811787458679,0.90978097040221828,0.8010621265012523,0.67040477567395829,null,65352.871094000002,55761.722655999998,70744.78125,100643.99219999999,69454.929688000004,48023.503909999999,46514.199219000002,55140.425780999998,45829.21875,66292.085938000004,76427.585938000004,34531.984375,52968.414060000003,69175.898438000004,55068.9375,52556.25,49596.136720000002,51110.539062000003,52908.316405999998,53860.199219000002,0.44808480566433645,45543.324219000002]
[577,0.57936962147281912,0.65007099317167172,null,0.78989321128848466,0.70571454035295667,null,null,0.62379003117750809,0.48777634483947019,0.41456018277458634,0.10429289319502801,0.83477474446974753,0.90437398105791067,0.81026830707248065,0.60749928261622022,0.51197997019819241,0.4543250183350237,0.69097546797667175,0.71627441565093131,0.75131838344499102,0.79211931729845075,0.73666948073173633,0.60144847104753607,0.49615846203324865,0.59829240208548506,0.679212877541987,0.63797899994909357,0.73977847700293586,0.72264867188066451,0.43861369834700736,0.44713645342757191,0.74269036231493624,0.68552154623504802,0.60154026691964946,0.67319250107394135,0.72313869899446637,0.81231532483823554,0.90988521285589352,0.7960658969732396,0.66622058771008796,null,65219.21875,55683.296875,70837.34375,100322.8438,69446.195311999996,48239.882810000003,46779.804687999997,55386.742187999997,46229.152344000002,67412.820311999996,78438.796875,35324.132812000003,53430.628909999999,70187.351561999996,55164.535155999998,52999.09375,49926.03125,51217.519530999998,53343.65625,53746.59375,0.44713645342757191,45963.160155999998]
[578,0.57994751607162676,0.65041162733772395,null,0.78901758613324335,0.70245180466304868,null,null,0.6222302341530026,0.48395939202285382,0.41269306692199376,0.10568499178441799,0.84169379863847282,0.91192805898246843,0.80992012448235939,0.60944952505634387,0.50908097579251266,0.45354197318957451,0.69323537372181665,0.72171265497165782,0.75333562081931404,0.78787530408271556,0.73641396529909109,0.59994569140386811,0.49252572062138522,0.60066081098721225,0.68174528394789968,0.63959496408441296,0.74009426474344508,0.72186635712522751,0.43402834845832927,0.44269834091737265,0.75394541822198802,0.69893306168059999,0.60599539089872223,0.67537095371156108,0.72533009357380407,0.81483599477178303,0.90794600818943882,0.79292878906413489,0.66298099675319511,null,64985,55552.984375,70817.90625,99836.140629999994,69320.640625,48409.890630000002,46952.34375,55560.09375,46574.933594000002,68485.992188000004,80320.382811999996,36050.089844000002,53806.5,71071.234375,55205.683594000002,53383.519530999998,50140.054689999997,51260.304687999997,53708.589844000002,53511.277344000002,0.44269834091737265,46299.523437999997]
[579,0.58176479182435881,0.65030036209185804,null,0.78764001395308647,0.69985877075254943,null,null,0.61908298784129911,0.48439145500528497,0.41077173499336889,0.10687457097896499,0.85184364867200169,0.92153925929657421,0.80922787027668452,0.60981160186593497,0.50804566472548873,0.45361573382616366,0.69745449660328862,0.72912256903144035,0.75608502882531692,0.7946123899754407,0.73506845050359138,0.59738080379043357,0.49139233303619106,0.60404362171454451,0.68345680178621004,0.64744904781472079,0.74163713457413893,0.72051025638861321,0.43338858557828969,0.44160173707574535,0.76868335543929633,0.71868014111975431,0.60810259788201571,0.67692871277781042,0.72529658745889802,0.81644391813136519,0.9075821239185381,0.79208193675935212,0.66192299811470867,null,64749.867187999997,55453.304687999997,70827.023438000004,99418.289059999996,69206.414061999996,48640.003909999999,47148.121094000002,55778.769530999998,46957.664062000003,69550.84375,82248.484375,36828.835937999997,54237.996090000001,71963.453125,55295.542969000002,53786.429687999997,50454.566409999999,51299.261719000002,54100.324219000002,53332.816405999998,0.44160173707574535,46695.882812000003]
[580,0.58315637033279732,0.64866755551315658,null,0.78701641192210525,0.69597876589453589,null,null,0.61864624095961751,0.48100513222658542,0.40824313853315669,0.108116967858481,0.8623245156892787,0.92977307284969679,0.81453393017352849,0.6093994749153524,0.50603424828987809,0.45259013301978773,0.70495460259190534,0.73633500922886308,0.76107126789740132,0.79240032823027517,0.73518835802819549,0.59458016430624538,0.48743097908039368,0.60985874275859164,0.68741231717512064,0.65029549300548073,0.74457961878234225,0.72133862385877101,0.42942703912164065,0.43915975830004289,0.77993866942060786,0.7427442370304439,0.61157256347435629,0.67959783030114784,0.7256879400971985,0.81547893728292764,0.90453041833323322,0.78698217150504013,0.65427818474094745,null,64518.597655999998,55304.160155999998,70785.945311999996,98918.328129999994,69078.929688000004,48820.269529999998,47349.492187999997,55965.273437999997,47330.003905999998,70586.375,84095.65625,37603.652344000002,54659.117189999997,72814.101561999996,55336.085937999997,54161.757812000003,50766.390630000002,51346.222655999998,54481.253905999998,53131.417969000002,0.43915975830004289,47076.976562000003]
[581,0.58685872880452494,0.65069813062577819,null,0.78905492292189361,0.69403061578411107,null,null,0.61834111606540354,0.47857878922886243,0.40475804667849702,0.10931601418244299,0.87102852029193223,0.93367693049454892,0.8195408981799196,0.61042677525935807,0.5040041930817335,0.45159697884784422,0.71149051005358632,0.74597687928160328,0.76352863459559539,0.79270013049906951,0.73558788635702099,0.59364745028766153,0.48205621301158541,0.61503476238729393,0.69093715503847664,0.65113227222632908,0.74662475637174408,0.72181373847520236,0.42691706236406018,0.43495761898600199,0.78989835649906748,0.75770573209931802,0.61596004700945917,0.68184341969991702,0.72993463633879496,0.81400179236653736,0.90538046400037875,0.78825612043249405,0.65322188917497115,null,64388.4375,55270.929687999997,70827.578125,98538.90625,69026.359375,49125.949220000002,47652.378905999998,56204.964844000002,47789.003905999998,71712.507811999996,86056.179688000004,38459.472655999998,55163.511720000002,73777,55480.117187999997,54629.21875,51186.960939999997,51498.210937999997,54961.800780999998,53004.40625,0.43495761898600199,47540.628905999998]
[582,0.58923958870220372,0.65150012230100152,null,0.7884712244593266,0.69244561264161397,null,null,0.61582293220864048,0.4777694528922618,0.40141822613569716,0.11091441437760501,0.87846684226384597,0.9365593802244484,0.82098891528561713,0.61133605834341065,0.50295184774979285,0.4485695819638616,0.71350383354264768,0.74780266218767311,0.76603958021890328,0.79520156938575326,0.73438497503747124,0.58899205327192361,0.48092583352042062,0.61834929584144904,0.69096882183306974,0.65499362357536606,0.74663246575380404,0.72098644150445368,0.42451477088185147,0.4333714221563244,0.80575727833264088,0.77197042892336298,0.62060475998986908,0.68592302477270051,0.73279893017804354,0.81856694284538833,0.90420346400640683,0.78632918466732049,0.64966698502415399,null,64142.855469000002,55207.140625,70833.84375,98100.710940000004,68934.015625,49426.957029999998,47977.597655999998,56470.621094000002,48270.601562000003,72827.632811999996,87936.539061999996,39341.546875,55629.128909999999,74719.570311999996,55636.953125,55097.304687999997,51519.234380000002,51667.867187999997,55456.28125,52849.492187999997,0.4333714221563244,48034.8125]
[583,0.59105618897962653,0.65224568278950201,null,0.78714296790439642,0.68804509211414489,null,null,0.61251147108798665,0.47264070723819945,0.39889684462552588,0.11175785495679701,0.88441280490112772,0.94182542472486463,0.82099676749939632,0.60954941412928643,0.50191437291338192,0.44561781774118969,0.71497376653768541,0.74676985397669082,0.76915573586737651,0.79917120088074556,0.7309708146555628,0.58380708803081605,0.47740652640012443,0.61954953885456532,0.69127791232580516,0.65563076572966184,0.74647175095121443,0.7187912370218984,0.42277982633602035,0.42905201181432118,0.81436552500544301,0.79067354632958908,0.6242393774853332,0.68827260617146346,0.73424266383265024,0.81845748898464077,0.90173071502222946,0.78162021494969613,0.64739819678907895,null,63790.507812000003,55033.121094000002,70693.546875,97466.445309999996,68670.0625,49634.746090000001,48193.785155999998,56660.058594000002,48660.269530999998,73771.773438000004,89636.40625,40134.394530999998,56005.613279999998,75474.148438000004,55688.828125,55442.589844000002,51711.167970000002,51688.167969000002,55822.167969000002,52644.183594000002,0.42905201181432118,48425.035155999998]
[584,0.59394553964596664,0.65255321214271012,null,0.78588736296542305,0.68507377419187354,null,null,0.60882604953268271,0.47056001186863639,0.39519070223257408,0.11279069065476401,0.89200622264285656,0.94840541916863541,0.8235745521460216,0.60714040043101725,0.49921613541227544,0.44299932161040828,0.71960629667533837,0.7470829279838308,0.77100286735053203,0.79798799715178448,0.72954685291569676,0.58183767883337523,0.47604994391770783,0.62338207507246302,0.69332513585682132,0.66394301737321237,0.74816472428991587,0.71940188273336114,0.41915008349103894,0.42475388015169829,0.8224767762472277,0.80654724448166359,0.62908341224710729,0.69325347645914448,0.7351619502900627,0.81854168779937808,0.89946948352447764,0.77825563933620256,0.64279193592417805,null,63424.828125,54857.21875,70558.546875,96832.96875,68372.914061999996,49840.378909999999,48422.503905999998,56810.894530999998,49064.085937999997,74681.445311999996,91262.3125,40964.925780999998,56386.304689999997,76208.890625,55724.792969000002,55854.382812000003,51892.566409999999,51728.496094000002,56192.09375,52428.035155999998,0.42475388015169829,48863.789062000003]
[585,0.599216364364212,0.65566397427571887,null,0.78720955204328569,0.68486240401661069,null,null,0.60664404094939417,0.47047118521724751,0.39199048372919343,0.11453629360761,0.90062828631858904,0.95505632538080898,0.82337643752939316,0.60552251360901044,0.4998548574167847,0.44018239607923321,0.72627288101024534,0.75013728412844827,0.77435229047460341,0.80627533153305564,0.73005140834371507,0.57956700607598222,0.47326055689652691,0.62694556580723493,0.69488832491346186,0.66932531486002367,0.74947906410843479,0.72015031918749051,0.41968555301766597,0.42365721820496893,0.84184044292156957,0.82326161006231224,0.63509850977749738,0.69914667806082609,0.73904219822631656,0.8227876319143369,0.90089500154958679,0.77725876453051912,0.64159521198884817,null,63207.648437999997,54868.867187999997,70612.4375,96395.539059999996,68307.804688000004,50164.628909999999,48834.054687999997,57137.085937999997,49625.683594000002,75767.539061999996,93029.109375,41924.921875,56950.414060000003,77174.835938000004,55916.699219000002,56424.664062000003,52328.628909999999,51932.03125,56728.675780999998,52373.605469000002,0.42365721820496893,49438.472655999998]
[586,0.60033714456964071,0.6572615668253543,null,0.78745262987037401,0.68244092105870424,null,null,0.60484000298968443,0.46659346927660583,0.38902496415925852,0.11544295667566901,0.9094210365407015,0.95984137297273575,0.82394479503223073,0.60648869703441166,0.49635764319413478,0.43898115691519213,0.73298919943118701,0.75726998100188314,0.77717928647629597,0.80017879764520916,0.73033381428796029,0.57697474682236027,0.47278338458247482,0.63159494836814356,0.69737323557100617,0.67407085769420405,0.75085592704716719,0.71923381332780034,0.41443991106089101,0.42129543558022831,0.85290400691588275,0.83917622728282426,0.63906916174396255,0.70133505831705945,0.74369659049743964,0.82160963789068475,0.90006392844580951,0.77677130887576096,0.6378055105853494,null,62730.277344000002,54655.914062000003,70304.203125,95515.875,67915.953125,50327.277340000001,49036.242187999997,57268.328125,49981.257812000003,76523.421875,94393.828125,42709.398437999997,57282.585939999997,77777.171875,55891.152344000002,56729.585937999997,52582.039060000003,51956.242187999997,57022.0625,52113.996094000002,0.42129543558022831,49819.605469000002]
[587,0.60313620890426134,0.65959404747809003,null,0.78801804903773598,0.68191317759045367,null,null,0.60238775852862003,0.46424733815522501,0.3852821095065303,0.116694989555433,0.91794919443020528,0.96471332254779507,0.8281260118466951,0.60888903537384675,0.49262445777780151,0.43712057241950925,0.73841149858861088,0.76432488827459721,0.78095103542872013,0.80617942382457708,0.73004883682532917,0.57608669396829282,0.4714117153779212,0.63629319273696061,0.70109576197118073,0.67836112487124089,0.75419314799901782,0.71936444633181063,0.41646234818332767,0.41887675687461784,0.86310577552547429,0.84797086123764631,0.64502431662223081,0.70431062313422443,0.74461294863563476,0.82847788143547862,0.9014054327760519,0.77695324112155195,0.63658143476637119,null,62353.003905999998,54577.960937999997,70183.65625,94910.359379999994,67692.1875,50617.84375,49371.097655999998,57541.6875,50501.308594000002,77455.851561999996,95960.617188000004,43619.890625,57766.171880000002,78515.015625,56040.207030999998,57205.082030999998,52923.640630000002,52139.617187999997,57493.128905999998,52015.269530999998,0.41887675687461784,50361.609375]
[588,0.60807807148654558,0.6623884608807844,null,0.78940363299578387,0.68134302386771994,null,null,0.5984277146773691,0.46117664594316865,0.38273925553890159,0.117926491520136,0.92461415197729779,0.96877130264234701,0.8305187889535306,0.61015976663072546,0.49213537999318679,0.43454172310290473,0.74656345660989509,0.76997602001132393,0.78622748196235026,0.80841766653798774,0.73205546076780281,0.5760496529568514,0.46709514955514109,0.64111661383638885,0.70589387571395523,0.6854783631108845,0.759149966413045,0.72083774402697509,0.41252582166952617,0.41870580521969702,0.87353870496939323,0.86132177843827717,0.6504798596143283,0.71053790878501422,0.75064179789818253,0.82981808820158087,0.90242989150681419,0.77571965157432599,0.63540912138658989,null,62114.757812000003,54547.691405999998,70122.921875,94430.679690000004,67541.90625,50967.632810000003,49776.382812000003,57896.589844000002,51087.414062000003,78457.4375,97540.859375,44619.148437999997,58354.4375,79332.960938000004,56204.230469000002,57769.03125,53445.753909999999,52342.585937999997,58019.453125,51979.183594000002,0.41870580521969702,50969.453125]
[589,0.60964672169631096,0.66297757223567133,null,0.78899829525997767,0.67752574837165991,null,null,0.59485742761925564,0.45702466701104777,0.3794283769078714,0.11918708178158501,0.93195779754576491,0.9719668624766441,0.83289962710691223,0.60849548610739956,0.49018830360936427,0.43224796851347469,0.75209863620084194,0.77201381047246653,0.7910865087286747,0.81225769088444233,0.73381080481006389,0.57471156798980805,0.46415960945391549,0.64610231365326265,0.70998272673179319,0.69194968493774711,0.76208991575650487,0.72109363752456568,0.409411360484218,0.41891247131881088,0.88426491293364839,0.87170140339341251,0.65785637394745167,0.71531177897249831,0.75458150676064994,0.83454276336132327,0.90216157123567597,0.77477245243034909,0.6334008942451006,null,61643.1875,54357.539062000003,69830.078125,93531.46875,67155.085938000004,51151.90625,50002.273437999997,58030.875,51520.828125,79171.453125,98699.796875,45458.351562000003,58729.898439999997,79851.476561999996,56210.507812000003,58120.992187999997,53920.214840000001,52394.40625,58371.011719000002,51738.492187999997,0.41891247131881088,51386.753905999998]
[590,0.61435132137498849,0.66618119387261643,null,0.79189804151796728,0.67711194013376796,null,null,0.59125699271745824,0.45488836019767021,0.37567031414234331,0.12011315089384,0.93927458684392029,0.97744752298079274,0.83340550739855679,0.6073784830328276,0.48574649135987763,0.43060998914774989,0.75419640521266607,0.77695547870166448,0.79565546394206277,0.81830094873263726,0.73298921727089295,0.57224269834859265,0.46206415090194863,0.65088101097303963,0.7139007604410128,0.69852289091188002,0.76331148920179259,0.72238777375875562,0.4083083668931376,0.41657656513907237,0.89653065974517343,0.89293561956805745,0.66478726103156116,0.71945257104674198,0.75764906645785179,0.83547693496569397,0.90188613670293072,0.77282154789772017,0.63245592758885594,null,61444.878905999998,54368.511719000002,69805,93039.164059999996,67086.5,51585.074220000002,50456.546875,58426.65625,52215.425780999998,80166.015625,100163.546875,46508.800780999998,59363.636720000002,80654.8125,56458.542969000002,58720.789062000003,54587.113279999998,52680.058594000002,58973.097655999998,51739.757812000003,0.41657656513907237,52034.707030999998]
[591,0.61911715597221739,0.67041988310319911,null,0.7938953263309404,0.67513092525294305,null,null,0.58633143700270396,0.45188383676881211,0.37151323772401623,0.121367334157161,0.94708445904863514,0.98391325944897579,0.83141559609570714,0.60876927538523795,0.48352971622068813,0.42881155780307711,0.76212946464063791,0.78314427029552813,0.80127401271549681,0.81794439364622795,0.73312359666135563,0.57048415355911997,0.46099522966577378,0.656454369978555,0.71773604713064887,0.70294050979938238,0.76567274675324526,0.72366270262980292,0.40690107398394315,0.4141657063969279,0.90658436839094747,0.9124507988180669,0.6717720834313009,0.7243587333073398,0.76187151379679019,0.8416449191533234,0.90428826285958219,0.77276846352986328,0.62864903159356278,null,61060.492187999997,54265.738280999998,69549.570311999996,92313.25,66773.765625,51909.558590000001,50799.648437999997,58716.238280999998,52771.996094000002,80965.773438000004,101383.71875,47475.636719000002,59862.078130000002,81232.507811999996,56568.433594000002,59164.878905999998,55084.269529999998,52878.035155999998,59443.664062000003,51628.023437999997,0.4141657063969279,52579.46875]
[592,0.62520111145248258,0.67488640695132118,null,0.79559531711363229,0.67474875434434989,null,null,0.5825940991292734,0.44662515312588796,0.36895515497251652,0.122302472919911,0.95358403605863307,0.98774233732766703,0.83210170850032217,0.60547207666680625,0.48197635737693634,0.42562285855332849,0.7710573172428461,0.78642258499147821,0.80557830332794311,0.81883353226338895,0.73470767986248031,0.571041889865335,0.45913129137403519,0.66217284442282498,0.72308218751738085,0.70830926334908251,0.7703277617883324,0.72598869096996776,0.40409648244092677,0.41410808213152211,0.90995076190542323,0.92258492312510687,0.68026620379362557,0.73368980489965996,0.76853872136850876,0.84098195974419421,0.90353743579602042,0.77170385090038651,0.62699785993267065,null,60764.164062000003,54243.914062000003,69428.664061999996,91652.84375,66526.679688000004,52325.5625,51257.527344000002,59082,53407.566405999998,81834.65625,102613.179688,48548.710937999997,60432.949220000002,81901.625,56748.675780999998,59729.253905999998,55690.027340000001,53104.488280999998,59991.171875,51565.324219000002,0.41410808213152211,53199.234375]
[593,0.6324912815571655,0.68056004087125721,null,0.79911983190344515,0.67600374723943846,null,null,0.57971106313718479,0.44512646054634719,0.3653346467127398,0.123489270687374,0.95961840508548413,0.98835291837774952,0.83563260679873896,0.60494124847100883,0.47991672994877854,0.42339604798265001,0.77512943712497717,0.79030329695242862,0.80935041440322997,0.82596051596071629,0.73631743149285211,0.56805267013165561,0.45664344921592009,0.66775511180396308,0.7287072194185078,0.71634367946919952,0.77591082899287522,0.72843475960121995,0.40316477704105885,0.41243976556321482,0.92253650846590152,0.9339083627971253,0.68753324514653613,0.74003171361005604,0.7735059625802243,0.8485286111282917,0.90740582706575468,0.77278553246505188,0.62811094878729834,null,60531.125,54294.625,69341.25,91113.695309999996,66333.804688000004,52777.824220000002,51801.96875,59488.71875,54126.015625,82721.640625,103827.421875,49703.75,61153.878909999999,82608.914061999996,57012.425780999998,60381.5,56364.507810000003,53402.835937999997,60634.777344000002,51550.574219000002,0.41243976556321482,53923.976562000003]
[594,0.63841738933824488,0.68527695970471958,null,0.80328747337558393,0.67572037486646108,null,null,0.57491722150066549,0.44229886008764518,0.36166763629068133,0.124359227422356,0.96502363067688524,0.98938684665319976,0.83182951331137756,0.60438912981499859,0.47570499114689052,0.42138902429446184,0.78137627150570965,0.79577171054678342,0.81468247554180073,0.83274580095051376,0.73706768512681198,0.56675117346961568,0.4558301594243151,0.67482631411786487,0.73198928035027255,0.72398602059784423,0.7805175494581541,0.73072011918442259,0.40292170010064182,0.41160085856501027,0.93400391407539096,0.93219082930006769,0.6924658912203947,0.74324322635942675,0.77804684890149223,0.85188322153916962,0.91026932152902684,0.77404273950906322,0.62583995534914783,null,60126.859375,54247.4375,69071.960938000004,90327.328129999994,65961.203125,53134.105470000002,52217.921875,59824.28125,54735.878905999998,83391.273438000004,104792.40625,50692.945312000003,61686.367189999997,83071.671875,57186.730469000002,60866.777344000002,57022.363279999998,53606.496094000002,61121.804687999997,51477.773437999997,0.41160085856501027,54501.136719000002]
[595,0.64402565202392592,0.69001631031119925,null,0.80704845449351581,0.67839945672702795,null,null,0.56987218343654822,0.43752950152022363,0.35928527832189427,0.125543486601778,0.96994569466147407,0.99081828854856646,0.82967898296453502,0.60154862425627742,0.474608789106651,0.41850664839342827,0.79033022268832454,0.8035892487420625,0.81999195390109225,0.83825018830875264,0.73808073032495447,0.56739136458257866,0.4556843856861415,0.68144516136976818,0.73736180643906202,0.73561831509217768,0.78422419858130976,0.73243268948972662,0.40158263754152629,0.41223404246262579,0.94057410095678051,0.94864361996808566,0.70034983561122954,0.75036997882199219,0.78492096135922618,0.85372793528915669,0.91188194710718551,0.77264428777191585,0.62642200675948578,null,59683.390625,54184.828125,68762.703125,89483.34375,65556.257811999996,53509.605470000002,52631.25,60083.382812000003,55296.46875,83907.59375,105592.382812,51688.925780999998,62196.058590000001,83488.171875,57327.242187999997,61334.808594000002,57531.96875,53784.8125,61582.769530999998,51362.777344000002,0.41223404246262579,55074.910155999998]
[596,0.64958355060388684,0.69723340622998586,null,0.81170995275564051,0.68138952524343954,null,null,0.56515185192492645,0.43255724866071482,0.35484410737510347,0.12638370538813701,0.9747351292188412,0.99121119312668937,0.83001983545365343,0.59952468801229575,0.47090446816754455,0.41367454230449446,0.79641209502478905,0.81172758258022204,0.82473919353929781,0.83692648725722452,0.73931142344572887,0.56636547034933649,0.45288746374321126,0.6883652989887028,0.74216129495769001,0.74511198056750549,0.78853652674856367,0.73404142470296752,0.39952770696155948,0.4108914782823942,0.94803556629177632,0.957694123643277,0.71083898915950183,0.75766309013939059,0.79051403884410743,0.8572651762988126,0.91204172073836942,0.77256846255812328,0.62495912680341847,null,59225.273437999997,54163.484375,68424.773438000004,88657.773440000004,65131.113280999998,53881.613279999998,53072.441405999998,60390.222655999998,55897.878905999998,84477.046875,106407.820312,52721.320312000003,62732.351560000003,83915.265625,57459.71875,61822.613280999998,58207.507810000003,54006.59375,62057.828125,51287.195312000003,0.4108914782823942,55723.179687999997]
[597,0.65566418971422169,0.70233940183340615,null,0.81447396395608773,0.68233571336746246,null,null,0.5613735726560739,0.42883752086338162,0.34969903780014366,0.12690441249284001,0.97974642842636372,0.99319636695756064,0.83101930974749927,0.59756027783487897,0.46894892066270166,0.41006178959488548,0.80213323823465343,0.81660937130750733,0.8316522783608058,0.8431228086030147,0.7416931009850789,0.56621406528940998,0.45130241395741499,0.69587195460884632,0.74794527449779091,0.7521502384358556,0.79381306550655895,0.73746901434460566,0.39832772213514206,0.40990462469035188,0.95508952540343972,0.9634611979337816,0.71752428676238067,0.76515797654279527,0.79644388970696733,0.86224414532675164,0.91504200781684009,0.77174110406305618,0.62477991638608577,null,58752.082030999998,54140.460937999997,68119.1875,87835.226559999996,64752.757812000003,54266.195310000003,53532.796875,60672.78125,56511.324219000002,84973.84375,107007.976562,53727.621094000002,63234.988279999998,84292.625,57632.699219000002,62317.546875,58700.175779999998,54245.800780999998,62549.078125,51213.800780999998,0.40990462469035188,56347.851562000003]
[598,0.66339313952307288,0.70902087790073098,null,0.82111392291756058,0.68558965344344858,null,null,0.55752663865329055,0.42686928977111394,0.34624858406539416,0.12818380564267801,0.98391359822420776,0.99532941066245528,0.83220584417111976,0.59477860813997663,0.46912213862876184,0.40898240224459065,0.81031977223740748,0.82243433180655379,0.83889252271694859,0.84921658507268538,0.74421307096869826,0.56463126597658797,0.44970310289672349,0.70293521464095021,0.75437471049947413,0.76075950789527458,0.79918852606084712,0.74119927732778423,0.39678076476797097,0.41093198820857157,0.96438941839754666,0.97758602216985746,0.72530536757125219,0.77383225017588708,0.80420075672921398,0.86925258957781615,0.9203277210707187,0.77493487590320764,0.62548919695809935,null,58418.691405999998,54202.402344000002,67904.335938000004,87187.476559999996,64501.199219000002,54744.589840000001,54105.550780999998,61023.667969000002,57229.761719000002,85592.132811999996,107773.5,54820.226562000003,63902.34375,84766.117188000004,57941.53125,62898.226562000003,59410.878909999999,54560.898437999997,63141.363280999998,51213.371094000002,0.41093198820857157,57088.734375]
[599,0.67163561691996465,0.71584487069125846,null,0.82705887318997606,0.68708772191790379,null,null,0.5515445276876153,0.42131084734950935,0.34239638005134904,0.12914861200387701,0.98617852113520055,0.99781606975397552,0.83142672947872442,0.59314608705905414,0.46220519511257707,0.40758465532922045,0.81720392386186247,0.83027277688082601,0.84374299962590915,0.85285448326945146,0.74483523711044475,0.56279420099265409,0.44783389963650028,0.71010881502416257,0.76022827643506452,0.77038358449677702,0.80492866841865229,0.74316264742628368,0.39603725191019984,0.41224225844796891,0.96585264628600009,0.97591720616054556,0.7368389119893004,0.7821207116649731,0.81163670860097326,0.87395536619984915,0.92288477228040022,0.77634318262354618,0.6272241937482016,null,57953.859375,54159.792969000002,67546.289061999996,86340.335940000004,64118.957030999998,55116.492189999997,54522.746094000002,61303.335937999997,57851.738280999998,85973.28125,108194.976562,55806.171875,64359.128909999999,85035.4375,58058.933594000002,63338.640625,60014.941409999999,54776.007812000003,63567.917969000002,51118.800780999998,0.41224225844796891,57672.859375]
[600,0.68045211939812245,0.72285304851422461,null,0.83212656425014941,0.68933479059218394,null,null,0.54650770996612075,0.4190748043556905,0.33757009679531369,0.12944143689304799,0.99019642926164986,0.99827711696452659,0.82815236682339055,0.59164063225747121,0.46274684656700599,0.40452681397627566,0.82259981416207595,0.84022157001783326,0.84918017002425961,0.86279779167391935,0.74676622177491103,0.56350713011186693,0.44674006401417921,0.71956552272671692,0.76759989834103837,0.77829656198215047,0.81209300507903603,0.74674515887706105,0.39752633559259115,0.41127113470792609,0.97743391882361574,0.98223218073068697,0.74686244487409648,0.78803800208025332,0.81700273193012796,0.88036291299948388,0.92493774641466897,0.77598133487840326,0.62682748028864665,null,57430.792969000002,54051.132812000003,67128.90625,85389.476559999996,63680.699219000002,55486.808590000001,54947.296875,61518.050780999998,58424.089844000002,86251.507811999996,108462.742188,56779.511719000002,64756.78125,85212.539061999996,58140.40625,63733.320312000003,60554.242189999997,54933.902344000002,63972.144530999998,50970.097655999998,0.41127113470792609,58258.03125]
[601,0.68912268964959877,0.73129387071781937,null,0.83756365653639997,0.69079099410880007,null,null,0.54188848367940967,0.41327926677717913,0.33382000786236837,0.13003611784210201,0.99367950453539555,0.99606589654752786,0.82536357039353736,0.58988934131309612,0.45811086745103896,0.40110194009552186,0.82943479783257346,0.84500068082233304,0.85560302322785253,0.86596647870870136,0.74850828961015614,0.56276864425320372,0.44522870571493872,0.72830372305907565,0.77446582352299698,0.78517323912043901,0.81757764281056222,0.75040240264210889,0.39386455935131409,0.41113932693797911,0.97920996332400789,0.98480136884286873,0.75500778688872749,0.79517755635098908,0.82376375211370689,0.88304273755470641,0.92970600644500179,0.77776594545846323,0.62782207981319738,null,56979.472655999998,54043.304687999997,66804.039061999996,84596.78125,63284.378905999998,55895.828130000002,55472.664062000003,61786.152344000002,59093.074219000002,86676.617188000004,108877.054688,57877.191405999998,65315.472659999999,85460.539061999996,58318.488280999998,64277.667969000002,61212.660159999999,55216.042969000002,64474.0625,50941.988280999998,0.41113932693797911,58943.453125]
[602,0.70035628932607497,0.73872761743452908,null,0.84320120018400202,0.69093261204593281,null,null,0.53794328042345729,0.40884089250674815,0.33142733202099195,0.130693653741768,0.99723302012233306,0.99766314923463584,0.82728746759376803,0.58948619514598544,0.45129985053894306,0.39911710269565365,0.84102464730890947,0.85430366633573129,0.86477333371524645,0.8730329213762329,0.75252976302807351,0.56248096164934835,0.4454600882190628,0.73815143147926987,0.78405963218100194,0.79357770444873066,0.82398768135048872,0.7550371556062393,0.39660447368096929,0.4100832936919156,0.98473487495085088,0.99032180231096256,0.76465164442361977,0.80369160586893906,0.83276367717842759,0.89203046142257725,0.93397404394400263,0.78176128175831749,0.6272589582814081,null,56648.894530999998,54133.578125,66520.03125,83927.46875,62944.957030999998,56438.851560000003,56092.1875,62183.101562000003,59888.910155999998,87191.96875,109312.515625,59041.351562000003,65962.179690000004,85813.085938000004,58607.222655999998,64879.792969000002,61909.53125,55592.476562000003,65064.351562000003,50967.539062000003,0.4100832936919156,59702.980469000002]
[603,0.71013879539607594,0.74623735188867979,null,0.84846685428280166,0.69334775392301851,null,null,0.53389825233685273,0.40511146735013104,0.32802712207837825,0.13112435325722999,1,1,0.8256416123523046,0.58898618546501103,0.45114856468020631,0.39578898579782829,0.85018905242795062,0.86687980531320397,0.87217058535403269,0.87752157240401207,0.75636264049714796,0.56405690888473747,0.44645097402964246,0.7500230885798046,0.79172290351500763,0.8066623734224142,0.83243833644863674,0.76042647275704345,0.39212112397436266,0.41032075126011136,0.98554976235362579,0.99710990617569173,0.77390385792626049,0.81107054648029075,0.83866892986068731,0.89587718080462453,0.93672095139065592,0.78056945772111985,0.62529611409341757,null,56205.949219000002,54116.3125,66109.4375,83051.015629999994,62518.792969000002,56881.097659999999,56622.980469000002,62469.472655999998,60572.671875,87496.03125,109549.976562,60151.03125,66547.429690000004,85931.023438000004,58788.300780999998,65415.234375,62639.539060000003,55851.566405999998,65604.960938000004,50918.886719000002,0.41032075126011136,60391.023437999997]
[604,0.7186120249699447,0.75273668800600246,null,0.85389538997274117,0.69444537846568077,null,null,0.52834356978376207,0.39922206976758978,0.32274846497295417,0.13158994256298701,0.99891268237854913,0.99643593957345233,0.8199047085105281,0.58423573157366726,0.44628681640909768,0.39226897836766761,0.85649188819505384,0.87040543326515407,0.87709374318294964,0.88245213500254216,0.75818125736269004,0.56412894908986722,0.44564024825158549,0.75742715497363144,0.79784234682524613,0.81322460671489005,0.83768981722913216,0.76351684525379648,0.39202822978081414,0.41015622111061917,0.9904444381987495,0.98783906548382605,0.78218481780768012,0.81880209164107842,0.84261531601871853,0.89777936043274587,0.93575166521133291,0.78357039422153474,0.62699884202833567,null,55610.675780999998,53986.429687999997,65539.234375,81947.09375,61912.257812000003,57180.320310000003,56997.695312000003,62632.597655999998,61095.609375,87511.554688000004,109464.109375,61114.828125,66916.632809999996,85841.703125,58807.3125,65792.0625,63366.25,55999.042969000002,65974.789061999996,50796.003905999998,0.41015622111061917,60956.960937999997]
[605,0.72892709835241254,0.76257359833265492,null,0.86054079393234129,0.69838136210869162,null,null,0.52388281989568464,0.39593091245618084,0.31862103918394785,0.132147364751112,0.99886800674917831,0.99416873083890611,0.81493870491712883,0.57922308612416251,0.4438708557441618,0.38850337560511372,0.86354706289603045,0.87601812226205034,0.88419873442710673,0.89337217485653986,0.76090667585659999,0.56438617360280519,0.44396147818592319,0.76533254101897719,0.80616847080385623,0.81844369063799971,0.84234035666835627,0.7665872033198956,0.39153198905690417,0.41114067267948401,0.99158607958212086,0.99140483870696505,0.78990091633014292,0.82683504552923059,0.84912409179059123,0.90534486125990754,0.94062828759108008,0.78304702062678289,0.62896060644870722,null,55143.316405999998,54038.902344000002,65180.167969000002,81078.429690000004,61459.078125,57640.65625,57593.375,62995.210937999997,61814.28125,87733.789061999996,109622.6875,62190.695312000003,67455.242190000004,86020.78125,59037.335937999997,66379.265625,64317.9375,56282.453125,66520.171875,50813.65625,0.41114067267948401,61702.867187999997]
[606,0.73720225076674939,0.77010685123482647,null,0.86608274026715337,0.70035474039278933,null,null,0.51915211073726542,0.39159111221067933,0.31406843065427481,0.13222210432065401,0.9994985982600022,0.99098526540597343,0.81296340857704319,0.57553658008310316,0.43840643384103084,0.38456163724582365,0.87148184923142424,0.88535832390097247,0.89271310672056714,0.89570518780086883,0.76437624787813796,0.56269651213377514,0.44274773653155347,0.77605590524507906,0.81379618863746095,0.82682941613544314,0.84929657635424705,0.77145207828113815,0.39341976422178027,0.41350514683433348,0.99371660632300562,1,0.80345537678470758,0.83828956952010569,0.8607396582161021,0.91042793899081154,0.9434282313754131,0.78542545526201513,0.62960203645180235,null,54650.695312000003,54060.417969000002,64745.195312000003,80194.578129999994,60972.152344000002,58096.21875,58166.824219000002,63270.839844000002,62530.09375,87862.09375,109626.023438,63259.167969000002,68008.351559999996,86052.140625,59258.878905999998,66911.945311999996,65177.792970000002,56575.496094000002,67051.359375,50814.375,0.41350514683433348,62393.597655999998]
[607,0.74711674716500043,0.7786914682563435,null,0.87099361681499521,0.70290747750967808,null,null,0.51270362688581717,0.38717534589712832,0.30840457166780194,0.13275296811228901,0.99835189462928009,0.98905580649212643,0.8097077325931773,0.57242343742170443,0.43613600004474967,0.38122691955086196,0.8797451021022421,0.89152999987918302,0.89969293066538636,0.90259443454557187,0.76806094684213522,0.561407549445605,0.44376275136932053,0.7853477148876965,0.8233529159440196,0.83573195423266311,0.85701462540691575,0.77547277287191696,0.3923938883897794,0.41663687413136435,1,0.98698757992885622,0.81233701238519562,0.84389836269655405,0.86612612858859372,0.91320804476288742,0.94551475256729745,0.78067971231365707,0.62949705205551476,null,54167.519530999998,54084.542969000002,64326.761719000002,79296.101559999996,60483.601562000003,58570.386720000002,58757.617187999997,63634.238280999998,63232.902344000002,88018.382811999996,109590.898438,64333.414062000003,68569.507809999996,86096.476561999996,59436.5,67483.96875,66109.242190000004,56888.207030999998,67620.15625,50810.121094000002,0.41663687413136435,63092.664062000003]
[608,0.75690484225859067,0.78582337356672438,null,0.8766551185340089,0.70826032266847394,null,null,0.50631916867708004,0.38130965792520721,0.30467881599503421,0.13303368000474999,0.99742782093850313,0.98710266991023732,0.80719147247005918,0.56993858822395504,0.43018575244390655,0.37850674443458693,0.88769905618682865,0.90043511985719182,0.90455924413940181,0.90281900336476884,0.7709944520911246,0.56282247539087105,0.44462056898633984,0.79509511398765575,0.83231594061749259,0.84825941273892214,0.86339894166440967,0.77971417240714425,0.38948921617309151,0.41642384880394773,0.99451665707309922,0.99138957082900891,0.82033547772637161,0.85256928515065411,0.87366053232678775,0.9228010328339219,0.95043122126770552,0.7849535638267513,0.63108658383505245,null,53611.757812000003,54046.097655999998,63808.382812000003,78260.351559999996,59973.101562000003,58974.84375,59269.101562000003,63901.15625,63891.910155999998,87995.25,109376.382812,65358.5625,69025.945309999996,86009.632811999996,59626.546875,67919.757811999996,66906.867190000004,57120.34375,68083.625,50731.402344000002,0.41642384880394773,63748.949219000002]
[609,0.76831514570989845,0.79641019010025182,null,0.88734580802370333,0.71278841538072257,null,null,0.49893585086189257,0.37776878699203847,0.30161075416278577,0.13250189411081101,0.99721046051606232,0.98115308431360848,0.80315898363409721,0.56604316668818533,0.42750089546176473,0.37579052396605966,0.89365098797959019,0.90460806218642986,0.91049994760826658,0.91470872504760914,0.7727325988624687,0.56253023996078344,0.44415088345441966,0.80491255717611587,0.83921357963687371,0.85688431836185508,0.86947710012671386,0.78361796398448025,0.39086863562798024,0.41379591180326664,0.99979605799609272,0.9886089309070909,0.83307402261198205,0.86353818426438189,0.88319490994924688,0.92699878573518768,0.95675689581115742,0.78929925929049127,0.63396731885942326,null,53155.300780999998,54095.449219000002,63448.375,77443.90625,59501.15625,59513.308590000001,59956.164062000003,64379.855469000002,64638.152344000002,88143.648438000004,109300.242188,66547.453125,69644.554690000004,86082.257811999996,59928.375,68528.21875,67925.570309999996,57495.496094000002,68685.21875,50816.921875,0.41379591180326664,64557.539062000003]
[610,0.77713895703216018,0.80553183300830744,null,0.89244469073493893,0.7156408205825262,null,null,0.49338232388789033,0.37254174181352229,0.29776793848914823,0.13282883104228399,0.99483928612816275,0.97803161961837926,0.797387387523524,0.56366142806314434,0.42381752036457226,0.37255657244460977,0.90158183679529169,0.90720985001505916,0.9177665868273388,0.91841202500870067,0.77475230814361395,0.56267647098260765,0.44402751277114255,0.81505817051643159,0.84643403076117329,0.86573688450992714,0.87705825279352045,0.78753108976067687,0.38966423336972211,0.41768683010646096,0.99758963614062146,0.98605177577513947,0.84108966148776465,0.87006372806862742,0.8890354131337368,0.92934497125654358,0.95760285197004325,0.78749653565684252,0.63462617185302184,null,52564.640625,54084.46875,62914.984375,76437.289059999996,58948.703125,59945.203130000002,60523.152344000002,64645.074219000002,65359.246094000002,88124.039061999996,108969.59375,67563.921875,70117.875,85932.835938000004,60090.773437999997,68972.773438000004,68675.414059999996,57773.011719000002,69121.445311999996,50785.351562000003,0.41768683010646096,65255.226562000003]
[611,0.78607135792864291,0.81323930141144918,null,0.89745365451133219,0.71788904827400113,null,null,0.48758804670305622,0.36891430074118253,0.29322742022176773,0.13296293966655401,0.9894413886406267,0.97502788392991846,0.78996813325709148,0.56000886129219751,0.42232850929537741,0.36791240796688368,0.90854692669127168,0.9120117959325702,0.92214412990488215,0.92617672760509018,0.77766661675669901,0.56165441850329401,0.44328849852039126,0.82429531628013375,0.85469004544146532,0.87263523875136584,0.88371470445589795,0.79116679398168588,0.39049830005612224,0.41951542719920054,0.99405997424732773,0.98660458101124582,0.85011207407669798,0.87738808530001333,0.89627266561520358,0.93494476881881161,0.96043795729266979,0.78726784651290949,0.63463583451925532,null,52023.429687999997,54063.921875,62353.140625,75495.054690000004,58407.8125,60391.804689999997,61116.851562000003,64924.871094000002,66080.625,88087.734375,108635.117188,68647.46875,70680.304690000004,85734.359375,60319.863280999998,69477.007811999996,69517.359379999994,58079.171875,69645.09375,50810.574219000002,0.41951542719920054,65953.367188000004]
[612,0.79678362997538033,0.82103068200106388,null,0.90301271324224819,0.71985110833627031,null,null,0.48224130200490484,0.36375753909945502,0.2888269567907234,0.13261119353355799,0.98681920798745659,0.96823949922494845,0.78613957287780467,0.55483991040714109,0.41470008806101755,0.36437617706091646,0.91665219931574071,0.92504069564831459,0.92821412550119042,0.93193002664402114,0.78039280196411132,0.56202511783848974,0.4416104424430437,0.83336179331260751,0.86319378807746516,0.87994420239001181,0.88921515828114162,0.7969247614496362,0.39167105787541279,0.41950682180365617,0.9944041860226811,0.98606442489020263,0.85980151474623123,0.88666118409400385,0.90304103847373551,0.94243396634361165,0.96415164725262248,0.79004592848049249,0.63546056466095424,null,51425.347655999998,54056.371094000002,61702.464844000002,74502.960940000004,57819.71875,60809.78125,61658.550780999998,65210.09375,66709.476561999996,88000.460938000004,108152.3125,69700.53125,71159.101559999996,85512.625,60466.5,69918.835938000004,70282.757809999996,58349.296875,70084.132811999996,50792.988280999998,0.41950682180365617,66653.195311999996]
[613,0.80873872313153872,0.82945948926354029,null,0.91081952470869409,0.7255171220356903,null,null,0.47670852754648257,0.35911577487850288,0.28367341474499108,0.13229523427908099,0.98580995978161734,0.96034098536517865,0.78175832811193391,0.55041809222023663,0.41150909862545704,0.35965886561540095,0.92385292052149515,0.93331455947338571,0.93552203124558031,0.93977741601400244,0.78317304065882609,0.56491067733678602,0.44246731950546903,0.84173492684593221,0.8710089403306559,0.89014093129507077,0.89538916713384564,0.80178148736539578,0.38931447450826434,0.41816537237647494,0.99447501744266242,0.97448594683430523,0.87228213710544211,0.89637963240036922,0.91008073350257901,0.94760467981001173,0.96926565028333955,0.79321928548022191,0.63987016524678753,null,50829.855469000002,54039.972655999998,61171.3125,73522.9375,57253.429687999997,61247.789060000003,62211.554687999997,65518.304687999997,67379.695311999996,87842.984375,107622.335938,70745.140625,71642.617190000004,85277.515625,60614.78125,70331.179688000004,70946.539059999996,58633.214844000002,70502.828125,50800.117187999997,0.41816537237647494,67354.210938000004]
[614,0.81831258752012193,0.83844947990793595,null,0.91777179047468771,0.72896252267560413,null,null,0.47117779311625396,0.3538171474622484,0.27887009197449714,0.132284891833964,0.98182957084178002,0.95347551800694808,0.77545675198300812,0.54531420204044012,0.40484599605404442,0.35531750379836902,0.93234103797678891,0.93690856846835224,0.94242662771965457,0.94376320038550188,0.78671357013483323,0.56750745052626794,0.44488172073831789,0.85119795319975655,0.88103233584386864,0.90002424898263611,0.9022684403535246,0.80474482653714807,0.39019127741503262,0.4212117419737435,0.98779636166095885,0.96454468666077464,0.88136456894960746,0.90329602084309346,0.9191349582209033,0.95502389381096719,0.97144272509619367,0.79578847610868086,0.63925118501147005,null,50065.421875,53854.175780999998,60393.246094000002,72346.96875,56499.582030999998,61495.597659999999,62603.597655999998,65585.078125,67835.007811999996,87389.25,106726.921875,71493.382811999996,71893.820309999996,84667.101561999996,60568.921875,70563.390625,71403.179690000004,58728.09375,70707.421875,50643.453125,0.4212117419737435,67813.265625]
[615,0.83031300796262109,0.84657881053380657,null,0.923450560309105,0.73296505415348301,null,null,0.46528967785613273,0.3492572069955116,0.27478170232344734,0.13185653526789201,0.97883469809880397,0.94721427484181375,0.77077175536892795,0.54085511615919513,0.40011118583822636,0.35084578024456081,0.9409827557246887,0.94257678017417401,0.94882381883617106,0.95180029107910125,0.78957075425469125,0.57012699768475261,0.4435906960634261,0.86162479805016545,0.89027050129491669,0.91183946682884875,0.90891323137761781,0.80938793633283679,0.39047694903369418,0.42529698701393714,0.98513170695600627,0.9668409594883921,0.88823868618622637,0.91019392250359754,0.92683179866143028,0.95615144579155953,0.97467462173077912,0.79240913058897411,0.64011971520797917,null,49362.871094000002,53811.46875,59668.035155999998,71288.6875,55838.851562000003,61811.921880000002,63120.902344000002,65742.898438000004,68402.414061999996,86941.453125,105869.523438,72426.515625,72211.53125,84193.921875,60648.132812000003,70885.9375,72029.765629999994,58890.703125,71062.179688000004,50538.457030999998,0.42529698701393714,68398.539061999996]
[616,0.83922919399254647,0.85453629010121701,null,0.92751420319318378,0.73673671464269619,null,null,0.45840585271665441,0.34281876403340206,0.27072800538912956,0.13111645290510501,0.97213536713310822,0.94121564054476992,0.76324037859342775,0.53682726720313911,0.39782199867104884,0.34772576987499404,0.94464837836017423,0.95587150520209241,0.95403262927952248,0.95041449089699837,0.79259041265521069,0.5691289290136079,0.44306516138057822,0.87187748297062662,0.89913777892067759,0.91751124497450431,0.9146336821062846,0.81354279069684288,0.38950811752942077,0.42761455621351863,0.98015043471670615,0.95573369459859958,0.89729431018635863,0.91795556336425665,0.93137630284898087,0.96213447653602457,0.97715991781885525,0.79476391214173769,0.64024722180408333,null,48688.339844000002,53714.089844000002,58949.503905999998,70252.640629999994,55105.800780999998,62127.269529999998,63577.191405999998,65833.460938000004,68884.039061999996,86433.039061999996,104917.492188,73247.773438000004,72523.9375,83622.773438000004,60693.144530999998,71165.90625,72749.335940000004,59072.1875,71326.875,50428.957030999998,0.42761455621351863,68896.242188000004]
[617,0.85068832569230712,0.86491399711920791,null,0.93379253972490928,0.74068060787985812,null,null,0.45178747082931098,0.3385748282949661,0.26540404469412376,0.130663933409459,0.96425224993007042,0.9321901313150992,0.75450954526937974,0.5309512996274115,0.39385179905129347,0.34394224814146307,0.94914222073492649,0.96174288118211582,0.95849596283640803,0.95990365016962675,0.79334763947302789,0.56605555214837966,0.44293983439857676,0.88176403532689851,0.90695980167410528,0.92310198716291147,0.92088238661233546,0.81666782481901257,0.38976289171818296,0.42735537557139036,0.97294405928381811,0.95411332796377102,0.90493472487555793,0.92550334135660284,0.93523142326538899,0.96334945979112041,0.9796217988142164,0.79508352571349372,0.6416280714770265,null,47945.300780999998,53537.632812000003,58143.996094000002,69045.210940000004,54261.105469000002,62324.898439999997,63942.644530999998,65858.757811999996,69222.546875,85778.007811999996,103788.617188,73969.679688000004,72645.953129999994,82961.445311999996,60572.242187999997,71322.0625,73274.757809999996,59106.367187999997,71462.703125,50212,0.42735537557139036,69290.625]
[618,0.86222054646204072,0.87492934105206077,null,0.94110463854260873,0.74450606526928953,null,null,0.44482776996697154,0.33300048237605218,0.26093381343253474,0.13023822467068399,0.95996661727075516,0.92578676584552533,0.74969018526868414,0.52734669538700008,0.38601815628577951,0.33870898984656123,0.95636393191765467,0.96421700728787874,0.96532462857884993,0.9579675047219004,0.79516579122898756,0.56599745951094638,0.44066253037141973,0.8919288012191775,0.9148933421294968,0.92973356647206606,0.92634538787499554,0.82026409245963394,0.3880772113535213,0.42686682501440421,0.96665631640080252,0.94414938187864739,0.91170704912720246,0.92956597805956009,0.94043127898977752,0.9662181717455578,0.9817681928329034,0.7945557420665702,0.64186382684191479,null,47276.027344000002,53395.882812000003,57471.152344000002,68002.476559999996,53515.964844000002,62585.753909999999,64383.925780999998,65958.351561999996,69712.320311999996,85250,102804.359375,74713.78125,72910.1875,82375.164061999996,60605.824219000002,71565.4375,73805.6875,59237.65625,71743.695311999996,50102.851562000003,0.42686682501440421,69729.914061999996]
[619,0.87197209702064449,0.88745559858942358,null,0.94890779399071012,0.75062352489359374,null,null,0.43949910335713077,0.32786961227266792,0.25803947703989472,0.12977567555751199,0.95410075059208732,0.92383089799000795,0.74464282898298495,0.5225770310364739,0.38206505706484079,0.33531926176004206,0.96527201836639209,0.96979350553888855,0.97192116962000519,0.96813757929681499,0.79926808567890562,0.56682067239627665,0.4411288198231107,0.90140697044309603,0.92226207678102412,0.93593577942504924,0.93416198406770512,0.82441916654266467,0.38882775109527057,0.42962566175646527,0.95974215657538586,0.92664157217029286,0.9220878751865309,0.93944057268122982,0.95044850571861073,0.97339551346919961,0.98519228637639322,0.79624916306763316,0.64344767841846762,null,46725.386719000002,53376.824219000002,56850.488280999998,67056.835940000004,52937.046875,62947.007810000003,64981.582030999998,66101.890625,70281.601561999996,84832.765625,101959.351562,75571.007811999996,73261.351559999996,81858.539061999996,60767.660155999998,71926.1875,74622.523440000004,59461.257812000003,72144.953125,50045.957030999998,0.42962566175646527,70293.5625]
[620,0.88214154509631026,0.90035649003375728,null,0.95587787229226839,0.75455957696051135,null,null,0.4342516625819024,0.32329941436049786,0.25480070391463411,0.12896916058709099,0.94473603264437922,0.91523614558958932,0.73655323315265031,0.5137835630582922,0.37558498948390945,0.33161219862321067,0.97155152715076076,0.96976711802754412,0.97621570397148116,0.97258581166911884,0.8007742259017151,0.5674886438342962,0.44043473951993917,0.9099527336068014,0.92932950842438833,0.94323250701212991,0.93919968487685257,0.82676337701953972,0.38776952901561462,0.43332636875173253,0.95354984724600234,0.92463630993358281,0.93156482591868395,0.94644733525211677,0.95516367970885629,0.97616878245166716,0.98274409027196019,0.79402411074651003,0.64378909128260431,null,46101.316405999998,53248.570312000003,56179.1875,66107.039059999996,52266.996094000002,63198.832029999998,65442.480469000002,66195.820311999996,70768.046875,84304.726561999996,100905.046875,76392.054688000004,73582.671879999994,81260.0625,60779.257812000003,72194.367188000004,75329.460940000004,59600.03125,72413.1875,49946.980469000002,0.43332636875173253,70771.203125]
[621,0.89358022417100957,0.91196060713913951,null,0.96176471736158509,0.75704637996308277,null,null,0.42847449161489765,0.3167946035417436,0.25057852169994232,0.12840950487274699,0.9359927441500675,0.90422389230725719,0.72803052971117999,0.50799812748151396,0.37206928154726782,0.32645247342126971,0.97272736852425978,0.97251924794339906,0.97824323235503019,0.97026233121281102,0.80091054060451616,0.56686401359936123,0.44029889036099756,0.91834390296993584,0.93709752914227973,0.94769419514703246,0.94242080203885625,0.82794206813817395,0.38550105363994586,0.43379913573845053,0.94839429196665026,0.91752892195115621,0.93923854953631636,0.95212383499597497,0.96198138608330153,0.97950838528980022,0.98550391823991412,0.79453165445322882,0.64376673375889282,null,45520.164062000003,53178.027344000002,55539.578125,65171.191409999999,51633.535155999998,63518.933590000001,65930.914061999996,66304.109375,71272.859375,83798.203125,99966.0625,77219.789061999996,73960.070309999996,80717.867188000004,60853.035155999998,72494.476561999996,76030.085940000004,59792.609375,72691,49907.03125,0.43379913573845053,71288.039061999996]
[622,0.90408907563342311,0.92138798987146786,null,0.96757416595627865,0.75965189146170675,null,null,0.42212778330527045,0.31434039937553893,0.24594533187177858,0.12755660883506001,0.92799397830797992,0.89614706005355804,0.72001630555262897,0.5035436394018008,0.36655821047743381,0.32246602914144495,0.97694276135081015,0.9747805279190348,0.98143137351020626,0.97948748662625373,0.80223436158198147,0.56549258492388299,0.43953568468138221,0.92575869622491935,0.94426181683217381,0.95596852749700867,0.94678607700900241,0.83137935722770584,0.38622699534736593,0.43107181776569986,0.94423885099333293,0.91119085718196646,0.94606751435106273,0.956940619155769,0.96521457027331936,0.98434366806644358,0.9859802876823297,0.79559940180399746,0.6447838989299669,null,44837.605469000002,52997.0625,54773.390625,64077.945310000003,50949.148437999997,63664.953130000002,66283.351561999996,66311.078125,71634.125,83195.515625,98824.859375,77820.203125,74202.054690000004,79990.210938000004,60793.339844000002,72668.726561999996,76620.539059999996,59802.757812000003,72858.0625,49745.394530999998,0.43107181776569986,71648.984375]
[623,0.91105489023054531,0.92598284280609355,null,0.97080714275427815,0.76068924117551662,null,null,0.41506208017721674,0.30871839030806852,0.24095802627754312,0.12640855544018001,0.92205320808096891,0.8886937501134009,0.71345540597392421,0.49709613466096436,0.36489615956298765,0.31846043239847771,0.98135439682136716,0.97987631354243343,0.9837628233565151,0.98829811721662431,0.80413571709084053,0.56454495173111352,0.43780429213404953,0.93333947455441879,0.95056416498337226,0.97060461703248246,0.95178818707578006,0.83381578786869759,0.38486600422100314,0.43091622849968986,0.93310893692318886,0.89917309813153823,0.95152845747340464,0.96333111423326023,0.97203877927432669,0.98583064042059121,0.98665490296143177,0.79468334707938215,0.64612563856166194,null,44145.707030999998,52835.605469000002,54006.464844000002,63033.734380000002,50261.035155999998,63824.9375,66650.585938000004,66299.273438000004,72016,82511.734375,97649.351561999996,78399.398438000004,74373.695309999996,79227.6875,60739.691405999998,72773.992188000004,77191.4375,59832.074219000002,73009.914061999996,49587.171875,0.43091622849968986,71994.273438000004]
[624,0.91899561412749675,0.93539041376141563,null,0.9738491579082591,0.76320972724255587,null,null,0.40881826840476343,0.30436686131178342,0.23573046720892987,0.125947027446911,0.90991773491173034,0.87394503323809891,0.70587818928575718,0.48957727628141551,0.35809368017692034,0.31232394792798013,0.9826470137924761,0.97972811566159423,0.98661659134386526,0.98478273495764679,0.80331283777491291,0.56286203009892233,0.43755855724963344,0.93729276510734338,0.95379969859867941,0.97282398813252058,0.95210623782867831,0.83507805742947805,0.38455532501356149,0.43215006326669064,0.92823809325972317,0.88088603058222981,0.95599185808130849,0.96655388919862617,0.97501074204320071,0.9890536763498301,0.98600943930691021,0.79367039878700785,0.64644832180127665,null,43557.210937999997,52742.597655999998,53290.648437999997,62077.800779999998,49667.894530999998,64018.710939999997,67048.640625,66371.023438000004,72343.398438000004,81925.96875,96589.320311999996,79093.921875,74638.53125,78570.296875,60752.59375,72979.492188000004,77877.414059999996,59957.96875,73157.25,49486.3125,0.43215006326669064,72376.148438000004]
[625,0.92656094293585833,0.94172039120314521,null,0.97579494901710284,0.76326461508516363,null,null,0.40144682168418755,0.29853275558647319,0.23191690345313654,0.124782389290665,0.90172354390046949,0.86485439992575619,0.6970563559581,0.48362663395094896,0.35009347545267344,0.30769013708291737,0.98563104494654885,0.98447542957377931,0.99196984244942243,0.98621100875338163,0.80593134073405659,0.56346978453943242,0.43811995891986749,0.94500591096254105,0.95917102461724435,0.9755395169130805,0.95739730844427162,0.83749486330052902,0.38365887334798709,0.43226235139995689,0.91747084087211417,0.87262727751774938,0.96118891079051649,0.97494016855632681,0.97905416122952749,0.99186819481997457,0.98822183795876861,0.79268560390368026,0.64694775433354745,null,42849.953125,52573.703125,52492.992187999997,61086.691409999999,48946.433594000002,64118.121090000001,67331.859375,66374.882811999996,72578.515625,81153.539061999996,95327.429688000004,79698.6875,74737.070309999996,77833.601561999996,60606.972655999998,73027.023438000004,78358.96875,59944.261719000002,73182.390625,49342.070312000003,0.43226235139995689,72661.203125]
[626,0.93361470988995843,0.94811542778898783,null,0.97762678506091316,0.76270700737446129,null,null,0.39483046650821146,0.2946069112042296,0.22785687842416977,0.123981272998792,0.89257904200017335,0.86040425675315213,0.6877159677752247,0.47708857843791086,0.34750991311404161,0.30410759084725691,0.98867976900513521,0.98991565025408346,0.9946090461365189,0.99393287062350788,0.80692924115620057,0.56405963323815711,0.43781160705274286,0.95157591680159181,0.96541895367746866,0.97939802535792919,0.96092379388204407,0.83943959298118298,0.38474306125342489,0.4355068681239353,0.90829364959649195,0.85475471676518033,0.96756134547814332,0.97640867240395235,0.98114468277844447,0.99352007824686739,0.98820066117954164,0.79238957445761915,0.64472149528375589,null,42222.1875,52405.371094000002,51749.222655999998,60087.261720000002,48185.773437999997,64271.882810000003,67621.234375,66349.398438000004,72846.742188000004,80380.976561999996,94101.554688000004,80248.960938000004,74844.9375,77111.734375,60563.453125,73077.65625,78680.828129999994,59937.113280999998,73231.21875,49182.28125,0.4355068681239353,72946.648438000004]
[627,0.9408544548823059,0.95097656225158633,null,0.97985236910307338,0.76332352597420272,null,null,0.38868175920021336,0.28864904341485437,0.22450094120972414,0.122690005781524,0.88256875451506289,0.84822363054065775,0.6792639212166921,0.47074808787036215,0.34436735945860203,0.30017768922262555,0.99203914274403171,0.99026254605128661,0.99513157682597198,0.99447925111091384,0.80645390597266808,0.56332965638807464,0.43647189097996875,0.96070082799893808,0.9735206765854415,0.98420337815921877,0.96227699851402992,0.8405791435980664,0.38230535201754434,0.43395424672551514,0.8989485368823622,0.84835444303606922,0.97472036511265414,0.98157598967733384,0.98564041712981965,0.99497467694702701,0.98782314023169826,0.79118431223405872,0.6457675901152099,null,41543.96875,52244.140625,51001.34375,59036.882810000003,47430.25,64377.53125,67902.460938000004,66372.0625,73077.226561999996,79613.90625,92914.835938000004,80704.734375,74866.1875,76345.734375,60492.710937999997,73105.101561999996,79196.796879999994,59916.351562000003,73270.820311999996,49000.519530999998,0.43395424672551514,73182.625]
[628,0.94659028554555158,0.95635014396691576,null,0.98261264662465542,0.76396479552577801,null,null,0.38293415763839123,0.28454668443324049,0.22113112342859251,0.121848217875713,0.87378923383805884,0.83548456342491728,0.67030648009198279,0.46617540577626182,0.33568360220979121,0.29563959039828985,0.99583498315363872,0.99656227129333175,0.99827706968279062,0.99345859921460156,0.8076241304049685,0.56335201849198491,0.43537201842804701,0.96958059407924679,0.97972343295168551,0.99059293427894501,0.96601072617244088,0.84362007791251581,0.38202790264842557,0.4343840165081172,0.88598131872718344,0.8321869669263402,0.97617985901720272,0.98650553237364946,0.9887250638906161,0.99547937152585331,0.98798746582026697,0.79234485660118026,0.64498774114321877,null,40851.53125,52049.015625,50249.59375,58061.011720000002,46630.757812000003,64459.792970000002,68113.125,66325.171875,73264.0625,78728.03125,91573.648438000004,81159.59375,74815.484379999994,75549.453125,60354.074219000002,73099.953125,79281.90625,59924.828125,73208.335938000004,48821.484375,0.4343840165081172,73361.78125]
[629,0.95447953998496216,0.96469497523634706,null,0.98497474312608013,0.7656696658324208,null,null,0.37747639876163952,0.27974502404662788,0.21719794513906918,0.120755281563035,0.86384403656237907,0.82520786052322792,0.66210936220593908,0.45844932216695933,0.33268496111565782,0.29098940380427002,0.99539072635707182,0.99970324950612199,1,1,0.806456405654007,0.56179768832158072,0.43498776561039432,0.97453082819726233,0.98359058973301328,0.99420823192057017,0.96876369470987056,0.84247587186996009,0.38175396364760139,0.43616382794642378,0.87787923404497425,0.82969834861411274,0.98177745960122509,0.98954648645707122,0.99160957845975561,1,0.98732597683124645,0.79059335026325606,0.64517931004988616,null,40192.515625,51829.394530999998,49504.09375,57049.21875,45886.476562000003,64473.835939999997,68278.96875,66220.789061999996,73392.601561999996,77840.023438000004,90266.75,81594.726561999996,74726.921879999994,74727,60188.800780999998,73056.546875,79462.726559999996,59861.625,73128.476561999996,48600.007812000003,0.43616382794642378,73544.84375]
[630,0.96246866225385475,0.96960611276750186,null,0.98878480648941813,0.76528776792125119,null,null,0.37046856504583503,0.27398878949391159,0.21256406806470138,0.119288802453104,0.85118518491054451,0.81285681937418008,0.65492335029456361,0.45046016957118118,0.32586002022362115,0.28594228970038732,0.99332193303717731,0.99364485090227883,0.99949746991028254,0.99178834153898576,0.80361603664741443,0.55705567643208131,0.43262778795529344,0.97897497179195581,0.98526876798562169,0.98827952503798877,0.9685942464549433,0.84145853841396678,0.37898405843380278,0.43660887987034391,0.86601490953730098,0.81868122429073276,0.98621843710194268,0.98843253866953307,0.99316359813917465,0.99802626486665369,0.98452118237288988,0.78377360268983953,0.64386192679637866,null,39515.128905999998,51589.4375,48788.195312000003,56072.859380000002,45117.828125,64490.636720000002,68437.203125,66084.375,73552.6875,76893.828125,88973.890625,81986.125,74609.28125,73862.765625,60052.246094000002,72968.351561999996,79588.476559999996,59792.855469000002,73087.492188000004,48390.027344000002,0.43660887987034391,73694.125]
[631,0.96679430456074766,0.97408746362689591,null,0.9906228657295959,0.76488296021989977,null,null,0.363353583789783,0.27011851109934398,0.20803989112251453,0.118282275427709,0.83826092973609001,0.80278425204691495,0.64324785592890454,0.44309321781951394,0.32244699661601434,0.28109691975830531,0.99377626704401589,0.99112775851571344,0.99950307233725233,0.99533024275716497,0.8018208658869822,0.55347986396246285,0.42900486496417117,0.98103071269208031,0.98775800983038242,0.98891791511238869,0.96839732874728335,0.84103513798808383,0.37848490659827588,0.43469296034478661,0.85698066254100935,0.80150169173667074,0.99100698756804428,0.99087707941485426,0.99601600474667196,0.99815567948149109,0.98288113925256138,0.78340411310690383,0.64375061480431972,null,38832.242187999997,51297.746094000002,47993.078125,55064.320310000003,44346.613280999998,64415,68541.734375,65846.6875,73608.890625,75922.046875,87594.0625,82226.390625,74393.507809999996,72871.03125,59830.011719000002,72820.53125,79678.851559999996,59652.214844000002,72961.820311999996,48116.34375,0.43469296034478661,73714.304688000004]
[632,0.97310250212029425,0.97913638866902042,null,0.99472252278392403,0.76508137523609754,null,null,0.35702586024028199,0.26495015105128639,0.20406190091179588,0.11665455545056901,0.82644673608137531,0.79233951288119209,0.63408799668186255,0.43900663317305205,0.31685068580373488,0.2765311789375437,0.99599071507942949,0.99579221250261429,0.999054201009687,0.99498904045454017,0.80139621576562825,0.55334747001055362,0.42860128222999538,0.98400896866586074,0.99067182631807738,0.99810644632367573,0.97087117044557958,0.84101648226293302,0.37641451979919743,0.43412521954597649,0.84581779564841042,0.79295896667064492,0.99360052136252952,0.99683062233552133,0.99877402821122441,0.99552560240670707,0.97945176800195644,0.78099901184688214,0.64225671005870844,null,38099.773437999997,50990.171875,47133.878905999998,54008.160159999999,43565.210937999997,64226.023439999997,68525.765625,65551.59375,73539.507811999996,74855.757811999996,86086.328125,82338.109375,74170.257809999996,71785.726561999996,59538.339844000002,72591.242188000004,79703.585940000004,59465.082030999998,72744.71875,47807.59375,0.43412521954597649,73664.195311999996]
[633,0.97751793956131205,0.98237496845431715,null,0.99719950747140396,0.76488916480200875,null,null,0.35080073549886237,0.2609886550691195,0.19977878945014491,0.115422935836605,0.81528657452315956,0.78105524008239002,0.6244558172382636,0.43261742493789274,0.31110040045715942,0.2724087235530544,0.99859621725260206,1,0.99824607055805814,0.99498598274316785,0.80208996502920427,0.55223778587498029,0.42810228759305541,0.98945009884904034,0.99530223182633837,1,0.97233873043570407,0.84059567161734783,0.37447002512050376,0.43514370500707206,0.83476339329693006,0.7846632435387928,0.99545145718143735,0.99605166653245181,0.99901237664355858,0.99843866859198283,0.97687093957636006,0.77913330900815614,0.63916750966020874,null,37482.910155999998,50745.910155999998,46426.4375,53118.476560000003,42891.59375,64166.527340000001,68632.085938000004,65397.992187999997,73582.53125,73952.09375,84770.859375,82605.992188000004,74103.046879999994,70888.0625,59313.964844000002,72459.953125,79859.914059999996,59372.515625,72637.5,47593.15625,0.43514370500707206,73690.539061999996]
[634,0.98114524354375476,0.98722532875316149,null,0.9961189186794468,0.7641581653261631,null,null,0.34423795988904687,0.25520847353505255,0.19584189932019566,0.11377511072478,0.80469539020217418,0.76988596202428716,0.61213666941801126,0.42494666930494007,0.30563934710838481,0.26646265806203279,1,0.99397411255011836,0.9970676985872029,0.99112378224427622,0.80048522624396523,0.54915769586807672,0.42466516938113363,0.99194670036368626,0.99854119454633639,0.99693979538424293,0.9715804627852489,0.83879889903898142,0.37310484768890384,0.43221197044774634,0.82312029801828268,0.76844444373743237,0.99774914806778647,0.99774266509644416,1,0.99247108319696686,0.97297942908200252,0.77281496014064022,0.63914639291457043,null,36766.59375,50394.140625,45579.78125,52062.269529999998,42111.863280999998,63907.035159999999,68577.492188000004,64986.078125,73422.195311999996,72873.328125,83276.1875,82678.71875,73786.695309999996,69844.328125,58956.125,72156.460938000004,79975.226559999996,59075.265625,72393.382811999996,47238.921875,0.43221197044774634,73534.804688000004]
[635,0.98591464073864532,0.98976711066836287,null,0.9994912865533333,0.76375438014329455,null,null,0.33833058292689844,0.25017108994214204,0.19195473446752961,0.112421828799684,0.79223212042097624,0.75610694041048143,0.60192089935856297,0.41718805743890741,0.29945116208924527,0.26116966583374696,0.9945722181157286,0.9872586345226565,0.99570865298034317,0.98994781746060723,0.79704837834736786,0.54653709090895464,0.42221049717671305,0.99548356165662177,1,0.99791934198063925,0.9698276891358999,0.83648126104408427,0.37303725181233199,0.43063761034571368,0.80850263849799253,0.75423026074430333,1,1,0.99741089563728513,0.9971712804760422,0.97438974261506328,0.76888390565692188,0.63866264044674792,null,36129.289062000003,50112.535155999998,44795.195312000003,51169.730470000002,41379.4375,63765.421880000002,68608.210938000004,64764.953125,73391.820311999996,71919.148438000004,81902.671875,82805.820311999996,73649.492190000004,68894.820311999996,58751.34375,71919.875,80048.054690000004,58880.1875,72191.132811999996,47012.476562000003,0.43063761034571368,73468.945311999996]
[636,0.98868023130941263,0.99218899938030836,null,1,0.76413709634853177,null,null,0.33272712514002006,0.24551312964470029,0.1880621593468961,0.110993303723433,0.78017795285994262,0.74050678783042079,0.59167807290565611,0.40953273604869517,0.29503915307586048,0.25711102512084233,0.9924169434993606,0.98208000694979614,0.99318813141778517,0.99154983107666983,0.79384559176479008,0.54448821869653041,0.42109977639653601,0.99862993935630895,0.9993829787251578,0.99840921898359725,0.96819335030544562,0.83518909156601862,0.36897346548152221,0.4305242626657324,0.79867281965764991,0.74352179931704709,0.9999389281083394,0.99895362319762859,0.99819512317365688,0.99167996529481339,0.97199595980157383,0.76600277749007173,0.63582120833748668,null,35440.910155999998,49748.394530999998,43937.59375,50165.734380000002,40599.671875,63560.839840000001,68606.382811999996,64412.496094000002,73212.398438000004,70854.0625,80348.9375,82817.648438000004,73347.398440000004,67780.421875,58378.1875,71648.726561999996,80121.03125,58602.09375,71823.398438000004,46673.902344000002,0.4305242626657324,73308.28125]
[637,0.99053650852850461,0.99258536220636484,null,0.9953657267285112,0.76320774993129359,null,null,0.32663387075256922,0.24033837128502783,0.18503660341912356,0.109423456958762,0.76771298524096021,0.72747285573612086,0.58174663249636382,0.40218400320412201,0.28920054611783919,0.25289580693986219,0.99122845172673768,0.98195491413132252,0.99047894452589891,0.98802766911188633,0.79180921326303255,0.54139683938675531,0.41961495966143619,1,0.99940924687523869,0.99440556663961754,0.96644046043802689,0.83269481801902934,0.36558356640035167,0.42839892206975794,0.78367646597763074,0.73476590254301521,0.99854181410222165,0.99725443423018834,0.99894242675317035,0.99004069953192231,0.96431850790116536,0.76345276345768742,0.63227288226431011,null,34706.261719000002,49322.332030999998,43087.519530999998,49125.636720000002,39777.863280999998,63255.28125,68392.164061999996,63983.503905999998,72930.515625,69687.65625,78687.804688000004,82694.085938000004,72924.789059999996,66640.773438000004,57932.996094000002,71219.34375,79921.53125,58236.832030999998,71353.375,46244.949219000002,0.42839892206975794,73014.101561999996]
[638,0.99385855836336234,0.99501511156077005,null,0.99406975146148324,0.76135144320601156,null,null,0.32020265211897336,0.23557379435460493,0.18234354844467368,0.108308330180358,0.75406968884380032,0.71677047440473363,0.57004599983455795,0.39513220309519159,0.28191935616534786,0.24793401740958401,0.98736467093452807,0.98626250461186205,0.98593380801343755,0.98783808750493751,0.78870058638531038,0.53892915632436811,0.4153542576081502,0.99934697005945095,0.99929601125040213,0.99548682201568994,0.96253544891074105,0.82855530629384799,0.36333061854901971,0.42829128274185868,0.76887768233458664,0.7194381415273291,0.99689332776646955,0.99576050898975732,0.99529391550472712,0.98130200669719259,0.95718608341688249,0.75827836437787544,0.62881787825426616,null,33995.042969000002,48959.203125,42310.277344000002,48174.492189999997,38996.425780999998,63048.15625,68300.695311999996,63674.621094000002,72755.039061999996,68624.320311999996,77251.257811999996,82686.375,72572.171879999994,65587.492188000004,57599.265625,70858.585938000004,79817.867190000004,57977.101562000003,70993.9375,45901.46875,0.42829128274185868,72796.421875]
[639,0.99698971724062668,0.99706818290740762,null,0.99102470276809806,0.75926924333127466,null,null,0.31306273263039441,0.232509482477635,0.1780550548434397,0.106475937597063,0.74127999864846583,0.70404792020261642,0.55818805894850398,0.38779693116587838,0.27775361233040058,0.24268247642732446,0.98188931376564126,0.98520073314098378,0.98260444662427127,0.98353513879830401,0.78404236541617045,0.53537638743384397,0.41086425332757892,0.99594393046090113,0.99787142077958424,0.99598214854075184,0.95914669883206416,0.82544941649996095,0.3638083134741773,0.42853056460681599,0.76222310448440067,0.70588390396720435,0.99649065615914167,0.9940427899449954,0.99216232587516318,0.98425019367793143,0.95039728549174618,0.75302005765644475,0.62522225173629109,null,33378.320312000003,48703.242187999997,41556.273437999997,47298.796880000002,38337.050780999998,62898.910159999999,68316.078125,63431.449219000002,72642.070311999996,67662.921875,75916.078125,82800.148438000004,72284.734379999994,64669.472655999998,57363.355469000002,70649.820311999996,79892.445309999996,57771.242187999997,70783.492188000004,45625.03125,0.42853056460681599,72700.671875]
[640,0.99901059816986437,0.99856863404130425,null,0.99029764656921782,0.75670668773287952,null,null,0.30694819778096688,0.22628187185277465,0.17437444770299532,0.104673240477779,0.72720805778319764,0.69067556218113912,0.54817986337022151,0.37936924380983672,0.269632284167799,0.23831685255867596,0.9758222058264151,0.97878532665745166,0.97803159960103636,0.97715606250955156,0.77859692211693587,0.53143113638798756,0.40763713580097505,0.99401746076804853,0.99549382845700174,0.99233392844150381,0.95619991943847471,0.82103173763692772,0.36048070294263823,0.42432889371582849,0.74755596244209177,0.68678543491129584,0.99628726757390851,0.99147029028230405,0.98923819259927936,0.97967775867016871,0.94722152024287964,0.74788687181157942,0.62338565237675991,null,32713.335938,48221.375,40731.542969000002,46341.011720000002,37566.21875,62535,68074.710938000004,62922.597655999998,72297.898438000004,66555.148438000004,74381.859375,82628.023438000004,71786.703129999994,63532.050780999998,56912.078125,70162.59375,79789.226559999996,57392.300780999998,70302.164061999996,45237.640625,0.42432889371582849,72293.132811999996]
[641,0.99884599414525166,0.99863369351263043,null,0.98751932273399179,0.75506147853453831,null,null,0.30095033060821247,0.22162282233172162,0.17136372535731853,0.103275365152403,0.7147656048487282,0.68063766828688832,0.53986753810438159,0.37211936698023623,0.26637119908094209,0.23340466708945531,0.97048905224899418,0.9687512162247448,0.97413161014634519,0.97310710196833461,0.77461335101754381,0.52747674600287098,0.40628312809273731,0.99642588424844292,0.99491282218484822,0.98880695196009472,0.95260160646211411,0.81758145479433164,0.35793226356211139,0.42207448072426179,0.7308239976546923,0.67163874148960157,0.99165501944221845,0.98843649910046005,0.98578338568714219,0.97379333280675062,0.94082046538883424,0.74383657877707809,0.61831047682679541,null,31990.03125,47719.828125,39907.496094000002,45360.136720000002,36805.914062000003,62160.046880000002,67802.242188000004,62411.523437999997,71910.671875,65386.40625,72800.429688000004,82382.992188000004,71218.3125,62368.210937999997,56372.332030999998,69658.257811999996,79392.585940000004,56950.035155999998,69789.265625,44782.964844000002,0.42207448072426179,71883.820311999996]
[642,0.9988972793250781,1,null,0.98298033613321134,0.75049881638894911,null,null,0.29403558435456306,0.21706988038109312,0.16672737494805903,0.10181922655308399,0.70372852454798263,0.66912099958251736,0.5314880053276515,0.3647246604858172,0.26074493902754953,0.22832802040112907,0.96844910305721732,0.95865313130999563,0.96912854073556676,0.96806154283544965,0.77031988219015068,0.52253841272619217,0.40488020577914297,0.99456743696771499,0.99387803143428499,0.97886317315543248,0.9470400870633614,0.81347793194056817,0.3541124434408337,0.42016860884999691,0.72057167252373344,0.65419243072161393,0.99056630138680946,0.98427792324318841,0.98166035103488736,0.96581491281722431,0.93543563664484719,0.73659205564751862,0.6158424488613945,null,31372.417968999998,47330.871094000002,39201.355469000002,44515.574220000002,36124.941405999998,61850.828130000002,67636.289061999996,62010.320312000003,71620.5625,64365.320312000003,71464.851561999996,82268.898438000004,70862.960940000004,61400.296875,55948.082030999998,69234.53125,79221.945309999996,56627.265625,69413.398438000004,44426.285155999998,0.42016860884999691,71595.320311999996]
[643,1.0000000025157367,0.99959890828892373,null,0.98193716179042501,0.74917236694189182,null,null,0.28740189913469139,0.21375422342604117,0.16326243579549771,0.100004647061211,0.69081597503170322,0.65651020290145767,0.52069887655099834,0.35810582873665131,0.25798931150156096,0.22376180736715859,0.96656817054080757,0.95880333604487122,0.96416780774096089,0.96328293167210277,0.7660548713067119,0.51931476907964802,0.39961382819884544,0.99047603435459675,0.99047093298736499,0.97690129555055683,0.9417492787963665,0.80935924102842161,0.35104968173029766,0.41705751252992629,0.70680947258196392,0.65768447825882048,0.98696130827834005,0.98354041337594211,0.97850224983549405,0.96469597815410479,0.92964255242379745,0.73201290636421645,0.61307792427869556,null,30793.630859000001,47001.75,38523.535155999998,43716.027340000001,35456.460937999997,61570.445310000003,67538.929688000004,61658.390625,71342.640625,63386.996094000002,70184.945311999996,82147.320311999996,70488.195309999996,60443.011719000002,55577.410155999998,68836.1875,78936.335940000004,56313.3125,69066.882811999996,44132.421875,0.41705751252992629,71313]
[644,0.99724393180718252,0.9970717616380651,null,0.97827605648256799,0.74368376770494504,null,null,0.28224232431847995,0.20830159572822857,0.16014866663489449,9.8447968795032301E-2,0.67695801586887372,0.64295619218547739,0.50926652537371087,0.35116181375077077,0.25238829967238335,0.21919360011824573,0.95747196748952013,0.95622171708249348,0.95833668836390273,0.95750613050130584,0.76067525559591109,0.51563818566799535,0.39438653976578714,0.98738285830521111,0.98690856688767781,0.9784312673943959,0.93596209440348654,0.80429108090292645,0.34865358583814365,0.41673778769332903,0.69248822819968425,0.63375653689691025,0.98135072244413069,0.97460830099470952,0.97250061645827712,0.95685072103260183,0.9229553977055156,0.7265438759522278,0.60809213576965748,null,30190.408202999999,46583.8125,37738.28125,42836.335939999997,34794.875,61177.820310000003,67257.195311999996,61143.53125,70928.5,62351.507812000003,68815.679688000004,81975.484375,70024.375,59419.917969000002,55108.671875,68416.492188000004,78744.648440000004,55919.507812000003,68654.226561999996,43713.902344000002,0.41673778769332903,70911.046875]
[645,0.99830495100131034,0.99564921505647552,null,0.9739124747296648,0.73794827441571709,null,null,0.27589651155360623,0.20309354908493629,0.15684355691888488,9.6529113239095604E-2,0.66426351387343041,0.62766655343138145,0.49914337612148824,0.34320917875513035,0.24307414104379099,0.21473540763372112,0.94818499320873739,0.95063771844982736,0.95112109802646994,0.94426707098379792,0.75335924447184643,0.50909621066581512,0.39253653672891925,0.98561443636450485,0.98102885683852215,0.97184204212931224,0.92965759278705717,0.79819523228490852,0.3445343794857913,0.41437078892470047,0.67613932626193729,0.6211384548647596,0.97701735523466138,0.97279787363683379,0.96758037860261881,0.94844287201825339,0.91319066765678392,0.71698698858488963,0.60106530305053196,null,29484.992188,46022.597655999998,36903.929687999997,41893.625,33988.019530999998,60603.890630000002,66755.398438000004,60478.640625,70308.625,61165.675780999998,67315.898438000004,81446.109375,69301.382809999996,58180.34375,54470.589844000002,67713.046875,78165.046879999994,55321.628905999998,67969.179688000004,43183.492187999997,0.41437078892470047,70299.898438000004]
[646,0.9959268552693521,0.99195624347639355,null,0.9694210147743284,0.73453614734413553,null,null,0.26931443646982567,0.19901147589411797,0.15284124127943635,9.5018312043717801E-2,0.65042524876014862,0.61618293532597623,0.48898107263125584,0.33582156263839208,0.23823343525237878,0.20965846004577751,0.94146535663345465,0.93874315868985059,0.94294389223256292,0.93984189343023516,0.74644386474708846,0.50355048696751881,0.38888444888956303,0.97940142698089938,0.97388191460311169,0.96371152526627379,0.92306555351485553,0.7911043350358844,0.33943337741250779,0.40990148783214131,0.66352591750535306,0.60152060543875141,0.97565134146612142,0.96837691157470807,0.96268058031135573,0.94435848271801526,0.90792659990891778,0.71181909167623203,0.59876765920382902,null,28888.978515999999,45629.03125,36213.328125,41116.6875,33334.390625,60213.207029999998,66482.804688000004,60052.898437999997,69902.835938000004,60181.109375,66050.15625,81145.4375,68847.757809999996,57196.800780999998,54025.273437999997,67255.960938000004,77687.578129999994,54952.957030999998,67470.632811999996,42824.554687999997,0.40990148783214131,69959.851561999996]
[647,0.99312177203463037,0.98548055407466228,null,0.95963605364887516,0.72743595354940871,null,null,0.26458405642945715,0.19586075327343785,0.14972391109260288,9.3247517642878003E-2,0.63625381362370803,0.60372835039422423,0.47718951666127146,0.32848793263284604,0.23732490730820538,0.2046500232560039,0.93411120930810576,0.92985880706221091,0.93469481628776085,0.94066533789065221,0.73991027598135062,0.49934957265322144,0.38345439776020762,0.97747433187003041,0.97140144188815669,0.95520167541835299,0.91516125035184748,0.78441647148691873,0.3397329296705161,0.40557483067743116,0.65004649306555351,0.59910987766826085,0.96880544007768421,0.96129400947920662,0.95518753410333301,0.93678386954254478,0.90000939091598153,0.70508531592239765,0.59494203388892408,null,28311.708984000001,45206.027344000002,35461.953125,40288.800779999998,32653.324218999998,59760.53125,66119.53125,59536.523437999997,69421.335938000004,59130.855469000002,64690.808594000002,80750.734375,68316.851559999996,56171.679687999997,53563.261719000002,66683.476561999996,77247.671879999994,54490.117187999997,66898.054688000004,42441.914062000003,0.40557483067743116,69530.632811999996]
[648,0.98995584976397666,0.9816696705671889,null,0.95170330828081928,0.72130519804291227,null,null,0.26038634997249055,0.19131276134731168,0.14685364718150687,9.1359109035481806E-2,0.6227986237226415,0.59041409068251971,0.46669562830307132,0.3220816907269593,0.22898679456151691,0.20075460711967963,0.9291062246870696,0.92741371065429334,0.92567314474131923,0.92142198267659159,0.73434471205229546,0.49589633461981997,0.37946511984439868,0.97300931798047163,0.96802426091034288,0.95113450749112693,0.90899141862249211,0.7789765377400264,0.33721240417172799,0.4007587633458814,0.64034668485719359,0.58295677044785055,0.96683663638854156,0.95786374832290788,0.95251206721904558,0.93581755254844412,0.8902833547953648,0.70035562168272636,0.58927681984122937,null,27716.40625,44778.167969000002,34714.332030999998,39499.199220000002,31964.818359000001,59316.234380000002,65711.773438000004,59032.535155999998,68926.914061999996,58093.738280999998,63380.636719000002,80407.820311999996,67734.5625,55171.417969000002,53062.589844000002,66141.15625,76604.46875,54027.421875,66362.046875,42017.382812000003,0.4007587633458814,69079.140625]
[649,0.98728398516595839,0.97837312561973544,null,0.94508870727142058,0.71302651346998014,null,null,0.25375028074387906,0.18626609122840082,0.14324317364263719,8.9994334288900996E-2,0.61078044853917801,0.57752802117251911,0.4599407516551558,0.31424624374941479,0.22395707539338658,0.19722040725769949,0.9234926093179594,0.92116813787637009,0.9189181039962393,0.91960283744589344,0.72775872673002173,0.49124814478131157,0.37702609994569775,0.96853502024699067,0.9640183402047543,0.94745248486341238,0.90205456499810577,0.7732740924957453,0.33309478014533672,0.39785968360911639,0.62377323554528563,0.5731002114371615,0.96290635702815042,0.95250690083207268,0.94715920878317805,0.92542806068339012,0.88383813288819124,0.69068397446709684,0.58445979982139229,null,27077.496093999998,44235.867187999997,33913.03125,38670.230470000002,31234.773438,58742.308590000001,65203.496094000002,58401.300780999998,68296.71875,56963.773437999997,61999.269530999998,79884.679688000004,67019.53125,54070.847655999998,52509.691405999998,65494.25,75843.242190000004,53479.6875,65655.085938000004,41490.609375,0.39785968360911639,68481.992188000004]
[650,0.9811268792946376,0.97156951984700191,null,0.93642626126420048,0.70765450891911186,null,null,0.24857687807049672,0.18328922247235194,0.13932984276068591,8.8089869639124296E-2,0.59801757204484274,0.56588599686756103,0.44987424098574869,0.30667125584928712,0.22026346812597641,0.19307436612805109,0.91270467719770243,0.91454938682768339,0.9124426303088321,0.91856291035561954,0.72069020841643561,0.48646323614589482,0.37503452115947616,0.96407386301579534,0.95712143399570915,0.94342560435334089,0.89435116565038619,0.76639401629426807,0.32955446145574735,0.3921783788607569,0.61228415162669492,0.56381985527687084,0.95331322831126797,0.94494011161364522,0.93927770222661111,0.91765560438449012,0.87494892241475375,0.6859642062695821,0.58168711480173907,null,26464.183593999998,43700.472655999998,33217.046875,37856.742189999997,30498.548827999999,58118.667970000002,64692.511719000002,57772.046875,67669.640625,55839.980469000002,60601.15625,79317.15625,66314.921879999994,53006.316405999998,51893.402344000002,64752.789062000003,75081.617190000004,52916.316405999998,64936.699219000002,41016.121094000002,0.3921783788607569,67903.6875]
[651,0.97527435178112587,0.96689363060262901,null,0.93034977677100705,0.70358733919192362,null,null,0.24319383874440523,0.1781690751627785,0.13585031320681926,8.6827774340928907E-2,0.58539239989699277,0.5535342446588406,0.43681314699597085,0.30155253008943833,0.2165925363316579,0.18846416520345871,0.90251477019739146,0.90373359380451723,0.90425688864975473,0.9009789671909888,0.71298786064118169,0.47977693305255914,0.37015446043056044,0.95693209229798781,0.95011049507728362,0.93197927958540916,0.8863496480596651,0.75964225940118613,0.325031157965465,0.38895439650504493,0.59844054366550681,0.54097964114701003,0.94542570141461346,0.93787224545009529,0.93096552052040171,0.90907812175157143,0.86415748748943588,0.67844639881288926,0.5738917422888733,null,25935.613281000002,43213.292969000002,32553.324218999998,37115.011720000002,29869.990234000001,57605.421880000002,64291.75,57202.503905999998,67124.53125,54783.914062000003,59296.015625,78861.203125,65716.546879999994,52041.296875,51385.308594000002,64193.476562000003,74415.710940000004,52435.960937999997,64302.917969000002,40568.105469000002,0.38895439650504493,67367.6875]
[652,0.96891837000386483,0.96153794319501351,null,0.92251511823324372,0.69854657163136213,null,null,0.23744634907381321,0.17473245335071819,0.13378014802459984,8.5067703252687296E-2,0.57238983470684124,0.54105674338830867,0.42607711612339499,0.29377956386586085,0.21130071986131671,0.18379152777755414,0.89462415434069453,0.89479223799288654,0.89486498352508081,0.89359257875393905,0.70701278240293075,0.4731110250680397,0.36339840262215151,0.94885934407013706,0.94257166594624764,0.92251987302511318,0.87882792824120914,0.75178013812833833,0.32166471167003091,0.38783905211240272,0.58586015759513399,0.53027684959791865,0.94112325580440459,0.93110193724333901,0.92375727012298869,0.90275639953972286,0.85688234520139317,0.67121525942792148,0.56860689686629684,null,25374.5,42697.007812000003,31907.115234000001,36311.429689999997,29253.552734000001,57069.015630000002,63801.214844000002,56590.550780999998,66534.921875,53707.800780999998,57976.699219000002,78390.210938000004,65083.761720000002,51049.851562000003,50785.1875,63481.890625,73928.1875,51877.886719000002,63596.960937999997,40051.328125,0.38783905211240272,66770.234375]
[653,0.96256902159539837,0.95583912923847847,null,0.91338308414953084,0.69099806858930957,null,null,0.23335387141780822,0.17094896600043863,0.13092219100441685,8.33494755850544E-2,0.55835797640252127,0.52867093362302753,0.4194087279970003,0.28661454642409145,0.20614755420633887,0.17968028930500154,0.88914972389927505,0.88872600750936426,0.88541935905085356,0.88310384996290525,0.70099712905600808,0.46832613887123842,0.35950372343880999,0.94008494119134733,0.9340497157602583,0.9157832863945593,0.87023640936656044,0.74230676259080242,0.31636663555490951,0.38338974039723739,0.57425085110389862,0.51497975580717048,0.93268376604316128,0.92258190890663549,0.9153704994307732,0.88960413261548488,0.84693196706683238,0.65994829272059319,0.56218002260209232,null,24815.091797000001,42121.238280999998,31218.417968999998,35548.023439999997,28588.816406000002,56439.539060000003,63232.820312000003,55927.070312000003,65840.257811999996,52629.492187999997,56723.746094000002,77786.164061999996,64338.800779999998,49992.863280999998,50156.695312000003,62777.820312000003,73121.101559999996,51296.007812000003,62909.777344000002,39470.023437999997,0.38338974039723739,66084.078125]
[654,0.95536612837238433,0.95051820790507191,null,0.9073103333352025,0.68477669678967013,null,null,0.22844825573419222,0.16742865057437595,0.12723508270778916,8.1988296567825303E-2,0.54563294198607648,0.51715532744769632,0.40964014730477194,0.28079647711896966,0.19933719992248478,0.17587220212461319,0.8804798597924931,0.87828348439194481,0.87594391351991052,0.87142721258110289,0.69265559892474593,0.46282601679860169,0.35449541036018078,0.93295878657683395,0.92775629455497521,0.90821742372022496,0.86147537508683569,0.73491891738639203,0.31359351355004389,0.37728779951408009,0.55870415671700002,0.50476587465123635,0.92473840552564057,0.91367288760018028,0.90718139648471607,0.88472851200132541,0.83656357935253789,0.65588022698399817,0.5579786412238894,null,24274.056640999999,41568.828125,30569.345702999999,34808.40625,27982.3125,55824.355470000002,62704.84375,55260.597655999998,65174.101562000003,51541.808594000002,55448.484375,77160.804688000004,63616.660159999999,48979.035155999998,49538.636719000002,62080.445312000003,72357.0625,50750.078125,62197.957030999998,38959.832030999998,0.37728779951408009,65346.90625]
[655,0.9479803895178055,0.94230343144450757,null,0.89959421940009821,0.67862357713873755,null,null,0.22194028739432503,0.16326289972660901,0.12480288426128469,7.9901401620676896E-2,0.53375962607974081,0.50620687208215542,0.39709378221058195,0.27446429632488178,0.19601405533746011,0.17221137047814644,0.86765389073094767,0.86771036538103796,0.86622767340755047,0.86673230642994548,0.68400161174885743,0.45706263216628551,0.34987465909692783,0.92515075562212712,0.91985766396309909,0.89735697401177739,0.85140341807675146,0.72735171582404778,0.31105779007483231,0.37531856088675836,0.54686679446356945,0.49629817573892138,0.91553499793238524,0.90341940499151041,0.89928418747306149,0.87217482319094142,0.82620363998165369,0.64479045406251723,0.552380157554896,null,23757.552734000001,41083.695312000003,29940.542968999998,34082.523439999997,27407.625,55220.917970000002,62160.710937999997,54666.066405999998,64516.8125,50529.640625,54198.304687999997,76535.625,62916.792970000002,48032.445312000003,48966.785155999998,61415.15625,71591.304690000004,50224.074219000002,61526.070312000003,38504.046875,0.37531856088675836,64673.710937999997]
[656,0.94209045803075042,0.93688811695894392,null,0.89043916076425467,0.67200510230927901,null,null,0.21656303549803432,0.16031001744153009,0.12223387344220506,7.8285739322702094E-2,0.52176931898284595,0.493935125806372,0.38852143385641902,0.26968185561492286,0.19377437439745798,0.16750499203026981,0.85655335815230749,0.85531433097588061,0.85584481109169019,0.85460940236079652,0.67554293712798774,0.45030095254000496,0.34726121313368186,0.91812426601645791,0.90967935020823487,0.8874983120890787,0.84202803656860337,0.71879502784163163,0.30466558835103191,0.37202263533203084,0.53463960434261248,0.47921779398246772,0.90659486075234763,0.89793824944295519,0.89142397582776245,0.86393015911420767,0.81781116129348508,0.63893228584647166,0.5476094171567597,null,23225.736327999999,40525.167969000002,29275.359375,33369.125,26845.373047000001,54597.734380000002,61571.714844000002,54001.488280999998,63818.453125,49495.183594000002,52991.957030999998,75857.085938000004,62163.976560000003,47058.042969000002,48360.097655999998,60694.988280999998,71080.648440000004,49622.515625,60796.609375,37995.683594000002,0.37202263533203084,63929.578125]
[657,0.9335058133958577,0.92641684758308485,null,0.87691250899587603,0.66222909948115416,null,null,0.21219492754916727,0.15538444311230803,0.11840800672840172,7.6617502588860797E-2,0.50853292378071147,0.48208877497233443,0.38163940721269274,0.2640556055106994,0.18573512240911766,0.16299505592469513,0.84656401028496797,0.84299124617584165,0.8457530658777801,0.84126236766742668,0.6654369591190209,0.44350465915821385,0.34217984313760896,0.90923924717676274,0.89856123251835762,0.8768388090944369,0.83207600206369869,0.70976386495543475,0.30134583279291743,0.3653639697859411,0.52117489887312052,0.46246145327414462,0.89972130875431522,0.88817291123141684,0.88309948471879396,0.85386979212948844,0.80792803009477376,0.62798460650613663,0.54027869599612921,null,22704.609375,39932.808594000002,28576.398438,32651.248049999998,26232.558593999998,53894.953130000002,60869.652344000002,53249.34375,63059.242187999997,48444.75,51720.433594000002,75056.632811999996,61327.203130000002,46056.300780999998,47691.660155999998,59860.246094000002,70247.0625,48936.757812000003,59960.59375,37465.1875,0.3653639697859411,63131.078125]
[658,0.92285889138401056,0.91443093910941675,null,0.86276217713773684,0.65244464176223449,null,null,0.2084493216383124,0.15113429211966314,0.11613287963095269,7.51413227419339E-2,0.49694805743843268,0.47150555939936611,0.37229473874117003,0.25735326755850563,0.18157128629078684,0.15948948331052856,0.83459096039679193,0.83271164803806508,0.83629450892403512,0.83324668413795455,0.65658404068618026,0.44031871275991824,0.3368259395730222,0.90027906381636202,0.89099577643103878,0.86933803641414753,0.82125219896530688,0.70077443944239648,0.29647651464633518,0.36011716344065742,0.50623848155264195,0.45887930880728417,0.88734045140875395,0.8772129271785799,0.87331067025329856,0.8462487147375829,0.79745390432853824,0.62206689749868949,0.53196667264200215,null,22219.310547000001,39357.410155999998,27905.083984000001,31964.814450000002,25627.035156000002,53176.03125,60221.703125,52533.34375,62261.8125,47368.886719000002,50507.933594000002,74248.695311999996,60492.152340000001,45071.300780999998,47038.113280999998,59104.386719000002,69400.195309999996,48316.132812000003,59158.472655999998,36942.835937999997,0.36011716344065742,62348.769530999998]
[659,0.91318294783336884,0.90812288233370198,null,0.85510961340385849,0.64428132443427932,null,null,0.20430420540119437,0.14883179032662969,0.11406878848355964,7.3405084655895E-2,0.48309472996822528,0.45976882108973688,0.36361784118052881,0.25116135971216091,0.1784948915996673,0.15482208595200231,0.82521501434928901,0.8200444784809745,0.82585227216107104,0.82088137926605376,0.6484724428759121,0.43494426788727653,0.33194191234911063,0.8917886300202007,0.88259124754162721,0.86110920402880686,0.81153765737904038,0.69191499949895219,0.29442279436583213,0.35745138103388135,0.49594544348788694,0.44787796673673147,0.87736184393979011,0.86839878791936886,0.8612476000018473,0.83357116491152961,0.7833457956111205,0.61042524531915787,0.52539492559751289,null,21757.494140999999,38897.839844000002,27286.908202999999,31352.595700000002,25109.914062,52555.265630000002,59666.039062000003,51906.855469000002,61594.644530999998,46428.03125,49342.34375,73563.835938000004,59730.785159999999,44171.308594000002,46465.785155999998,58385.160155999998,68525.351559999996,47732.699219000002,58450.351562000003,36530.839844000002,0.35745138103388135,61648.203125]
[660,0.90451888830852245,0.89972040526218711,null,0.8442772778953721,0.63669613849801365,null,null,0.19845004976329941,0.14542162810688866,0.11153520996192376,7.2195197088211094E-2,0.46997583487727568,0.44754760431536511,0.3548537598145316,0.24520720465598966,0.17435320063630261,0.15058380329527585,0.81393294249727155,0.81143450060028099,0.8141524155701253,0.81369908456693296,0.63867865568719129,0.42516260376491771,0.3275597356655664,0.88106203922037907,0.87051990786351685,0.85156389267524346,0.80023651831590292,0.6813439472298376,0.28922456789252926,0.35244653885269606,0.48458284884304709,0.43098653404713272,0.87100740333617566,0.85860163179004445,0.85399017494671414,0.82317677275501155,0.77532223214644125,0.60356105566530072,0.51879034898293575,null,21289.615234000001,38401.996094000002,26699.023438,30727.501950000002,24588.066406000002,51909.855470000002,59074.503905999998,51265.488280999998,60880.300780999998,45506.296875,48240.078125,72809.171875,58973.28125,43297.511719000002,45888.300780999998,57629.492187999997,67852.257809999996,47125.792969000002,57666.730469000002,36062.503905999998,0.35244653885269606,60930.308594000002]
[661,0.89380993263171526,0.88794111392118857,null,0.83105600959568615,0.62771331886194237,null,null,0.19320297422559535,0.14166358972469845,0.10801972787973925,7.0311494222865006E-2,0.45934110629543734,0.43757121961374013,0.34400525558738831,0.23837543606243383,0.16858737214180053,0.14621080601231831,0.80248470261721372,0.80479792221731161,0.80151591064269045,0.80030314998886354,0.62898552601052371,0.41903873315054996,0.32373280417735356,0.87154035462843715,0.86186635395815381,0.83585082050439341,0.7880904904719116,0.67083712849654398,0.28458483751594299,0.34560923275023248,0.47278030889587885,0.41786803120604182,0.8565051230277213,0.84487058819422189,0.84088509567796665,0.81222650305981969,0.76472437444814756,0.59366707451640899,0.51358818024178321,null,20778.943359000001,37810.742187999997,26060.277343999998,30087.435549999998,24019.802734000001,51196.707029999998,58370.371094000002,50527.75,60064.988280999998,44540.960937999997,47133.871094000002,71997.984375,58112.097659999999,42319.339844000002,45226.808594000002,56794.269530999998,67097.203129999994,46433.511719000002,56852.683594000002,35531.84375,0.34560923275023248,60107.339844000002]
[662,0.88344707503153308,0.87858153859655463,null,0.82021029497170184,0.6190504860691548,null,null,0.18846868890914781,0.13858224493843188,0.1054788107609996,6.8313644130152895E-2,0.44749131000706249,0.4259364608688665,0.33633394735680383,0.23221779948327947,0.16476829121972184,0.14290869755240426,0.79012974498872002,0.79427337784987806,0.78835751071372051,0.79184363069999131,0.61877594429324312,0.4117064497294825,0.3178353287662149,0.86076381399290136,0.85128495226511958,0.8217425534962981,0.77738711973524899,0.6619726260871408,0.27896037021166203,0.34053834310046793,0.46068219175931946,0.41048725579720408,0.84775991480875723,0.83668704662132021,0.83011772808892681,0.80285774171354019,0.75411945144608639,0.58541396441022309,0.50595120681269479,null,20358.105468999998,37333.058594000002,25513.460938,29485.898440000001,23503.103515999999,50609.714840000001,57780.738280999998,49863.171875,59351.699219000002,43667.605469000002,46089.507812000003,71303.039061999996,57400.171880000002,41447.363280999998,44653.042969000002,56070.355469000002,66247.429690000004,45847.285155999998,56130.371094000002,35077.519530999998,0.34053834310046793,59414.578125]
[663,0.87057738641999016,0.86872647808147418,null,0.80750233005456717,0.61130302236515899,null,null,0.18431818207926542,0.13545504704583849,0.10343375632255351,6.7234581208188093E-2,0.43558572944420243,0.41606251470164118,0.32896632139624848,0.22528334565716107,0.16253287928884122,0.14025339699149503,0.77881370274937223,0.77714412479186767,0.77646028027289904,0.78489752804113588,0.60969614332311883,0.4041549098064553,0.3121424275775625,0.84758338733657679,0.83715902147355148,0.81331862882810946,0.7655120220405911,0.65176271335126301,0.27664253014323942,0.3363127592351986,0.44964513894697572,0.40221749588241107,0.83647567112062371,0.82444556409976799,0.81985437541872441,0.79048427550437439,0.74214564616686785,0.57651217056658077,0.50039979546639746,null,19850.074218999998,36785.722655999998,24895.306640999999,28797.933590000001,22936.839843999998,49858.398439999997,57043.859375,49114.609375,58495.03125,42691.835937999997,44988.929687999997,70446.632811999996,56521.628909999999,40506.421875,43971.144530999998,55208.390625,65317.277340000001,45156.984375,55308.984375,34531.332030999998,0.3363127592351986,58572.066405999998]
[664,0.85937971712427386,0.85928292643658222,null,0.79696456567903928,0.60237434070153451,null,null,0.18000968016523122,0.13152963603997753,0.10092301324976496,6.5520423129295902E-2,0.42505601787648561,0.40636378984673743,0.31926724907850068,0.21830589529962205,0.15714893655622175,0.13683480959591332,0.76833715768916611,0.76533026658764458,0.76690547300134149,0.76553358675690941,0.60118797066298502,0.3963205354689181,0.30803301821459705,0.83522577336176063,0.82690509258072831,0.80342560776515681,0.75448847849697376,0.64105788762166749,0.27022092134300191,0.33066211801216655,0.43648790176147828,0.39651390353663413,0.82678389236313587,0.81554955936656648,0.80878146851191146,0.78034669883884877,0.73158814128324734,0.566766196752439,0.4913788470046791,null,19341.875,36168.265625,24269.150390999999,28134.369139999999,22361.121093999998,49070.324220000002,56241.757812000003,48302.011719000002,57571.363280999998,41714.53125,43844.222655999998,69492.695311999996,55605.097659999999,39530.984375,43255.457030999998,54290.660155999998,64336.878909999999,44408.03125,54449.742187999997,33962.378905999998,0.33066211801216655,57637.925780999998]
[665,0.85005275814367565,0.84962489701656096,null,0.78557412303988039,0.59329354082391494,null,null,0.17576671737406557,0.12858423649252831,9.9141047592943246E-2,6.4189634091822295E-2,0.41493383246746657,0.39597760600647763,0.31293801810047311,0.21324290551016875,0.15257021094187215,0.13378467289602861,0.75726620507805953,0.75455431873267742,0.75641025556758246,0.75519415690349623,0.59278714661072374,0.39152591784833252,0.30354946545093087,0.82671258366384781,0.81750656417809209,0.7909460141712189,0.74396719944582868,0.63209184084150671,0.26764032073447935,0.32565748829210595,0.42493341707907545,0.384335487219918,0.81678905272630409,0.80433224096300693,0.79919825456549498,0.77257590934754339,0.71767398620209688,0.56105941715713481,0.48523387530251,null,18914.8125,35654.289062000003,23764.787109000001,27575.242190000001,21862.84375,48440.527340000001,55573.542969000002,47656.472655999998,56822.515625,40896.847655999998,42877.796875,68757.984375,54843.609380000002,38725.117187999997,42679.546875,53571.824219000002,63502.34375,43828.074219000002,53748.019530999998,33494.308594000002,0.32565748829210595,56918.480469000002]
[666,0.83858773050044599,0.83804155009561809,null,0.77112587467251936,0.58274760531704561,null,null,0.17131641935584752,0.12560998400462844,9.6643661007296294E-2,6.2434079568723898E-2,0.40439134894267037,0.38691420488962031,0.30557892479124638,0.20936026103988692,0.14955397845701662,0.1299066451626559,0.74442811518610252,0.74011650240096205,0.7444733064554232,0.74224673778526062,0.5835696541939166,0.38688179495131719,0.29799006641184506,0.81840419902748562,0.80644325676996587,0.78106273433857121,0.73207710676201498,0.62226359239324647,0.26165106809793864,0.32300641816126319,0.41598723655327735,0.37705066956941341,0.80515823594655145,0.7930119758382943,0.78502092448889493,0.75652834835571292,0.70753247372182237,0.54905995195033086,0.47781271776672163,null,18478.316406000002,35062.0625,23216.097656000002,26949.158200000002,21309.970702999999,47698.796880000002,54808.042969000002,46884.429687999997,55960.070312000003,39960.960937999997,41832.578125,67928.671875,53999.09375,37832.507812000003,41988.925780999998,52748.53125,62757.75,43160.78125,52962.398437999997,32944.816405999998,0.32300641816126319,56121.441405999998]
[667,0.82688021885651586,0.82842857596856101,null,0.75783374453317731,0.57222826157456064,null,null,0.16633321268038567,0.12387523527190658,9.3771130509372025E-2,6.1000060966117702E-2,0.39252779604204119,0.37526495746323696,0.29551787024199033,0.20390076466474205,0.14563990770809832,0.12622507043291961,0.7308871957472014,0.72466408202566612,0.73141701710031382,0.72930105239792653,0.57302507357049182,0.37949845504373014,0.29265063027924432,0.80484184602035647,0.79200176059536587,0.76911593391810684,0.71856492937168304,0.61070242437842825,0.25591219486759897,0.31627227655507772,0.4060457777002035,0.35767815607164666,0.79201920352627375,0.7830993500879514,0.77398009060993922,0.74621843470329408,0.69509251824254403,0.54083993691942012,0.47043788353123284,null,18058.105468999998,34452.945312000003,22659.767577999999,26321.36133,20787.308593999998,46893.523439999997,53983.5625,46069.085937999997,55045.589844000002,39005.230469000002,40735.011719000002,67024.515625,53091.453130000002,36921.675780999998,41282.363280999998,51863.390625,61642.34375,42439.140625,52118.550780999998,32348.591797000001,0.31627227655507772,55259.480469000002]
[668,0.81566350952190625,0.81506894733828084,null,0.7424517654092172,0.56150586604889596,null,null,0.16210693672010484,0.11947231989359247,9.1416922351211433E-2,5.9839741294339298E-2,0.38144898374893355,0.36418247914097474,0.28699502525246073,0.19910266635719448,0.14072647786780834,0.12297891425957116,0.71986677134109844,0.71511890829941616,0.71935695589498749,0.71722956664578852,0.56318324638447881,0.37241521581777887,0.28960155678107197,0.7904494117108487,0.77855754260624688,0.75775808754857987,0.70735002965452554,0.60000161838621646,0.2539532331511305,0.31048969108986452,0.39543554262933017,0.35089094515785624,0.78286162283085681,0.77091778108592313,0.76352529306267869,0.73706809433979759,0.68531359182871365,0.53132869144018235,0.46371368359281917,null,17614.613281000002,33835.023437999997,22098.900390999999,25716.214840000001,20269.025390999999,46076.664060000003,53179.695312000003,45278.066405999998,54141.636719000002,38032.933594000002,39671.664062000003,66048.148438000004,52215.808590000001,36034.285155999998,40558.628905999998,50981.507812000003,60619.933590000001,41724.738280999998,51227.160155999998,31747.140625,0.31048969108986452,54331.566405999998]
[669,0.80378709477377697,0.8055529870138185,null,0.73095343478383312,0.55017540646518326,null,null,0.15849595917254358,0.11665929558703075,8.928335472138256E-2,5.8393816872064297E-2,0.37240431278728997,0.3562083784435614,0.28006809259739096,0.19281750399134259,0.13919191041165563,0.11928700785720259,0.70812919359617432,0.70894161300080027,0.70800105402972002,0.71182652918046174,0.5535037757278779,0.36532637011475627,0.28364890719410607,0.78017786395930711,0.76845916498221734,0.74718129186835658,0.69666911271186516,0.59108062985928989,0.24904678270547387,0.3049126961968962,0.38316051755792546,0.34507061706003284,0.77025123958549679,0.75929180008460473,0.75155393889567568,0.72456029153671708,0.67352626277373651,0.5216312815935471,0.45553552168829975,null,17199.177734000001,33255.367187999997,21587.644531000002,25212.005860000001,19809.777343999998,45320.035159999999,52399.515625,44551.636719000002,53282.066405999998,37130.613280999998,38667.601562000003,65145.113280999998,51342,35174.28125,39893.238280999998,50196.976562000003,59640.078130000002,41034.75,50418.734375,31221.269531000002,0.3049126961968962,53446.765625]
[670,0.79318746546758256,0.79241665553577378,null,0.71842390865223904,0.53958798128465679,null,null,0.15501922336624907,0.11362775546869115,8.7477325453599458E-2,5.6911501805162697E-2,0.36364973907884901,0.34749592529605433,0.27299084011997993,0.1864962552527098,0.13479459230943494,0.11632418446103243,0.69641126543071741,0.69619177356409201,0.6948296898529045,0.69761227747072208,0.54407165534846147,0.35839643862784504,0.27682425201097322,0.76952614727355606,0.75664439250522908,0.73448433310230998,0.68449644965445511,0.58172959368663801,0.24346361548082002,0.29992290622186007,0.37393157142613337,0.33652950769333617,0.75799890198840103,0.74986618232122504,0.74222758265122613,0.71282673705458632,0.66132469046245068,0.51222286002254092,0.44751243828581982,null,16802.328125,32671.25,21081.304688,24683.890630000002,19344.505859000001,44596.457029999998,51647.570312000003,43779.039062000003,52436.507812000003,36243.316405999998,37671.925780999998,64224.078125,50461.339840000001,34344.054687999997,39238.203125,49355.042969000002,58488.121090000001,40350.148437999997,49566.648437999997,30680.982422000001,0.29992290622186007,52563.460937999997]
[671,0.78194489844757031,0.77973356537093885,null,0.70256300745375322,0.53026904910582628,null,null,0.15117464584680065,0.11101829554105323,8.4968227632658613E-2,5.5581479556313602E-2,0.35302330289483375,0.33761919634141652,0.2650977312356434,0.18213885186062162,0.13062570415054436,0.11348364626949575,0.6821285506561382,0.68004202409117886,0.68217472236100207,0.68337931136500396,0.53447298945096045,0.35271335215836269,0.27092436398574721,0.75580296719181206,0.74492099045794469,0.72555843258990682,0.67193787257249327,0.57027585787845203,0.24070924957239201,0.29567627780373829,0.36284514294948139,0.32883458236183999,0.74791854334368379,0.73561979429716517,0.72932847442159321,0.70021968819399738,0.65042477555340472,0.5038162251561632,0.44153954702468284,null,16397.259765999999,32087.115234000001,20537.060547000001,24130.558590000001,18879.166015999999,43827.0625,50880.863280999998,42976.585937999997,51553.542969000002,35335.832030999998,36686.074219000002,63281.648437999997,49645.929689999997,33494.59375,38569.054687999997,48494.4375,57454.753909999999,39644.15625,48698.996094000002,30136.242188,0.29567627780373829,51694.9375]
[672,0.76997039701155634,0.76685523396719313,null,0.68823929270908057,0.52036878078294246,null,null,0.1471428624636171,0.10839893239135598,8.2958746619369028E-2,5.4167181762661602E-2,0.34318376904239972,0.32835843383615093,0.25741752749919844,0.1775985955731311,0.12656049559111637,0.11017759885754369,0.67037232780636735,0.66708178259127682,0.67013918722815147,0.67273144545273045,0.52503668444393492,0.34737671964041272,0.26753950438641816,0.74256820705703053,0.7330162315988592,0.71376081265114677,0.66092955682258892,0.55984211331091427,0.23582010295203604,0.28960353034864472,0.35269919849237613,0.31725006369839603,0.73498369260770746,0.72448755884527583,0.7173984048525025,0.69018034703041886,0.63923849018899748,0.49668365581826096,0.43360290204757468,null,15968.907227,31452.695312,19992.279297000001,23554.21875,18374.046875,43000.019529999998,49987.710937999997,42139.058594000002,50602.109375,34372.492187999997,35659.859375,62201.269530999998,48671.839840000001,32620.9375,37828.335937999997,47555.5,56146.019529999998,38903.230469000002,47755.554687999997,29545.414062,0.28960353034864472,50702.007812000003]
[673,0.75818138210172814,0.75395804952108747,null,0.67562723694159454,0.51034741820391327,null,null,0.14348060529622145,0.10515314441199644,8.0364795151037824E-2,5.26403227336796E-2,0.33401300083677438,0.3180166897736374,0.2507236146493097,0.17206936161319419,0.12377282888246625,0.10702669027676022,0.65886893387772871,0.65579173022226878,0.6575038564414819,0.65935606841244343,0.51536952213240372,0.34167731786426891,0.26417661849848628,0.73095232356478168,0.72085941179129143,0.70063208676155031,0.64889162151715418,0.54991007684428939,0.23087790955876952,0.28419583466103676,0.34225236622674099,0.30481840856266695,0.72545620588265403,0.71560902392814851,0.70490351443843235,0.6799247936814623,0.62854930367409734,0.48598689454571581,0.42657662394695212,null,15570.009765999999,30890.535156000002,19483.134765999999,23044.552729999999,17927.533202999999,42253.988279999998,49195.210937999997,41398.046875,49742.195312000003,33529.4375,34728.761719000002,61220.53125,47831.253909999999,31831.121093999998,37147.25,46720.421875,55104.667970000002,38230.574219000002,46885.078125,29028.324218999998,0.28419583466103676,49808.761719000002]
[674,0.74573634701820724,0.74204103447569114,null,0.66461739576858958,0.50017243732146544,null,null,0.14009172977953849,0.10316139270329655,7.7958903207508354E-2,5.1482626246958901E-2,0.32341405534765,0.30780156365048406,0.24392027169643285,0.16701778073117723,0.12093956603148744,0.10456353301508398,0.64763584677885444,0.64124754225319114,0.64558184547384612,0.64459181490188511,0.50495714229708688,0.33478292423882017,0.25835920656834155,0.71842312879835679,0.70876650033427069,0.68415265613233145,0.63669158957732697,0.53926495109747696,0.22673060345088186,0.27956203345698416,0.33415403132277632,0.29648111434201224,0.71291162924075113,0.70324683539539357,0.69612252597204616,0.6681321452073502,0.61709750266541075,0.47901485384060988,0.41961372570672101,null,15206.482421999999,30374.755859000001,19051.068359000001,22561.386719999999,17525.15625,41613.070310000003,48455.402344000002,40685.675780999998,48957.957030999998,32766.087890999999,33862.539062000003,60398.207030999998,47050.300779999998,31078.441406000002,36535.296875,45993.195312000003,54121.015630000002,37585.882812000003,46140.089844000002,28539.339843999998,0.27956203345698416,49037.898437999997]
[675,0.73482716448484153,0.72803733249102376,null,0.65000393201188622,0.49124014175844355,null,null,0.13744133437114231,0.10087869670377528,7.6907487531675048E-2,5.0208590314170999E-2,0.31374658408750761,0.30219264255906075,0.23734139387005365,0.16255434581471931,0.11714242811493317,0.10164542370580049,0.63414573634332927,0.6310374923935852,0.63483898722307242,0.63558619787601922,0.49501474324565359,0.32759027388102513,0.25360719907391605,0.70698406371921196,0.69631536532431237,0.67121666643439681,0.62520925690691365,0.52918572068917014,0.22225480506450623,0.27562959812686599,0.32427575360499022,0.29104228405786264,0.70189345826751204,0.6911855646354077,0.68446720048573662,0.65649491047922659,0.60538906526367831,0.46719323377318395,0.41178909197443742,null,14805.426758,29752.533202999999,18521.927734000001,21976.660159999999,17045.785156000002,40808.273439999997,47582.285155999998,39816.539062000003,47996.222655999998,31897.251952999999,32892.386719000002,59340.257812000003,46160.105470000002,30273.083984000001,35796.738280999998,45038.132812000003,53041.871090000001,36847.46875,45198.539062000003,27964.537109000001,0.27562959812686599,48087.257812000003]
[676,0.72281544272406484,0.71490573055242523,null,0.63488552751677119,0.48216762641005534,null,null,0.1332417168298678,9.8510783831868967E-2,7.5180415385760813E-2,4.8721712764712703E-2,0.30567003662165027,0.29334127959327355,0.23109504865403718,0.15925107076492837,0.11428765905258476,9.7926093150299862E-2,0.62371045412148529,0.62095418426436744,0.62250304167303394,0.62158534813064803,0.48625390422204601,0.32037671931781558,0.24833045597459344,0.69453863106164071,0.68330113965391304,0.65943653789029588,0.6135859395026092,0.518591822085823,0.21850422911408776,0.2697925769358484,0.31694508399809113,0.28356117331438863,0.68938255653414315,0.67801615363595025,0.67092201283182495,0.64476628972977479,0.59335475268627591,0.46100224531665945,0.40511964268748701,null,14429.988281,29170.884765999999,18045.876952999999,21440.757809999999,16600.056640999999,40039.292970000002,46726.390625,39042.226562000003,47074.71875,31097.722656000002,31991.990234000001,58361.691405999998,45303.695310000003,29490.421875,35094.378905999998,44190.8125,52113.757810000003,36180.808594000002,44339.621094000002,27394.710938,0.2697925769358484,47178.3125]
[677,0.71083510666566452,0.70289943506096331,null,0.62502208147463156,0.47338022161133497,null,null,0.12972707625875968,9.5807972464409696E-2,7.3130517635558084E-2,4.7680146650324003E-2,0.29833986934175138,0.28495466269966463,0.22535919961158737,0.15522940141685737,0.11038989711566244,9.5550593959704791E-2,0.61138012760991867,0.60859756566534851,0.61072548559137141,0.61602271236986883,0.47752747811127694,0.31293591402721399,0.24350739810656916,0.68371956407136369,0.67162961662844567,0.64388299005110905,0.60127539489289583,0.5093499214579188,0.21442804521007214,0.26533356292709409,0.3077093185699169,0.27237518436091246,0.67738855151800959,0.66922807696303355,0.65905357758536642,0.63332049518408484,0.58283986084656159,0.4524187904217109,0.39873850930427007,null,14072.733398,28597.644531000002,17622.265625,20952.662110000001,16122.108398,39306.695310000003,45931.589844000002,38326.597655999998,46234.597655999998,30332.892577999999,31171.314452999999,57440.050780999998,44468.1875,28766.089843999998,34413.898437999997,43390.039062000003,51145.074220000002,35512.375,43555.761719000002,26862.132812,0.26533356292709409,46339.011719000002]
[678,0.69879089416515738,0.6899288828734278,null,0.61477480527998507,0.4635323527351059,null,null,0.12665647123078597,9.3956938040750781E-2,7.1333107952475258E-2,4.6426281066998497E-2,0.29130163700025064,0.27850912656009902,0.21888427708904912,0.15058028817938146,0.10918309435781308,9.4399942750838017E-2,0.59754915266281527,0.59627398562304945,0.59885963958712451,0.60465946852657537,0.46753471971242228,0.30635704819086323,0.23916951243413612,0.67270662588714902,0.66224852935533907,0.63227443410508699,0.58911932237183384,0.50050051442346488,0.21050873401680223,0.25928512147841748,0.30026443787943469,0.26628790829573706,0.66278072861835535,0.65443306724128492,0.64676235944283822,0.62395875192394656,0.57292154097546411,0.44263420692723926,0.38975367257203364,null,13725.771484000001,28017.289062,17168.763672000001,20491.818360000001,15704.085938,38576.09375,45156.753905999998,37627.632812000003,45389.855469000002,29579.335938,30393.173827999999,56526.589844000002,43656.773439999997,28014.728515999999,33725.519530999998,42580.964844000002,50447.699220000002,34809.453125,42731.652344000002,26332.908202999999,0.25928512147841748,45482.75]
[679,0.68754759003428634,0.67624178549978919,null,0.60176592894535519,0.45423469410742373,null,null,0.12362586241941814,9.1266718504521796E-2,6.9810532307761838E-2,4.5223479699330799E-2,0.2832527669131617,0.26948932485379634,0.21068564173038465,0.14608171274809448,0.1077025628007489,9.2327591128842354E-2,0.58530822265729321,0.58420231820770974,0.58664486556800188,0.59317045824543024,0.45772805551064155,0.30138573999136797,0.23538266552217957,0.66008552379918783,0.65018813394292552,0.62150046829421979,0.57759118688838329,0.48974495461848583,0.20727812421789621,0.25452794866402917,0.29263599724584172,0.25984886067203306,0.65433878322038408,0.64423274553028109,0.636213529266352,0.6121328632687405,0.56148641639021157,0.43343929058677116,0.38253882920789029,null,13393.750977,27498.271484000001,16765.867188,20030.060549999998,15319.186523,37910.226560000003,44443.722655999998,36977.273437999997,44579.828125,28904.904297000001,29606.240234000001,55656.46875,42883.960939999997,27333.875,33107.71875,41789.1875,49488.328130000002,34207.664062000003,41967.035155999998,25829.541015999999,0.25452794866402917,44683.703125]
[680,0.67493316064897202,0.6645383536286612,null,0.58901039875164574,0.44629109920966625,null,null,0.1209614917972453,9.0284583623887069E-2,6.8022886033791863E-2,4.40210151471618E-2,0.27426705238928456,0.2603466372809029,0.20476789197947257,0.14174681504820991,0.1028643752921975,8.8939210903536667E-2,0.57390766948021932,0.57068829682895994,0.57565337646614756,0.57744767680212072,0.44931343265457335,0.29725416267978355,0.22959667215814525,0.64793879780554453,0.63704777042567295,0.60942894483665622,0.56550339287816798,0.47968967826222136,0.20174343860480165,0.24884337473122725,0.28473414438318345,0.252118539528981,0.642451352079211,0.63132716258037491,0.62614647457270356,0.60062400619162803,0.5493589758106624,0.42634252458049576,0.37505577505088511,null,13030.089844,26878.580077999999,16234.326171999999,19520.839840000001,14901.857421999999,37114.285159999999,43568.269530999998,36211.476562000003,43651.132812000003,28099.785156000002,28780.541015999999,54598.730469000002,41958.410159999999,26580.001952999999,32384.541015999999,40858.941405999998,48453.101560000003,33470.65625,41056.011719000002,25257.189452999999,0.24884337473122725,43750.1875]
[681,0.66316263263042596,0.65266773675916012,null,0.57848632453195636,0.43739044132504462,null,null,0.11784061910470466,8.6498901422421837E-2,6.6191666465957186E-2,4.2838123556815898E-2,0.26571078441908147,0.25383064001066052,0.20111651547735465,0.13825496450486507,9.9925234904858731E-2,8.5812786627166182E-2,0.56402764326023858,0.55743310823990311,0.56555855538579902,0.56978489743051153,0.43947787917921732,0.29014969910153082,0.22308520899626319,0.63479430295940009,0.62435956697342365,0.59479734161541709,0.55254829824314333,0.47005745288388312,0.19754938807592123,0.24397047348997153,0.27412717256707225,0.24341367333186295,0.63084862905805272,0.61969344187450048,0.61451662688091713,0.58896257969131327,0.54101108579280888,0.41738856070370756,0.36909572157716464,null,12684.065430000001,26303.023438,15805.346680000001,19078.007809999999,14497.299805000001,36331.714840000001,42715.042969000002,35473.289062000003,42760.542969000002,27343.853515999999,27997.558593999998,53622.34375,41071.507810000003,25856.259765999999,31692.675781000002,40009.226562000003,47434.773439999997,32773.4375,40209.46875,24715.542968999998,0.24397047348997153,42856.058594000002]
[682,0.65079308222716914,0.64016327194745504,null,0.56766802924903881,0.42817051225534697,null,null,0.11494638660180515,8.4573513210102771E-2,6.4709914329656823E-2,4.1866831439317499E-2,0.25801760341178448,0.24778140445293453,0.19540930163176917,0.13537961567521539,9.7456345162238278E-2,8.3751112949726925E-2,0.55371728423639877,0.55058847597073468,0.55318574658947395,0.55999116322227849,0.42957783193972543,0.28301667382935625,0.21858229145230412,0.62227769766823371,0.61222582826055383,0.58088117087317537,0.54222389256107495,0.46011735921702901,0.19178718127753883,0.23903671181962066,0.26754938073923301,0.23202801333762738,0.61823081375667843,0.60862443588826276,0.60155716149656013,0.57455595974581286,0.52752631188735888,0.40749500385542947,0.36138294418239852,null,12350.685546999999,25709.814452999999,15387.422852,18625.564450000002,14112.823242,35598.785159999999,41921.691405999998,34747.171875,41900.007812000003,26600.1875,27210.318359000001,52662.097655999998,40206.722659999999,25148.671875,31028.59375,39177.789062000003,46491.488279999998,32097.304688,39385.644530999998,24190.732422000001,0.23903671181962066,42005.867187999997]
[683,0.63623122890908534,0.62750497832536078,null,0.55495819729334206,0.41768301041567768,null,null,0.11217646693198662,8.206531392732444E-2,6.3080052101575065E-2,4.07102941861524E-2,0.25027445696276968,0.24171765829407743,0.18840378512805436,0.13101351004351372,9.4017567419767356E-2,8.1399398114485211E-2,0.54194744681351914,0.54334957291579489,0.54019274731979106,0.54572603251710494,0.42078573273270609,0.27765546125913632,0.21364428923043016,0.61030223026177322,0.60047785135530563,0.57309387277147406,0.53094922046514259,0.4505260998526508,0.18772351121027764,0.23514200146810965,0.25900482711188078,0.23496756575525529,0.60773716509970366,0.59769784727433051,0.59096237209066771,0.56391230055976194,0.51623112499500445,0.39842105335812317,0.35378596474044133,null,12025.481444999999,25151.398438,14967.797852,18157.01758,13739.279296999999,34851.757810000003,41118.710937999997,34026.320312000003,41042.113280999998,25878.564452999999,26439.732422000001,51667.175780999998,39331.503909999999,24456.074218999998,30360.453125,38344.855469000002,45464.738279999998,31405.033202999999,38550.886719000002,23678.666015999999,0.23514200146810965,41124.417969000002]
[684,0.62199944339325075,0.61507170790507837,null,0.54153266589465998,0.40854947001917469,null,null,0.10901524650952833,7.9571065103356944E-2,6.1207372862330252E-2,3.9563218067090802E-2,0.24366378378488343,0.23483161469134461,0.18346556782750373,0.12617970224311098,9.0238550737963219E-2,7.9477009160304479E-2,0.53023410970176832,0.52957917031501345,0.52885596096944276,0.52778859053080673,0.4121238603902439,0.2713932104506056,0.20815410288667419,0.59657171173380674,0.58753401469655586,0.56260001783859548,0.51936716325181531,0.44068291817601951,0.18492204428794035,0.22875245537963279,0.25106607649745338,0.2292964839591794,0.59354296578255072,0.58345235220230018,0.57776439857004402,0.55531554477214784,0.5051297587518897,0.39144170384734689,0.34732155713383722,null,11693.489258,24589.091797000001,14557.337890999999,17692.029299999998,13368.720703000001,34070.304689999997,40276.910155999998,33273.191405999998,40123.859375,25159.691406000002,25643.875,50648.941405999998,38474.5,23767.050781000002,29711.201172000001,37471.898437999997,44328.691409999999,30691.414062,37670.972655999998,23131.912109000001,0.22875245537963279,40220.847655999998]
[685,0.60897104732949836,0.60331957787654333,null,0.53156467684429953,0.39905687342687896,null,null,0.10568172342265983,7.7066904084196933E-2,5.9872782606269714E-2,3.8523282646254001E-2,0.23666794108849448,0.22841424869108412,0.1786700504447471,0.12232192236753876,9.0212402162274774E-2,7.7383422428185716E-2,0.51651422020549187,0.51840328976397321,0.51679731948790475,0.51540324602265808,0.40356963326824791,0.26545204603420031,0.20406062908209815,0.58342675402697697,0.57473509794256006,0.55417467081951688,0.50925301762272324,0.43014203066602275,0.18003744411696843,0.22333032686889587,0.24417001596969723,0.2242878361763842,0.58514298151129129,0.57380961908213601,0.56605944655138862,0.54085076405956145,0.49432670996356026,0.38076257012603165,0.33930116216539774,null,11415.481444999999,24112.087890999999,14199.942383,17291.70117,13042.173828000001,33410.597659999999,39546.386719000002,32588.609375,39350.878905999998,24507.037109000001,24986.833984000001,49781.277344000002,37732.507810000003,23166.330077999999,29134.650390999999,36748.734375,43375.320310000003,30072.066406000002,36938.890625,22664.416015999999,0.22333032686889587,39438.699219000002]
[686,0.59756221809990806,0.59247603969064977,null,0.5199182432256767,0.39047170246637231,null,null,0.10334614134131373,7.6102336851566352E-2,5.8551193170603394E-2,3.7550095827063701E-2,0.22832042127247795,0.22118290963431422,0.17411841077686688,0.11951503237631138,8.6110341069664198E-2,7.5327292144124647E-2,0.50684467097039121,0.50766192948749178,0.50465976479851715,0.50608755464810029,0.39414875389743975,0.25944129473165678,0.19991737265825887,0.57248371217594773,0.56367258390436992,0.54445699511501344,0.49781785574084164,0.42097629238594719,0.17764331289083254,0.21791760488762671,0.23682555985093434,0.20899987719353044,0.57145261207801801,0.56236752733573558,0.55593569732771297,0.53078868861461148,0.48389067278116277,0.37263698447806742,0.33233741678215467,null,11089.017578000001,23543.330077999999,13793.004883,16845.037110000001,12660.270508,32605.917969999999,38675.386719000002,31812.878906000002,38425.476562000003,23789.291015999999,24223.550781000002,48709.941405999998,36824.246090000001,22478.660156000002,28440.580077999999,35908.664062000003,42319.261720000002,29343.228515999999,36078.816405999998,22116.748047000001,0.21791760488762671,38533.804687999997]
[687,0.58324598118920756,0.57977563013167566,null,0.50657104142263998,0.38088501218024784,null,null,0.10141480532863791,7.3847018763132793E-2,5.6931178432822103E-2,3.6359110264160499E-2,0.22160688887481178,0.21399156209200959,0.16932064500679656,0.11617191243335101,8.3973345765428559E-2,7.3796240789337456E-2,0.49844390159185908,0.49407222713808302,0.49446287652234699,0.49403315317848689,0.38581975983361289,0.25323943962893447,0.19533460033920777,0.56271089515887662,0.55268058652413588,0.53102156295102587,0.48773827463959002,0.41269564324501101,0.17160312181290283,0.21502439771391685,0.22914707304972187,0.20578833635979638,0.5580670606236221,0.5500654175914006,0.54558142824292433,0.51940191200059205,0.47120955496372091,0.36422084358770668,0.32569528944243398,null,10800.573242,23018.314452999999,13417.887694999999,16400.390630000002,12318.900390999999,31892.574219999999,37893.492187999997,31110.291015999999,37608.375,23119.537109000001,23527.03125,47754.917969000002,36022.101560000003,21848.554688,27814.599609000001,35140.269530999998,41324.988279999998,28695.251952999999,35305.972655999998,21609.619140999999,0.21502439771391685,37708.464844000002]
[688,0.57093066378027801,0.56744186589685519,null,0.49502860679033639,0.37235772924119581,null,null,9.9008148899014867E-2,7.2245925829058852E-2,5.5624718509853337E-2,3.5259942134356403E-2,0.2158920640495455,0.20881831318126506,0.16480754765872407,0.11313272644711446,8.2279119023795366E-2,7.1313486065483461E-2,0.4878137405641933,0.48294924433640241,0.48325053092588843,0.48577411018578115,0.37787963058497331,0.24801036614737648,0.19053109914132313,0.5502999861640232,0.54058496977373516,0.51953919250966873,0.47716009313972174,0.40269905146623608,0.16860823127196226,0.20896049549747728,0.22153579245362001,0.20052454800058514,0.54751339702020718,0.53882226677278089,0.53252007818080982,0.51123185030492513,0.46130587616118091,0.35765087314062577,0.31854931103215572,null,10518.514648,22543.230468999998,13065.050781,16008.077149999999,11994.571289,31201.728520000001,37127.003905999998,30437.746093999998,36785.242187999997,22512.039062,22904.697265999999,46851.3125,35265.917970000002,21267.896484000001,27204.486327999999,34423.039062000003,40414.859380000002,28067.582031000002,34545.585937999997,21134.603515999999,0.20896049549747728,36923.007812000003]
[689,0.55837458250562966,0.55446946070102565,null,0.48355932876650176,0.36326765617871376,null,null,9.5685418594492866E-2,6.995745008250602E-2,5.431225407670718E-2,3.43170261228809E-2,0.20998241320211131,0.20263410494738449,0.16052043780809486,0.10952214502736152,8.0018616081938734E-2,6.8524008205643638E-2,0.47455410792323194,0.47445299668630353,0.47190585303085414,0.46917051490155254,0.36851940203950517,0.24069506308379568,0.18598823189225502,0.53797166714369504,0.53019925695591463,0.50538983878353883,0.46488343441343777,0.39257700611328206,0.16434981547008704,0.20443781453782775,0.21541851677481336,0.19028697478177911,0.53616466996842316,0.52867271324081366,0.52122073909371136,0.49743235828641075,0.45339396160250622,0.35084507818592803,0.31221361313033036,null,10236.802734000001,22073.595702999999,12720.111328000001,15614.73731,11669.207031,30519.546880000002,36363.269530999998,29784.339843999998,35981.695312000003,21890.046875,22295.068359000001,45941.46875,34515.148439999997,20671.791015999999,26618.541015999999,33691.847655999998,39585.832029999998,27451.681640999999,33795.851562000003,20651.947265999999,0.20443781453782775,36121.148437999997]
[690,0.54723698114109409,0.54296095103594821,null,0.47155418996588477,0.35407881879256925,null,null,9.2931333911984784E-2,6.8522677080717312E-2,5.2092759640091225E-2,3.34032971777714E-2,0.20475007453907706,0.196564986599088,0.15439212845046144,0.10608532793790153,7.8925391371736375E-2,6.6808068481985963E-2,0.46264756464775053,0.46179294420366751,0.46097597374493676,0.46498404907382429,0.35949724510366654,0.2347732853568491,0.18111764649659823,0.52550490355195956,0.51747504172558956,0.49604225845774302,0.45415489855327162,0.38356869061829357,0.16104981731880083,0.20113361142504263,0.21038190036115856,0.19226239023688405,0.52625396120000656,0.51772980467597585,0.51065094437284708,0.48897115452734641,0.44115440541705736,0.34166918797821788,0.30618685575204801,null,9965.0048829999996,21579.515625,12372.876953000001,15230.16113,11351.318359000001,29850.472659999999,35557.121094000002,29067.238281000002,35185.714844000002,21266.654297000001,21673.953125,45036.617187999997,33720.953130000002,20081.957031000002,26022.033202999999,32943.351562000003,38734.664060000003,26861.777343999998,33013.414062000003,20172.419922000001,0.20113361142504263,35288.332030999998]
[691,0.53680748356201902,0.53009115138891483,null,0.46138450419803301,0.34636343563721872,null,null,9.0734415725553019E-2,6.6211408815807726E-2,5.0896599556791051E-2,3.2481839855078201E-2,0.19806785689909578,0.19097392517190551,0.15043406966311779,0.10296095231454452,7.579224704808897E-2,6.5608253563946409E-2,0.45222270707552192,0.44985194475827889,0.45114769901465807,0.45038867645425101,0.35140203035181578,0.22910502725359994,0.17746810840078184,0.51270425121562235,0.50679880508469233,0.48506751589170771,0.44367704545158254,0.37512184182324393,0.15720119765915191,0.19440718682791261,0.20334143395311774,0.1814138362760094,0.51574186181372783,0.50530780542340825,0.50124402853839556,0.47715943638562908,0.43239212047727682,0.33429912985869686,0.29909341421556895,null,9679.3740230000003,21059.962890999999,12012.713867,14826.452149999999,11032.979492,29141.183590000001,34796.929687999997,28372.275390999999,34370.78125,20663.810547000001,21046.236327999999,44106.910155999998,32903.472659999999,19484.220702999999,25414.837890999999,32187.060547000001,37848.109380000002,26217.695312,32271.302734000001,19682.886718999998,0.19440718682791261,34450.496094000002]
[692,0.5234245749112495,0.51798145129404694,null,0.44907262028093259,0.33784989169497492,null,null,8.8750579326787399E-2,6.5038144978238621E-2,5.007262303281413E-2,3.1535158157867803E-2,0.19188951071525656,0.18614340185508943,0.14660726709998012,0.10003536327891006,7.2156218374636413E-2,6.3510382820444786E-2,0.44219728036122979,0.43919416678808942,0.44093913605603297,0.44056910103963653,0.34242641953808378,0.22430560989565421,0.17435076739911939,0.50133772160000578,0.49514975767543318,0.47157582841268225,0.43444048296164561,0.36716838661642659,0.15342232401493697,0.19007548142835115,0.19710518182944442,0.17710877902353694,0.50270671861043226,0.49388145916032045,0.48737472363811424,0.46875813094922775,0.42159883764193301,0.32627356453677586,0.29353444585627519,null,9410.3417969999991,20560.998047000001,11667.763671999999,14450.63184,10727.927734000001,28438.314450000002,34026.707030999998,27676.185547000001,33585.496094000002,20077.138672000001,20440.259765999999,43183.957030999998,32167.73242,18927.277343999998,24808.96875,31428.111327999999,37010.425779999998,25640.207031000002,31547.447265999999,19238.111327999999,0.19007548142835115,33632.890625]
[693,0.51028574681059613,0.50502678072589435,null,0.43755558223183366,0.328644110699299,null,null,8.6402203936513489E-2,6.3314218862139268E-2,4.9111164750286797E-2,3.06764924705288E-2,0.18599645873575676,0.18179992440799272,0.14114517488815237,9.7062301633242906E-2,7.081818612110917E-2,6.1548185661473832E-2,0.43203255054142808,0.42955330004105136,0.43048345188434955,0.43356877244418413,0.33449370264724931,0.22085303151406571,0.16998976108730771,0.489934429357888,0.48388660108939352,0.46111184527716698,0.42336716246840977,0.35812316924887222,0.14799092821171286,0.18767003135358545,0.19103732083886191,0.17018077233541301,0.49171534431664049,0.48419743237175022,0.47805675842987411,0.45618817432634734,0.41049551464536455,0.31784709206385187,0.2856536715863689,null,9152.4140619999998,20088.328125,11347.481444999999,14089.26953,10446.329102,27781.654299999998,33275.890625,27035.087890999999,32819.460937999997,19527.308593999998,19856.644531000002,42290.933594000002,31406.255860000001,18390.980468999998,24239.714843999998,30698.240234000001,36156.984380000002,25061.320312,30824.402343999998,18793.931640999999,0.18767003135358545,32881.289062000003]
[694,0.50017913083183141,0.49239494556233182,null,0.42713912398741832,0.31919300405994155,null,null,8.4483594879321069E-2,6.1350096550507473E-2,4.780535432440372E-2,2.9752989100853E-2,0.18070401646384859,0.17591270805379999,0.13648572730116215,9.4185872248654726E-2,6.8252793716075205E-2,5.9665764159397096E-2,0.42226621366814393,0.42043969643563672,0.42093121738127914,0.42422477976111012,0.32685307887938836,0.21535746441861803,0.1651540398028038,0.48007057268414333,0.47330744736301644,0.45206974408353079,0.41253742062682364,0.34930219465235807,0.14586474001953331,0.18362082974752966,0.18591243991498224,0.16590014600827804,0.48250127609102839,0.47181894170571226,0.46764140794989001,0.44534555303889517,0.40183723592479242,0.30931175875978401,0.27867365406118882,null,8909.9824219999991,19625.066406000002,11042.320312,13754.38379,10166.492188,27201.28125,32586.726562,26478.259765999999,32109.677734000001,19000.851562,19326.595702999999,41441.183594000002,30702.503909999999,17887.173827999999,23692.693359000001,30010.576172000001,35264.378909999999,24520.648438,30128.470702999999,18374.8125,0.18362082974752966,32174.371093999998]
[695,0.48714800142013337,0.47848327228731174,null,0.41532658048956167,0.31067922147186822,null,null,8.2304185103044533E-2,5.9836567569235895E-2,4.6607754926990624E-2,2.87931147907153E-2,0.17477253456821973,0.16952505237785997,0.13234576349821323,9.1467984804246852E-2,6.6122689384541231E-2,5.7540032085494366E-2,0.41048690618594841,0.40952001613209976,0.41023869339892477,0.40731209402149188,0.31871370668720456,0.21024597896085892,0.16097028093453764,0.46882737435588562,0.46186552121784624,0.44242320199590518,0.40158693928655259,0.34036134008985508,0.14186981556318895,0.17863848985825614,0.17929771096555336,0.16063960469711222,0.46974169101030416,0.46224382881729409,0.45639246063213651,0.43535391219177338,0.3937769987703067,0.30184621400147477,0.27346562055828577,null,8643.6455079999996,19090.25,10707.475586,13379.97363,9857.8222659999992,26509.376950000002,31786.291015999999,25770.451172000001,31303.699218999998,18428.40625,18734.429688,40488.800780999998,29917.136719999999,17341.136718999998,23073.21875,29233.810547000001,34203.183590000001,23889.291015999999,29340.322265999999,17873.179688,0.17863848985825614,31336.226562]
[696,0.47614005640910662,0.46594988870110027,null,0.40513604864674108,0.30298327063619351,null,null,7.9703633915258532E-2,5.7953787220236037E-2,4.5326988314614236E-2,2.8002037784605201E-2,0.16897478644992475,0.16511500478027033,0.12831152293924467,8.8628869392980619E-2,6.4702882794853131E-2,5.5989097576641805E-2,0.40017947615126648,0.39777850623055372,0.39906987445783937,0.40292007518574247,0.31058839208762362,0.205196223982204,0.15727122033952468,0.45791801782547426,0.45023580946244879,0.43447362961749453,0.39032458006844867,0.33180647572911215,0.13878756258181366,0.17253110122325752,0.17519208386175772,0.15261878646443003,0.45851197187033377,0.45372673326025148,0.44669211340143183,0.42505872495439717,0.38288347248344606,0.29366147631866962,0.26664055829741123,null,8392.2714840000008,18607.769531000002,10399.183594,13019.09375,9564.7822269999997,25813.871090000001,31037.724609000001,25156.865234000001,30546.876952999999,17885.710938,18170.976562,39586.335937999997,29153.61133,16832.677734000001,22485.792968999998,28505.109375,33263.792970000002,23287.060547000001,28624.25,17429.720702999999,0.17253110122325752,30567.394531000002]
[697,0.46454626298316687,0.45474060011912726,null,0.39567093942371079,0.2952554438603005,null,null,7.7506570000104497E-2,5.6962910917142645E-2,4.4008640807148204E-2,2.7321185455105999E-2,0.16406678799810623,0.1603197276820636,0.12509660127205316,8.6749450546766874E-2,6.3139373058565679E-2,5.4712370535253338E-2,0.38982783223390077,0.38939320333218402,0.38938749171700576,0.39241633356296002,0.30281824863133983,0.19859711825977816,0.15284351114367786,0.4476679272787929,0.43951620454257545,0.42132803223458454,0.38094075358725282,0.32351847815763141,0.13589793550001145,0.16859936253568167,0.1686049300597551,0.15385266969567354,0.44940930981664579,0.44145044211090412,0.43530672287213523,0.41617987176215027,0.37448959736347698,0.28936576200188141,0.26085495906726414,null,8173.1127930000002,18166.097656000002,10116.058594,12712.59863,9306.921875,25242.427729999999,30349.470702999999,24609.869140999999,29842.970702999999,17382.177734000001,17558.654297000001,38785.1875,28500.708979999999,16402.048827999999,21972.832031000002,27887.082031000002,32466.289059999999,22758.998047000001,27976.605468999998,17045.244140999999,0.16859936253568167,29908.140625]
[698,0.45376050249325228,0.44318907991630907,null,0.38701082685626009,0.28743301192187642,null,null,7.5564060050819296E-2,5.5412182006460288E-2,4.2697257834897785E-2,2.64939087073882E-2,0.1595530491085492,0.15505108373785928,0.12179589593947833,8.4455201495363813E-2,6.0964239259331345E-2,5.3153462482357063E-2,0.37994192252570125,0.37899012722209657,0.3793873716571608,0.37864556485319617,0.29485302582733391,0.19176698070138601,0.14842499261574321,0.43693223689532074,0.4279321804906091,0.4074969080257248,0.37306397980769573,0.31505508145190619,0.13177061602006954,0.16327444963500237,0.16500039729798618,0.1493753391228643,0.43886813590085011,0.43151342582901492,0.42718813655653476,0.40819113316185957,0.3668906520105335,0.28140034999751956,0.25621025412300613,null,7952.4526370000003,17722.765625,9845.6269530000009,12402.454100000001,9055.3681639999995,24658.541020000001,29659.117188,24047.75,29149.259765999999,16894.982422000001,17076.480468999998,38016.445312000003,27839.54492,15947.198242,21445.019531000002,27265.888672000001,31721.35742,22212.021484000001,27310.654297000001,16632.425781000002,0.16327444963500237,29227.794922000001]
[699,0.44375307855419349,0.43110379319753639,null,0.37897793346804892,0.2811890031549279,null,null,7.372567457475547E-2,5.4022144456430388E-2,4.1616105678485497E-2,2.56607306227477E-2,0.15514924991860951,0.14992140969472645,0.11797210512940141,8.0682656927911087E-2,5.9514477802335944E-2,5.178118736787115E-2,0.37204905705473557,0.36850780763296548,0.36938277701967154,0.36727299621547443,0.28824605141273074,0.18807764354514139,0.14520876706627955,0.42591647358059731,0.41759457413712198,0.3988495886163167,0.36440944429529398,0.30705198038572751,0.12826274677123628,0.15878668170549332,0.15932949360347157,0.14595516775053208,0.42822320556926424,0.42199265130155689,0.41632706240502598,0.39682223965151348,0.35697847168087221,0.2739980633830677,0.24849888708819454,null,7710.0791019999997,17219.970702999999,9553.7724610000005,12043.083979999999,8762.9277340000008,23991.683590000001,28914.091797000001,23404.484375,28343.712890999999,16359.737305000001,16544.697265999999,37092.949219000002,27090.128909999999,15440.920898,20848.771484000001,26534.46875,30751.378909999999,21573.40625,26557.955077999999,16188.604492,0.15878668170549332,28404.375]
[700,0.43238469419490605,0.42142051960713084,null,0.36994243061466603,0.275873096572331,null,null,7.1819978167259199E-2,5.2187148998534681E-2,4.0803468651527827E-2,2.48794220721495E-2,0.15034983547196304,0.14553215901161509,0.11359875318424381,7.7618462747013561E-2,5.7458703733368151E-2,4.9952392939368866E-2,0.36303400464290581,0.36105498196190794,0.36047039337444325,0.36378881658657708,0.28087261275272146,0.18444994147131297,0.14209121162669011,0.41526951135286871,0.40770478752186406,0.38950047551385564,0.35381045319949528,0.29955482875819617,0.1254108093305856,0.15496247079888142,0.15293940830722649,0.14129066786282085,0.41877061369950735,0.41100485045049068,0.40442967111235623,0.38669445991415313,0.34569232011884837,0.26699644587066057,0.24156054614723871,null,7505.9721680000002,16840.970702999999,9302.6552730000003,11757.76074,8526.4335940000001,23435.748049999998,28290.414062,22852.986327999999,27688.724609000001,15922.206055000001,16099.042969,36350.214844000002,26507.185549999998,15032.596680000001,20371.806640999999,25903.595702999999,30113.789059999999,21062.509765999999,25929.099609000001,15794.912109000001,0.15496247079888142,27728.978515999999]
[701,0.42168866720356679,0.4120915563852609,null,0.36142750371304899,0.26963299135434826,null,null,6.9596739815621242E-2,5.1082262249333918E-2,3.9682750814809882E-2,2.42671585185383E-2,0.14533868019352808,0.1409893901571436,0.11039409759022319,7.5425244554780724E-2,5.5285750887217322E-2,4.8003172531558981E-2,0.35278127486536021,0.35309908504476545,0.35177997436033281,0.35280409323483419,0.27299006870583931,0.17872693305977178,0.13913281591770105,0.40552187892321651,0.39751684777456192,0.37997336638059076,0.34423047463793105,0.29162532663247148,0.12195743630906111,0.15063830608523995,0.14894039173061377,0.14029537220097291,0.40760967033561873,0.40125728130611915,0.39730124746806683,0.37732954947234965,0.33892551779503771,0.2608678354011113,0.23558552194750976,null,7301.8217770000001,16444.878906000002,9045.5185550000006,11462.07422,8292.5449219999991,22865.212889999999,27639.28125,22284.984375,27017.814452999999,15451.393555000001,15648.489258,35547.902344000002,25865.789059999999,14628.811523,19851.275390999999,25245.056640999999,29405.628909999999,20526.597656000002,25309.673827999999,15433.861328000001,0.15063830608523995,27077.033202999999]
[702,0.4107440146692608,0.40161600509759932,null,0.35247775878365178,0.2620044914443791,null,null,6.7336721502966046E-2,4.9150117745617769E-2,3.8896530827407794E-2,2.3501038646989901E-2,0.14028720054473534,0.13634463249773948,0.10655013927253543,7.3772560677538221E-2,5.3951553180583409E-2,4.6873349892118367E-2,0.34267774313992555,0.34264707020383384,0.34288907654763723,0.34291089241530942,0.26626241322220651,0.17337096725508169,0.13532008657682906,0.39646727179858088,0.38687921714439838,0.3684234843313835,0.33487474632132808,0.28360830543845794,0.11845041395742775,0.14689394675930034,0.14283849950618735,0.13168526042602691,0.39840042340587539,0.39169682430819264,0.38854052298649838,0.3685174867041412,0.33059853829415564,0.25380086639405414,0.2297637410888772,null,7091.8876950000003,16008.822265999999,8775.6708980000003,11155.79004,8053.3916019999997,22295.691409999999,26978.970702999999,21697.789062,26327.59375,14992.298828000001,15184.430664,34704.621094000002,25224.964840000001,14189.614258,19333.673827999999,24586.023438,28734.605469999999,19986.509765999999,24671.072265999999,15039.730469,0.14689394675930034,26398.257812]
[703,0.39982994909092279,0.39149952545759892,null,0.34277598872276843,0.25507363215641093,null,null,6.5440866983970544E-2,4.8439911216723926E-2,3.7346876358339762E-2,2.28266457831338E-2,0.13614674467418525,0.13154091837748721,0.10344152124131885,7.1034681045059569E-2,5.298006279967165E-2,4.6271936839599591E-2,0.33412466673347047,0.33590905793354991,0.33291145444547826,0.33433675529568913,0.25895542180503445,0.16833235184681997,0.13097165711983683,0.38645953605164796,0.37652716699598754,0.36227917513480745,0.32676777532656082,0.27548537937860401,0.11485413568722358,0.1437647073579458,0.13966283080748618,0.12704887314401547,0.38752453665948111,0.38278030301085458,0.37613223881131369,0.35925585215223238,0.3189683261800057,0.24746962930919855,0.22514394493907675,null,6863.7958980000003,15570.398438,8501.3925780000009,10835.31055,7804.310547,21653.228520000001,26250.042968999998,21074.865234000001,25611.244140999999,14515.466796999999,14710.504883,33819.589844000002,24540.535159999999,13723.177734000001,18774.642577999999,23883.658202999999,27940.699219999999,19437.6875,24001.492188,14605.479492,0.1437647073579458,25656.447265999999]
[704,0.39031793408958471,0.38253286151429494,null,0.3335795876482846,0.24855202969468523,null,null,6.3919910734179936E-2,4.6553896156947785E-2,3.6519016315567435E-2,2.2018499984872601E-2,0.13170740355996152,0.12777297617602648,0.1005071382126112,6.9326528309510596E-2,5.2101071237917344E-2,4.4481567063168706E-2,0.32565029645708327,0.32589088527946325,0.32435742868972445,0.32382147993223331,0.25168978843645312,0.16359823166500495,0.12729505337669222,0.37528134434224653,0.36837710235764376,0.35155045381964323,0.31885152824019214,0.26874593752536341,0.11281201288361638,0.1407624606526004,0.13519914233128666,0.12637191701084818,0.38135114315120078,0.37360402408424914,0.36764365482224026,0.35150135350048289,0.31356424175125225,0.24213043687240987,0.21934977804526748,null,6672.1235349999997,15211.560546999999,8258.8544920000004,10564.02637,7582.0664059999999,21123.541020000001,25669.513672000001,20562.564452999999,24972.941406000002,14090.122069999999,14292.670898,33009.296875,23960.109380000002,13334.224609000001,18315.646484000001,23277.072265999999,27218.708979999999,18966.121093999998,23406.044922000001,14255.907227,0.1407624606526004,25034.8125]
[705,0.37882711008203501,0.37437745625096419,null,0.3233418985453157,0.24083267477592318,null,null,6.2637402748992155E-2,4.4947820923276725E-2,3.584197717956987E-2,2.1380252140994999E-2,0.12705940990133127,0.12358303600561188,9.7746092268550994E-2,6.7957902339928877E-2,4.9784820724266966E-2,4.2959901887314557E-2,0.31725552775743732,0.31424859840463398,0.31597886342784515,0.31839288348557188,0.2451467756828348,0.16049653304064163,0.12360476000918175,0.36525444015211722,0.35972631590823412,0.34335442880550876,0.31006530407615807,0.26285959213838184,0.10982327389248299,0.136164568986056,0.12980058164973862,0.12358130236810254,0.36976121830375497,0.36411191622372857,0.35954545915197961,0.34328257863074435,0.30571056797526552,0.23574257928282016,0.21429530048877202,null,6478.3349609999996,14831.140625,8015.5053710000002,10308.62305,7366.9272460000002,20584.791020000001,25077.994140999999,19997.416015999999,24363.072265999999,13676.654296999999,13884.109375,32257.962890999999,23376.160159999999,12951.405273,17868.755859000001,22678.078125,26510.76367,18507.210938,22800.8125,13887.585938,0.136164568986056,24419.197265999999]
[706,0.36873888885569511,0.36487079467093125,null,0.3142659863743143,0.23428557152711271,null,null,6.0654964574179952E-2,4.4436586620600745E-2,3.4587248166097019E-2,2.08349583008943E-2,0.1232900620068568,0.11947059840871109,9.510126972189567E-2,6.5903091510377806E-2,4.8442621824519562E-2,4.1745535607323178E-2,0.30763386107889429,0.30439745326485107,0.30726477960819248,0.31087273997981951,0.2391289625215903,0.15616252223992017,0.1207217693085106,0.35691129576327446,0.35017081850080017,0.33773888423781612,0.30104993255206192,0.25593640897590292,0.1060599614237068,0.13309070865944758,0.12616969977589679,0.12069123879893727,0.36174018156606197,0.35506838293873078,0.35053863366429155,0.33390551545928926,0.29732068178859195,0.2284741465239275,0.20816046853394515,null,6288.8222660000001,14435.873046999999,7776.4233400000003,10045.191409999999,7155.4257809999999,20029.115229999999,24455.359375,19494.207031000002,23771.564452999999,13282.226562,13482.295898,31485.775390999999,22755.98242,12476.054688,17401.792968999998,22118.941406000002,25832.617190000001,18033.259765999999,22240.453125,13514.416015999999,0.13309070865944758,23791.523438]
[707,0.36150086399832954,0.35606179382217529,null,0.30603256332701684,0.22681159339541146,null,null,5.8793391963640244E-2,4.2652919731310794E-2,3.3546854854363477E-2,2.0090910916426501E-2,0.11920231126131083,0.1164805317151803,9.2861788725032493E-2,6.3444575123147606E-2,4.623474194672457E-2,4.0324675122049639E-2,0.29878517657223735,0.29822895739622901,0.29862126121508975,0.299687005675151,0.23250776490437738,0.15048797605848277,0.11731368847446744,0.34853411305381149,0.3409371382806583,0.3302481612819208,0.29216913950165979,0.24750680697599078,0.10311125382306262,0.13105951131134824,0.12181158651018324,0.11363596976310485,0.35177213959783143,0.3440975099994758,0.33894181180935867,0.32676614075371918,0.28957534162610987,0.2220327605342054,0.20391136361364756,null,6107.1557620000003,14017.261719,7555.595703,9790.3007809999999,6949.0771480000003,19501.054690000001,23833.935547000001,18984.679688,23152.308593999998,12811.751953000001,13083.389648,30743.216797000001,22152.316409999999,12106.438477,16961.375,21564.759765999999,25154.123049999998,17577.130859000001,21637.507812,13103.193359000001,0.13105951131134824,23172.222656000002]
[708,0.35126357813862524,0.34786881008726855,null,0.29816426292885972,0.22107601492540171,null,null,5.731315613947089E-2,4.1700149369414373E-2,3.2787458969160896E-2,1.9581579083525601E-2,0.11473820286194855,0.11335350327357203,8.9060093756714698E-2,6.100912802166529E-2,4.6121397959003649E-2,3.8995263995576276E-2,0.29232544751975403,0.29101287174110646,0.29096237971495836,0.29428993668299652,0.22615424640384271,0.14700485725227949,0.11379817835951744,0.33744585303451569,0.33161650327874981,0.31898403649563606,0.28464545440032396,0.24027455862612812,0.10091735052281194,0.12620058784219482,0.11967868509199921,0.1099533320918198,0.34359371133075056,0.33788011346855007,0.33216336978028743,0.31773707040877208,0.28172432059560021,0.21737768387416934,0.19737743133611971,null,5924.361328,13638.417969,7332.2607420000004,9542.1298829999996,6743.8046880000002,18968.20117,23195.396484000001,18486.246093999998,22513.359375,12431.741211,12717.522461,29965.890625,21543.546880000002,11743.002930000001,16515.498047000001,20990.005859000001,24334.195309999999,17097.097656000002,21035.837890999999,12760.020508,0.12620058784219482,22555.101562]
[709,0.34168581341472576,0.34003301292483623,null,0.2894243429856253,0.21464415952883309,null,null,5.6233628470805416E-2,4.0505720591279729E-2,3.2143776343911704E-2,1.8921116569047099E-2,0.11083221014077398,0.10907222500807398,8.5767223792259609E-2,5.887012429625102E-2,4.495331307974746E-2,3.8266905145300734E-2,0.28597867215903938,0.28254484870100943,0.28328424928172807,0.2821119369890257,0.22028094768868833,0.14299197646222861,0.110627483404812,0.32995815413351698,0.32283519766117263,0.30729963097398361,0.27775275295851048,0.23468618448996403,9.8211357155276555E-2,0.12105872023399342,0.11446836103250034,0.11505726718935597,0.33428906899800215,0.32964463825470458,0.32620298800655056,0.30854453654339337,0.27600366016885058,0.21098665474186812,0.19343391987648245,null,5754.7709960000002,13252.922852,7113.8041990000002,9296.5644530000009,6545.4726559999999,18475.931639999999,22603.589843999998,17996.556640999999,21890.673827999999,12065.912109000001,12339.675781,29245.25,20937.414059999999,11381.875,16074.140625,20440.445312,23558.302729999999,16633.447265999999,20463.298827999999,12426.671875,0.12105872023399342,21958.880859000001]
[710,0.33258282041130405,0.33194202775825865,null,0.28128809280385986,0.2096325917657153,null,null,5.4437402490961607E-2,3.9544990972563455E-2,3.133621004703252E-2,1.82948978107191E-2,0.10748444126869965,0.10581519909852256,8.4367426628418979E-2,5.7600922468997048E-2,4.23927521000017E-2,3.7048564033261046E-2,0.27897893466427104,0.27476669143649501,0.27556741673534091,0.27806675059622554,0.21470291437547034,0.13930831871589183,0.10846285126312956,0.3233919311382113,0.31567743625399675,0.29917064704519086,0.27110765484813532,0.22890059144061367,9.5074863423862663E-2,0.11773229258463816,0.11048755256355676,0.10801128045023027,0.32794043205253148,0.32042117813505544,0.31648825776289591,0.30176055236397481,0.26784931840801862,0.20442929857831468,0.19014718042164724,null,5587.9326170000004,12907.565430000001,6906.5395509999998,9057.2060550000006,6352.1479490000002,17980.470700000002,22031.861327999999,17528.244140999999,21308.974609000001,11707.932617,11976.995117,28563.228515999999,20388.435549999998,11040.792969,15670.451171999999,19915.292968999998,22922.949219999999,16176.741211,19916.628906000002,12098.858398,0.11773229258463816,21358.820312]
[711,0.32457895718310442,0.3224182704015805,null,0.27309957111798394,0.20371705894479866,null,null,5.2708374060471803E-2,3.8810767409739981E-2,3.0528804118298426E-2,1.7846966791062902E-2,0.10417221640225027,0.10308806472591431,8.1980023866892626E-2,5.6413769763899689E-2,4.0600353024889499E-2,3.5379149028367293E-2,0.27102465814805027,0.26989423795906925,0.26763259566238845,0.27278774004849887,0.20937653484837238,0.13578561139944584,0.10572147507071471,0.31459004637385168,0.30876905372163171,0.29301913091422677,0.26418036984861365,0.22331050372087152,9.3962125605275879E-2,0.1145602984559157,0.10923772030891311,0.10474279228127686,0.3188666545621302,0.31207278186253601,0.31026926053390291,0.29540571785169673,0.26147303659023369,0.19986349018606495,0.18309090495868724,null,5430.8974609999996,12578.198242,6711.6791990000002,8824.5566409999992,6166.5380859999996,17505.962889999999,21431.603515999999,17070.035156000002,20770.787109000001,11364.635742,11633.912109000001,27845.425781000002,19857.734380000002,10715.164062,15217.738281,19408.623047000001,22210.546880000002,15761.707031,19417.322265999999,11786.875977,0.1145602984559157,20797.951172000001]
[712,0.31680839583104686,0.31306671556304982,null,0.26495315051446788,0.19782721437850703,null,null,5.1601073477068361E-2,3.7988462546119643E-2,2.9866637971489304E-2,1.72416547598035E-2,0.10113190602280069,0.10086279317858146,7.8416896169181946E-2,5.5094312144792795E-2,4.1211359451548177E-2,3.406396252701005E-2,0.2626784975333632,0.26382403993065373,0.26036691342712409,0.26352804002280145,0.20319229935896577,0.13239422381949795,0.10280795075394905,0.30543906807451132,0.30070894948539945,0.2836444141192544,0.25598427582287697,0.21749020545236805,9.0869191446958264E-2,0.11086590016668774,0.10442905188979021,0.10205615807621175,0.31022960197355948,0.30540413894180113,0.30094549297383189,0.28671530062362288,0.25274976796544008,0.19426788167505693,0.17878828768051175,null,5283.4921880000002,12255.248046999999,6526.7329099999997,8605.8339840000008,5988.4624020000001,17066.433590000001,20910.341797000001,16626.958984000001,20233.982422000001,11026.538086,11308.307617,27180.474609000001,19341.103520000001,10406.131836,14822.462890999999,18903.589843999998,21629.804690000001,15342.700194999999,18940.261718999998,11479.591796999999,0.11086590016668774,20256.414062]
[713,0.30857491637533907,0.30486539175291738,null,0.25723983669912165,0.19204020822095799,null,null,5.0134526033204174E-2,3.7066612231311462E-2,2.9107190922196421E-2,1.6712234280691799E-2,9.7545644167128936E-2,9.7532536303601106E-2,7.5618978235399273E-2,5.3088368167820955E-2,3.9029446915671458E-2,3.3185394208803384E-2,0.25562092370349832,0.25416067538591208,0.25382894641682069,0.25790345051021712,0.19695664938201438,0.12814414997134463,9.9840492661329439E-2,0.29639623667925752,0.29294814133643721,0.27411512102007279,0.24829793656968208,0.21038902175212265,8.8515148408130462E-2,0.109301921116477,0.10070652575851324,0.10045921395443672,0.3022775830931731,0.29697136711119326,0.29406943284860371,0.27880975990953483,0.24646315896242119,0.18970286359816432,0.17513921322964116,null,5128.5786129999997,11917.917969,6330.6450199999999,8373.4833980000003,5804.5561520000001,16612.978520000001,20373.554688,16166.844727,19662.742188,10695.486328000001,10983.919921999999,26513.417968999998,18823.064450000002,10085.620117,14354.254883,18358.568359000001,20865.533200000002,14938.019531,18431.138672000001,11155.052734000001,0.109301921116477,19693.642577999999]
[714,0.30023662494422138,0.29675507414393526,null,0.24770483762754325,0.18690394916390277,null,null,4.8737160831505373E-2,3.6014279877993792E-2,2.8498490601762554E-2,1.6186910815768601E-2,9.4876653434211547E-2,9.3456443222680055E-2,7.4364599000528428E-2,5.1586173717743614E-2,3.7871958171880958E-2,3.2333002486820479E-2,0.24951739883265103,0.24473329789180251,0.24750864985671742,0.24941061785007496,0.19104030866034685,0.12440626473832488,9.6798230656663778E-2,0.28770912988380959,0.28392858771195273,0.26865436713715818,0.24122295188234155,0.20455068798247844,8.6642441989032551E-2,0.10584461926630341,9.7595875391387726E-2,9.4694349929005994E-2,0.29403715118926244,0.28855981449564783,0.28464462746298552,0.27040911769225678,0.24002456768831862,0.18569910439278212,0.16994844506947862,null,4993.5288090000004,11620.753906,6160.482422,8173.7036129999997,5647.6933589999999,16199.791020000001,19897.353515999999,15777.570312,19189.693359000001,10406.648438,10692.025390999999,25951.216797000001,18367.09375,9804.7558590000008,13997.337890999999,17911.589843999998,20434.380860000001,14456.911133,17994.121093999998,10865.930664,0.10584461926630341,19219.404297000001]
[715,0.2924274919394223,0.28773523805727946,null,0.24061224790359606,0.18090640816131481,null,null,4.7684716398764829E-2,3.4582919295581001E-2,2.7372776225699499E-2,1.56795317085624E-2,9.2649723995937877E-2,9.0290614905574246E-2,7.2227865965956609E-2,4.9918981992254405E-2,3.7581272860159769E-2,3.1798167926015808E-2,0.24373796696803107,0.2388686603243908,0.24079119253767903,0.24199069653128757,0.18625683717790834,0.1214672264498116,9.4635731657784827E-2,0.28036321697319849,0.27613731749264803,0.26353348778802715,0.23471913105773146,0.19900245144343134,8.3426059244890535E-2,0.10167005458839107,9.469914084457455E-2,9.0284963659860315E-2,0.28623282142762196,0.28244467859748856,0.27735487776741469,0.26488626040795538,0.23454905618818589,0.18029317759097013,0.16499181922748007,null,4851.3125,11305.324219,5984.7827150000003,7958.498047,5489.2275390000004,15783.652340000001,19451.220702999999,15358.689453000001,18675.445312,10106.912109000001,10386.278319999999,25312.166015999999,17867.761719999999,9514.4394530000009,13637.325194999999,17458.935547000001,19872.429690000001,14084.598633,17526.914062,10564.313477,0.10167005458839107,18703.917968999998]
[716,0.28441546011409491,0.27964795956171656,null,0.23418785057153679,0.17514795397343591,null,null,4.6772689117279297E-2,3.3698724296035064E-2,2.6640551513057008E-2,1.51408283906485E-2,8.9237698191084749E-2,8.789084908192224E-2,7.0016584146228009E-2,4.8260285543155181E-2,3.6138218733755466E-2,3.1327323894595707E-2,0.23660744452236782,0.23249417133082109,0.23407834730504745,0.23269974501113125,0.18159727534887887,0.11824941833206422,9.1895931289444066E-2,0.27262686679183556,0.26802739887091914,0.25657932870756894,0.22847742669306093,0.19371806301817884,8.1293186843246365E-2,9.9945322222242242E-2,9.0674865245325836E-2,8.7444634019051268E-2,0.2791573964792099,0.27650732282133789,0.27040383599391626,0.25781190533867426,0.22742213987701818,0.17568897327257685,0.16207447177326467,null,4720.1152339999999,11015.019531,5821.3793949999999,7763.5014650000003,5335.1962890000004,15362.23438,18951.011718999998,14970.973633,18181.179688,9814.7177730000003,10111.481444999999,24676.414062,17417.558590000001,9246.5078119999998,13284.247069999999,16997.261718999998,19317.84375,13724.736328000001,17085.439452999999,10290.380859000001,9.9945322222242242E-2,18228.738281000002]
[717,0.27704888428648827,0.2713779018070212,null,0.22779250596050468,0.17075454146801503,null,null,4.5688388672369205E-2,3.3135695031158402E-2,2.6243691699089942E-2,1.47403495022192E-2,8.583818876529313E-2,8.4898097134764733E-2,6.7453922644613862E-2,4.6716492050954794E-2,3.5538547439625368E-2,3.0035633485723169E-2,0.22901466664608647,0.22734274373920635,0.22806274450257608,0.23170247735277888,0.17661036457002721,0.11418999425804457,8.9069096607277298E-2,0.26504136778644666,0.26072140099521446,0.24812588874874336,0.22174563269997094,0.18775799351706549,7.7990635199647385E-2,9.8942837061952782E-2,8.877209288717218E-2,8.7672451946801025E-2,0.27110277265789773,0.26718846730440332,0.26356864217402431,0.25205625923471986,0.22179822611981606,0.17067847696566465,0.15729229360033448,null,4584.029297,10709.471680000001,5645.5507809999999,7564.6538090000004,5179.1274409999996,14855.179690000001,18455.818359000001,14559.740234000001,17683.15625,9516.0644530000009,9815.4541019999997,23944.740234000001,16947.76758,8968.9287110000005,12917.568359000001,16544.087890999999,18853.51367,13352.913086,16617.998047000001,10002.565430000001,9.8942837061952782E-2,17742.513672000001]
[718,0.27072631460608437,0.26423246367897679,null,0.22187129965541985,0.16544461803240468,null,null,4.408618163026061E-2,3.1777802940736233E-2,2.5699090958466387E-2,1.42745001350901E-2,8.2777996023113656E-2,8.2398632002157329E-2,6.534167943712671E-2,4.5477822368547589E-2,3.2837952468803541E-2,2.8863343102051894E-2,0.22297435420845044,0.2216704748415074,0.2212908437231226,0.22090602631709488,0.17150334596596697,0.11086079367426449,8.5837969317959076E-2,0.25728860525368291,0.25388242775348274,0.24178124662077621,0.21509556753252199,0.1828608570412863,7.6676456447671001E-2,9.4240529108824245E-2,8.6260575144384816E-2,8.9686933034734614E-2,0.26551838547823003,0.26082323780024413,0.256782308196913,0.24531405390336919,0.21544906004086603,0.1663821098176968,0.15277002351650099,null,4449.7153319999998,10414.465819999999,5475.7773440000001,7361.2973629999997,5023.2856449999999,14463.972659999999,17967.830077999999,14170.445312,17194.197265999999,9233.859375,9532.7578119999998,23349.337890999999,16495.630860000001,8697.7421880000002,12571.497069999999,16116.389648,18240.208979999999,12985.823242,16175.607421999999,9721.15625,9.4240529108824245E-2,17277.599609000001]
[719,0.26367902727781878,0.25714992777114043,null,0.21620730881716288,0.16029845527815101,null,null,4.2468828200181101E-2,3.0965693024421617E-2,2.47126543870906E-2,1.38956159824966E-2,7.9935038836571395E-2,8.0658830412233845E-2,6.3964831211056478E-2,4.3161487276060992E-2,3.2528427393708842E-2,2.8052729123380381E-2,0.21713577235239639,0.21523290259457514,0.21503128348761741,0.21884447621020381,0.16705600280014785,0.10839919991940346,8.4063293354572285E-2,0.25082932462866014,0.24682380383949634,0.2372014039170604,0.20914505984408879,0.17794501868148624,7.4365022897987465E-2,9.1002659270516331E-2,8.1724232125205493E-2,8.3344191136462298E-2,0.2591091521126721,0.25411224182392955,0.24947793141067698,0.23683302048745014,0.20876712716341822,0.15910867138717727,0.14707473903249701,null,4315.7709960000002,10139.097656,5322.5200199999999,7165.8720700000003,4882.2866210000002,14059.60059,17490.107422000001,13789.117188,16734.009765999999,8953.7753909999992,9264.0292969999991,22765.875,16054.695309999999,8444.0371090000008,12229.592773,15707.738281,17956.382809999999,12629.327148,15743.761719,9460.4726559999999,9.1002659270516331E-2,16822.853515999999]
[720,0.25490961807028528,0.24893193974583894,null,0.21063800172519459,0.15448560740092918,null,null,4.1514302420140099E-2,3.0498146149652908E-2,2.3855493971152355E-2,1.3473801778710199E-2,7.7626198852872308E-2,7.8276113239439435E-2,6.1913471253669361E-2,4.1663519182754703E-2,3.1838230455275146E-2,2.7358560979281583E-2,0.21068012219477822,0.20825803332193743,0.20902395014401878,0.20689089285515549,0.16250639640056644,0.10532802309923105,8.1781501080986391E-2,0.24478973693445696,0.23981312163144275,0.23233278843632116,0.20317879605429776,0.17208112584249341,7.2451125744998748E-2,8.9343141294387335E-2,8.0148542711113602E-2,8.1787720733274449E-2,0.25159155970559516,0.24758756725335235,0.24283385652278691,0.23132502288218781,0.20264887191791156,0.15528080922308918,0.14434909832252124,null,4183.5673829999996,9840.3779300000006,5147.0776370000003,6959.6132809999999,4727.9458009999998,13635.329100000001,16969.658202999999,13375.964844,16253.111328000001,8676.2587889999995,8968.3320309999999,22141.556640999999,15579.66797,8166.5122069999998,11872.925781,15116.589844,17317.314450000002,12255.641602,15182.277344,9185.0224610000005,8.9343141294387335E-2,16307.761719]
[721,0.24746574594895632,0.24121579577578786,null,0.20452466651855677,0.14971009230609134,null,null,4.0411612866936411E-2,2.9553638909215165E-2,2.3572358023823656E-2,1.3062477783959799E-2,7.5521662068802481E-2,7.4897001706429836E-2,6.0114891474424274E-2,4.1162276476631322E-2,3.0936070429799928E-2,2.6483818895480942E-2,0.2046659812284955,0.20183925015564338,0.20280486897317873,0.20322732412426145,0.15736847918724392,0.10237742677152535,7.8975996815026039E-2,0.23824550523499419,0.23309455974373997,0.2224933757215708,0.19768109742516957,0.16642351317284226,7.0208768735451774E-2,8.6868580922848451E-2,7.8044869957091534E-2,7.9032187272423379E-2,0.24454121147791533,0.24161122152968642,0.23720797758829176,0.22538042198121649,0.19821954933209077,0.15201415485684744,0.14061031341411329,null,4050.0529790000001,9547.6337889999995,4988.8149409999996,6760.0737300000001,4575.2158200000003,13230.10938,16467.984375,12984.201171999999,15681.932617,8390.2666019999997,8689.5478519999997,21541.048827999999,15130.08203,7901.9072269999997,11513.784180000001,14671.939453000001,16810.88867,11894.351562,14727.702148,8913.4462889999995,8.6868580922848451E-2,15730.329102]
[722,0.23959442588215094,0.23494240956075216,null,0.19804758934735339,0.14515682263336932,null,null,3.9183304164404381E-2,2.8665856584698633E-2,2.3230511400289588E-2,1.2680687504049199E-2,7.2999095050160404E-2,7.2347029912227204E-2,5.8850597215794567E-2,4.0130881516269853E-2,3.0298101434335405E-2,2.5746793612414463E-2,0.19909548191128443,0.19647364773464246,0.19734505619635995,0.19776504037985293,0.15242737754094357,9.9938820482596225E-2,7.6783231537555091E-2,0.23202280383546039,0.22613836696506262,0.21570643281127067,0.19166116931550312,0.1617502034652204,6.8738659119564005E-2,8.3958836612507942E-2,7.5050587990666107E-2,7.9433644807804515E-2,0.23860531325927745,0.23490987673325056,0.23187437926243962,0.21905780603509126,0.19261489306196633,0.14846331674118865,0.13738668720921443,null,3933.8093260000001,9269.2167969999991,4835.6669920000004,6571.2783200000003,4431.3916019999997,12857.273440000001,15952.405273,12610.255859000001,15235.763671999999,8138.1796880000002,8434.0185550000006,20977.160156000002,14706.02441,7654.9140619999998,11193.123046999999,14257.351562,16326.24512,11560.754883,14318.770508,8656.2773440000001,8.3958836612507942E-2,15283.327148]
[723,0.23140564449558376,0.22870375777841009,null,0.19122549687121293,0.13984130812673973,null,null,3.79753190478598E-2,2.7875638863663926E-2,2.2484991010326836E-2,1.2185288555924399E-2,7.1142368370553169E-2,7.1346859590587286E-2,5.6787258070306247E-2,3.8826218388678432E-2,2.8886205319761368E-2,2.5313914292135271E-2,0.19301604165240768,0.19216066733271814,0.19200762021589379,0.19465110365188959,0.1480840443011934,9.7257880613680459E-2,7.4284351774010243E-2,0.22568781489022186,0.21988055745557794,0.21165133988257764,0.18602112017388242,0.15738014364732783,6.685281398728328E-2,8.0702190347503922E-2,7.3149412126085889E-2,7.5658519047344358E-2,0.23103679677943448,0.2285862607643866,0.22463623742236938,0.21234568125081035,0.18743163464403001,0.14400916647324613,0.13251502843166005,null,3820.2285160000001,9004.5390619999998,4699.8891599999997,6389.2246089999999,4295.7509769999997,12498.545899999999,15518.991211,12263.791015999999,14813.881836,7888.4091799999997,8191.375,20436.203125,14296.26953,7417.3115230000003,10885.973633,13855.772461,15772.045899999999,11228.314453000001,13920.010742,8404.0859380000002,8.0702190347503922E-2,14851.716796999999]
[724,0.22416743510892981,0.22258525455649741,null,0.18429757795714374,0.13632987139994152,null,null,3.6850513217256894E-2,2.7365228612018681E-2,2.191236018330538E-2,1.1870760820644999E-2,6.9067207028262481E-2,6.8768156779919931E-2,5.4117259037560421E-2,3.7058180349961452E-2,2.7381373485417596E-2,2.475603928742158E-2,0.1868364033232402,0.18622543003811318,0.18651029590984394,0.1854224803521585,0.14391746172848713,9.398207684585505E-2,7.1977797943960753E-2,0.21859743580130869,0.21387820148682854,0.20373810166818715,0.18077576818372387,0.15300069386282708,6.4584413257960757E-2,7.957424518074005E-2,7.0216334441631459E-2,7.535355308751987E-2,0.22572249283402601,0.22189129690621304,0.21823386185631133,0.20964062706908881,0.18296810597950652,0.13986597330811862,0.12933446430281928,null,3708.1464839999999,8748.5966800000006,4559.5678710000002,6215.6391599999997,4170.2680659999996,12142.856449999999,15102.047852,11922.133789,14401.271484000001,7650.7299800000001,7954.4624020000001,19933.523438,13910.67188,7189.1235349999997,10581.647461,13473.905273,15349.215819999999,10914.692383,13535.917969,8169.1040039999998,7.957424518074005E-2,14434.338867]
[725,0.21601459941766984,0.21666199283526605,null,0.17869468723025911,0.13263340913326735,null,null,3.6213779299560329E-2,2.6660924212921908E-2,2.1232731289005494E-2,1.15134081746483E-2,6.6515568020510091E-2,6.5659080743642545E-2,5.2360890415022149E-2,3.5651967832219141E-2,2.6477894591638487E-2,2.4000003345184377E-2,0.18130398061362885,0.18056351066864842,0.18087397408134023,0.18042808724802259,0.14031150756373797,9.1235574424449142E-2,7.046000554089836E-2,0.21171218079262719,0.207211252735062,0.19761978245343956,0.17571801132131878,0.14860893476063469,6.2915660834210754E-2,7.7484068036427045E-2,6.8797476543457373E-2,7.2442437564467874E-2,0.21953490720614788,0.21625006625105106,0.21308488077102275,0.20239843329161938,0.17922453805279417,0.1360102945060942,0.12630069998365528,null,3597.1184079999998,8491.7080079999996,4416.2470700000003,6049.294922,4036.8947750000002,11810.927729999999,14689.713867,11590.176758,13997.502930000001,7420.6840819999998,7718.3447269999997,19422.511718999998,13515.47949,6964.2778319999998,10285.077148,13091.000977,14809.882809999999,10611.131836,13157.932617,7934.4047849999997,7.7484068036427045E-2,14022.411133]
[726,0.20829341892708231,0.2107758141848412,null,0.17227450973192257,0.12856283035947988,null,null,3.4978004910196342E-2,2.5590843370410659E-2,2.0480943587887365E-2,1.12137060449948E-2,6.4221829336440633E-2,6.4253624481584337E-2,5.0816064704686623E-2,3.5062750270936374E-2,2.7021473872735003E-2,2.2908550912832573E-2,0.17737125407237689,0.17650357265045846,0.17534038229799687,0.17833737354651188,0.13637067988708254,8.7753572800458812E-2,6.7654385219584418E-2,0.20516272829203477,0.20087206758628515,0.1911781356528757,0.1709818005458808,0.14424932131982382,6.1121030878246441E-2,7.3535948903833068E-2,6.5837113994729857E-2,6.9665974913930978E-2,0.21361682708263499,0.2105859004773194,0.20812334305443253,0.1983703030947897,0.17220176871882578,0.13135961274255231,0.12358084557214184,null,3488.342529,8244.484375,4274.4301759999998,5875.4340819999998,3905.211182,11471.285159999999,14276.200194999999,11263.986328000001,13595.382812,7178.0864259999998,7492.6840819999998,18889.240234000001,13120.575199999999,6746.294922,9983.1132809999999,12707.1875,14338.07813,10305.560546999999,12789.295898,7698.794922,7.3535948903833068E-2,13625.254883]
[727,0.20297206151730998,0.20459683728629427,null,0.16665736491434369,0.12389374180908673,null,null,3.4262396107942947E-2,2.5010073944627908E-2,2.0165050330507216E-2,1.08779758175661E-2,6.2140989549479372E-2,6.3184759585368108E-2,4.9357807060999535E-2,3.4531603622309219E-2,2.5190201157181548E-2,2.2530418069759802E-2,0.17100953428631524,0.17177095643962551,0.16934339819718089,0.17163596941350517,0.13211510313761068,8.5545257257132787E-2,6.6177912461849661E-2,0.19911077630892862,0.19519625973158958,0.18540584756389927,0.16608964642738289,0.14017569116495926,5.8630560296723956E-2,7.2424502383127379E-2,6.424474115013723E-2,6.8163710951158793E-2,0.20700485315530576,0.20355115996368867,0.20208467961383303,0.19249870758436224,0.16729790927614135,0.12759772881250678,0.12029948964848991,null,3381.9028320000002,8003.0629879999997,4140.779297,5718.21875,3780.467529,11136.856449999999,13881.285156,10944.248046999999,13208.263671999999,6950.8632809999999,7264.7924800000001,18388.267577999999,12749.92578,6539.4492190000001,9693.5429690000001,12349.476562,13898.66797,10000.961914,12435.971680000001,7472.4384769999997,7.2424502383127379E-2,13244.136719]
[728,0.19728978859320945,0.19599613125767465,null,0.16007538494766746,0.12059015519665443,null,null,3.3931017080270444E-2,2.4420924007652306E-2,1.9640881723967864E-2,1.04862664748001E-2,6.041181832808052E-2,6.0719691340923879E-2,4.8159968381273281E-2,3.3333335229168017E-2,2.4732555006283116E-2,2.1623428733849585E-2,0.16562467962022348,0.1647135960240278,0.1646185119498558,0.16554122128302162,0.12811408963478157,8.349736040268245E-2,6.3939836899111036E-2,0.19326883350397586,0.19059479896034315,0.17909132482729129,0.16110909093920678,0.13613638246548482,5.6978708332735217E-2,7.0301714877728627E-2,6.1626981670343639E-2,6.5803011695134223E-2,0.20045519415375032,0.19903190322351205,0.19612976266765633,0.18549721509900291,0.16126902135338428,0.12497183182995056,0.1163880759216611,null,3262.6308589999999,7749.3891599999997,3997.2265619999998,5543.0507809999999,3649.9533689999998,10781.86816,13463.486328000001,10602.705078000001,12807.079102,6711.25,7028.6372069999998,17873.0625,12351.884770000001,6313.4379879999997,9386.0175780000009,11969.270508,13274.71191,9680.4277340000008,12055.394531,7240.4682620000003,7.0301714877728627E-2,12833.247069999999]
[729,0.19140311209210864,0.18867208390811072,null,0.15417942958244224,0.11676568618357296,null,null,3.2720455909568867E-2,2.3563279118113449E-2,1.9161756107993186E-2,1.00815060145457E-2,5.8727243068297325E-2,5.790389968096564E-2,4.6270300395752986E-2,3.2494597900424922E-2,2.4599676811415051E-2,2.0831505784926891E-2,0.16159901503328009,0.15946208742815199,0.16015320949830464,0.16083516629002109,0.12383655112057125,8.0898572772004268E-2,6.1590929982505691E-2,0.18781567950292929,0.18486131713799542,0.17395691933294122,0.1565384850415279,0.13178218879575679,5.5067267543751457E-2,6.781959156213925E-2,5.9826184824291563E-2,5.9698115033768685E-2,0.19538173481387219,0.19261680766084974,0.18889245478596875,0.17994482365247413,0.15749112569794141,0.12118106293196004,0.11191362785448904,null,3148.0830080000001,7504.90625,3862.803711,5375.4853519999997,3521.5532229999999,10455.155269999999,13066.221680000001,10262.283203000001,12421.791992,6486.6308589999999,6803.1313479999999,17376.414062,11975.996090000001,6102.3178710000002,9092.3447269999997,11611.160156,12865.933590000001,9381.2539059999999,11693.526367,7015.0166019999997,6.781959156213925E-2,12442.002930000001]
[730,0.18586313247586544,0.18311286282859907,null,0.15017618686940454,0.11330225943999589,null,null,3.1285457676473595E-2,2.3122145476123498E-2,1.8718554742606461E-2,9.8232026814145997E-3,5.6654563396945405E-2,5.5686521121405944E-2,4.5120634355195893E-2,3.168326744015626E-2,2.2879560878283613E-2,2.0155282763926214E-2,0.15641287258551431,0.15641079601784946,0.15519900674380196,0.15459135111530689,0.1204136681791295,7.8143929889421718E-2,6.0154000400314267E-2,0.18298736085564579,0.17875124622154917,0.17084435955633101,0.15199538367173734,0.12757577000886081,5.398232381667073E-2,6.6461358890551631E-2,5.8226801215672065E-2,5.8518216158177754E-2,0.18990857306175613,0.18715440759309959,0.18511049628481482,0.1754089327855532,0.15371546914564344,0.11679565612186951,0.10812054764260867,null,3040.8857419999999,7272.7451170000004,3734.3522950000001,5214.1196289999998,3406.4108890000002,10141.839840000001,12691.871094,9958.5068360000005,12057.507812,6272.0478519999997,6583.8994140000004,16884.109375,11624.56445,5901.2573240000002,8822.6503909999992,11271.266602,12442.25488,9095.6835940000001,11350.905273,6797.2075199999999,6.6461358890551631E-2,12088.102539]
[731,0.18115087077509531,0.1766200935527836,null,0.14596344980489126,0.1108128823370373,null,null,3.0458192325418462E-2,2.2510147352771116E-2,1.8153191714812097E-2,9.5908576111982807E-3,5.4529762827227393E-2,5.3943194803798833E-2,4.414979305780576E-2,2.9531235189152693E-2,2.3362497550396627E-2,1.9594321932962955E-2,0.15099618941059764,0.15035223171353751,0.15068409379387263,0.15230531227310778,0.11738595358115569,7.5706036314789921E-2,5.874123364104411E-2,0.17762331201696405,0.17382023626556575,0.16670743619804146,0.14655581099413803,0.12388494281375385,5.2992028365456766E-2,6.4092173431993457E-2,5.675843809539699E-2,5.9448476537852762E-2,0.18394742142939033,0.18065612109436746,0.17874316145247227,0.17052086765254384,0.14727719149959564,0.1138269667938494,0.10636381561454097,null,2946.9008789999998,7059.8876950000003,3610.78125,5063.294922,3297.4396969999998,9848.6289059999999,12331.705078000001,9659.5615230000003,11703.684569999999,6070.0073240000002,6376.2065430000002,16426.90625,11288.436519999999,5709.5981449999999,8565.9873050000006,10947.535156,12105.958979999999,8819.7519530000009,11020.185546999999,6582.7099609999996,6.4092173431993457E-2,11737.581055000001]
[732,0.17740998684584161,0.1708521941919984,null,0.140596597556397,0.10691284850986371,null,null,2.9818092748666945E-2,2.1804098238502038E-2,1.7563000119868777E-2,9.2031241270094308E-3,5.2469559673136511E-2,5.2852878188055348E-2,4.2317908556800524E-2,2.8478711689338871E-2,2.2234041739226079E-2,1.900395494325741E-2,0.14675527202945682,0.1445032564500148,0.14618814897721422,0.1492323868479008,0.11312575251114063,7.3773533052945831E-2,5.7054630943401088E-2,0.17171386452134491,0.1688675371471757,0.15947269029053704,0.14157118271196001,0.12055965893559026,5.0178401021735569E-2,6.2319915267397899E-2,5.4409987576340559E-2,5.2364855494436223E-2,0.17995208920290803,0.17594653063273899,0.17322377259712068,0.16443599584921614,0.14430286970606765,0.11015410105095352,0.10248230006041982,null,2844.3544919999999,6838.7758789999998,3498.9052729999999,4912.4233400000003,3187.2338869999999,9539.2158199999994,11960.058594,9351.8037110000005,11333.022461,5866.2041019999997,6163.2348629999997,15969.001953000001,10944.43555,5507.2807620000003,8300.7412110000005,10616.500977,11766.4043,8536.9765619999998,10675.475586,6367.8330079999996,6.2319915267397899E-2,11362.311523]
[733,0.17035161332623475,0.16541898533327837,null,0.13528005275753949,0.10375224353000627,null,null,2.9196850062861483E-2,2.0789388343714393E-2,1.6754707958164451E-2,8.8694302567539803E-3,5.0621336944281906E-2,5.150377958456246E-2,4.0483434135425649E-2,2.8254850769907507E-2,2.2158038365552871E-2,1.8424515976934695E-2,0.14208117974576301,0.14106647219688215,0.14137976650016068,0.14257536878750818,0.10929734883337508,7.1644736849960061E-2,5.5274280738662716E-2,0.1661453332008932,0.16303382675148206,0.15358263856264917,0.1368319708215727,0.11651912647480456,4.9155039655581545E-2,6.0477550395521711E-2,5.1910487519002117E-2,5.8959015772674525E-2,0.17505680856784672,0.17268718623312124,0.16896738025138558,0.16003878992868317,0.14005683935957589,0.10719802116727667,9.9550161452811634E-2,null,2746.5234380000002,6623.1625979999999,3389.8059079999998,4758.2773440000001,3074.7260740000002,9244.6679690000001,11601.677734000001,9056.4482420000004,10981.273438,5661.2119140000004,5959.9628910000001,15517.382812,10602.47559,5320.1923829999996,8046.5673829999996,10284.545898,11374.025390000001,8267.1259769999997,10351.416992,6162.9248049999997,6.0477550395521711E-2,11010.008789]
[734,0.16401284428250085,0.16115992541283972,null,0.13131952372897684,0.10071994356893299,null,null,2.8274669305797324E-2,2.0794518664033156E-2,1.6302069269850852E-2,8.6002989568473402E-3,4.9768628815810151E-2,5.0115246253454288E-2,3.9489590797248959E-2,2.7593136017293147E-2,2.0643300353435857E-2,1.7971748633125371E-2,0.13763955453740259,0.13828479697770488,0.13696485976096917,0.14067513766926268,0.10616272482710572,6.964267650135654E-2,5.3251188531524704E-2,0.16129937941558115,0.1582296514241705,0.149515058320044,0.13274687348813546,0.11269832243004056,4.7139753425375776E-2,5.7733132854958749E-2,5.0284868904868274E-2,5.568184237268467E-2,0.16915682055860667,0.16573572913635121,0.16391477192537207,0.15639933900026107,0.13517153883321548,0.10365332626011403,9.6772957063949741E-2,null,2657.913818,6424.0898440000001,3279.7929690000001,4614.4487300000001,2969.2714839999999,8972.3984380000002,11267.490234000001,8783.0458980000003,10654.407227,5469.8989259999998,5768.1196289999998,15082.895508,10297.32813,5146.7666019999997,7807.7827150000003,9980.9091800000006,11184.65625,8021.8852539999998,10048.289062,5969.4677730000003,5.7733132854958749E-2,10682.896484000001]
[735,0.15946154737305199,0.15699717608112956,null,0.1285646521363063,9.7335380055761561E-2,null,null,2.7313389992102338E-2,2.0076569338837433E-2,1.5836726940389848E-2,8.3040010825129792E-3,4.7990327049377418E-2,4.8583972145907248E-2,3.8182891832463789E-2,2.6570085519802975E-2,2.0616944256551337E-2,1.7184315210927337E-2,0.13432102032855858,0.13578141330469895,0.13275322758205788,0.13412772090593569,0.10292010488826857,6.8594937882833051E-2,5.1487327630529017E-2,0.15681672727121992,0.15346801256575726,0.14725593550642305,0.12906462272400288,0.10901854233588755,4.6379621321839239E-2,5.669207973878624E-2,4.9249277216354748E-2,4.9061839174800746E-2,0.16434588949889584,0.16088007717115807,0.15872554313912976,0.15245939639990083,0.1318435063178158,0.10034857821581049,9.3795273408744481E-2,null,2559.7380370000001,6211.3813479999999,3160.7939449999999,4461.080078,2864.564453,8676.4072269999997,10912.973633,8497.8769530000009,10310.5,5267.8208009999998,5563.4384769999997,14646.379883,9969.984375,4954.2431640000004,7546.6733400000003,9660.3837889999995,10836.030269999999,7761.515625,9723.5302730000003,5762.1376950000003,5.669207973878624E-2,10351.862305000001]
[736,0.15380187677103932,0.15117410739856693,null,0.12416828414281454,9.3519766422789974E-2,null,null,2.650051681759634E-2,1.9381816459594609E-2,1.5718742966841E-2,8.0620004380561293E-3,4.6341189612019877E-2,4.6926709607679917E-2,3.6661483827610183E-2,2.5523873587307084E-2,1.8946957444656468E-2,1.6454251735105337E-2,0.13053650477559395,0.13056262280895278,0.12836941339330288,0.13248681396834633,9.9820716523942005E-2,6.5287215828767689E-2,4.9987060935358277E-2,0.15242790354075339,0.14876972853787482,0.14262038103272173,0.12513113167363313,0.10517904549378931,4.4247141676377208E-2,5.5726089211000647E-2,4.6964258527267447E-2,5.2508605585638649E-2,0.16055875655207652,0.15605041132592562,0.15524765048645811,0.14671534844225931,0.12746591857467765,9.7358800047703462E-2,9.1156684196269058E-2,null,2471.9160160000001,6014.2910160000001,3055.142578,4318.7192379999997,2759.3334960000002,8403.8554690000001,10585.163086,8242.3251949999994,9990.078125,5082.8818359999996,5389.3227539999998,14238.512694999999,9654.7177730000003,4777.7690430000002,7315.9614259999998,9360.2011719999991,10518.19434,7522.4252930000002,9424.7119139999995,5576.8676759999998,5.5726089211000647E-2,10026.504883]
[737,0.14658388969374994,0.14599857895958071,null,0.11918051702885728,8.9291410079722175E-2,null,null,2.5599434958413547E-2,1.9182222320490487E-2,1.5290727472048236E-2,7.8515789304481696E-3,4.4824776898145506E-2,4.5458118067759332E-2,3.547138320568053E-2,2.4785924618024799E-2,1.8740931598909969E-2,1.5770503501006197E-2,0.1257338948008159,0.1268988166204762,0.1241521535099941,0.12594404695411293,9.6816284531542424E-2,6.1719102142264379E-2,4.8342058826296441E-2,0.14773609250737918,0.14450666122252576,0.13683116435463877,0.12097004956953995,0.10155108861006798,4.3504003390468775E-2,5.3532689925647504E-2,4.6418889246746461E-2,4.9470583328282219E-2,0.15553214777720109,0.1519965025210544,0.15076893494684329,0.14216126470769605,0.12275932647440432,9.4650615821803591E-2,8.791401662446989E-2,null,2378.5969239999999,5808.9711909999996,2948.0029300000001,4169.2514650000003,2652.8481449999999,8119.6596680000002,10248.251953000001,7971.9428710000002,9667.0957030000009,4894.0590819999998,5206.28125,13816.939453000001,9352.0810550000006,4595.6977539999998,7074.9316410000001,9060.1289059999999,10085.93066,7279.9028319999998,9115.4794920000004,5397.4038090000004,5.3532689925647504E-2,9702.1943360000005]
[738,0.14062705693709682,0.14077847407141236,null,0.11569612927062768,8.6366644676549642E-2,null,null,2.5062620598792554E-2,1.8677342436706851E-2,1.5073551844163452E-2,7.5230693232502203E-3,4.3055763215506124E-2,4.4141069434808812E-2,3.4752079982116289E-2,2.3996356494604881E-2,1.8276738498232845E-2,1.5716777281872391E-2,0.1221095938229582,0.12330315869365109,0.12068444266952785,0.12200399344529909,9.4024626203721165E-2,6.1137836481462246E-2,4.6913908161166924E-2,0.14331776819421385,0.14093626250348601,0.13137622517994127,0.11776840833424128,9.852352372131444E-2,4.2075435008783579E-2,5.1591162002826006E-2,4.41000472004167E-2,4.6508491948795631E-2,0.15168361111227671,0.14752041873868743,0.14595900162252548,0.13808028869963487,0.11916926962215479,9.1208625112878014E-2,8.7056201181155909E-2,null,2287.748779,5604.3530270000001,2832.8249510000001,4018.21875,2552.280518,7850.5444340000004,9919.4892579999996,7706.3588870000003,9354.0820309999999,4706.0883789999998,5024.6044920000004,13404.229492,9042.1669920000004,4421.5629879999997,6836.1357420000004,8768.125,9658.765625,7031.7192379999997,8821.9462889999995,5210.4301759999998,5.1591162002826006E-2,9389.4697269999997]
[739,0.13697679726589734,0.13624492573859517,null,0.1121734616064229,8.2794439072364834E-2,null,null,2.4513839491363033E-2,1.7744405695179662E-2,1.4731556463052672E-2,7.2787731345780203E-3,4.1737183212432451E-2,4.2233278321197477E-2,3.3887929882472176E-2,2.3107118007575259E-2,1.7778956274786015E-2,1.5357477954593758E-2,0.11859615603892791,0.1193190984968923,0.1168632103614389,0.11876523618592202,9.1120832596977674E-2,5.8878901854626103E-2,4.5391602298002265E-2,0.13876211956353485,0.13623211365604782,0.1271276246418184,0.11378138721237477,9.5684293984779414E-2,4.080588880105239E-2,4.947032341578797E-2,4.3147935658425264E-2,4.4571571261926499E-2,0.14558984907530678,0.14337347006631077,0.14035932082991251,0.13420960512985886,0.11764945111418015,8.8458219921243864E-2,8.3127035603351884E-2,null,2195.6958009999998,5421.8842770000001,2722.3459469999998,3876.092529,2466.5817870000001,7601.1303710000002,9620.7441409999992,7462.4301759999998,9069.2021480000003,4534.9682620000003,4855.4462890000004,13013.604492,8753.3623050000006,4261.3813479999999,6608.6210940000001,8493.4257809999999,9292.4101559999999,6805.5976559999999,8540.9003909999992,5036.6787109999996,4.947032341578797E-2,9099.2099610000005]
[740,0.13283178935233303,0.13147831788074443,null,0.10827091153283101,7.9597023287481083E-2,null,null,2.3934483653248177E-2,1.7481068844310596E-2,1.4156261075752855E-2,7.02374147242867E-3,4.0524976480781565E-2,4.0933184288604686E-2,3.2970347341407885E-2,2.2973290656550759E-2,1.7304188215577672E-2,1.515321171120927E-2,0.11508513138518046,0.11535128685648725,0.11320992837039828,0.11395760240440393,8.8086872614113881E-2,5.6552793561444173E-2,4.432200015425531E-2,0.13462685035626012,0.13137976186343317,0.12470033666807144,0.10995895639891279,9.273038263585566E-2,3.8906323532642895E-2,4.7797966801426756E-2,4.1368185870211259E-2,4.6751999261549972E-2,0.14090665093366642,0.1395431680940098,0.13713595030304218,0.13067691939011417,0.113305209542842,8.5886912613977018E-2,8.0836589316547788E-2,null,2107.9528810000002,5231.9418949999999,2615.5334469999998,3738.4826659999999,2374.5053710000002,7336.0717770000001,9305.8349610000005,7207.6010740000002,8764.7607420000004,4359.7133789999998,4680.8349609999996,12625.535156,8457.65625,4096.6958009999998,6373.0288090000004,8208.2646480000003,8902.8916019999997,6570.8681640000004,8255.90625,4858.4257809999999,4.7797966801426756E-2,8799.5722659999992]
[741,0.12853382423742515,0.1277360247366863,null,0.10362836387141468,7.6297323118037857E-2,null,null,2.3265694585529285E-2,1.6924516762936468E-2,1.3519399303617813E-2,6.8905020265385402E-3,3.9013609333019311E-2,3.9935686249543779E-2,3.161943954188591E-2,2.2623826659836779E-2,1.677855224596431E-2,1.472068597200156E-2,0.1119822648034237,0.1117094488530055,0.10967408890549231,0.10963570799967952,8.50798753392705E-2,5.5362801866874388E-2,4.3017610501006963E-2,0.13095849714126065,0.1265800562404211,0.1201662483823247,0.10651119277326879,9.022328007271195E-2,3.7777968776622352E-2,4.6071147323646644E-2,3.9896099860969321E-2,4.4031546363878356E-2,0.13798565777190383,0.13552753271825679,0.13396222757210038,0.12593470344031282,0.11011365436201498,8.3906018651707909E-2,7.764656014675661E-2,null,2028.9329829999999,5057.9135740000002,2516.2849120000001,3608.7329100000002,2279.0573730000001,7087.5219729999999,9002.2011719999991,6973.861328,8474.4648440000001,4197.1040039999998,4526.232422,12236.217773,8183.1206050000001,3942.5158689999998,6167.263672,7939.6655270000001,8434.3857420000004,6344.1704099999997,7990.1152339999999,4691.3994140000004,4.6071147323646644E-2,8502.1953119999998]
[742,0.12429428424617363,0.12374610885559624,null,9.9652161157670949E-2,7.3860336804015214E-2,null,null,2.2396404461109812E-2,1.645536479075025E-2,1.2994454449514362E-2,6.5948898719904898E-3,3.7893482046353247E-2,3.8220737676295941E-2,3.0343276775323186E-2,2.1491692296889249E-2,1.5381693299816658E-2,1.4289824643007109E-2,0.10882430414525837,0.10790336524245207,0.10681385941712884,0.10690478692934713,8.2301283859028698E-2,5.3410599683436234E-2,4.1330807680745693E-2,0.12728025182009631,0.12220999831860289,0.11706183389065081,0.10316598423591913,8.7471343623695227E-2,3.7130352537712526E-2,4.460593013082334E-2,3.9220115015030067E-2,4.3213162876199536E-2,0.13310627234815478,0.13037211415807085,0.12993373753265167,0.12274139377199703,0.10553555372413537,8.1721454064398166E-2,7.6062494024729518E-2,null,1947.6611330000001,4881.3378910000001,2415.5656739999999,3482.8542480000001,2187.9038089999999,6858.6484380000002,8724.4638670000004,6733.7138670000004,8199.0566409999992,4037.8759770000001,4368.7138670000004,11867.864258,7914.6801759999998,3790.08374,5958.0439450000003,7675.9497069999998,8115.2817379999997,6126.8041990000002,7730.4921880000002,4526.3603519999997,4.460593013082334E-2,8216.6201170000004]
[743,0.12079606051353105,0.11995883188193457,null,9.5500874194608634E-2,7.0794622516858641E-2,null,null,2.1638121068161022E-2,1.6182572847178105E-2,1.2979018212590969E-2,6.4254936160124902E-3,3.6635902770624007E-2,3.709637598894279E-2,2.903302003591934E-2,2.0558954804418238E-2,1.4817767568473913E-2,1.3746249454024691E-2,0.10505247368361602,0.10436253075390155,0.10411137670511116,0.10236771352411364,8.0070436867143407E-2,5.1777513966704068E-2,4.0134624744257337E-2,0.12269406737490829,0.11909951894550659,0.11385594983319022,9.9827508730231676E-2,8.4686319298003021E-2,3.567974584486578E-2,4.3203624973000732E-2,3.7767216986411757E-2,4.1396449550794287E-2,0.12926328630436879,0.12648920994241922,0.12590765523532182,0.11888929943524086,0.10296214061362552,7.7775205639810843E-2,7.38236787298652E-2,null,1866.6876219999999,4710.4775390000004,2317.1804200000001,3354.9509280000002,2098.6213379999999,6629.0224609999996,8441.8681639999995,6501.5395509999998,7920.25,3876.9758299999999,4206.9487300000001,11495.610352,7643.0395509999998,3638.6423340000001,5747.7128910000001,7412.423828,7842.2705079999996,5906.6523440000001,7467.8496089999999,4355.5522460000002,4.3203624973000732E-2,7944.7866210000002]
[744,0.11731684609634704,0.11595301864250719,null,9.2016924003629055E-2,6.7922588835210129E-2,null,null,2.1357519186129773E-2,1.5311558249173461E-2,1.2963716182729393E-2,6.19089386127019E-3,3.5069866517336921E-2,3.5848515965190418E-2,2.7998279701403294E-2,1.9727930947772067E-2,1.5618097027480385E-2,1.3141377509047144E-2,0.10138940025351548,0.1022512157832908,0.10155700038846527,0.10164498308084353,7.7330103306217493E-2,5.0413868619435365E-2,3.8813209845001244E-2,0.11844124748857161,0.11619201187512243,0.10985570037179934,9.6697051442707099E-2,8.2041294064846212E-2,3.4658420746003928E-2,4.2263673959954499E-2,3.6586332917920072E-2,4.1144702364926046E-2,0.12447045811002341,0.12437016605971908,0.12152411803971487,0.11523313960349298,9.9780018790386255E-2,7.7521485853639424E-2,7.2252407671935887E-2,null,1798.4077150000001,4544.4360349999997,2220.2253420000002,3235.6721189999998,2008.059448,6411.7470700000003,8177.9487300000001,6283.8676759999998,7664.9233400000003,3728.6501459999999,4052.6516109999998,11154.399414,7397.9941410000001,3504.0654300000001,5551.580078,7158.2402339999999,7545.5512699999999,5708.1040039999998,7219.0659180000002,4205.9418949999999,4.2263673959954499E-2,7689.6176759999998]
[745,0.11376263093230372,0.1122473212833732,null,8.9350484166748317E-2,6.5296375125058745E-2,null,null,2.076415838126254E-2,1.5585670411590046E-2,1.2517709843467778E-2,6.0164943703891298E-3,3.4116993180441417E-2,3.5463316024733203E-2,2.7484520931626046E-2,1.8809844353222662E-2,1.3775047393074219E-2,1.2714428590554288E-2,9.8102075232840286E-2,9.8988681915406801E-2,9.8226533183039463E-2,9.9381072777852728E-2,7.4753127421000334E-2,4.8705501991775729E-2,3.6883529795513799E-2,0.11493908567510103,0.112881486076819,0.10701677616904329,9.3627301682823169E-2,7.9459574783203882E-2,3.3545747171226201E-2,4.0818209215361709E-2,3.5638983632747347E-2,3.8190590057895664E-2,0.12170771757435543,0.11946191061465379,0.11876449171490837,0.11148860029483922,9.7524483754043489E-2,7.4399107193190331E-2,7.0089593616775553E-2,null,1730.7022710000001,4392.0722660000001,2145.0910640000002,3121.0876459999999,1923.6141359999999,6197.6098629999997,7921.0278319999998,6080.8022460000002,7409.6049800000001,3596.2258299999999,3907.3632809999999,10830.400390999999,7159.8388670000004,3372.5361330000001,5368.4311520000001,6921.830078,7309.28125,5520.3837890000004,6988.1459960000002,4068.7541500000002,4.0818209215361709E-2,7443.5991210000002]
[746,0.11019262332534482,0.10883034804093437,null,8.4961739130808789E-2,6.3823487835205833E-2,null,null,1.9980601503001526E-2,1.4592313143055759E-2,1.2195644358029986E-2,5.8566951982134399E-3,3.3464407376622742E-2,3.4299525956862809E-2,2.7228826265797319E-2,1.8165699578269336E-2,1.4897445263843035E-2,1.2429662767161344E-2,9.5413045534170807E-2,9.4661877626380717E-2,9.4242658433970103E-2,9.5503606562086368E-2,7.3031974643329597E-2,4.7132813632293699E-2,3.566435264076058E-2,0.11157384823673816,0.10944703748593893,0.10538351623961831,9.0816754593736462E-2,7.7184225825596073E-2,3.2814103235144658E-2,4.0023152505110744E-2,3.4273720321087289E-2,3.2154004507936151E-2,0.11806648609825983,0.11651234047118775,0.11330168262947839,0.10920937003011905,9.4098087176292464E-2,7.2353733389401806E-2,6.7196533354203961E-2,null,1670.291138,4246.6708980000003,2060.7290039999998,3023.0532229999999,1847.1632079999999,5998.6835940000001,7674.2163090000004,5888.7534180000002,7172.326172,3460.5239259999998,3770.695557,10513.947265999999,6932.8603519999997,3243.5166020000001,5194.5097660000001,6702.3520509999998,7014.3110349999997,5336.5659180000002,6761.748047,3934.6088869999999,4.0023152505110744E-2,7204.6889650000003]
[747,0.10599484852591978,0.10541258389149434,null,8.1807043022239678E-2,6.2461957660656424E-2,null,null,1.9203906607958711E-2,1.4557080787927295E-2,1.1937547511497648E-2,5.6054133905302402E-3,3.259218679088606E-2,3.2643219137358001E-2,2.6307094187881418E-2,1.7813732620568529E-2,1.4071502324570424E-2,1.2249092687964492E-2,9.255991143943848E-2,9.1524733469214761E-2,9.0621589991452076E-2,9.3135634175218626E-2,7.109833201049863E-2,4.5408938813489119E-2,3.5160329461794038E-2,0.10866388733892796,0.1058534750262662,0.10251247844766292,8.7934661593035354E-2,7.5051828461641601E-2,3.2605728630185279E-2,3.8906722604789799E-2,3.3354744224675471E-2,3.456517212808273E-2,0.11572359581499153,0.11296884417130776,0.11260638756601669,0.10639901177952288,9.1368889124891384E-2,7.0828986875496186E-2,6.6083018461572204E-2,null,1609.106812,4111.0625,1991.209595,2928.8237300000001,1782.778687,5812.9902339999999,7448.4497069999998,5707.3681640000004,6955.1210940000001,3339.1442870000001,3639.7661130000001,10227.846680000001,6733.0737300000001,3125.84375,5039.2202150000003,6508.0117190000001,6845.5522460000002,5173.080078,6549.5483400000003,3807.3583979999999,3.8906722604789799E-2,6991.8500979999999]
[748,0.1024782604183733,0.10240911669766968,null,7.9463702532137595E-2,6.014321075491378E-2,null,null,1.8837760760418147E-2,1.4012907648495236E-2,1.138252811635594E-2,5.4711955462329901E-3,3.120145891352669E-2,3.2169598328694156E-2,2.5137155383160206E-2,1.715047830731813E-2,1.3678630469106232E-2,1.2011491970946897E-2,9.0078252358564204E-2,8.9403848553949977E-2,8.7904570081480893E-2,8.8522450607846012E-2,6.8537740209383038E-2,4.4133730326606106E-2,3.5082840430749752E-2,0.10546143280117933,0.1025555569584574,9.8297841333692987E-2,8.540053430823083E-2,7.26962911693666E-2,3.0878204042237681E-2,3.732372204375517E-2,3.224895897905497E-2,3.2840434245870805E-2,0.11278491589518766,0.11047231189331873,0.10845535076338628,0.10338815914085253,8.8231023384820237E-2,6.9395209269361588E-2,6.3532654202360733E-2,null,1548.646606,3982.2036130000001,1916.736206,2832.9094239999999,1721.408081,5626.638672,7222.1284180000002,5529.7695309999999,6742.6166990000002,3225.08374,3521.4582519999999,9951.9599610000005,6541.2036129999997,3014.6491700000001,4883.3515619999998,6319.3491210000002,6706.1464839999999,5012.5361329999996,6343.2773440000001,3682.8820799999999,3.732372204375517E-2,6784.8930659999996]
[749,9.9366617777516417E-2,9.8864733216085576E-2,null,7.7067779417932566E-2,5.7423427457112736E-2,null,null,1.8774483331865214E-2,1.3822126866398644E-2,1.1277091719323272E-2,5.2317984598590104E-3,3.0195998477922384E-2,3.1300014206218772E-2,2.4196590234263602E-2,1.6580521205161288E-2,1.3265073739630068E-2,1.1711767596596152E-2,8.7128604691013758E-2,8.7113069291621284E-2,8.5984128374636634E-2,8.5618125147779556E-2,6.6370457072618877E-2,4.3808882936639156E-2,3.3530067025328535E-2,0.10141393183854977,9.9660340142519038E-2,9.6498768051160283E-2,8.3332155951609477E-2,7.0195015034180033E-2,2.9893932129744775E-2,3.6115184977211293E-2,3.09420579485193E-2,3.5460236535066463E-2,0.1091036486556424,0.10743332100399576,0.10621535985958402,0.10016330264991226,8.5844931272765476E-2,6.7188356472824562E-2,6.2635398775729004E-2,null,1498.0960689999999,3856.1938479999999,1847.530884,2745.9589839999999,1664.810913,5440.1694340000004,7001.421875,5360.5541990000002,6531.3320309999999,3119.2141109999998,3405.5517580000001,9659.9736329999996,6345.3388670000004,2911.429932,4728.3671880000002,6123.8354490000002,6522.7729490000002,4851.564453,6149.7495120000003,3561.7558589999999,3.6115184977211293E-2,6575.1962890000004]
[750,9.5632996685831334E-2,9.5734215292247377E-2,null,7.3647350395092112E-2,5.5686911372913407E-2,null,null,1.8145539095243822E-2,1.3470361091775159E-2,1.1182186866747252E-2,5.1079408033056998E-3,2.9748390965329299E-2,3.0332414947141399E-2,2.3130247975897758E-2,1.6419733593935962E-2,1.162370394272192E-2,1.09716744128888E-2,8.3378610434140785E-2,8.3347473194640281E-2,8.3326496329792901E-2,8.4494582427649276E-2,6.4465105917555554E-2,4.2738855338933152E-2,3.2151703720126719E-2,9.8152335002171409E-2,9.7069272287456473E-2,9.4307817987470066E-2,8.0690984462251272E-2,6.8311490263139027E-2,2.8550435163500865E-2,3.5439826622894882E-2,3.1182341926638532E-2,3.5208112982117498E-2,0.10615377028522884,0.10312651872211319,0.10270974270474303,9.6873284588408437E-2,8.3317614180002983E-2,6.3531823188813008E-2,5.9267154638399787E-2,null,1435.4648440000001,3741.8752439999998,1785.7182620000001,2667.0915530000002,1614.4305420000001,5269.439453,6792.9785160000001,5190.748047,6331.4233400000003,3013.3801269999999,3299.4023440000001,9372.8691409999992,6151.7998049999997,2810.7705080000001,4576.640625,5946.5102539999998,6349.5087890000004,4700.4194340000004,5960.6977539999998,3445.9399410000001,3.5439826622894882E-2,6369.9487300000001]
[751,9.1645775087476872E-2,9.1350972534518987E-2,null,7.1320198897593376E-2,5.3714572748185516E-2,null,null,1.7777811208587492E-2,1.2752179904174496E-2,1.0649741172264677E-2,5.0001849809130404E-3,2.8866987220077123E-2,2.9326071638116707E-2,2.2065823749902513E-2,1.6014756004261374E-2,1.2490412350387418E-2,1.0857421416245586E-2,8.1041464929226578E-2,8.1622151912808305E-2,8.0751698368944816E-2,8.3844857403727366E-2,6.2720213024235597E-2,4.0987104563543195E-2,3.1427289207148941E-2,9.6016064455457392E-2,9.4131848906136947E-2,9.0454457562611806E-2,7.8231435822615797E-2,6.6034269957265343E-2,2.8779720709276375E-2,3.3843436784379212E-2,2.8965117995114746E-2,3.1938422025093997E-2,0.10288594401348933,0.10137632018473997,0.10002936590071179,9.3523094687497949E-2,7.9936708553950658E-2,6.2888659596690932E-2,5.8580455879766485E-2,null,1387.9399410000001,3630.1433109999998,1727.8602289999999,2600.0683589999999,1568.5076899999999,5110.1567379999997,6587.6547849999997,5032.0214839999999,6135.0058589999999,2915.5676269999999,3207.3708499999998,9099.0722659999992,5973.4633789999998,2715.4895019999999,4435.6103519999997,5781.3193359999996,6226.7304690000001,4555.0224609999996,5779.8916019999997,3337.8227539999998,3.3843436784379212E-2,6173.8476559999999]
[752,8.8484290639289587E-2,8.8921007153965698E-2,null,6.8095015034120923E-2,5.1042475572084064E-2,null,null,1.7288425854022536E-2,1.2646161946956478E-2,1.014651172636287E-2,4.8228178643141602E-3,2.7793065505687723E-2,2.8216033791633812E-2,2.1833644681633815E-2,1.5623325645318452E-2,1.0303168896238949E-2,1.0681542321609058E-2,7.9617702518629527E-2,7.9829259804112665E-2,7.8507669873125296E-2,7.8131081826967055E-2,6.0973655924717533E-2,3.939169481087252E-2,3.1003603952963307E-2,9.2842310563507141E-2,9.109769963495315E-2,8.7345691608019027E-2,7.6017698296862293E-2,6.3710224823599046E-2,2.7210126736013526E-2,3.2168119578517423E-2,2.8572326461219575E-2,3.6348196505537861E-2,0.10024860604991978,9.9057276171530886E-2,9.6520871847342538E-2,9.1226077088379973E-2,7.9948508504401689E-2,6.054811284002231E-2,5.603905341418107E-2,null,1344.820068,3515.2219239999999,1669.251953,2529.7700199999999,1514.0491939999999,4953.9184569999998,6388.8520509999998,4883.2143550000001,5948.8818359999996,2825.9628910000001,3121.8901369999999,8832.4697269999997,5805.5908200000003,2625.4345699999999,4299.0541990000002,5609.6552730000003,6171.5810549999997,4417.2998049999997,5610.9370120000003,3229.6047359999998,3.2168119578517423E-2,5985.5864259999998]
[753,8.6053934502165572E-2,8.5829186050943723E-2,null,6.5930215363535341E-2,4.84202932518914E-2,null,null,1.6776701135599714E-2,1.2523184275454445E-2,1.0031009067029384E-2,4.6986853013930002E-3,2.6810414470399287E-2,2.7023564125989063E-2,2.1775117559798905E-2,1.5003853963445246E-2,1.12618879810669E-2,1.0400800977458687E-2,7.7533411006910594E-2,7.5855166226005105E-2,7.5701024303942141E-2,7.840952641217544E-2,5.9126724414078818E-2,3.8076003798118672E-2,3.0385244835172836E-2,8.9597682516644961E-2,8.7408688480783439E-2,8.4609991963033426E-2,7.3610326817351412E-2,6.1898810494283418E-2,2.6310683127346218E-2,3.2067398314361832E-2,2.7155378765642703E-2,3.2492768197377619E-2,9.636530134733845E-2,9.5584654355661755E-2,9.5442343141896424E-2,8.7826437758927858E-2,7.6650543176534927E-2,5.8230961733876922E-2,5.6402989586177586E-2,null,1294.2817379999999,3403.3286130000001,1608.51001,2443.625732,1460.9025879999999,4797.4189450000003,6204.4086909999996,4732.6625979999999,5761.2861329999996,2736.8679200000001,3031.366943,8567.9462889999995,5629.3090819999998,2541.711914,4153.3754879999997,5436.1982420000004,6029.3369140000004,4265.6196289999998,5443.7871089999999,3123.7817380000001,3.2067398314361832E-2,5793.4638670000004]
[754,8.229712762615396E-2,8.1448156105133077E-2,null,6.2441150809115886E-2,4.6918112465734803E-2,null,null,1.6447202717570424E-2,1.2461259149577986E-2,9.9862149191788027E-3,4.54062606981655E-3,2.5905951308311286E-2,2.659730181707105E-2,2.088630399673528E-2,1.4577767311019023E-2,1.1423601181348605E-2,9.992767472950451E-3,7.4119803960015954E-2,7.2804749561218574E-2,7.3297528149223093E-2,7.5055264570371705E-2,5.7095954093783131E-2,3.6767189527396382E-2,2.9261104739122641E-2,8.68359306052056E-2,8.456078041544958E-2,8.2526633741726738E-2,7.1141295171689989E-2,6.030500240560082E-2,2.6048911975169776E-2,3.1396078521838205E-2,2.6805509343505583E-2,3.3335355021719901E-2,9.3703456862463855E-2,9.2856809243918703E-2,9.0777145267466455E-2,8.5342977987821381E-2,7.4168464162873399E-2,5.6989763005407486E-2,5.3538099900713655E-2,null,1245.409668,3299.5178219999998,1558.609009,2370.9438479999999,1403.9411620000001,4647.5668949999999,6016.7617190000001,4603.8813479999999,5583.1591799999997,2659.0207519999999,2944.0539549999999,8314.4736329999996,5450.5649409999996,2465.5317380000001,4016.0153810000002,5271.0971680000002,5848.4604490000002,4137.8779299999997,5288.6518550000001,3026.8461910000001,3.1396078521838205E-2,5620.4721680000002]
[755,7.8679358789024961E-2,7.7795303348947853E-2,null,5.9736192827678961E-2,4.5379798480688904E-2,null,null,1.5933113982144035E-2,1.1642425406870487E-2,9.6441959268528856E-3,4.3856930715106598E-3,2.4979473742464866E-2,2.5894058933320304E-2,2.0107709921048929E-2,1.3966613168873317E-2,1.0480670787135609E-2,9.5390650649728286E-3,7.1582792093488334E-2,7.155454050054065E-2,7.1457446291980156E-2,7.210142350742213E-2,5.5224436999490797E-2,3.5937387643310413E-2,2.780519203678623E-2,8.4343776295721665E-2,8.2825299578908093E-2,7.8884008949037757E-2,6.9210175411698827E-2,5.8434024304449585E-2,2.4597948996986294E-2,2.9357594869645981E-2,2.5761177518005832E-2,3.3727134656105745E-2,9.1200068905189793E-2,9.0256865252695898E-2,8.9076488644936933E-2,8.2660174887087573E-2,7.2333094838753831E-2,5.4538456684674136E-2,5.1737332963786804E-2,null,1194.8511960000001,3190.1452640000002,1498.479126,2290.0170899999998,1343.6020510000001,4497.9350590000004,5822.8017579999996,4451.8012699999999,5392.1108400000003,2567.0776369999999,2862.6608890000002,8068.7055659999996,5276.6782229999999,2381.9973140000002,3878.4411620000001,5100.7666019999997,5725.6152339999999,4000.2829590000001,5115.580078,2919.7202149999998,2.9357594869645981E-2,5432.7592770000001]
[756,7.651968541970193E-2,7.58893344547623E-2,null,5.7578354964748654E-2,4.317561756201195E-2,null,null,1.54038994064389E-2,1.1492997479805912E-2,9.2421487662604357E-3,4.2773249098353996E-3,2.3973801995923361E-2,2.5062606971728518E-2,1.9636007921463725E-2,1.3714754236587631E-2,1.1881195231433673E-2,9.0231873456071907E-3,6.9957786118735793E-2,6.9509539665583417E-2,6.9241623959523477E-2,7.0445090820634201E-2,5.3742306988431382E-2,3.484241408827108E-2,2.674835274821926E-2,8.2290623499176555E-2,8.0339239017626449E-2,7.4739085205469138E-2,6.7030010644510168E-2,5.6607807542430139E-2,2.4383543696689308E-2,2.8286888894567763E-2,2.4968382210441165E-2,3.2516585756602254E-2,8.8895289567069866E-2,8.6995386947975623E-2,8.6188575892599276E-2,8.0546213034502712E-2,7.0181076526380823E-2,5.3552706033195958E-2,5.0336238531337542E-2,null,1146.7136230000001,3087.6645509999998,1448.36438,2215.3115229999999,1291.502686,4354.0991210000002,5649.8618159999996,4325.3022460000002,5236.3598629999997,2491.569336,2793.0166020000001,7864.9790039999998,5130.9492190000001,2314.2985840000001,3763.5307619999999,4950.361328,5615.1948240000002,3875.1845699999999,4969.3847660000001,2830.6674800000001,2.8286888894567763E-2,5268.7509769999997]
[757,7.4009875681725332E-2,7.4709226048096683E-2,null,5.5263736560986335E-2,4.1369217244380918E-2,null,null,1.4714212045891632E-2,1.1023517053748447E-2,8.8710778748820798E-3,4.1013638967576597E-3,2.2967279323438606E-2,2.360615307682034E-2,1.8984316875786285E-2,1.3559220993142527E-2,8.9200341624824722E-3,8.5618569957844823E-3,6.7651382128550874E-2,6.8279866266329162E-2,6.7321519050724921E-2,6.8366004762685034E-2,5.2135202285500622E-2,3.3529179650148289E-2,2.6250807671307375E-2,8.0097798677540952E-2,7.7456812632176603E-2,7.3006455147835103E-2,6.4873564784388021E-2,5.4683940772019296E-2,2.4183659956547431E-2,2.7859320778308376E-2,2.4640370466215415E-2,2.8404427743534476E-2,8.5989623212562899E-2,8.379165341378475E-2,8.3342718439789021E-2,7.8965457378159187E-2,6.7107563892709415E-2,5.1461777109474548E-2,4.9389551192705008E-2,null,1099.3977050000001,2989.751953,1397.7482910000001,2141.6240229999999,1232.917236,4218.8989259999998,5484.5107420000004,4200.5058589999999,5085.9794920000004,2407.9135740000002,2712.7080080000001,7648.158203,4989.763672,2236.9877929999998,3649.8161620000001,4797.4458009999998,5399.3359380000002,3760.9301759999998,4820.1660160000001,2736.9357909999999,2.7859320778308376E-2,5109.5883789999998]
[758,7.136071309186244E-2,7.1179014333371884E-2,null,5.4149418172160325E-2,4.0169010149512879E-2,null,null,1.4545085964753682E-2,1.1393882572499002E-2,8.7870207969966332E-3,3.9985426768949497E-3,2.2525531887246902E-2,2.2446023404155729E-2,1.822196253057987E-2,1.3211329528053751E-2,9.6481716971397891E-3,8.3750202412271203E-3,6.5689207776568379E-2,6.6180569709438572E-2,6.5329927254038772E-2,6.4323252829362257E-2,5.0586984790893984E-2,3.289402023883839E-2,2.5566536911884825E-2,7.7303859021533819E-2,7.5679660051784989E-2,7.1469599573368722E-2,6.283895283754079E-2,5.3065859811948571E-2,2.3819179050233417E-2,2.7351859995660852E-2,2.3802928279465851E-2,2.655022332503092E-2,8.3667517303449748E-2,8.2027718671530372E-2,8.1287948103815885E-2,7.6512373506795947E-2,6.5388859676793809E-2,5.0386905832132574E-2,4.7787448240217828E-2,null,1054.7166749999999,2895.0876459999999,1356.849365,2084.914307,1187.795288,4095.1889649999998,5328.6904299999997,4080.673096,4935.9331050000001,2330.257568,2633.2734380000002,7448.953125,4833.5620120000003,2168.5771479999999,3541.2746579999998,4657.767578,5190.3598629999997,3641.0593260000001,4675.4750979999999,2652.8217770000001,2.7351859995660852E-2,4953.9052730000003]
[759,6.873786102001174E-2,6.84447071468995E-2,null,5.1774487294006064E-2,3.8217812836260523E-2,null,null,1.422494739223693E-2,1.0381806221757533E-2,8.8019826541824598E-3,3.8242292106460802E-3,2.2042512818074352E-2,2.2194315108798417E-2,1.7472449263610676E-2,1.2810662159986793E-2,1.0534618631084687E-2,7.9041609112122865E-3,6.3905719675844533E-2,6.2700552034917617E-2,6.3106267336796681E-2,6.5394171470757059E-2,4.882131722803467E-2,3.162159218786792E-2,2.4247829138995036E-2,7.4833481681419817E-2,7.2983484902799919E-2,7.064156180919498E-2,6.0231743203391301E-2,5.1595406721757983E-2,2.172361289979096E-2,2.6418192293403076E-2,2.3226738978570204E-2,2.763966593821602E-2,8.0861279155891905E-2,8.0245444786833431E-2,7.822487677776184E-2,7.4375702397331406E-2,6.3608363742793286E-2,4.8473357225452263E-2,4.5882298606060294E-2,null,1013.797119,2796.3911130000001,1307.9879149999999,2017.612183,1147.452393,3960.2919919999999,5159.3496089999999,3948.7209469999998,4777.5634769999997,2251.3442380000001,2557.4345699999999,7233.4936520000001,4679.0371089999999,2090.298096,3437.3540039999998,4509.5478519999997,5008.4965819999998,3526.9689939999998,4526.3032229999999,2566.7617190000001,2.6418192293403076E-2,4787.7714839999999]
[760,6.6750799045152118E-2,6.6443314379008675E-2,null,5.1439788253294302E-2,3.613267673808343E-2,null,null,1.383502686529839E-2,1.0159091338745563E-2,8.7034314932739124E-3,3.79957547709248E-3,2.1112539099992944E-2,2.2008834252270008E-2,1.7543572436465073E-2,1.2558323328010131E-2,9.5107439233145692E-3,7.755103573367012E-3,6.1665230424480105E-2,6.0468320379572893E-2,6.1244746579379297E-2,6.2197868608034515E-2,4.7206467612709073E-2,3.0191754536775337E-2,2.3930909011820975E-2,7.2284373352732773E-2,7.0769004380355049E-2,6.9021599279518342E-2,5.8542933141574258E-2,5.0062351823183693E-2,2.1424637490711329E-2,2.5493613067191303E-2,2.2516083422360566E-2,2.9983385177585139E-2,7.891510700141964E-2,7.745377974818414E-2,7.5802105737320158E-2,7.1935485790581094E-2,6.1426038008276618E-2,4.7244522334058542E-2,4.4372220033577742E-2,null,981.384094,2703.803711,1262.2432859999999,1954.238159,1105.8790280000001,3841.7307129999999,5000.2304690000001,3824.1320799999999,4632.3818359999996,2175.0219729999999,2487.0668949999999,7033.7016599999997,4541.1533200000003,2019.3892820000001,3330.5246579999998,4371.8085940000001,4873.4941410000001,3415.7309570000002,4389.1342770000001,2478.9604490000002,2.5493613067191303E-2,4630.6655270000001]
[761,6.5381423862957755E-2,6.5917101088722271E-2,null,4.9816085191950042E-2,3.466420436116819E-2,null,null,1.3241623924326085E-2,9.917874979052865E-3,8.3791411973838867E-3,3.6488061668855602E-3,2.0684978196401232E-2,2.1736221751961066E-2,1.7078412745155813E-2,1.20829719121303E-2,8.6976738410241734E-3,7.9112734023921976E-3,5.9794816700897112E-2,5.866004803276078E-2,5.9269504965852128E-2,5.9332137413998912E-2,4.5879604676379387E-2,2.9241267826969921E-2,2.3630150869375727E-2,7.0314817348511541E-2,6.9336007782751008E-2,6.4264852353646942E-2,5.6722248889858502E-2,4.8435030151235514E-2,1.9912732286433546E-2,2.4108069824646233E-2,2.1666603211621057E-2,2.643261096614551E-2,7.6317765508518681E-2,7.4788218313767474E-2,7.2843075642842176E-2,6.9812704339721199E-2,5.9244699151252897E-2,4.5594552822292661E-2,4.3764873824960006E-2,null,942.06579599999998,2607.1176759999998,1221.498047,1887.5772710000001,1059.3569339999999,3719.7072750000002,4845.1982420000004,3699.1271969999998,4493.7587890000004,2094.8928219999998,2405.188232,6840.4873049999997,4392.4321289999998,1949.6123050000001,3220.1992190000001,4237.2314450000003,4692.9892579999996,3298.3820799999999,4249.7280270000001,2396.2453609999998,2.4108069824646233E-2,4479.2319340000004]
[762,6.3201048338937652E-2,6.3488178242113183E-2,null,4.8312034889152075E-2,3.2920767617730412E-2,null,null,1.2599411030589914E-2,9.6684610397461072E-3,8.0047196377703959E-3,3.49627742414492E-3,2.0195305008982777E-2,2.1112044181623931E-2,1.6572469921509892E-2,1.1398558010052399E-2,7.8779239022198858E-3,7.846619527340325E-3,5.8281161831046313E-2,5.6091070396713939E-2,5.7276309755863772E-2,5.8567964845013802E-2,4.4357614274098366E-2,2.8169799997856532E-2,2.2395798565585549E-2,6.7890598447067033E-2,6.7120355320317016E-2,6.2762822461388632E-2,5.4784804962014211E-2,4.6737930280024424E-2,1.916160734712382E-2,2.3672961396804533E-2,2.0869279462007628E-2,3.345573333536965E-2,7.369388485375318E-2,7.2128684657492184E-2,7.1464737055399283E-2,6.792409364307353E-2,5.7491316703619975E-2,4.3782661286080035E-2,4.2404486828410366E-2,null,906.53912400000002,2516.9365229999999,1175.106812,1824.265625,1017.110352,3597.2778320000002,4689.8881840000004,3582.7307129999999,4348.6279299999997,2028.6019289999999,2328.9895019999999,6642.1098629999997,4260.841797,1876.8870850000001,3108.6843260000001,4111.3222660000001,4474.1191410000001,3191.9270019999999,4114.8002930000002,2313.3461910000001,2.3672961396804533E-2,4331.0732420000004]
[763,6.0217399778552276E-2,6.1601689559808645E-2,null,4.5878483301347292E-2,3.1595707280709116E-2,null,null,1.2693158475434415E-2,9.2822973696799448E-3,7.731264532630725E-3,3.3456374071833802E-3,1.9241723976823166E-2,2.0198599338126785E-2,1.5767812025724935E-2,1.0841342112301944E-2,8.9410210233504712E-3,7.586501977199768E-3,5.6290035751457045E-2,5.4508442211975122E-2,5.5708727112950121E-2,5.793316261097195E-2,4.3040811027862551E-2,2.7040714710891107E-2,2.1704658932515726E-2,6.6226959296900118E-2,6.45906673858785E-2,6.1219608268358164E-2,5.3226637374035525E-2,4.5191328371800413E-2,1.9373489518855275E-2,2.3365614270342779E-2,1.9892459854431277E-2,2.9334129925613159E-2,7.1399911169839098E-2,7.185631246989875E-2,6.8641323351035108E-2,6.5342834335915215E-2,5.6356671838125282E-2,4.2865494482787432E-2,4.0728631802272812E-2,null,872.99951199999998,2424.2067870000001,1129.428345,1779.080688,986.51324499999998,3488.8071289999998,4542.1728519999997,3470.3535160000001,4204.0541990000002,1967.2067870000001,2268.9187010000001,6448.140625,4123.8168949999999,1813.5413820000001,3014.5258789999998,3985.2927249999998,4341.4721680000002,3093.9665530000002,3991.8266600000002,2232.7326659999999,2.3365614270342779E-2,4198.5351559999999]
[764,5.8662565020001674E-2,5.921783444026496E-2,null,4.3394366590281633E-2,2.9698728931466602E-2,null,null,1.2462377187980789E-2,9.4289644092430264E-3,7.4204282724274944E-3,3.31043227832484E-3,1.8097451825738735E-2,1.9417628419301919E-2,1.5211066131603869E-2,1.0374302096257896E-2,8.3885595670543846E-3,7.3064793204254503E-3,5.4183058598917894E-2,5.3080838383858908E-2,5.4165928854731711E-2,5.5595498653372544E-2,4.1819914922624622E-2,2.6224840205111347E-2,2.1014127909880616E-2,6.4106627976604408E-2,6.3010084291958313E-2,5.9454862900964515E-2,5.1539998225598821E-2,4.3917225726722457E-2,1.8958926497734528E-2,2.251629707197567E-2,2.0104230179262644E-2,3.0246134773994928E-2,6.9718425222924429E-2,6.8431321403812639E-2,6.6152173761349922E-2,6.400513257967437E-2,5.4520485199075978E-2,4.2385266209580504E-2,3.8953871200193835E-2,null,844.87048300000004,2339.4345699999999,1083.294312,1705.106812,942.72522000000004,3366.508057,4398.0385740000002,3351.9970699999999,4069.3071289999998,1903.3266599999999,2204.2446289999998,6259.8286129999997,4004.8317870000001,1750.298828,2917.2006839999999,3861.44751,4159.8413090000004,2995.898682,3869.033203,2151.9248050000001,2.251629707197567E-2,4062.463135]
[765,5.6791700804689836E-2,5.7184363425470452E-2,null,4.2155811002999879E-2,2.9126981385539413E-2,null,null,1.2076972246252744E-2,9.0475962212907442E-3,7.3378909209635941E-3,3.2455019708403201E-3,1.792300858049416E-2,1.8490271219297996E-2,1.5066642271713657E-2,1.0083497518234416E-2,8.8911713963679903E-3,7.2107772651758828E-3,5.2307270356601931E-2,5.3043717793535505E-2,5.2299363877548286E-2,5.3071551463400694E-2,4.0560890109756512E-2,2.563404062434169E-2,2.0115992808875445E-2,6.1944478182798697E-2,6.0917063138294474E-2,5.7536283160248579E-2,5.0101652462526507E-2,4.2628411931879419E-2,1.7796351991804602E-2,2.1497282506968866E-2,1.8722710613042214E-2,2.3212462936252277E-2,6.7415738299174605E-2,6.5803164342060447E-2,6.5054584510253644E-2,6.2253521276554119E-2,5.3630332950178154E-2,4.1308206475443331E-2,3.7693924482605584E-2,null,819.65405299999998,2261.1303710000002,1043.700439,1657.0672609999999,906.50762899999995,3257.5935060000002,4258.7407229999999,3244.5642090000001,3943.5588379999999,1838.9663089999999,2139.1054690000001,6086.3720700000003,3880.6057129999999,1696.7172849999999,2817.2524410000001,3736.7517090000001,3959.835693,2899.2360840000001,3752.2202149999998,2080.6611330000001,2.1497282506968866E-2,3943.7326659999999]
[766,5.4543560515889544E-2,5.495438475855647E-2,null,3.9773140517209184E-2,2.8851386297219967E-2,null,null,1.1720996243408197E-2,9.0284023129581104E-3,7.3537510594714221E-3,3.0869037980900899E-3,1.7764107103304567E-2,1.7644012477771715E-2,1.5209446312860711E-2,9.7942069734420281E-3,7.2588008232643024E-3,7.0741976178151957E-3,5.0490581756868436E-2,5.0856876213215246E-2,5.0543406178967347E-2,4.9098147158406526E-2,3.9165040746302955E-2,2.522308307023419E-2,1.9250559811781438E-2,6.0147865958560733E-2,5.858524969185179E-2,5.5927711738160552E-2,4.8770156120727458E-2,4.1576528539173527E-2,1.7932381326722119E-2,2.0946487153780044E-2,1.9039189161163241E-2,2.8204925809067E-2,6.5950530986208539E-2,6.3415209829526739E-2,6.3522940670761377E-2,6.046513615429204E-2,5.1113840478480624E-2,4.015318444567971E-2,3.7238347490399434E-2,null,795.92236300000002,2192.599365,1015.140381,1624.6623540000001,878.83972200000005,3153.7229000000002,4125.5454099999997,3153.6909179999998,3827.3935550000001,1783.0654300000001,2081.1198730000001,5923.783203,3770.9389649999998,1636.9648440000001,2729.4594729999999,3633.0786130000001,3756.3996579999998,2808.5407709999999,3637.5122070000002,2015.550293,2.0946487153780044E-2,3833.0402829999998]
[767,5.2179871244594701E-2,5.1436767086853463E-2,null,3.7526056498498529E-2,2.7361033281535527E-2,null,null,1.1412882629418263E-2,8.4835466065548704E-3,7.1801857622359987E-3,2.9880140891465801E-3,1.7081240000369792E-2,1.734186023859205E-2,1.4886234365769552E-2,9.6132355147315364E-3,7.9306289955827277E-3,6.7912365690883736E-3,4.9974716370784329E-2,4.8294996706937758E-2,4.8887999202472603E-2,5.0029837568468981E-2,3.7629247338103071E-2,2.445700161403961E-2,1.8724685148738093E-2,5.8175789464174822E-2,5.6528022762389579E-2,5.5065549911556905E-2,4.7132525392481688E-2,3.9977871909659533E-2,1.7507737594203859E-2,2.0105052267009319E-2,1.7648071705136513E-2,2.2432728819147763E-2,6.3150615012366546E-2,6.2420426440352846E-2,6.1973241784520676E-2,5.8030873025520069E-2,4.9519405238884394E-2,3.7703433696780531E-2,3.601526649180703E-2,null,771.70172100000002,2122.2895509999998,988.08819600000004,1585.194336,858.43218999999999,3051.4313959999999,4000.3671880000002,3063.6411130000001,3712.5117190000001,1724.607422,2024.9482419999999,5743.8608400000003,3654.3120119999999,1589.22876,2646.531982,3518.8339839999999,3675.1586910000001,2719.2329100000002,3534.2470699999999,1947.279053,2.0105052267009319E-2,3714.2966310000002]
[768,5.0650705931446799E-2,4.8389686105051219E-2,null,3.5973546150453228E-2,2.6316157636194316E-2,null,null,1.1110541691147084E-2,8.325098157439443E-3,6.9706030130876392E-3,2.8922317787031301E-3,1.6236827163667551E-2,1.6881843341467754E-2,1.3584146122077275E-2,9.2769026194255196E-3,7.6321206038311856E-3,6.6934034810875974E-3,4.8906853607001623E-2,4.6481311681811861E-2,4.7503235852070523E-2,4.5666192723653215E-2,3.6348912187113377E-2,2.3045937721945606E-2,1.854183921313959E-2,5.6406772601075073E-2,5.4953398768999802E-2,5.3655551943130791E-2,4.5279347400954933E-2,3.8352353467734884E-2,1.6533330373992374E-2,1.9245755323972064E-2,1.7608122806073212E-2,2.7072301491059599E-2,6.153413001269635E-2,5.9697618043302238E-2,5.9862267446537887E-2,5.7014468916745366E-2,4.8515654044772885E-2,3.6533832661349554E-2,3.4895414247136686E-2,null,756.84277299999997,2064.2260740000002,957.73761000000002,1551.256836,833.07849099999999,2960.6379390000002,3877.5832519999999,2965.8583979999999,3601.5668949999999,1671.824341,1975.188721,5577.5600590000004,3542.0119629999999,1542.1850589999999,2566.314453,3411.889893,3539.8793949999999,2635.2316890000002,3432.5217290000001,1889.973755,1.9245755323972064E-2,3604.813721]
[769,4.9329848178433652E-2,4.6041336332476507E-2,null,3.465395563342883E-2,2.6048844807946031E-2,null,null,1.0867830634557813E-2,8.1208951159932145E-3,6.7024885265431385E-3,2.7674515703297702E-3,1.6117954969830515E-2,1.6323125672114011E-2,1.3036256513571397E-2,9.0969583071235649E-3,7.1345530137754479E-3,6.295726612616937E-3,4.6590777986085997E-2,4.4605098123931479E-2,4.6167894172486401E-2,4.653434827984719E-2,3.5415308252708659E-2,2.2151649701290046E-2,1.792692082080034E-2,5.4916815029587618E-2,5.3294536020472592E-2,5.0552345264560282E-2,4.3520671938224516E-2,3.73041218340757E-2,1.6833982202300597E-2,1.9034470487836457E-2,1.6931542014696079E-2,2.3759051899681957E-2,6.0356683759423303E-2,5.9598681905262837E-2,5.8336591178368979E-2,5.5718134622567965E-2,4.7092208135047116E-2,3.5775191409486443E-2,3.4117584830354715E-2,null,728.82605000000001,2005.950928,928.02459699999997,1501.716064,807.33660899999995,2861.2060550000001,3764.9174800000001,2867.4313959999999,3491.5756839999999,1619.0931399999999,1910.9858400000001,5417.6220700000003,3439.713135,1500.200562,2477.0563959999999,3305.929932,3532.8969729999999,2541.3464359999998,3324.4392090000001,1825.479126,1.9034470487836457E-2,3487.0004880000001]
[770,4.7142129187483076E-2,4.4133609943526927E-2,null,3.3624235716931974E-2,2.5228562676754794E-2,null,null,1.0660185487550993E-2,7.9150887412780084E-3,6.4781770769045104E-3,2.7037924236822399E-3,1.5676048390777721E-2,1.6068628729005403E-2,1.2878556807693732E-2,8.8505768707527986E-3,7.2765162575189769E-3,6.0098623895907515E-3,4.490406026602007E-2,4.3931692798203692E-2,4.4539618361695947E-2,4.5104518837712812E-2,3.4361235874771877E-2,2.1558664054808482E-2,1.7188142669618111E-2,5.2806263373126903E-2,5.1540489555511312E-2,4.8950658312885045E-2,4.2024805355220345E-2,3.6388363905456515E-2,1.5748747216178902E-2,1.8424191898478232E-2,1.6698900163572922E-2,1.6982641715466991E-2,5.8299436862528267E-2,5.7271063426955142E-2,5.5686989730350446E-2,5.3079083674489644E-2,4.5504544549058758E-2,3.5112665921622752E-2,3.3275645273974953E-2,null,704.13085899999999,1937.268433,900.79467799999998,1462.571533,784.78942900000004,2762.326904,3640.0432129999999,2775.4328609999998,3383.803711,1562.595703,1856.1895750000001,5256.8491210000002,3330.383789,1449.255371,2395.4216310000002,3200.258057,3405.9052729999999,2450.0783689999998,3211.1767580000001,1765.7100829999999,1.8424191898478232E-2,3375.9509280000002]
[771,4.4816397100236063E-2,4.2760025514945843E-2,null,3.0908404864380994E-2,2.3116191385099343E-2,null,null,1.0469597466454778E-2,7.7490975093680026E-3,6.4743365608061617E-3,2.6879499450060702E-3,1.5061567282534471E-2,1.5014775806939325E-2,1.1976653859118322E-2,8.4607397584970951E-3,8.0625720025249356E-3,5.6040009107913872E-3,4.3268401616677027E-2,4.2117252514260919E-2,4.3054638611137501E-2,4.1912601406381533E-2,3.328668454178272E-2,2.1302944557237607E-2,1.6621091418447934E-2,5.0978288979767944E-2,4.9837642822966384E-2,4.7412150361749283E-2,4.1172983790462837E-2,3.5178950384578564E-2,1.514580036947424E-2,1.7684144041830704E-2,1.5953580731880048E-2,2.131761881779436E-2,5.6431872648949673E-2,5.5200340376699776E-2,5.3924912102897862E-2,5.2021654599359375E-2,4.3882470608144167E-2,3.3786071169262279E-2,3.1405516974433424E-2,null,674.82543899999996,1875.606812,882.87683100000004,1413.2597659999999,747.55548099999999,2677.3161620000001,3521.7702640000002,2694.13501,3283.7429200000001,1502.984741,1805.148682,5103.9838870000003,3233.7121579999998,1392.0698239999999,2316.7272950000001,3108.0229490000002,3312.7619629999999,2370.591797,3105.8657229999999,1702.4522710000001,1.7684144041830704E-2,3265.35376]
[772,4.2303650711340277E-2,4.1096390905496417E-2,null,2.9219012392994154E-2,2.1709069593507935E-2,null,null,1.0226524538051883E-2,7.2816302339032048E-3,6.2721408085103228E-3,2.59200501638305E-3,1.4473750441837239E-2,1.4597048240952456E-2,1.1645877497695996E-2,8.5459914348895577E-3,5.8049488099891087E-3,5.6203840139508656E-3,4.1696395619457788E-2,4.0971078783615188E-2,4.1687922368292954E-2,4.4721089176088497E-2,3.2240432486197144E-2,2.1046949476580586E-2,1.6098026392683012E-2,4.9437032149610066E-2,4.7890442746405595E-2,4.4737750421112027E-2,3.9986498261799897E-2,3.3729955108536144E-2,1.4099941493548675E-2,1.7010477090961283E-2,1.5935010714129588E-2,2.3628168155305832E-2,5.3851976005565752E-2,5.2116957541109822E-2,5.3157634832807825E-2,4.9072280192213102E-2,4.2859807175343316E-2,3.2259162827920754E-2,3.0276979133551575E-2,null,648.50659199999996,1805.942139,844.45532200000002,1355.0970460000001,715.63183600000002,2584.8103030000002,3403.584961,2587.181885,3169.8454590000001,1443.7852780000001,1738.1735839999999,4929.9594729999999,3120.7607419999999,1336.7901609999999,2233.2834469999998,2988.5190429999998,3240.0185550000001,2278.5107419999999,2998.499268,1639.363159,1.7010477090961283E-2,3148.8867190000001]
[773,4.1615335553680632E-2,3.9375489995821078E-2,null,2.7585899783869574E-2,2.0845987121745214E-2,null,null,9.961677510680108E-3,7.3838083446310376E-3,5.9325802677786081E-3,2.4362978987044598E-3,1.4009655027403622E-2,1.4824919865833081E-2,1.1291475100184993E-2,8.3288138875343889E-3,6.5453118384424568E-3,5.5185774552232812E-3,4.0617050453352399E-2,4.041541946164541E-2,4.0317049550606159E-2,4.270038550069849E-2,3.1181784858344629E-2,2.0469516727604203E-2,1.5567163156695121E-2,4.7944561515207838E-2,4.6412117343776219E-2,4.3488232370670121E-2,3.8633945057218622E-2,3.2748604352478734E-2,1.4353768077026069E-2,1.6793233226698723E-2,1.4979223519058607E-2,2.8039783043144084E-2,5.2693902288559913E-2,5.2147664164656389E-2,5.1500069560181876E-2,4.8038962002722903E-2,4.1651594010225432E-2,3.1335423184628008E-2,3.0395175787512239E-2,null,623.05712900000003,1738.038086,802.39788799999997,1311.878052,683.20495600000004,2498.888672,3283.5437010000001,2488.3388669999999,3055.4194339999999,1391.6320800000001,1679.49353,4771.3100590000004,3017.9479980000001,1278.744385,2155.0434570000002,2883.8283689999998,3093.88501,2205.0048830000001,2887.4594729999999,1586.2071530000001,1.6793233226698723E-2,3042.0463869999999]
[774,3.9350600522078262E-2,3.8315478220851566E-2,null,2.6787663098244076E-2,1.9488801516168202E-2,null,null,9.4751030566477129E-3,7.0577739316283299E-3,5.8778503487522289E-3,2.35237480828673E-3,1.4232354780107688E-2,1.4226206285669844E-2,1.0970616588214157E-2,8.1146914339654506E-3,6.7254405804206595E-3,5.4429038539067897E-3,3.9396125411168034E-2,4.0232484281465725E-2,3.8990047358641214E-2,3.9744770613956135E-2,3.0146722583626044E-2,1.9725646147178887E-2,1.4834031335795847E-2,4.6240725398461795E-2,4.5287623095349908E-2,4.1928427945846045E-2,3.7103329012516457E-2,3.1777583448566446E-2,1.3728400656893264E-2,1.6277245920095239E-2,1.4641306436555269E-2,1.8104162554934786E-2,5.1440287800795542E-2,4.9417546614976826E-2,4.9525187958656992E-2,4.6832116535350424E-2,4.0888336673614023E-2,3.1174752294395803E-2,2.8329964960588899E-2,null,600.05529799999999,1677.7685550000001,772.521973,1269.684937,655.36560099999997,2418.2446289999998,3182.357422,2405.6750489999999,2962.400635,1333.5169679999999,1622.0040280000001,4628.8085940000001,2925.9113769999999,1229.47522,2089.5959469999998,2791.413818,3013.2407229999999,2129.717529,2790.099365,1527.9614260000001,1.6277245920095239E-2,2941.2895509999998]
[775,3.7687955595989031E-2,3.6172631256428139E-2,null,2.5580180162211877E-2,1.756831676216979E-2,null,null,9.0262304525603153E-3,6.8875052848308927E-3,5.7552327536839311E-3,2.32255936244015E-3,1.3821955983234104E-2,1.3800454280575485E-2,1.0749548004725976E-2,7.6141597298901168E-3,6.9143821804005263E-3,5.2893482173128623E-3,3.8448980149605606E-2,4.0088856871249363E-2,3.7801453413623169E-2,3.8123916687288505E-2,2.888764636430062E-2,1.8773354235293142E-2,1.4171779564457665E-2,4.4556446214914947E-2,4.4231777232091131E-2,4.1440309597532407E-2,3.6087021935576086E-2,3.0728441824514341E-2,1.3666009114530538E-2,1.5324698635285022E-2,1.4358434290754941E-2,1.7577359806497526E-2,4.9855120536739551E-2,4.7440108644612851E-2,4.7307202775643722E-2,4.5083198854585706E-2,3.9199912668348942E-2,3.020207773345231E-2,2.7661927733208629E-2,null,573.08233600000005,1606.259644,729.32781999999997,1223.4696039999999,613.94653300000004,2334.860107,3072.7851559999999,2325.422607,2860.9963379999999,1283.3596190000001,1570.845947,4481.173828,2812.2697750000002,1176.279297,2017.051514,2694.64624,2796.8969729999999,2055.366211,2697.0219729999999,1469.750366,1.5324698635285022E-2,2841.4357909999999]
[776,3.5644226620079413E-2,3.4085452875667194E-2,null,2.4008870153648987E-2,1.7065841928463464E-2,null,null,8.7426901743507604E-3,6.6273199357732761E-3,5.544459563947975E-3,2.2308513501998499E-3,1.3191265757718226E-2,1.3313467491625411E-2,1.0428152486139751E-2,7.4449537952756923E-3,6.8818933708558105E-3,5.0835111044888331E-3,3.7593794995106407E-2,3.7282808913299083E-2,3.6672919398308357E-2,3.723951817084914E-2,2.8093395400282446E-2,1.8120190717953236E-2,1.4034726971886428E-2,4.3093040041277335E-2,4.2878813978202722E-2,4.0835428428260788E-2,3.5194505844601827E-2,2.9867625839740949E-2,1.3055247176331424E-2,1.4635141857426719E-2,1.3684206154051142E-2,2.0224903653958563E-2,4.8323059669700817E-2,4.6497867209510838E-2,4.5791184342612992E-2,4.5172289571487521E-2,3.7905461679571525E-2,2.8803345925812997E-2,2.6867776309334537E-2,null,542.94610599999999,1543.142456,696.63562000000002,1167.144775,584.03265399999998,2258.5871579999998,2960.6513669999999,2245.2258299999999,2758.8386230000001,1227.0354,1515.574707,4342.685547,2718.9335940000001,1123.1347659999999,1942.5303960000001,2596.860596,2636.3120119999999,1980.7196039999999,2606.9111330000001,1411.3688959999999,1.4635141857426719E-2,2734.3264159999999]
[777,3.4405547954187175E-2,3.275442775783808E-2,null,2.2567006492642528E-2,1.6762244600707753E-2,null,null,8.5605177342919815E-3,6.641567565283361E-3,5.4315245843625237E-3,2.1791286106212599E-3,1.3132445692508822E-2,1.2894566916593641E-2,9.8773048342057062E-3,7.7039356916011282E-3,5.4663894349986242E-3,5.0345855567405827E-3,3.6041976550126371E-2,3.5263807937485341E-2,3.5493709403507531E-2,3.3109829745502015E-2,2.7326317782199492E-2,1.7463561351483258E-2,1.3809549234020748E-2,4.1839632888971696E-2,4.1410265717952595E-2,3.8496529663209655E-2,3.404765545840685E-2,2.8854179835050439E-2,1.2204009799239279E-2,1.4591220390763972E-2,1.3256965711697179E-2,1.5649360934152711E-2,4.643221711315592E-2,4.5814135087182468E-2,4.6403534737768065E-2,4.4257703342565236E-2,3.7557193075429464E-2,2.7907154317952008E-2,2.6270747627470385E-2,null,512.40960700000005,1482.5273440000001,644.44940199999996,1108.336548,560.98132299999997,2171.0466310000002,2862.383057,2161.9904790000001,2651.3969729999999,1175.6511230000001,1446.063232,4198.0527339999999,2617.681885,1068.613525,1874.093018,2492.8203119999998,2448.7016600000002,1901.018433,2512.429932,1349.419678,1.4591220390763972E-2,2638.8828119999998]
[778,3.4231259035032574E-2,3.0892482060773278E-2,null,2.0470040220025076E-2,1.634791658549619E-2,null,null,8.5090306243934006E-3,6.0723228964982019E-3,5.3152085680255737E-3,2.09959799266673E-3,1.2563827569481456E-2,1.2350112846240711E-2,9.3878569725075554E-3,7.5903929909329725E-3,6.1744260617717043E-3,4.976553864081034E-3,3.4854512408680108E-2,3.4149867516999229E-2,3.4625595699084057E-2,3.4808808914372595E-2,2.6677690817619743E-2,1.7267752177120187E-2,1.3392747553180599E-2,4.0663106107345373E-2,3.9805875691989928E-2,3.7254540179439966E-2,3.2777066897479536E-2,2.7764226809459679E-2,1.1620243917836386E-2,1.4791573989941147E-2,1.2898606546223533E-2,1.9362413706472192E-2,4.5791184665494637E-2,4.5125306680650595E-2,4.3867918108145554E-2,4.1845380285922398E-2,3.5180614315490168E-2,2.8045192754127198E-2,2.5631413244211837E-2,null,478.18246499999998,1423.7617190000001,610.45165999999995,1057.3304439999999,530.96929899999998,2087.5048830000001,2771.1516109999998,2089.7395019999999,2550.908203,1121.646362,1389.1396480000001,4070.0410160000001,2537.2546390000002,1023.997314,1802.5048830000001,2399.7097170000002,2287.6960450000001,1830.9171140000001,2423.7719729999999,1288.915405,1.4791573989941147E-2,2544.7277829999998]
[779,3.1820848822147793E-2,3.0245670815462582E-2,null,1.9803059571210698E-2,1.4963348779771931E-2,null,null,8.2188809711056035E-3,6.1161766057677199E-3,5.0163267725442931E-3,2.0736695842443502E-3,1.2269676205570169E-2,1.21157515268983E-2,9.6098096275228865E-3,6.9077476023174699E-3,5.4695490604660434E-3,4.7480849484429957E-3,3.4015736826893947E-2,3.4840478760373855E-2,3.3890486775278401E-2,3.2242653997468923E-2,2.5922283304195583E-2,1.6607803125794466E-2,1.3199052486744257E-2,3.9380140203931893E-2,3.8225608282708906E-2,3.7176295866262574E-2,3.1412804667915281E-2,2.7061208090638788E-2,1.2366190263479097E-2,1.4160798526205377E-2,1.3716311650896042E-2,1.6223093879000141E-2,4.3779874884371101E-2,4.3554442702730706E-2,4.2538819939668467E-2,3.9563965996762165E-2,3.4940815464423666E-2,2.5874828268831931E-2,2.4457554865416311E-2,null,459.96215799999999,1372.4013669999999,573.67980999999997,1004.114868,494.71975700000002,2004.5900879999999,2680.2683109999998,2022.5169679999999,2466.1132809999999,1074.0063479999999,1337.1400149999999,3938.044922,2446.1523440000001,984.29852300000005,1733.6605219999999,2316.063232,2294.5615229999999,1763.00647,2340.2722170000002,1231.150024,1.4160798526205377E-2,2454.58374]
[780,2.9632260361140292E-2,2.9003434996701202E-2,null,1.9387336552880965E-2,1.4180454832684842E-2,null,null,7.94480767221728E-3,6.1255237690188398E-3,4.9542136066506584E-3,2.0138592613606599E-3,1.2071758303624532E-2,1.2035213535513716E-2,9.1070369207404168E-3,6.2499403027210252E-3,4.3127067894732753E-3,4.6084314434670778E-3,3.3346154657188445E-2,3.407650670480044E-2,3.2783960461345768E-2,3.2929183557456158E-2,2.4991038240752637E-2,1.6064420508321891E-2,1.2177619380538459E-2,3.7889311808816842E-2,3.6716668458453443E-2,3.5286085964275425E-2,3.0480042363507629E-2,2.6479037078211209E-2,1.0948396214712698E-2,1.2935758354385193E-2,1.2559493343388021E-2,2.2531640762803642E-2,4.2621364366869939E-2,4.1878623505449707E-2,4.1460704429843176E-2,3.8810756758114968E-2,3.2888518133348789E-2,2.5753635789611661E-2,2.4403898429846239E-2,null,425.722015,1321.744019,541.91918899999996,957.54644800000005,467.26867700000003,1936.421875,2592.2565920000002,1961.3634030000001,2383.1728520000001,1043.980591,1289.982544,3822.0083009999998,2362.7517090000001,947.36798099999999,1668.772461,2243.7368160000001,2143.88501,1701.5361330000001,2263.70874,1178.8548579999999,1.2935758354385193E-2,2378.2697750000002]
[null,null,null,null,null,null,null,null,null,null,null,null,null,null,null,null,null,null,null,null,null,null,null,null,null,null,null,null,null,null,null,1.2890520580223856E-2,null,null,null,null,null,null,null,null,null,null,null,null,null,null,null,null,null,null,null,null,null,null,null,null,null,2171.4985350000002,2091.7919919999999,1638.799072,2189.7622070000002,1129.991943,1.2890520580223856E-2,2304.4389649999998]
[null,null,null,null,null,null,null,null,null,null,null,null,null,null,null,null,null,null,null,null,null,null,null,null,null,null,null,null,null,null,null,1.2328221961864517E-2,null,null,null,null,null,null,null,null,null,null,null,null,null,null,null,null,null,null,null,null,null,null,null,null,null,2108.2778320000002,2178.3735350000002,1585.4643550000001,2119.5737300000001,1089.5876459999999,1.2328221961864517E-2,2238.116211]
[null,null,null,null,null,null,null,null,null,null,null,null,null,null,null,null,null,null,null,null,null,null,null,null,null,null,null,null,null,null,null,1.1998404261324312E-2,null,null,null,null,null,null,null,null,null,null,null,null,null,null,null,null,null,null,null,null,null,null,null,null,null,2058.0698240000002,2216.6872560000002,1536.495361,2067.203125,1060.4765620000001,1.1998404261324312E-2,2178.6621089999999]
[null,null,null,null,null,null,null,null,null,null,null,null,null,null,null,null,null,null,null,null,null,null,null,null,null,null,null,null,null,null,null,1.1393803541663439E-2,null,null,null,null,null,null,null,null,null,null,null,null,null,null,null,null,null,null,null,null,null,null,null,null,null,2010.5375979999999,2247.6579590000001,1494.4102780000001,2012.3854980000001,1024.186279,1.1393803541663439E-2,2116.038818]
[null,null,null,null,null,null,null,null,null,null,null,null,null,null,null,null,null,null,null,null,null,null,null,null,null,null,null,null,null,null,null,1.0796611144861083E-2,null,null,null,null,null,null,null,null,null,null,null,null,null,null,null,null,null,null,null,null,null,null,null,null,null,1959.0356449999999,2167.858643,1451.334351,1965.2464600000001,993.79040499999996,1.0796611144861083E-2,2052.7597660000001]
[null,null,null,null,null,null,null,null,null,null,null,null,null,null,null,null,null,null,null,null,null,null,null,null,null,null,null,null,null,null,null,1.0622279239402666E-2,null,null,null,null,null,null,null,null,null,null,null,null,null,null,null,null,null,null,null,null,null,null,null,null,null,1894.5914310000001,2158.01001,1402.5047609999999,1914.8583980000001,962.78363000000002,1.0622279239402666E-2,1988.7623289999999]
[null,null,null,null,null,null,null,null,null,null,null,null,null,null,null,null,null,null,null,null,null,null,null,null,null,null,null,null,null,null,null,1.0366854378445704E-2,null,null,null,null,null,null,null,null,null,null,null,null,null,null,null,null,null,null,null,null,null,null,null,null,null,1840.832764,2119.2421880000002,1356.6209719999999,1857.6514890000001,929.85583499999996,1.0366854378445704E-2,1929.701294]
[null,null,null,null,null,null,null,null,null,null,null,null,null,null,null,null,null,null,null,null,null,null,null,null,null,null,null,null,null,null,null,9.9653077104881541E-3,null,null,null,null,null,null,null,null,null,null,null,null,null,null,null,null,null,null,null,null,null,null,null,null,null,1779.161865,2021.6256100000001,1301.1669919999999,1801.647827,884.86584500000004,9.9653077104881541E-3,1864.8758539999999]
[null,null,null,null,null,null,null,null,null,null,null,null,null,null,null,null,null,null,null,null,null,null,null,null,null,null,null,null,null,null,null,9.2541755411884776E-3,null,null,null,null,null,null,null,null,null,null,null,null,null,null,null,null,null,null,null,null,null,null,null,null,null,1709.198975,1919.4381100000001,1245.771362,1729.4205320000001,829.902466,9.2541755411884776E-3,1789.2486570000001]
[null,null,null,null,null,null,null,null,null,null,null,null,null,null,null,null,null,null,null,null,null,null,null,null,null,null,null,null,null,null,null,9.3642542672250119E-3,null,null,null,null,null,null,null,null,null,null,null,null,null,null,null,null,null,null,null,null,null,null,null,null,null,1646.485596,1872.6170649999999,1189.2797849999999,1664.196899,790.62261999999998,9.3642542672250119E-3,1722.457764]
[null,null,null,null,null,null,null,null,null,null,null,null,null,null,null,null,null,null,null,null,null,null,null,null,null,null,null,null,null,null,null,8.8421732983175617E-3,null,null,null,null,null,null,null,null,null,null,null,null,null,null,null,null,null,null,null,null,null,null,null,null,null,1575.759644,1796.2104489999999,1137.8258060000001,1592.830688,755.46283000000005,8.8421732983175617E-3,1662.916626]
[null,null,null,null,null,null,null,null,null,null,null,null,null,null,null,null,null,null,null,null,null,null,null,null,null,null,null,null,null,null,null,8.8577332670552178E-3,null,null,null,null,null,null,null,null,null,null,null,null,null,null,null,null,null,null,null,null,null,null,null,null,null,1517.550293,1656.851807,1105.0146480000001,1527.710327,721.49603300000001,8.8577332670552178E-3,1606.362427]
[null,null,null,null,null,null,null,null,null,null,null,null,null,null,null,null,null,null,null,null,null,null,null,null,null,null,null,null,null,null,null,9.0862223993838538E-3,null,null,null,null,null,null,null,null,null,null,null,null,null,null,null,null,null,null,null,null,null,null,null,null,null,1452.0802000000001,1523.4488530000001,1066.3927000000001,1471.2531739999999,686.26409899999999,9.0862223993838538E-3,1544.3474120000001]
[null,null,null,null,null,null,null,null,null,null,null,null,null,null,null,null,null,null,null,null,null,null,null,null,null,null,null,null,null,null,null,8.5662165054652996E-3,null,null,null,null,null,null,null,null,null,null,null,null,null,null,null,null,null,null,null,null,null,null,null,null,null,1396.770996,1501.701538,1025.114746,1414.4151609999999,649.87377900000001,8.5662165054652996E-3,1489.963501]
[null,null,null,null,null,null,null,null,null,null,null,null,null,null,null,null,null,null,null,null,null,null,null,null,null,null,null,null,null,null,null,8.276879403110813E-3,null,null,null,null,null,null,null,null,null,null,null,null,null,null,null,null,null,null,null,null,null,null,null,null,null,1337.152466,1451.991943,983.82006799999999,1361.579956,611.530396,8.276879403110813E-3,1437.728638]
[null,null,null,null,null,null,null,null,null,null,null,null,null,null,null,null,null,null,null,null,null,null,null,null,null,null,null,null,null,null,null,7.9972893916138744E-3,null,null,null,null,null,null,null,null,null,null,null,null,null,null,null,null,null,null,null,null,null,null,null,null,null,1284.9648440000001,1463.6297609999999,940.75335700000005,1312.381592,586.62640399999998,7.9972893916138744E-3,1389.3114009999999]
[null,null,null,null,null,null,null,null,null,null,null,null,null,null,null,null,null,null,null,null,null,null,null,null,null,null,null,null,null,null,null,7.6467559321988328E-3,null,null,null,null,null,null,null,null,null,null,null,null,null,null,null,null,null,null,null,null,null,null,null,null,null,1246.3217770000001,1463.3048100000001,906.45471199999997,1271.9736330000001,561.28820800000005,7.6467559321988328E-3,1339.9664310000001]
[null,null,null,null,null,null,null,null,null,null,null,null,null,null,null,null,null,null,null,null,null,null,null,null,null,null,null,null,null,null,null,7.0649178952216759E-3,null,null,null,null,null,null,null,null,null,null,null,null,null,null,null,null,null,null,null,null,null,null,null,null,null,1204.4350589999999,1456.6906739999999,863.37738000000002,1231.0491939999999,536.91863999999998,7.0649178952216759E-3,1295.896606]
[null,null,null,null,null,null,null,null,null,null,null,null,null,null,null,null,null,null,null,null,null,null,null,null,null,null,null,null,null,null,null,6.8531453095584888E-3,null,null,null,null,null,null,null,null,null,null,null,null,null,null,null,null,null,null,null,null,null,null,null,null,null,1178.8530270000001,1412.5267329999999,827.19897500000002,1194.9105219999999,520.40783699999997,6.8531453095584888E-3,1259.790039]
[null,null,null,null,null,null,null,null,null,null,null,null,null,null,null,null,null,null,null,null,null,null,null,null,null,null,null,null,null,null,null,6.6079999883826264E-3,null,null,null,null,null,null,null,null,null,null,null,null,null,null,null,null,null,null,null,null,null,null,null,null,null,1136.246948,1324.085327,793.53991699999995,1153.184692,498.69226099999997,6.6079999883826264E-3,1215.7138669999999]
[null,null,null,null,null,null,null,null,null,null,null,null,null,null,null,null,null,null,null,null,null,null,null,null,null,null,null,null,null,null,null,6.2776422008134622E-3,null,null,null,null,null,null,null,null,null,null,null,null,null,null,null,null,null,null,null,null,null,null,null,null,null,1099.681885,1299.680664,757.43102999999996,1118.4351810000001,474.74142499999999,6.2776422008134622E-3,1171.4555660000001]
[null,null,null,null,null,null,null,null,null,null,null,null,null,null,null,null,null,null,null,null,null,null,null,null,null,null,null,null,null,null,null,6.4697731534993893E-3,null,null,null,null,null,null,null,null,null,null,null,null,null,null,null,null,null,null,null,null,null,null,null,null,null,1055.045288,1267.615845,722.27874799999995,1080.5908199999999,437.92370599999998,6.4697731534993893E-3,1123.7358400000001]
[null,null,null,null,null,null,null,null,null,null,null,null,null,null,null,null,null,null,null,null,null,null,null,null,null,null,null,null,null,null,null,6.2830347164754196E-3,null,null,null,null,null,null,null,null,null,null,null,null,null,null,null,null,null,null,null,null,null,null,null,null,null,1006.7449339999999,1084.421509,680.990723,1036.893433,395.32849099999999,6.2830347164754196E-3,1076.567139]
[null,null,null,null,null,null,null,null,null,null,null,null,null,null,null,null,null,null,null,null,null,null,null,null,null,null,null,null,null,null,null,5.8066429344598037E-3,null,null,null,null,null,null,null,null,null,null,null,null,null,null,null,null,null,null,null,null,null,null,null,null,null,961.75744599999996,994.94628899999998,633.48022500000002,989.22863800000005,353.08926400000001,5.8066429344598037E-3,1027.500366]
[null,null,null,null,null,null,null,null,null,null,null,null,null,null,null,null,null,null,null,null,null,null,null,null,null,null,null,null,null,null,null,5.8609380639206825E-3,null,null,null,null,null,null,null,null,null,null,null,null,null,null,null,null,null,null,null,null,null,null,null,null,null,920.71978799999999,1011.766357,598.31976299999997,949.723389,323.12313799999998,5.8609380639206825E-3,985.09887700000002]
[null,null,null,null,null,null,null,null,null,null,null,null,null,null,null,null,null,null,null,null,null,null,null,null,null,null,null,null,null,null,null,5.4890136538858231E-3,null,null,null,null,null,null,null,null,null,null,null,null,null,null,null,null,null,null,null,null,null,null,null,null,null,882.17059300000005,998.43054199999995,560.34973100000002,912.49975600000005,291.77694700000001,5.4890136538858231E-3,941.83868399999994]
[null,null,null,null,null,null,null,null,null,null,null,null,null,null,null,null,null,null,null,null,null,null,null,null,null,null,null,null,null,null,null,5.5801960799325397E-3,null,null,null,null,null,null,null,null,null,null,null,null,null,null,null,null,null,null,null,null,null,null,null,null,null,837.61187700000005,844.009094,518.82678199999998,864.27740500000004,256.08526599999999,5.5801960799325397E-3,899.67761199999995]
[null,null,null,null,null,null,null,null,null,null,null,null,null,null,null,null,null,null,null,null,null,null,null,null,null,null,null,null,null,null,null,5.3205398523830877E-3,null,null,null,null,null,null,null,null,null,null,null,null,null,null,null,null,null,null,null,null,null,null,null,null,null,808.53356900000006,731.85199,483.08410600000002,815.31909199999996,236.508636,5.3205398523830877E-3,861.30731200000002]
[null,null,null,null,null,null,null,null,null,null,null,null,null,null,null,null,null,null,null,null,null,null,null,null,null,null,null,null,null,null,null,4.9398929614984551E-3,null,null,null,null,null,null,null,null,null,null,null,null,null,null,null,null,null,null,null,null,null,null,null,null,null,771.38207999999997,638.17309599999999,445.69418300000001,766.50720200000001,212.98182700000001,4.9398929614984551E-3,823.667419]
[null,null,null,null,null,null,null,null,null,null,null,null,null,null,null,null,null,null,null,null,null,null,null,null,null,null,null,null,null,null,null,4.2328639006458113E-3,null,null,null,null,null,null,null,null,null,null,null,null,null,null,null,null,null,null,null,null,null,null,null,null,null,746.39794900000004,640.26696800000002,416.62777699999998,728.84814500000005,193.27832000000001,4.2328639006458113E-3,787.52624500000002]
[null,null,null,null,null,null,null,null,null,null,null,null,null,null,null,null,null,null,null,null,null,null,null,null,null,null,null,null,null,null,null,4.3185876593594651E-3,null,null,null,null,null,null,null,null,null,null,null,null,null,null,null,null,null,null,null,null,null,null,null,null,null,711.07531700000004,521.60693400000002,399.24197400000003,702.97265600000003,171.86698899999999,4.3185876593594651E-3,761.76593000000003]
[null,null,null,null,null,null,null,null,null,null,null,null,null,null,null,null,null,null,null,null,null,null,null,null,null,null,null,null,null,null,null,4.4348158579786898E-3,null,null,null,null,null,null,null,null,null,null,null,null,null,null,null,null,null,null,null,null,null,null,null,null,null,687.09844999999996,440.470551,373.57995599999998,675.19958499999996,153.850098,4.4348158579786898E-3,738.75762899999995]
[null,null,null,null,null,null,null,null,null,null,null,null,null,null,null,null,null,null,null,null,null,null,null,null,null,null,null,null,null,null,null,4.4024716051152459E-3,null,null,null,null,null,null,null,null,null,null,null,null,null,null,null,null,null,null,null,null,null,null,null,null,null,662.00006099999996,513.19281000000001,361.67834499999998,660.26763900000003,142.794174,4.4024716051152459E-3,715.91510000000005]
[null,null,null,null,null,null,null,null,null,null,null,null,null,null,null,null,null,null,null,null,null,null,null,null,null,null,null,null,null,null,null,4.4434784474766901E-3,null,null,null,null,null,null,null,null,null,null,null,null,null,null,null,null,null,null,null,null,null,null,null,null,null,630.46838400000001,526.55731200000002,347.82418799999999,641.34832800000004,121.847267,4.4434784474766901E-3,688.941101]
[null,null,null,null,null,null,null,null,null,null,null,null,null,null,null,null,null,null,null,null,null,null,null,null,null,null,null,null,null,null,null,3.8391043715792239E-3,null,null,null,null,null,null,null,null,null,null,null,null,null,null,null,null,null,null,null,null,null,null,null,null,null,606.61395300000004,621.99230999999997,328.95693999999997,623.54003899999998,97.230628999999993,3.8391043715792239E-3,658.71630900000002]
[null,null,null,null,null,null,null,null,null,null,null,null,null,null,null,null,null,null,null,null,null,null,null,null,null,null,null,null,null,null,null,3.9095366150399347E-3,null,null,null,null,null,null,null,null,null,null,null,null,null,null,null,null,null,null,null,null,null,null,null,null,null,575.27313200000003,680.91747999999995,312.20016500000003,603.04217500000004,86.830933000000002,3.9095366150399347E-3,626.78192100000001]
[null,null,null,null,null,null,null,null,null,null,null,null,null,null,null,null,null,null,null,null,null,null,null,null,null,null,null,null,null,null,null,3.9357036288684144E-3,null,null,null,null,null,null,null,null,null,null,null,null,null,null,null,null,null,null,null,null,null,null,null,null,null,555.74444600000004,678.05444299999999,289.71295199999997,576.44256600000006,67.719336999999996,3.9357036288684144E-3,591.26574700000003]
[null,null,null,null,null,null,null,null,null,null,null,null,null,null,null,null,null,null,null,null,null,null,null,null,null,null,null,null,null,null,null,4.1929265660689335E-3,null,null,null,null,null,null,null,null,null,null,null,null,null,null,null,null,null,null,null,null,null,null,null,null,null,528.63519299999996,580.02288799999997,272.90365600000001,546.558899,50.600281000000003,4.1929265660689335E-3,559.07708700000001]
[null,null,null,null,null,null,null,null,null,null,null,null,null,null,null,null,null,null,null,null,null,null,null,null,null,null,null,null,null,null,null,4.0563464631412525E-3,null,null,null,null,null,null,null,null,null,null,null,null,null,null,null,null,null,null,null,null,null,null,null,null,null,507.00891100000001,528.81085199999995,253.17289700000001,519.64306599999998,42.863017999999997,4.0563464631412525E-3,536.68347200000005]
[null,null,null,null,null,null,null,null,null,null,null,null,null,null,null,null,null,null,null,null,null,null,null,null,null,null,null,null,null,null,null,3.7388451264662973E-3,null,null,null,null,null,null,null,null,null,null,null,null,null,null,null,null,null,null,null,null,null,null,null,null,null,497.781586,443.099335,235.831512,500.59768700000001,20.810614000000001,3.7388451264662973E-3,512.06341599999996]
[null,null,null,null,null,null,null,null,null,null,null,null,null,null,null,null,null,null,null,null,null,null,null,null,null,null,null,null,null,null,null,3.6968498559467803E-3,null,null,null,null,null,null,null,null,null,null,null,null,null,null,null,null,null,null,null,null,null,null,null,null,null,470.87677000000002,428.66232300000001,207.81899999999999,467.92184400000002,2.8389799999999998,3.6968498559467803E-3,489.44470200000001]
[null,null,null,null,null,null,null,null,null,null,null,null,null,null,null,null,null,null,null,null,null,null,null,null,null,null,null,null,null,null,null,3.5731540851245279E-3,null,null,null,null,null,null,null,null,null,null,null,null,null,null,null,null,null,null,null,null,null,null,null,null,null,431.58255000000003,324.68460099999999,174.51345800000001,431.97534200000001,-10.46893,3.5731540851245279E-3,449.67691000000002]
[null,null,null,null,null,null,null,null,null,null,null,null,null,null,null,null,null,null,null,null,null,null,null,null,null,null,null,null,null,null,null,3.4935911528384406E-3,null,null,null,null,null,null,null,null,null,null,null,null,null,null,null,null,null,null,null,null,null,null,null,null,null,400.69921900000003,342.118988,146.02827500000001,396.68469199999998,-42.366844,3.4935911528384406E-3,423.41104100000001]
[null,null,null,null,null,null,null,null,null,null,null,null,null,null,null,null,null,null,null,null,null,null,null,null,null,null,null,null,null,null,null,3.2527743780850962E-3,null,null,null,null,null,null,null,null,null,null,null,null,null,null,null,null,null,null,null,null,null,null,null,null,null,358.687927,395.53918499999997,105.850685,356.52145400000001,-78.549171000000001,3.2527743780850962E-3,386.24749800000001]
[null,null,null,null,null,null,null,null,null,null,null,null,null,null,null,null,null,null,null,null,null,null,null,null,null,null,null,null,null,null,null,3.1308932706535426E-3,null,null,null,null,null,null,null,null,null,null,null,null,null,null,null,null,null,null,null,null,null,null,null,null,null,318.15838600000001,411.94671599999998,72.010918000000004,310.88104199999998,-107.291298,3.1308932706535426E-3,342.08349600000003]
[null,null,null,null,null,null,null,null,null,null,null,null,null,null,null,null,null,null,null,null,null,null,null,null,null,null,null,null,null,null,null,3.1744818084971527E-3,null,null,null,null,null,null,null,null,null,null,null,null,null,null,null,null,null,null,null,null,null,null,null,null,null,279.13601699999998,497.401184,38.158679999999997,277.911316,-135.479355,3.1744818084971527E-3,310.47125199999999]
[null,null,null,null,null,null,null,null,null,null,null,null,null,null,null,null,null,null,null,null,null,null,null,null,null,null,null,null,null,null,null,2.9748856103523772E-3,null,null,null,null,null,null,null,null,null,null,null,null,null,null,null,null,null,null,null,null,null,null,null,null,null,250.80862400000001,493.231201,23.433440999999998,256.91629,-162.017303,2.9748856103523772E-3,285.68789700000002]
[null,null,null,null,null,null,null,null,null,null,null,null,null,null,null,null,null,null,null,null,null,null,null,null,null,null,null,null,null,null,null,2.9788773842265135E-3,null,null,null,null,null,null,null,null,null,null,null,null,null,null,null,null,null,null,null,null,null,null,null,null,null,218.34316999999999,417.80844100000002,11.067555,227.38893100000001,-191.05917400000001,2.9788773842265135E-3,263.31710800000002]
[null,null,null,null,null,null,null,null,null,null,null,null,null,null,null,null,null,null,null,null,null,null,null,null,null,null,null,null,null,null,null,2.7565726608274497E-3,null,null,null,null,null,null,null,null,null,null,null,null,null,null,null,null,null,null,null,null,null,null,null,null,null,180.48281900000001,328.26083399999999,-12.392683,193.31603999999999,-218.18391399999999,2.7565726608274497E-3,233.01670799999999]
[null,null,null,null,null,null,null,null,null,null,null,null,null,null,null,null,null,null,null,null,null,null,null,null,null,null,null,null,null,null,null,2.8567126300223481E-3,null,null,null,null,null,null,null,null,null,null,null,null,null,null,null,null,null,null,null,null,null,null,null,null,null,158.64996300000001,230.080322,-27.961842999999998,170.60069300000001,-238.662811,2.8567126300223481E-3,214.019531]
[null,null,null,null,null,null,null,null,null,null,null,null,null,null,null,null,null,null,null,null,null,null,null,null,null,null,null,null,null,null,null,2.6100258633445237E-3,null,null,null,null,null,null,null,null,null,null,null,null,null,null,null,null,null,null,null,null,null,null,null,null,null,145.386154,220.44740300000001,-45.061928000000002,158.202347,-255.57424900000001,2.6100258633445237E-3,200.73915099999999]
[null,null,null,null,null,null,null,null,null,null,null,null,null,null,null,null,null,null,null,null,null,null,null,null,null,null,null,null,null,null,null,2.349423729236369E-3,null,null,null,null,null,null,null,null,null,null,null,null,null,null,null,null,null,null,null,null,null,null,null,null,null,122.98841899999999,127.214989,-61.424945999999998,140.37017800000001,-270.38836700000002,2.349423729236369E-3,182.720932]
[null,null,null,null,null,null,null,null,null,null,null,null,null,null,null,null,null,null,null,null,null,null,null,null,null,null,null,null,null,null,null,2.4055523686837012E-3,null,null,null,null,null,null,null,null,null,null,null,null,null,null,null,null,null,null,null,null,null,null,null,null,null,108.899727,1.9215770000000001,-75.606635999999995,117.08607499999999,-275.18701199999998,2.4055523686837012E-3,164.269836]
[null,null,null,null,null,null,null,null,null,null,null,null,null,null,null,null,null,null,null,null,null,null,null,null,null,null,null,null,null,null,null,2.5883347873771889E-3,null,null,null,null,null,null,null,null,null,null,null,null,null,null,null,null,null,null,null,null,null,null,null,null,null,95.302925000000002,16.763638,-95.388938999999993,102.101364,-291.89718599999998,2.5883347873771889E-3,145.30178799999999]
[null,null,null,null,null,null,null,null,null,null,null,null,null,null,null,null,null,null,null,null,null,null,null,null,null,null,null,null,null,null,null,2.449535105708959E-3,null,null,null,null,null,null,null,null,null,null,null,null,null,null,null,null,null,null,null,null,null,null,null,null,null,83.837051000000002,100.742943,-124.55519099999999,81.813903999999994,-304.73794600000002,2.449535105708959E-3,123.098724]
[null,null,null,null,null,null,null,null,null,null,null,null,null,null,null,null,null,null,null,null,null,null,null,null,null,null,null,null,null,null,null,2.4441585870691486E-3,null,null,null,null,null,null,null,null,null,null,null,null,null,null,null,null,null,null,null,null,null,null,null,null,null,63.569175999999999,206.34704600000001,-150.794693,59.475287999999999,-319.26522799999998,2.4441585870691486E-3,101.464249]
[null,null,null,null,null,null,null,null,null,null,null,null,null,null,null,null,null,null,null,null,null,null,null,null,null,null,null,null,null,null,null,2.7240161151025847E-3,null,null,null,null,null,null,null,null,null,null,null,null,null,null,null,null,null,null,null,null,null,null,null,null,null,32.318283000000001,209.079926,-170.70564300000001,33.147784999999999,-335.61776700000001,2.7240161151025847E-3,71.473129]
[null,null,null,null,null,null,null,null,null,null,null,null,null,null,null,null,null,null,null,null,null,null,null,null,null,null,null,null,null,null,null,2.4572360861021469E-3,null,null,null,null,null,null,null,null,null,null,null,null,null,null,null,null,null,null,null,null,null,null,null,null,null,17.269656999999999,204.605423,-188.85707099999999,4.0837430000000001,-345.89730800000001,2.4572360861021469E-3,50.518627000000002]
[null,null,null,null,null,null,null,null,null,null,null,null,null,null,null,null,null,null,null,null,null,null,null,null,null,null,null,null,null,null,null,2.368978690883134E-3,null,null,null,null,null,null,null,null,null,null,null,null,null,null,null,null,null,null,null,null,null,null,null,null,null,-2.125556,176.90077199999999,-192.156113,-7.6556110000000004,-345.06582600000002,2.368978690883134E-3,34.674033999999999]
[null,null,null,null,null,null,null,null,null,null,null,null,null,null,null,null,null,null,null,null,null,null,null,null,null,null,null,null,null,null,null,2.1962604963634016E-3,null,null,null,null,null,null,null,null,null,null,null,null,null,null,null,null,null,null,null,null,null,null,null,null,null,-7.3329430000000002,83.618026999999998,-213.42295799999999,-24.496676999999998,-343.220123,2.1962604963634016E-3,20.677982]
[null,null,null,null,null,null,null,null,null,null,null,null,null,null,null,null,null,null,null,null,null,null,null,null,null,null,null,null,null,null,null,1.9962050335401624E-3,null,null,null,null,null,null,null,null,null,null,null,null,null,null,null,null,null,null,null,null,null,null,null,null,null,-39.823563,-155.95259100000001,-221.15635700000001,-47.334915000000002,-356.02444500000001,1.9962050335401624E-3,-2.6984460000000001]
[null,null,null,null,null,null,null,null,null,null,null,null,null,null,null,null,null,null,null,null,null,null,null,null,null,null,null,null,null,null,null,2.0819523890349976E-3,null,null,null,null,null,null,null,null,null,null,null,null,null,null,null,null,null,null,null,null,null,null,null,null,null,-79.719666000000004,-269.527649,-235.343658,-78.556526000000005,-370.23779300000001,2.0819523890349976E-3,-31.224974]
[null,null,null,null,null,null,null,null,null,null,null,null,null,null,null,null,null,null,null,null,null,null,null,null,null,null,null,null,null,null,null,2.1377001069557726E-3,null,null,null,null,null,null,null,null,null,null,null,null,null,null,null,null,null,null,null,null,null,null,null,null,null,-103.967026,-405.186981,-265.01663200000002,-111.742813,-388.53112800000002,2.1377001069557726E-3,-56.732886999999998]
[null,null,null,null,null,null,null,null,null,null,null,null,null,null,null,null,null,null,null,null,null,null,null,null,null,null,null,null,null,null,null,2.3218944112822402E-3,null,null,null,null,null,null,null,null,null,null,null,null,null,null,null,null,null,null,null,null,null,null,null,null,null,-119.886307,-394.43615699999998,-275.96255500000001,-130.113541,-394.46307400000001,2.3218944112822402E-3,-74.227310000000003]
[null,null,null,null,null,null,null,null,null,null,null,null,null,null,null,null,null,null,null,null,null,null,null,null,null,null,null,null,null,null,null,2.0615031308983318E-3,null,null,null,null,null,null,null,null,null,null,null,null,null,null,null,null,null,null,null,null,null,null,null,null,null,-138.69244399999999,-425.79284699999999,-291.596161,-149.25242600000001,-407.03985599999999,2.0615031308983318E-3,-87.012939000000003]
[null,null,null,null,null,null,null,null,null,null,null,null,null,null,null,null,null,null,null,null,null,null,null,null,null,null,null,null,null,null,null,1.8665777682645599E-3,null,null,null,null,null,null,null,null,null,null,null,null,null,null,null,null,null,null,null,null,null,null,null,null,null,-154.29200700000001,-455.176331,-292.20666499999999,-157.000992,-422.48538200000002,1.8665777682645599E-3,-99.938941999999997]
[null,null,null,null,null,null,null,null,null,null,null,null,null,null,null,null,null,null,null,null,null,null,null,null,null,null,null,null,null,null,null,1.421960060365299E-3,null,null,null,null,null,null,null,null,null,null,null,null,null,null,null,null,null,null,null,null,null,null,null,null,null,-153.860489,-355.39102200000002,-303.96508799999998,-164.11631800000001,-425.99981700000001,1.421960060365299E-3,-104.32981100000001]
[null,null,null,null,null,null,null,null,null,null,null,null,null,null,null,null,null,null,null,null,null,null,null,null,null,null,null,null,null,null,null,1.2249290658829346E-3,null,null,null,null,null,null,null,null,null,null,null,null,null,null,null,null,null,null,null,null,null,null,null,null,null,-153.91995199999999,-308.96087599999998,-324.22311400000001,-169.46954299999999,-439.740814,1.2249290658829346E-3,-114.741753]
[null,null,null,null,null,null,null,null,null,null,null,null,null,null,null,null,null,null,null,null,null,null,null,null,null,null,null,null,null,null,null,1.2813023586048123E-3,null,null,null,null,null,null,null,null,null,null,null,null,null,null,null,null,null,null,null,null,null,null,null,null,null,-176.126678,-338.89401199999998,-340.18499800000001,-181.10493500000001,-465.53491200000002,1.2813023586048123E-3,-133.39572100000001]
[null,null,null,null,null,null,null,null,null,null,null,null,null,null,null,null,null,null,null,null,null,null,null,null,null,null,null,null,null,null,null,1.3920762341552563E-3,null,null,null,null,null,null,null,null,null,null,null,null,null,null,null,null,null,null,null,null,null,null,null,null,null,-184.962265,-508.665009,-344.030914,-179.83886699999999,-484.769318,1.3920762341552563E-3,-148.20266699999999]
[null,null,null,null,null,null,null,null,null,null,null,null,null,null,null,null,null,null,null,null,null,null,null,null,null,null,null,null,null,null,null,1.5649295331706255E-3,null,null,null,null,null,null,null,null,null,null,null,null,null,null,null,null,null,null,null,null,null,null,null,null,null,-176.098816,-494.993134,-347.27822900000001,-175.38171399999999,-491.09316999999999,1.5649295331706255E-3,-149.16345200000001]
[null,null,null,null,null,null,null,null,null,null,null,null,null,null,null,null,null,null,null,null,null,null,null,null,null,null,null,null,null,null,null,1.7704735507369884E-3,null,null,null,null,null,null,null,null,null,null,null,null,null,null,null,null,null,null,null,null,null,null,null,null,null,-179.646332,-456.40859999999998,-351.96536300000002,-178.25947600000001,-492.26400799999999,1.7704735507369884E-3,-148.74685700000001]
[null,null,null,null,null,null,null,null,null,null,null,null,null,null,null,null,null,null,null,null,null,null,null,null,null,null,null,null,null,null,null,1.3853290577246584E-3,null,null,null,null,null,null,null,null,null,null,null,null,null,null,null,null,null,null,null,null,null,null,null,null,null,-189.22126800000001,-533.76538100000005,-349.51727299999999,-185.07498200000001,-494.87326000000002,1.3853290577246584E-3,-146.97465500000001]
[null,null,null,null,null,null,null,null,null,null,null,null,null,null,null,null,null,null,null,null,null,null,null,null,null,null,null,null,null,null,null,1.4875710483464289E-3,null,null,null,null,null,null,null,null,null,null,null,null,null,null,null,null,null,null,null,null,null,null,null,null,null,-202.004547,-616.703125,-353.53625499999998,-189.070267,-500.47387700000002,1.4875710483464289E-3,-151.63412500000001]
[null,null,null,null,null,null,null,null,null,null,null,null,null,null,null,null,null,null,null,null,null,null,null,null,null,null,null,null,null,null,null,1.2570524486793964E-3,null,null,null,null,null,null,null,null,null,null,null,null,null,null,null,null,null,null,null,null,null,null,null,null,null,-187.97891200000001,-500.44912699999998,-330.647064,-175.045197,-483.24221799999998,1.2570524486793964E-3,-143.145523]
[null,null,null,null,null,null,null,null,null,null,null,null,null,null,null,null,null,null,null,null,null,null,null,null,null,null,null,null,null,null,null,1.4179316798334793E-3,null,null,null,null,null,null,null,null,null,null,null,null,null,null,null,null,null,null,null,null,null,null,null,null,null,-175.472992,-283.03646900000001,-328.01550300000002,-168.45611600000001,-463.91507000000001,1.4179316798334793E-3,-133.01547199999999]
[null,null,null,null,null,null,null,null,null,null,null,null,null,null,null,null,null,null,null,null,null,null,null,null,null,null,null,null,null,null,null,8.3137013146057366E-4,null,null,null,null,null,null,null,null,null,null,null,null,null,null,null,null,null,null,null,null,null,null,null,null,null,-169.86393699999999,-250.26406900000001,-308.98550399999999,-155.44120799999999,-444.05682400000001,8.3137013146057366E-4,-127.096771]
[null,null,null,null,null,null,null,null,null,null,null,null,null,null,null,null,null,null,null,null,null,null,null,null,null,null,null,null,null,null,null,9.8371960046133135E-4,null,null,null,null,null,null,null,null,null,null,null,null,null,null,null,null,null,null,null,null,null,null,null,null,null,-141.48971599999999,-406.76037600000001,-284.859283,-136.36552399999999,-423.99707000000001,9.8371960046133135E-4,-103.38919799999999]
[null,null,null,null,null,null,null,null,null,null,null,null,null,null,null,null,null,null,null,null,null,null,null,null,null,null,null,null,null,null,null,8.7748455680349197E-4,null,null,null,null,null,null,null,null,null,null,null,null,null,null,null,null,null,null,null,null,null,null,null,null,null,-113.48307800000001,-298.02301,-262.825897,-103.08260300000001,-398.635223,8.7748455680349197E-4,-88.417312999999993]
[null,null,null,null,null,null,null,null,null,null,null,null,null,null,null,null,null,null,null,null,null,null,null,null,null,null,null,null,null,null,null,9.8556584705351553E-4,null,null,null,null,null,null,null,null,null,null,null,null,null,null,null,null,null,null,null,null,null,null,null,null,null,-95.961983000000004,-229.82637,-233.924362,-93.883430000000004,-376.23288000000002,9.8556584705351553E-4,-87.923141000000001]
[null,null,null,null,null,null,null,null,null,null,null,null,null,null,null,null,null,null,null,null,null,null,null,null,null,null,null,null,null,null,null,1.016203327881711E-3,null,null,null,null,null,null,null,null,null,null,null,null,null,null,null,null,null,null,null,null,null,null,null,null,null,-88.601928999999998,-168.911407,-225.18583699999999,-90.739906000000005,-362.48095699999999,1.016203327881711E-3,-87.664612000000005]
[null,null,null,null,null,null,null,null,null,null,null,null,null,null,null,null,null,null,null,null,null,null,null,null,null,null,null,null,null,null,null,1.4242251294571031E-3,null,null,null,null,null,null,null,null,null,null,null,null,null,null,null,null,null,null,null,null,null,null,null,null,null,-72.012046999999995,-291.70349099999999,-206.79750100000001,-71.871444999999994,-343.153076,1.4242251294571031E-3,-69.228386]
[null,null,null,null,null,null,null,null,null,null,null,null,null,null,null,null,null,null,null,null,null,null,null,null,null,null,null,null,null,null,null,1.273277615620649E-3,null,null,null,null,null,null,null,null,null,null,null,null,null,null,null,null,null,null,null,null,null,null,null,null,null,-55.585487000000001,-273.14633199999997,-202.481583,-60.270316999999999,-337.67416400000002,1.273277615620649E-3,-53.453259000000003]
[null,null,null,null,null,null,null,null,null,null,null,null,null,null,null,null,null,null,null,null,null,null,null,null,null,null,null,null,null,null,null,1.0766488885552371E-3,null,null,null,null,null,null,null,null,null,null,null,null,null,null,null,null,null,null,null,null,null,null,null,null,null,-60.640647999999999,-166.68627900000001,-200.15545700000001,-44.285366000000003,-331.00650000000002,1.0766488885552371E-3,-50.729514999999999]
[null,null,null,null,null,null,null,null,null,null,null,null,null,null,null,null,null,null,null,null,null,null,null,null,null,null,null,null,null,null,null,1.0697610997933277E-3,null,null,null,null,null,null,null,null,null,null,null,null,null,null,null,null,null,null,null,null,null,null,null,null,null,-73.015106000000003,-122.789162,-196.885605,-57.546295000000001,-336.05749500000002,1.0697610997933277E-3,-58.114531999999997]
[null,null,null,null,null,null,null,null,null,null,null,null,null,null,null,null,null,null,null,null,null,null,null,null,null,null,null,null,null,null,null,1.1569278292529849E-3,null,null,null,null,null,null,null,null,null,null,null,null,null,null,null,null,null,null,null,null,null,null,null,null,null,-71.864463999999998,-96.436713999999995,-204.946899,-56.822490999999999,-332.688354,1.1569278292529849E-3,-60.363025999999998]
[null,null,null,null,null,null,null,null,null,null,null,null,null,null,null,null,null,null,null,null,null,null,null,null,null,null,null,null,null,null,null,1.0396642566841759E-3,null,null,null,null,null,null,null,null,null,null,null,null,null,null,null,null,null,null,null,null,null,null,null,null,null,-72.054817,-181.905823,-218.263428,-61.810085000000001,-337.61184700000001,1.0396642566841759E-3,-54.655253999999999]
[null,null,null,null,null,null,null,null,null,null,null,null,null,null,null,null,null,null,null,null,null,null,null,null,null,null,null,null,null,null,null,1.0906909529431754E-3,null,null,null,null,null,null,null,null,null,null,null,null,null,null,null,null,null,null,null,null,null,null,null,null,null,-71.299071999999995,-177.01033000000001,-220.208282,-57.277897000000003,-341.34667999999999,1.0906909529431754E-3,-54.392975]
[null,null,null,null,null,null,null,null,null,null,null,null,null,null,null,null,null,null,null,null,null,null,null,null,null,null,null,null,null,null,null,8.1978561703508683E-4,null,null,null,null,null,null,null,null,null,null,null,null,null,null,null,null,null,null,null,null,null,null,null,null,null,-89.810890000000001,-177.205536,-235.03247099999999,-69.355819999999994,-347.32379200000003,8.1978561703508683E-4,-70.284881999999996]
[null,null,null,null,null,null,null,null,null,null,null,null,null,null,null,null,null,null,null,null,null,null,null,null,null,null,null,null,null,null,null,6.9414713944137175E-4,null,null,null,null,null,null,null,null,null,null,null,null,null,null,null,null,null,null,null,null,null,null,null,null,null,-99.901793999999995,-76.856964000000005,-239.263947,-85.815094000000002,-362.72790500000002,6.9414713944137175E-4,-72.061783000000005]
[null,null,null,null,null,null,null,null,null,null,null,null,null,null,null,null,null,null,null,null,null,null,null,null,null,null,null,null,null,null,null,7.6115285205351126E-4,null,null,null,null,null,null,null,null,null,null,null,null,null,null,null,null,null,null,null,null,null,null,null,null,null,-100.89014400000001,-136.852585,-257.00753800000001,-89.516090000000005,-377.01049799999998,7.6115285205351126E-4,-71.300651999999999]
[null,null,null,null,null,null,null,null,null,null,null,null,null,null,null,null,null,null,null,null,null,null,null,null,null,null,null,null,null,null,null,5.0755102484101213E-4,null,null,null,null,null,null,null,null,null,null,null,null,null,null,null,null,null,null,null,null,null,null,null,null,null,-112.606216,-190.05458100000001,-278.90914900000001,-97.114852999999997,-398.96499599999999,5.0755102484101213E-4,-69.183211999999997]
[null,null,null,null,null,null,null,null,null,null,null,null,null,null,null,null,null,null,null,null,null,null,null,null,null,null,null,null,null,null,null,5.2778594439599924E-4,null,null,null,null,null,null,null,null,null,null,null,null,null,null,null,null,null,null,null,null,null,null,null,null,null,-107.262817,-20.503817000000002,-277.33642600000002,-92.506637999999995,-408.91659499999997,5.2778594439599924E-4,-65.203224000000006]
[null,null,null,null,null,null,null,null,null,null,null,null,null,null,null,null,null,null,null,null,null,null,null,null,null,null,null,null,null,null,null,6.1061062789492077E-4,null,null,null,null,null,null,null,null,null,null,null,null,null,null,null,null,null,null,null,null,null,null,null,null,null,-117.089264,136.41961699999999,-275.36511200000001,-97.449837000000002,-425.99822999999998,6.1061062789492077E-4,-68.300697]
[null,null,null,null,null,null,null,null,null,null,null,null,null,null,null,null,null,null,null,null,null,null,null,null,null,null,null,null,null,null,null,6.3558322108118667E-4,null,null,null,null,null,null,null,null,null,null,null,null,null,null,null,null,null,null,null,null,null,null,null,null,null,-112.764381,163.36038199999999,-270.30538899999999,-104.265343,-435.95477299999999,6.3558322108118667E-4,-71.374840000000006]
[null,null,null,null,null,null,null,null,null,null,null,null,null,null,null,null,null,null,null,null,null,null,null,null,null,null,null,null,null,null,null,5.5857572736140262E-4,null,null,null,null,null,null,null,null,null,null,null,null,null,null,null,null,null,null,null,null,null,null,null,null,null,-117.160141,122.955139,-281.85681199999999,-110.869247,-440.54025300000001,5.5857572736140262E-4,-84.905235000000005]
[null,null,null,null,null,null,null,null,null,null,null,null,null,null,null,null,null,null,null,null,null,null,null,null,null,null,null,null,null,null,null,7.187005270404721E-4,null,null,null,null,null,null,null,null,null,null,null,null,null,null,null,null,null,null,null,null,null,null,null,null,null,-102.05532100000001,207.028671,-274.31982399999998,-96.071892000000005,-427.494507,7.187005270404721E-4,-73.730827000000005]
[null,null,null,null,null,null,null,null,null,null,null,null,null,null,null,null,null,null,null,null,null,null,null,null,null,null,null,null,null,null,null,4.0434238344460763E-4,null,null,null,null,null,null,null,null,null,null,null,null,null,null,null,null,null,null,null,null,null,null,null,null,null,-102.357292,207.502014,-242.21951300000001,-79.34581,-409.67852800000003,4.0434238344460763E-4,-66.548203000000001]
[null,null,null,null,null,null,null,null,null,null,null,null,null,null,null,null,null,null,null,null,null,null,null,null,null,null,null,null,null,null,null,4.8358392689896838E-4,null,null,null,null,null,null,null,null,null,null,null,null,null,null,null,null,null,null,null,null,null,null,null,null,null,-86.512833000000001,-37.428573999999998,-221.915131,-56.877243,-374.432098,4.8358392689896838E-4,-49.607193000000002]
[null,null,null,null,null,null,null,null,null,null,null,null,null,null,null,null,null,null,null,null,null,null,null,null,null,null,null,null,null,null,null,1.0091314634572475E-3,null,null,null,null,null,null,null,null,null,null,null,null,null,null,null,null,null,null,null,null,null,null,null,null,null,-70.000991999999997,-153.722351,-207.12948600000001,-39.515774,-345.17132600000002,1.0091314634572475E-3,-40.629074000000003]
[null,null,null,null,null,null,null,null,null,null,null,null,null,null,null,null,null,null,null,null,null,null,null,null,null,null,null,null,null,null,null,3.3925492717021884E-4,null,null,null,null,null,null,null,null,null,null,null,null,null,null,null,null,null,null,null,null,null,null,null,null,null,-66.924094999999994,-118.89157899999999,-198.34695400000001,-31.616541000000002,-326.86923200000001,3.3925492717021884E-4,-37.983314999999997]
[null,null,null,null,null,null,null,null,null,null,null,null,null,null,null,null,null,null,null,null,null,null,null,null,null,null,null,null,null,null,null,8.2073096045418177E-4,null,null,null,null,null,null,null,null,null,null,null,null,null,null,null,null,null,null,null,null,null,null,null,null,null,-60.963332999999999,-17.172495000000001,-182.031128,-33.863064000000001,-311.99267600000002,8.2073096045418177E-4,-37.636657999999997]
[null,null,null,null,null,null,null,null,null,null,null,null,null,null,null,null,null,null,null,null,null,null,null,null,null,null,null,null,null,null,null,8.785882816222543E-4,null,null,null,null,null,null,null,null,null,null,null,null,null,null,null,null,null,null,null,null,null,null,null,null,null,-64.504249999999999,-58.612727999999997,-171.07934599999999,-39.176364999999997,-295.10626200000002,8.785882816222543E-4,-64.290908999999999]
[null,null,null,null,null,null,null,null,null,null,null,null,null,null,null,null,null,null,null,null,null,null,null,null,null,null,null,null,null,null,null,8.4877705418141272E-4,null,null,null,null,null,null,null,null,null,null,null,null,null,null,null,null,null,null,null,null,null,null,null,null,null,-57.070495999999999,91.130386000000001,-175.246307,-49.907966999999999,-285.24795499999999,8.4877705418141272E-4,-67.189400000000006]
[null,null,null,null,null,null,null,null,null,null,null,null,null,null,null,null,null,null,null,null,null,null,null,null,null,null,null,null,null,null,null,5.2312591002973174E-4,null,null,null,null,null,null,null,null,null,null,null,null,null,null,null,null,null,null,null,null,null,null,null,null,null,-55.035229000000001,199.93838500000001,-164.87171900000001,-51.995358000000003,-286.12857100000002,5.2312591002973174E-4,-73.258476000000002]
[null,null,null,null,null,null,null,null,null,null,null,null,null,null,null,null,null,null,null,null,null,null,null,null,null,null,null,null,null,null,null,9.4067065645837204E-4,null,null,null,null,null,null,null,null,null,null,null,null,null,null,null,null,null,null,null,null,null,null,null,null,null,-49.857750000000003,274.17361499999998,-155.176727,-51.279559999999996,-273.55163599999997,9.4067065645837204E-4,-64.367446999999999]
[null,null,null,null,null,null,null,null,null,null,null,null,null,null,null,null,null,null,null,null,null,null,null,null,null,null,null,null,null,null,null,1.1107592184774889E-3,null,null,null,null,null,null,null,null,null,null,null,null,null,null,null,null,null,null,null,null,null,null,null,null,null,-46.449364000000003,57.932495000000003,-156.69723500000001,-49.456187999999997,-271.85214200000001,1.1107592184774889E-3,-66.196594000000005]
[null,null,null,null,null,null,null,null,null,null,null,null,null,null,null,null,null,null,null,null,null,null,null,null,null,null,null,null,null,null,null,7.0225617526815064E-4,null,null,null,null,null,null,null,null,null,null,null,null,null,null,null,null,null,null,null,null,null,null,null,null,null,-48.110176000000003,42.539527999999997,-163.73846399999999,-43.866253,-278.19827299999997,7.0225617526815064E-4,-67.459632999999997]
[null,null,null,null,null,null,null,null,null,null,null,null,null,null,null,null,null,null,null,null,null,null,null,null,null,null,null,null,null,null,null,7.6403731311872048E-4,null,null,null,null,null,null,null,null,null,null,null,null,null,null,null,null,null,null,null,null,null,null,null,null,null,-53.776566000000003,49.366374999999998,-176.95408599999999,-51.000759000000002,-293.51092499999999,7.6403731311872048E-4,-55.377895000000002]
[null,null,null,null,null,null,null,null,null,null,null,null,null,null,null,null,null,null,null,null,null,null,null,null,null,null,null,null,null,null,null,8.3165223046986877E-4,null,null,null,null,null,null,null,null,null,null,null,null,null,null,null,null,null,null,null,null,null,null,null,null,null,-49.441284000000003,23.823566,-171.15516700000001,-44.497692000000001,-284.12771600000002,8.3165223046986877E-4,-46.031322000000003]
[null,null,null,null,null,null,null,null,null,null,null,null,null,null,null,null,null,null,null,null,null,null,null,null,null,null,null,null,null,null,null,5.3680963788557093E-4,null,null,null,null,null,null,null,null,null,null,null,null,null,null,null,null,null,null,null,null,null,null,null,null,null,-43.762390000000003,-13.213132,-170.09970100000001,-37.375808999999997,-285.30432100000002,5.3680963788557093E-4,-34.570487999999997]
[null,null,null,null,null,null,null,null,null,null,null,null,null,null,null,null,null,null,null,null,null,null,null,null,null,null,null,null,null,null,null,6.3466699625476432E-4,null,null,null,null,null,null,null,null,null,null,null,null,null,null,null,null,null,null,null,null,null,null,null,null,null,-17.127655000000001,152.055847,-152.68107599999999,-10.216578999999999,-273.143036,6.3466699625476432E-4,-14.151650999999999]
[null,null,null,null,null,null,null,null,null,null,null,null,null,null,null,null,null,null,null,null,null,null,null,null,null,null,null,null,null,null,null,7.7554261272849993E-4,null,null,null,null,null,null,null,null,null,null,null,null,null,null,null,null,null,null,null,null,null,null,null,null,null,14.443733999999999,273.13095099999998,-127.48200199999999,15.056519,-256.55993699999999,7.7554261272849993E-4,15.834833]
[null,null,null,null,null,null,null,null,null,null,null,null,null,null,null,null,null,null,null,null,null,null,null,null,null,null,null,null,null,null,null,4.2535358627562592E-4,null,null,null,null,null,null,null,null,null,null,null,null,null,null,null,null,null,null,null,null,null,null,null,null,null,28.668436,173.79480000000001,-114.005661,34.249676000000001,-251.381439,4.2535358627562592E-4,38.165030999999999]
[null,null,null,null,null,null,null,null,null,null,null,null,null,null,null,null,null,null,null,null,null,null,null,null,null,null,null,null,null,null,null,4.4141349582197759E-4,null,null,null,null,null,null,null,null,null,null,null,null,null,null,null,null,null,null,null,null,null,null,null,null,null,53.992279000000003,300.721069,-96.373665000000003,62.318413,-223.57666,4.4141349582197759E-4,56.878352999999997]
[null,null,null,null,null,null,null,null,null,null,null,null,null,null,null,null,null,null,null,null,null,null,null,null,null,null,null,null,null,null,null,4.8048830480720579E-4,null,null,null,null,null,null,null,null,null,null,null,null,null,null,null,null,null,null,null,null,null,null,null,null,null,60.014645000000002,204.48272700000001,-93.814635999999993,64.303543000000005,-223.60218800000001,4.8048830480720579E-4,59.412818999999999]
[null,null,null,null,null,null,null,null,null,null,null,null,null,null,null,null,null,null,null,null,null,null,null,null,null,null,null,null,null,null,null,3.0018738822644767E-4,null,null,null,null,null,null,null,null,null,null,null,null,null,null,null,null,null,null,null,null,null,null,null,null,null,59.007129999999997,236.01532,-96.216812000000004,63.462364000000001,-218.57128900000001,3.0018738822644767E-4,62.886786999999998]
[null,null,null,null,null,null,null,null,null,null,null,null,null,null,null,null,null,null,null,null,null,null,null,null,null,null,null,null,null,null,null,5.6936895834917498E-4,null,null,null,null,null,null,null,null,null,null,null,null,null,null,null,null,null,null,null,null,null,null,null,null,null,55.401211000000004,-57.996498000000003,-100.901337,54.319904000000001,-221.04994199999999,5.6936895834917498E-4,64.709671]
[null,null,null,null,null,null,null,null,null,null,null,null,null,null,null,null,null,null,null,null,null,null,null,null,null,null,null,null,null,null,null,3.2243433551151237E-4,null,null,null,null,null,null,null,null,null,null,null,null,null,null,null,null,null,null,null,null,null,null,null,null,null,51.854228999999997,-138.206558,-106.2808,51.926814999999998,-219.964584,3.2243433551151237E-4,69.312599000000006]
[null,null,null,null,null,null,null,null,null,null,null,null,null,null,null,null,null,null,null,null,null,null,null,null,null,null,null,null,null,null,null,1.8404115273883476E-4,null,null,null,null,null,null,null,null,null,null,null,null,null,null,null,null,null,null,null,null,null,null,null,null,null,31.265432000000001,-129.86369300000001,-111.621559,26.421517999999999,-230.77955600000001,1.8404115273883476E-4,49.952872999999997]
[null,null,null,null,null,null,null,null,null,null,null,null,null,null,null,null,null,null,null,null,null,null,null,null,null,null,null,null,null,null,null,2.8264117878264828E-4,null,null,null,null,null,null,null,null,null,null,null,null,null,null,null,null,null,null,null,null,null,null,null,null,null,7.0102549999999999,-251.57788099999999,-116.574043,-0.75818300000000005,-256.08865400000002,2.8264117878264828E-4,24.963653999999998]
[null,null,null,null,null,null,null,null,null,null,null,null,null,null,null,null,null,null,null,null,null,null,null,null,null,null,null,null,null,null,null,1.7856394360874913E-4,null,null,null,null,null,null,null,null,null,null,null,null,null,null,null,null,null,null,null,null,null,null,null,null,null,-26.860482999999999,-343.28894000000003,-148.885651,-25.999206999999998,-283.49822999999998,1.7856394360874913E-4,0.33332299999999998]
[null,null,null,null,null,null,null,null,null,null,null,null,null,null,null,null,null,null,null,null,null,null,null,null,null,null,null,null,null,null,null,2.6887206651554928E-4,null,null,null,null,null,null,null,null,null,null,null,null,null,null,null,null,null,null,null,null,null,null,null,null,null,-61.866881999999997,-556.677368,-187.59728999999999,-61.510429000000002,-325.08151199999998,2.6887206651554928E-4,-37.943232999999999]
[null,null,null,null,null,null,null,null,null,null,null,null,null,null,null,null,null,null,null,null,null,null,null,null,null,null,null,null,null,null,null,3.8659746714692794E-4,null,null,null,null,null,null,null,null,null,null,null,null,null,null,null,null,null,null,null,null,null,null,null,null,null,-97.120887999999994,-518.72485400000005,-209.45253,-87.028671000000003,-348.85360700000001,3.8659746714692794E-4,-72.243279000000001]
[null,null,null,null,null,null,null,null,null,null,null,null,null,null,null,null,null,null,null,null,null,null,null,null,null,null,null,null,null,null,null,9.0228270688648892E-4,null,null,null,null,null,null,null,null,null,null,null,null,null,null,null,null,null,null,null,null,null,null,null,null,null,-136.35817,-313.94741800000003,-244.36523399999999,-129.193466,-380.26113900000001,9.0228270688648892E-4,-115.45034]
[null,null,null,null,null,null,null,null,null,null,null,null,null,null,null,null,null,null,null,null,null,null,null,null,null,null,null,null,null,null,null,5.2423516274791547E-4,null,null,null,null,null,null,null,null,null,null,null,null,null,null,null,null,null,null,null,null,null,null,null,null,null,-150.77767900000001,-146.62535099999999,-264.81427000000002,-153.51712000000001,-394.61785900000001,5.2423516274791547E-4,-133.50412]
[null,null,null,null,null,null,null,null,null,null,null,null,null,null,null,null,null,null,null,null,null,null,null,null,null,null,null,null,null,null,null,1.9375305308817718E-4,null,null,null,null,null,null,null,null,null,null,null,null,null,null,null,null,null,null,null,null,null,null,null,null,null,-154.467468,-159.27865600000001,-279.63073700000001,-157.45199600000001,-390.45086700000002,1.9375305308817718E-4,-132.673157]
[null,null,null,null,null,null,null,null,null,null,null,null,null,null,null,null,null,null,null,null,null,null,null,null,null,null,null,null,null,null,null,-5.4424772076394482E-5,null,null,null,null,null,null,null,null,null,null,null,null,null,null,null,null,null,null,null,null,null,null,null,null,null,-160.946991,-11.008411000000001,-284.26058999999998,-169.80865499999999,-398.10562099999999,-5.4424772076394482E-5,-146.59895299999999]
[null,null,null,null,null,null,null,null,null,null,null,null,null,null,null,null,null,null,null,null,null,null,null,null,null,null,null,null,null,null,null,4.4320634052725697E-5,null,null,null,null,null,null,null,null,null,null,null,null,null,null,null,null,null,null,null,null,null,null,null,null,null,-159.010727,59.632015000000003,-283.90737899999999,-162.11677599999999,-378.89392099999998,4.4320634052725697E-5,-151.60862700000001]
[null,null,null,null,null,null,null,null,null,null,null,null,null,null,null,null,null,null,null,null,null,null,null,null,null,null,null,null,null,null,null,8.025019998014468E-5,null,null,null,null,null,null,null,null,null,null,null,null,null,null,null,null,null,null,null,null,null,null,null,null,null,-154.417587,142.448578,-295.72369400000002,-162.84551999999999,-383.38809199999997,8.025019998014468E-5,-144.92729199999999]
[null,null,null,null,null,null,null,null,null,null,null,null,null,null,null,null,null,null,null,null,null,null,null,null,null,null,null,null,null,null,null,2.4910107553102094E-4,null,null,null,null,null,null,null,null,null,null,null,null,null,null,null,null,null,null,null,null,null,null,null,null,null,-143.885727,54.163265000000003,-289.09680200000003,-142.14752200000001,-367.69311499999998,2.4910107553102094E-4,-138.718231]
[null,null,null,null,null,null,null,null,null,null,null,null,null,null,null,null,null,null,null,null,null,null,null,null,null,null,null,null,null,null,null,9.1173549751727412E-4,null,null,null,null,null,null,null,null,null,null,null,null,null,null,null,null,null,null,null,null,null,null,null,null,null,-141.476349,60.148181999999998,-293.48941000000002,-130.43536399999999,-348.25842299999999,9.1173549751727412E-4,-138.867279]
[null,null,null,null,null,null,null,null,null,null,null,null,null,null,null,null,null,null,null,null,null,null,null,null,null,null,null,null,null,null,null,5.8617345933866991E-4,null,null,null,null,null,null,null,null,null,null,null,null,null,null,null,null,null,null,null,null,null,null,null,null,null,-153.57406599999999,124.81064600000001,-296.79660000000001,-137.806702,-341.638733,5.8617345933866991E-4,-151.49700899999999]
[null,null,null,null,null,null,null,null,null,null,null,null,null,null,null,null,null,null,null,null,null,null,null,null,null,null,null,null,null,null,null,6.2245051480369271E-4,null,null,null,null,null,null,null,null,null,null,null,null,null,null,null,null,null,null,null,null,null,null,null,null,null,-157.43966699999999,-29.865355999999998,-301.11489899999998,-140.15133700000001,-347.17019699999997,6.2245051480369271E-4,-151.11648600000001]
[null,null,null,null,null,null,null,null,null,null,null,null,null,null,null,null,null,null,null,null,null,null,null,null,null,null,null,null,null,null,null,2.0979812464355812E-4,null,null,null,null,null,null,null,null,null,null,null,null,null,null,null,null,null,null,null,null,null,null,null,null,null,-160.50762900000001,25.035834999999999,-298.570312,-144.68014500000001,-360.33999599999999,2.0979812464355812E-4,-152.50891100000001]
[null,null,null,null,null,null,null,null,null,null,null,null,null,null,null,null,null,null,null,null,null,null,null,null,null,null,null,null,null,null,null,1.2319177138189115E-4,null,null,null,null,null,null,null,null,null,null,null,null,null,null,null,null,null,null,null,null,null,null,null,null,null,-168.22122200000001,168.36558500000001,-282.230164,-155.908264,-362.952789,1.2319177138189115E-4,-165.82586699999999]
[null,null,null,null,null,null,null,null,null,null,null,null,null,null,null,null,null,null,null,null,null,null,null,null,null,null,null,null,null,null,null,1.1301287339236845E-4,null,null,null,null,null,null,null,null,null,null,null,null,null,null,null,null,null,null,null,null,null,null,null,null,null,-179.040741,157.48208600000001,-290.83279399999998,-174.428391,-385.951233,1.1301287339236845E-4,-178.78376800000001]
[null,null,null,null,null,null,null,null,null,null,null,null,null,null,null,null,null,null,null,null,null,null,null,null,null,null,null,null,null,null,null,2.2932856108577148E-4,null,null,null,null,null,null,null,null,null,null,null,null,null,null,null,null,null,null,null,null,null,null,null,null,null,-185.53048699999999,95.334709000000004,-291.81179800000001,-188.154785,-405.39556900000002,2.2932856108577148E-4,-183.04051200000001]
[null,null,null,null,null,null,null,null,null,null,null,null,null,null,null,null,null,null,null,null,null,null,null,null,null,null,null,null,null,null,null,-1.6963711523969785E-4,null,null,null,null,null,null,null,null,null,null,null,null,null,null,null,null,null,null,null,null,null,null,null,null,null,-187.14565999999999,48.886253000000004,-298.33639499999998,-197.536102,-421.49298099999999,-1.6963711523969785E-4,-188.654404]
[null,null,null,null,null,null,null,null,null,null,null,null,null,null,null,null,null,null,null,null,null,null,null,null,null,null,null,null,null,null,null,5.4984722559309012E-4,null,null,null,null,null,null,null,null,null,null,null,null,null,null,null,null,null,null,null,null,null,null,null,null,null,-196.25259399999999,31.419905,-295.11871300000001,-207.44570899999999,-417.94070399999998,5.4984722559309012E-4,-202.83696]
[null,null,null,null,null,null,null,null,null,null,null,null,null,null,null,null,null,null,null,null,null,null,null,null,null,null,null,null,null,null,null,4.386290751319232E-4,null,null,null,null,null,null,null,null,null,null,null,null,null,null,null,null,null,null,null,null,null,null,null,null,null,-189.56987000000001,132.551514,-300.51678500000003,-207.790649,-430.09878500000002,4.386290751319232E-4,-189.51637299999999]
[null,null,null,null,null,null,null,null,null,null,null,null,null,null,null,null,null,null,null,null,null,null,null,null,null,null,null,null,null,null,null,5.0091520352163292E-4,null,null,null,null,null,null,null,null,null,null,null,null,null,null,null,null,null,null,null,null,null,null,null,null,null,-172.84634399999999,-16.259497,-308.203461,-189.84852599999999,-432.18933099999998,5.0091520352163292E-4,-166.71328700000001]
[null,null,null,null,null,null,null,null,null,null,null,null,null,null,null,null,null,null,null,null,null,null,null,null,null,null,null,null,null,null,null,3.6461351728757715E-4,null,null,null,null,null,null,null,null,null,null,null,null,null,null,null,null,null,null,null,null,null,null,null,null,null,-159.42327900000001,-83.201637000000005,-287.71783399999998,-174.386337,-413.47326700000002,3.6461351728757715E-4,-140.60075399999999]
[null,null,null,null,null,null,null,null,null,null,null,null,null,null,null,null,null,null,null,null,null,null,null,null,null,null,null,null,null,null,null,1.2032670164736418E-4,null,null,null,null,null,null,null,null,null,null,null,null,null,null,null,null,null,null,null,null,null,null,null,null,null,-168.55249000000001,-223.02633700000001,-277.61758400000002,-164.43957499999999,-406.58871499999998,1.2032670164736418E-4,-135.371994]
[null,null,null,null,null,null,null,null,null,null,null,null,null,null,null,null,null,null,null,null,null,null,null,null,null,null,null,null,null,null,null,3.0456923897107056E-4,null,null,null,null,null,null,null,null,null,null,null,null,null,null,null,null,null,null,null,null,null,null,null,null,null,-176.77818300000001,-185.24722299999999,-294.82540899999998,-167.58225999999999,-417.35992399999998,3.0456923897107056E-4,-139.06591800000001]
[null,null,null,null,null,null,null,null,null,null,null,null,null,null,null,null,null,null,null,null,null,null,null,null,null,null,null,null,null,null,null,5.4854000157064859E-4,null,null,null,null,null,null,null,null,null,null,null,null,null,null,null,null,null,null,null,null,null,null,null,null,null,-174.432053,-143.116165,-309.85586499999999,-170.278885,-425.987549,5.4854000157064859E-4,-133.37278699999999]
[null,null,null,null,null,null,null,null,null,null,null,null,null,null,null,null,null,null,null,null,null,null,null,null,null,null,null,null,null,null,null,9.1686612891695124E-4,null,null,null,null,null,null,null,null,null,null,null,null,null,null,null,null,null,null,null,null,null,null,null,null,null,-168.52238500000001,-23.929853000000001,-306.55181900000002,-162.866623,-416.698669,9.1686612891695124E-4,-133.99025]
[null,null,null,null,null,null,null,null,null,null,null,null,null,null,null,null,null,null,null,null,null,null,null,null,null,null,null,null,null,null,null,5.3139144018165771E-4,null,null,null,null,null,null,null,null,null,null,null,null,null,null,null,null,null,null,null,null,null,null,null,null,null,-159.53431699999999,121.076424,-305.99359099999998,-143.30569499999999,-403.56146200000001,5.3139144018165771E-4,-128.52510100000001]
[null,null,null,null,null,null,null,null,null,null,null,null,null,null,null,null,null,null,null,null,null,null,null,null,null,null,null,null,null,null,null,2.1713417946025323E-4,null,null,null,null,null,null,null,null,null,null,null,null,null,null,null,null,null,null,null,null,null,null,null,null,null,-154.08148199999999,291.53604100000001,-304.52743500000003,-134.936432,-409.29415899999998,2.1713417946025323E-4,-128.13734400000001]
[null,null,null,null,null,null,null,null,null,null,null,null,null,null,null,null,null,null,null,null,null,null,null,null,null,null,null,null,null,null,null,4.0829299410859892E-4,null,null,null,null,null,null,null,null,null,null,null,null,null,null,null,null,null,null,null,null,null,null,null,null,null,-139.92979399999999,452.09222399999999,-310.06890900000002,-122.850555,-420.14382899999998,4.0829299410859892E-4,-123.651566]
[null,null,null,null,null,null,null,null,null,null,null,null,null,null,null,null,null,null,null,null,null,null,null,null,null,null,null,null,null,null,null,2.1809935907539913E-4,null,null,null,null,null,null,null,null,null,null,null,null,null,null,null,null,null,null,null,null,null,null,null,null,null,-149.835159,567.27081299999998,-322.40304600000002,-119.455696,-437.66314699999998,2.1809935907539913E-4,-131.21086099999999]
[null,null,null,null,null,null,null,null,null,null,null,null,null,null,null,null,null,null,null,null,null,null,null,null,null,null,null,null,null,null,null,5.9843127014149952E-4,null,null,null,null,null,null,null,null,null,null,null,null,null,null,null,null,null,null,null,null,null,null,null,null,null,-171.85581999999999,438.809753,-344.73306300000002,-134.47122200000001,-471.20599399999998,5.9843127014149952E-4,-161.19255100000001]
[null,null,null,null,null,null,null,null,null,null,null,null,null,null,null,null,null,null,null,null,null,null,null,null,null,null,null,null,null,null,null,5.8826899356941974E-4,null,null,null,null,null,null,null,null,null,null,null,null,null,null,null,null,null,null,null,null,null,null,null,null,null,-174.41627500000001,394.35821499999997,-354.70944200000002,-139.389633,-495.17761200000001,5.8826899356941974E-4,-167.63781700000001]
[null,null,null,null,null,null,null,null,null,null,null,null,null,null,null,null,null,null,null,null,null,null,null,null,null,null,null,null,null,null,null,2.5914269557335582E-4,null,null,null,null,null,null,null,null,null,null,null,null,null,null,null,null,null,null,null,null,null,null,null,null,null,-175.616974,236.75943000000001,-349.20782500000001,-145.984634,-507.62313799999998,2.5914269557335582E-4,-172.72702000000001]
[null,null,null,null,null,null,null,null,null,null,null,null,null,null,null,null,null,null,null,null,null,null,null,null,null,null,null,null,null,null,null,-2.1499561464936756E-4,null,null,null,null,null,null,null,null,null,null,null,null,null,null,null,null,null,null,null,null,null,null,null,null,null,-158.59411600000001,284.40795900000001,-340.494598,-128.87751800000001,-503.895172,-2.1499561464936756E-4,-159.722443]
[null,null,null,null,null,null,null,null,null,null,null,null,null,null,null,null,null,null,null,null,null,null,null,null,null,null,null,null,null,null,null,4.8624084206175212E-4,null,null,null,null,null,null,null,null,null,null,null,null,null,null,null,null,null,null,null,null,null,null,null,null,null,-133.61367799999999,222.203903,-319.40957600000002,-118.124207,-486.43411300000002,4.8624084206175212E-4,-146.14721700000001]
[null,null,null,null,null,null,null,null,null,null,null,null,null,null,null,null,null,null,null,null,null,null,null,null,null,null,null,null,null,null,null,5.892039899405764E-4,null,null,null,null,null,null,null,null,null,null,null,null,null,null,null,null,null,null,null,null,null,null,null,null,null,-129.32766699999999,-43.861221,-316.77166699999998,-123.923019,-483.98507699999999,5.892039899405764E-4,-142.490036]
[null,null,null,null,null,null,null,null,null,null,null,null,null,null,null,null,null,null,null,null,null,null,null,null,null,null,null,null,null,null,null,3.4369501166013952E-4,null,null,null,null,null,null,null,null,null,null,null,null,null,null,null,null,null,null,null,null,null,null,null,null,null,-134.967377,-73.263053999999997,-329.81536899999998,-132.25509600000001,-483.35699499999998,3.4369501166013952E-4,-142.98551900000001]
[null,null,null,null,null,null,null,null,null,null,null,null,null,null,null,null,null,null,null,null,null,null,null,null,null,null,null,null,null,null,null,6.410255268345966E-4,null,null,null,null,null,null,null,null,null,null,null,null,null,null,null,null,null,null,null,null,null,null,null,null,null,-140.601471,-332.28866599999998,-343.40518200000002,-126.758743,-476.27514600000001,6.410255268345966E-4,-143.64565999999999]
[null,null,null,null,null,null,null,null,null,null,null,null,null,null,null,null,null,null,null,null,null,null,null,null,null,null,null,null,null,null,null,8.329264751124908E-4,null,null,null,null,null,null,null,null,null,null,null,null,null,null,null,null,null,null,null,null,null,null,null,null,null,-151.78341699999999,-364.51852400000001,-353.02529900000002,-137.715225,-477.65191700000003,8.329264751124908E-4,-141.473343]
[null,null,null,null,null,null,null,null,null,null,null,null,null,null,null,null,null,null,null,null,null,null,null,null,null,null,null,null,null,null,null,9.120345802911175E-4,null,null,null,null,null,null,null,null,null,null,null,null,null,null,null,null,null,null,null,null,null,null,null,null,null,-151.01522800000001,-381.11346400000002,-356.89685100000003,-133.67067,-465.38623000000001,9.120345802911175E-4,-139.59463500000001]
[null,null,null,null,null,null,null,null,null,null,null,null,null,null,null,null,null,null,null,null,null,null,null,null,null,null,null,null,null,null,null,3.3353258637094663E-4,null,null,null,null,null,null,null,null,null,null,null,null,null,null,null,null,null,null,null,null,null,null,null,null,null,-162.613663,-443.66390999999999,-356.45166,-143.75730899999999,-454.647491,3.3353258637094663E-4,-145.52015700000001]
[null,null,null,null,null,null,null,null,null,null,null,null,null,null,null,null,null,null,null,null,null,null,null,null,null,null,null,null,null,null,null,-2.0684136220239013E-4,null,null,null,null,null,null,null,null,null,null,null,null,null,null,null,null,null,null,null,null,null,null,null,null,null,-190.705231,-430.30248999999998,-366.84811400000001,-161.61700400000001,-449.56445300000001,-2.0684136220239013E-4,-168.80746500000001]
[null,null,null,null,null,null,null,null,null,null,null,null,null,null,null,null,null,null,null,null,null,null,null,null,null,null,null,null,null,null,null,3.0519533835244992E-4,null,null,null,null,null,null,null,null,null,null,null,null,null,null,null,null,null,null,null,null,null,null,null,null,null,-199.34848,-226.34875500000001,-363.26049799999998,-167.76968400000001,-463.44674700000002,3.0519533835244992E-4,-176.077011]
[null,null,null,null,null,null,null,null,null,null,null,null,null,null,null,null,null,null,null,null,null,null,null,null,null,null,null,null,null,null,null,-1.8652727063048422E-4,null,null,null,null,null,null,null,null,null,null,null,null,null,null,null,null,null,null,null,null,null,null,null,null,null,-227.98074299999999,114.00803399999999,-347.80996699999997,-199.033447,-478.94390900000002,-1.8652727063048422E-4,-200.15315200000001]
[null,null,null,null,null,null,null,null,null,null,null,null,null,null,null,null,null,null,null,null,null,null,null,null,null,null,null,null,null,null,null,-2.0471581217429739E-5,null,null,null,null,null,null,null,null,null,null,null,null,null,null,null,null,null,null,null,null,null,null,null,null,null,-241.56033300000001,154.09549000000001,-339.21206699999999,-221.07884200000001,-485.253174,-2.0471581217429739E-5,-215.304474]
[null,null,null,null,null,null,null,null,null,null,null,null,null,null,null,null,null,null,null,null,null,null,null,null,null,null,null,null,null,null,null,1.292711796449498E-4,null,null,null,null,null,null,null,null,null,null,null,null,null,null,null,null,null,null,null,null,null,null,null,null,null,-232.099197,14.261837,-337.57626299999998,-226.93704199999999,-482.07611100000003,1.292711796449498E-4,-212.676254]
[null,null,null,null,null,null,null,null,null,null,null,null,null,null,null,null,null,null,null,null,null,null,null,null,null,null,null,null,null,null,null,2.7931821954358554E-5,null,null,null,null,null,null,null,null,null,null,null,null,null,null,null,null,null,null,null,null,null,null,null,null,null,-219.49453700000001,-107.898422,-322.54650900000001,-214.749664,-480.20309400000002,2.7931821954358554E-5,-195.57548499999999]
[null,null,null,null,null,null,null,null,null,null,null,null,null,null,null,null,null,null,null,null,null,null,null,null,null,null,null,null,null,null,null,3.1766703919791981E-4,null,null,null,null,null,null,null,null,null,null,null,null,null,null,null,null,null,null,null,null,null,null,null,null,null,-191.841431,88.170860000000005,-315.65991200000002,-200.223297,-476.216003,3.1766703919791981E-4,-175.26565600000001]
[null,null,null,null,null,null,null,null,null,null,null,null,null,null,null,null,null,null,null,null,null,null,null,null,null,null,null,null,null,null,null,-6.1386029950796087E-5,null,null,null,null,null,null,null,null,null,null,null,null,null,null,null,null,null,null,null,null,null,null,null,null,null,-176.43841599999999,50.824950999999999,-289.26541099999997,-181.478104,-458.518372,-6.1386029950796087E-5,-154.527557]
[null,null,null,null,null,null,null,null,null,null,null,null,null,null,null,null,null,null,null,null,null,null,null,null,null,null,null,null,null,null,null,-3.0707809160687396E-4,null,null,null,null,null,null,null,null,null,null,null,null,null,null,null,null,null,null,null,null,null,null,null,null,null,-148.444458,-291.09258999999997,-286.91555799999998,-158.59979200000001,-450.80081200000001,-3.0707809160687396E-4,-133.302063]
[null,null,null,null,null,null,null,null,null,null,null,null,null,null,null,null,null,null,null,null,null,null,null,null,null,null,null,null,null,null,null,-3.25721114761086E-4,null,null,null,null,null,null,null,null,null,null,null,null,null,null,null,null,null,null,null,null,null,null,null,null,null,-113.864372,-323.73236100000003,-284.19897500000002,-111.23584,-444.81662,-3.25721114761086E-4,-107.10105900000001]
[null,null,null,null,null,null,null,null,null,null,null,null,null,null,null,null,null,null,null,null,null,null,null,null,null,null,null,null,null,null,null,-2.7371644340827876E-4,null,null,null,null,null,null,null,null,null,null,null,null,null,null,null,null,null,null,null,null,null,null,null,null,null,-103.67411800000001,-174.908051,-260.59316999999999,-88.605804000000006,-442.249664,-2.7371644340827876E-4,-86.891754000000006]
[null,null,null,null,null,null,null,null,null,null,null,null,null,null,null,null,null,null,null,null,null,null,null,null,null,null,null,null,null,null,null,1.498086011354342E-5,null,null,null,null,null,null,null,null,null,null,null,null,null,null,null,null,null,null,null,null,null,null,null,null,null,-82.349616999999995,-102.369545,-248.14089999999999,-66.033859000000007,-427.53140300000001,1.498086011354342E-5,-77.700301999999994]
[null,null,null,null,null,null,null,null,null,null,null,null,null,null,null,null,null,null,null,null,null,null,null,null,null,null,null,null,null,null,null,1.3904312258461373E-4,null,null,null,null,null,null,null,null,null,null,null,null,null,null,null,null,null,null,null,null,null,null,null,null,null,-85.760718999999995,-254.63034099999999,-242.94000199999999,-65.959762999999995,-440.08935500000001,1.3904312258461373E-4,-73.565010000000001]
[null,null,null,null,null,null,null,null,null,null,null,null,null,null,null,null,null,null,null,null,null,null,null,null,null,null,null,null,null,null,null,2.0880921517404607E-4,null,null,null,null,null,null,null,null,null,null,null,null,null,null,null,null,null,null,null,null,null,null,null,null,null,-61.462273000000003,-150.946213,-233.18959000000001,-58.844982000000002,-426.82486,2.0880921517404607E-4,-62.534447]
[null,null,null,null,null,null,null,null,null,null,null,null,null,null,null,null,null,null,null,null,null,null,null,null,null,null,null,null,null,null,null,1.0924343480892519E-4,null,null,null,null,null,null,null,null,null,null,null,null,null,null,null,null,null,null,null,null,null,null,null,null,null,-49.544682000000002,-152.01265000000001,-235.27319299999999,-49.261184999999998,-420.63738999999998,1.0924343480892519E-4,-48.004004999999999]
[null,null,null,null,null,null,null,null,null,null,null,null,null,null,null,null,null,null,null,null,null,null,null,null,null,null,null,null,null,null,null,-3.2934518711372581E-5,null,null,null,null,null,null,null,null,null,null,null,null,null,null,null,null,null,null,null,null,null,null,null,null,null,-44.185409999999997,-193.230087,-238.89868200000001,-80.793411000000006,-442.444794,-3.2934518711372581E-5,-51.58905]
[null,null,null,null,null,null,null,null,null,null,null,null,null,null,null,null,null,null,null,null,null,null,null,null,null,null,null,null,null,null,null,-4.2436138507128692E-4,null,null,null,null,null,null,null,null,null,null,null,null,null,null,null,null,null,null,null,null,null,null,null,null,null,-50.542968999999999,-283.08657799999997,-265.27737400000001,-82.721176,-467.35501099999999,-4.2436138507128692E-4,-55.687714]
[null,null,null,null,null,null,null,null,null,null,null,null,null,null,null,null,null,null,null,null,null,null,null,null,null,null,null,null,null,null,null,1.4597768474967175E-4,null,null,null,null,null,null,null,null,null,null,null,null,null,null,null,null,null,null,null,null,null,null,null,null,null,-73.006637999999995,-167.273056,-298.37231400000002,-94.559662000000003,-485.65689099999997,1.4597768474967175E-4,-58.439121]
[null,null,null,null,null,null,null,null,null,null,null,null,null,null,null,null,null,null,null,null,null,null,null,null,null,null,null,null,null,null,null,1.2128059282516909E-4,null,null,null,null,null,null,null,null,null,null,null,null,null,null,null,null,null,null,null,null,null,null,null,null,null,-99.199432000000002,-191.92128,-330.27496300000001,-99.419105999999999,-488.42526199999998,1.2128059282516909E-4,-62.842315999999997]
[null,null,null,null,null,null,null,null,null,null,null,null,null,null,null,null,null,null,null,null,null,null,null,null,null,null,null,null,null,null,null,-6.3448537463814511E-4,null,null,null,null,null,null,null,null,null,null,null,null,null,null,null,null,null,null,null,null,null,null,null,null,null,-110.94246699999999,-380.313019,-354.01275600000002,-104.235435,-494.40798999999998,-6.3448537463814511E-4,-82.713836999999998]
[null,null,null,null,null,null,null,null,null,null,null,null,null,null,null,null,null,null,null,null,null,null,null,null,null,null,null,null,null,null,null,1.0304732046921406E-4,null,null,null,null,null,null,null,null,null,null,null,null,null,null,null,null,null,null,null,null,null,null,null,null,null,-142.84127799999999,-131.613586,-377.12469499999997,-134.02860999999999,-489.75656099999998,1.0304732046921406E-4,-116.45729799999999]
[null,null,null,null,null,null,null,null,null,null,null,null,null,null,null,null,null,null,null,null,null,null,null,null,null,null,null,null,null,null,null,-1.5093467061648005E-5,null,null,null,null,null,null,null,null,null,null,null,null,null,null,null,null,null,null,null,null,null,null,null,null,null,-168.99191300000001,202.87396200000001,-387.54769900000002,-132.469177,-490.69638099999997,-1.5093467061648005E-5,-123.547264]
[null,null,null,null,null,null,null,null,null,null,null,null,null,null,null,null,null,null,null,null,null,null,null,null,null,null,null,null,null,null,null,-4.7155668073408356E-4,null,null,null,null,null,null,null,null,null,null,null,null,null,null,null,null,null,null,null,null,null,null,null,null,null,-164.608093,16.253882999999998,-360.140961,-139.66958600000001,-495.95459,-4.7155668073408356E-4,-119.353218]
[null,null,null,null,null,null,null,null,null,null,null,null,null,null,null,null,null,null,null,null,null,null,null,null,null,null,null,null,null,null,null,-7.2440980146213992E-5,null,null,null,null,null,null,null,null,null,null,null,null,null,null,null,null,null,null,null,null,null,null,null,null,null,-158.96812399999999,209.22241199999999,-364.691101,-134.47463999999999,-532.75952099999995,-7.2440980146213992E-5,-105.084023]
[null,null,null,null,null,null,null,null,null,null,null,null,null,null,null,null,null,null,null,null,null,null,null,null,null,null,null,null,null,null,null,-3.9911407442303517E-6,null,null,null,null,null,null,null,null,null,null,null,null,null,null,null,null,null,null,null,null,null,null,null,null,null,-146.53852800000001,193.66223099999999,-342.79495200000002,-131.560013,-560.75793499999997,-3.9911407442303517E-6,-112.699921]
[null,null,null,null,null,null,null,null,null,null,null,null,null,null,null,null,null,null,null,null,null,null,null,null,null,null,null,null,null,null,null,-4.3099413610058558E-4,null,null,null,null,null,null,null,null,null,null,null,null,null,null,null,null,null,null,null,null,null,null,null,null,null,-144.99704,28.915859000000001,-366.21945199999999,-129.40974399999999,-597.54345699999999,-4.3099413610058558E-4,-91.998671999999999]
[null,null,null,null,null,null,null,null,null,null,null,null,null,null,null,null,null,null,null,null,null,null,null,null,null,null,null,null,null,null,null,-8.743607363292425E-4,null,null,null,null,null,null,null,null,null,null,null,null,null,null,null,null,null,null,null,null,null,null,null,null,null,-154.44108600000001,-160.64863600000001,-374.10659800000002,-128.403595,-666.65014599999995,-8.743607363292425E-4,-81.595116000000004]
[null,null,null,null,null,null,null,null,null,null,null,null,null,null,null,null,null,null,null,null,null,null,null,null,null,null,null,null,null,null,null,-8.6697013526453059E-4,null,null,null,null,null,null,null,null,null,null,null,null,null,null,null,null,null,null,null,null,null,null,null,null,null,-151.33306899999999,-432.71374500000002,-389.60073899999998,-116.005554,-710.59472700000003,-8.6697013526453059E-4,-79.352920999999995]
[null,null,null,null,null,null,null,null,null,null,null,null,null,null,null,null,null,null,null,null,null,null,null,null,null,null,null,null,null,null,null,8.4458362783651586E-5,null,null,null,null,null,null,null,null,null,null,null,null,null,null,null,null,null,null,null,null,null,null,null,null,null,-150.20509300000001,-168.56170700000001,-430.18572999999998,-102.809059,-729.353027,8.4458362783651586E-5,-77.387298999999999]
[null,null,null,null,null,null,null,null,null,null,null,null,null,null,null,null,null,null,null,null,null,null,null,null,null,null,null,null,null,null,null,-5.2429899490240403E-4,null,null,null,null,null,null,null,null,null,null,null,null,null,null,null,null,null,null,null,null,null,null,null,null,null,-182.33551,-235.13038599999999,-464.394836,-129.056702,-785.85278300000004,-5.2429899490240403E-4,-94.828186000000002]
[null,null,null,null,null,null,null,null,null,null,null,null,null,null,null,null,null,null,null,null,null,null,null,null,null,null,null,null,null,null,null,-1.7488505309981933E-4,null,null,null,null,null,null,null,null,null,null,null,null,null,null,null,null,null,null,null,null,null,null,null,null,null,-201.13497899999999,-121.016609,-516.11254899999994,-142.95057700000001,-858.92181400000004,-1.7488505309981933E-4,-96.135643000000002]
[null,null,null,null,null,null,null,null,null,null,null,null,null,null,null,null,null,null,null,null,null,null,null,null,null,null,null,null,null,null,null,-6.4236525227221808E-4,null,null,null,null,null,null,null,null,null,null,null,null,null,null,null,null,null,null,null,null,null,null,null,null,null,-248.841354,454.88784800000002,-556.62261999999998,-187.01432800000001,-921.54235800000004,-6.4236525227221808E-4,-125.06976299999999]
[null,null,null,null,null,null,null,null,null,null,null,null,null,null,null,null,null,null,null,null,null,null,null,null,null,null,null,null,null,null,null,2.7381957864783236E-4,null,null,null,null,null,null,null,null,null,null,null,null,null,null,null,null,null,null,null,null,null,null,null,null,null,-262.52691700000003,328.48577899999998,-602.41223100000002,-208.29780600000001,-954.52307099999996,2.7381957864783236E-4,-153.733856]
[null,null,null,null,null,null,null,null,null,null,null,null,null,null,null,null,null,null,null,null,null,null,null,null,null,null,null,null,null,null,null,2.2603955788541595E-5,null,null,null,null,null,null,null,null,null,null,null,null,null,null,null,null,null,null,null,null,null,null,null,null,null,-293.73141500000003,225.184448,-626.167236,-238.43756099999999,-994.790344,2.2603955788541595E-5,-186.51617400000001]
[null,null,null,null,null,null,null,null,null,null,null,null,null,null,null,null,null,null,null,null,null,null,null,null,null,null,null,null,null,null,null,-9.0625677410650137E-5,null,null,null,null,null,null,null,null,null,null,null,null,null,null,null,null,null,null,null,null,null,null,null,null,null,-283.65154999999999,278.44345099999998,-609.119507,-233.505112,-1005.798523,-9.0625677410650137E-5,-185.101044]
[null,null,null,null,null,null,null,null,null,null,null,null,null,null,null,null,null,null,null,null,null,null,null,null,null,null,null,null,null,null,null,-3.3826236871599402E-4,null,null,null,null,null,null,null,null,null,null,null,null,null,null,null,null,null,null,null,null,null,null,null,null,null,-239.78808599999999,57.377265999999999,-580.91870100000006,-200.66288800000001,-969.18866000000003,-3.3826236871599402E-4,-159.82730100000001]
[null,null,null,null,null,null,null,null,null,null,null,null,null,null,null,null,null,null,null,null,null,null,null,null,null,null,null,null,null,null,null,9.2022673533719502E-7,null,null,null,null,null,null,null,null,null,null,null,null,null,null,null,null,null,null,null,null,null,null,null,null,null,-209.37455700000001,-94.829993999999999,-552.66021699999999,-179.56449900000001,-910.35162400000002,9.2022673533719502E-7,-131.40043600000001]
[null,null,null,null,null,null,null,null,null,null,null,null,null,null,null,null,null,null,null,null,null,null,null,null,null,null,null,null,null,null,null,2.6789974132104297E-5,null,null,null,null,null,null,null,null,null,null,null,null,null,null,null,null,null,null,null,null,null,null,null,null,null,-193.44244399999999,-294.59652699999998,-507.88372800000002,-175.20288099999999,-883.83880599999998,2.6789974132104297E-5,-137.27264400000001]
[null,null,null,null,null,null,null,null,null,null,null,null,null,null,null,null,null,null,null,null,null,null,null,null,null,null,null,null,null,null,null,-6.5232921339335485E-4,null,null,null,null,null,null,null,null,null,null,null,null,null,null,null,null,null,null,null,null,null,null,null,null,null,-176.649979,-127.604218,-454.16195699999997,-150.43589800000001,-830.30566399999998,-6.5232921339335485E-4,-117.739204]
[null,null,null,null,null,null,null,null,null,null,null,null,null,null,null,null,null,null,null,null,null,null,null,null,null,null,null,null,null,null,null,-7.9284769980974689E-4,null,null,null,null,null,null,null,null,null,null,null,null,null,null,null,null,null,null,null,null,null,null,null,null,null,-113.66995199999999,-42.509917999999999,-396.53790300000003,-92.985596000000001,-745.17327899999998,-7.9284769980974689E-4,-67.816581999999997]
[null,null,null,null,null,null,null,null,null,null,null,null,null,null,null,null,null,null,null,null,null,null,null,null,null,null,null,null,null,null,null,-6.5704993251613239E-4,null,null,null,null,null,null,null,null,null,null,null,null,null,null,null,null,null,null,null,null,null,null,null,null,null,-43.081558000000001,-285.50082400000002,-356.63824499999998,-32.784702000000003,-677.89209000000005,-6.5704993251613239E-4,14.979547999999999]
[null,null,null,null,null,null,null,null,null,null,null,null,null,null,null,null,null,null,null,null,null,null,null,null,null,null,null,null,null,null,null,-1.6127584008692371E-5,null,null,null,null,null,null,null,null,null,null,null,null,null,null,null,null,null,null,null,null,null,null,null,null,null,4.7671739999999998,-252.61518899999999,-321.515106,-9.2572980000000005,-650.83935499999995,-1.6127584008692371E-5,26.312940999999999]
[null,null,null,null,null,null,null,null,null,null,null,null,null,null,null,null,null,null,null,null,null,null,null,null,null,null,null,null,null,null,null,-2.2701462198361322E-6,null,null,null,null,null,null,null,null,null,null,null,null,null,null,null,null,null,null,null,null,null,null,null,null,null,57.423144999999998,-526.54418899999996,-287.96640000000002,49.125534000000002,-614.62823500000002,-2.2701462198361322E-6,45.589450999999997]
[null,null,null,null,null,null,null,null,null,null,null,null,null,null,null,null,null,null,null,null,null,null,null,null,null,null,null,null,null,null,null,2.3219008521296273E-4,null,null,null,null,null,null,null,null,null,null,null,null,null,null,null,null,null,null,null,null,null,null,null,null,null,90.844284000000002,-919.55371100000002,-248.54458600000001,128.29789700000001,-550.09149200000002,2.3219008521296273E-4,88.985686999999999]
[null,null,null,null,null,null,null,null,null,null,null,null,null,null,null,null,null,null,null,null,null,null,null,null,null,null,null,null,null,null,null,-2.2600305981751808E-5,null,null,null,null,null,null,null,null,null,null,null,null,null,null,null,null,null,null,null,null,null,null,null,null,null,89.596680000000006,-680.78356900000006,-273.83843999999999,111.94697600000001,-564.28356900000006,-2.2600305981751808E-5,88.662300000000002]
[null,null,null,null,null,null,null,null,null,null,null,null,null,null,null,null,null,null,null,null,null,null,null,null,null,null,null,null,null,null,null,-6.3745197304847841E-4,null,null,null,null,null,null,null,null,null,null,null,null,null,null,null,null,null,null,null,null,null,null,null,null,null,54.205176999999999,-551.63903800000003,-300.63757299999997,84.418503000000001,-571.14483600000005,-6.3745197304847841E-4,70.362067999999994]
[null,null,null,null,null,null,null,null,null,null,null,null,null,null,null,null,null,null,null,null,null,null,null,null,null,null,null,null,null,null,null,-6.3672216962184093E-4,null,null,null,null,null,null,null,null,null,null,null,null,null,null,null,null,null,null,null,null,null,null,null,null,null,39.217208999999997,-442.35064699999998,-294.342468,65.197654999999997,-581.45452899999998,-6.3672216962184093E-4,51.515864999999998]
[null,null,null,null,null,null,null,null,null,null,null,null,null,null,null,null,null,null,null,null,null,null,null,null,null,null,null,null,null,null,null,-4.3787886113948464E-4,null,null,null,null,null,null,null,null,null,null,null,null,null,null,null,null,null,null,null,null,null,null,null,null,null,23.840240000000001,-98.480682000000002,-317.45187399999998,73.428818000000007,-586.01007100000004,-4.3787886113948464E-4,84.451462000000006]
[null,null,null,null,null,null,null,null,null,null,null,null,null,null,null,null,null,null,null,null,null,null,null,null,null,null,null,null,null,null,null,-1.25228579808684E-3,null,null,null,null,null,null,null,null,null,null,null,null,null,null,null,null,null,null,null,null,null,null,null,null,null,-25.112492,364.63906900000001,-332.744598,9.3198819999999998,-629.69152799999995,-1.25228579808684E-3,47.242119000000002]
[null,null,null,null,null,null,null,null,null,null,null,null,null,null,null,null,null,null,null,null,null,null,null,null,null,null,null,null,null,null,null,-1.0278114231925972E-4,null,null,null,null,null,null,null,null,null,null,null,null,null,null,null,null,null,null,null,null,null,null,null,null,null,-22.278883,529.38592500000004,-407.85855099999998,-44.708950000000002,-712.19512899999995,-1.0278114231925972E-4,30.810573999999999]
[null,null,null,null,null,null,null,null,null,null,null,null,null,null,null,null,null,null,null,null,null,null,null,null,null,null,null,null,null,null,null,-4.452780965233573E-4,null,null,null,null,null,null,null,null,null,null,null,null,null,null,null,null,null,null,null,null,null,null,null,null,null,-40.932808000000001,412.18927000000002,-435.86468500000001,-29.763909999999999,-739.12628199999995,-4.452780965233573E-4,50.215477]
[null,null,null,null,null,null,null,null,null,null,null,null,null,null,null,null,null,null,null,null,null,null,null,null,null,null,null,null,null,null,null,-7.8646547719855858E-5,null,null,null,null,null,null,null,null,null,null,null,null,null,null,null,null,null,null,null,null,null,null,null,null,null,-14.710725999999999,464.73586999999998,-453.06057700000002,-30.175322000000001,-766.25994900000001,-7.8646547719855858E-5,37.517429]
[null,null,null,null,null,null,null,null,null,null,null,null,null,null,null,null,null,null,null,null,null,null,null,null,null,null,null,null,null,null,null,4.290158596306608E-4,null,null,null,null,null,null,null,null,null,null,null,null,null,null,null,null,null,null,null,null,null,null,null,null,null,-50.822628000000002,593.41369599999996,-508.69131499999997,-40.084187,-810.56280500000003,4.290158596306608E-4,10.901092999999999]
[null,null,null,null,null,null,null,null,null,null,null,null,null,null,null,null,null,null,null,null,null,null,null,null,null,null,null,null,null,null,null,1.4275674936078118E-4,null,null,null,null,null,null,null,null,null,null,null,null,null,null,null,null,null,null,null,null,null,null,null,null,null,-109.723236,-98.127464000000003,-572.19879200000003,-102.066467,-903.31841999999995,1.4275674936078118E-4,-59.893172999999997]
[null,null,null,null,null,null,null,null,null,null,null,null,null,null,null,null,null,null,null,null,null,null,null,null,null,null,null,null,null,null,null,2.7544230926233133E-4,null,null,null,null,null,null,null,null,null,null,null,null,null,null,null,null,null,null,null,null,null,null,null,null,null,-159.31510900000001,-322.75054899999998,-658.33111599999995,-139.44279499999999,-990.14276099999995,2.7544230926233133E-4,-99.181197999999995]
[null,null,null,null,null,null,null,null,null,null,null,null,null,null,null,null,null,null,null,null,null,null,null,null,null,null,null,null,null,null,null,-8.6385408217704981E-5,null,null,null,null,null,null,null,null,null,null,null,null,null,null,null,null,null,null,null,null,null,null,null,null,null,-205.646164,-154.21760599999999,-688.77612299999998,-156.81350699999999,-1082.2855219999999,-8.6385408217704981E-5,-129.53504899999999]
[null,null,null,null,null,null,null,null,null,null,null,null,null,null,null,null,null,null,null,null,null,null,null,null,null,null,null,null,null,null,null,3.2842153139185881E-4,null,null,null,null,null,null,null,null,null,null,null,null,null,null,null,null,null,null,null,null,null,null,null,null,null,-232.461411,20.754311000000001,-704.30078100000003,-188.91055299999999,-1111.1088870000001,3.2842153139185881E-4,-148.714508]
[null,null,null,null,null,null,null,null,null,null,null,null,null,null,null,null,null,null,null,null,null,null,null,null,null,null,null,null,null,null,null,3.3970912798971035E-4,null,null,null,null,null,null,null,null,null,null,null,null,null,null,null,null,null,null,null,null,null,null,null,null,null,-256.88439899999997,-134.79710399999999,-726.85882600000002,-191.71069299999999,-1174.0471190000001,3.3970912798971035E-4,-122.04953]
[null,null,null,null,null,null,null,null,null,null,null,null,null,null,null,null,null,null,null,null,null,null,null,null,null,null,null,null,null,null,null,3.5640222330933524E-4,null,null,null,null,null,null,null,null,null,null,null,null,null,null,null,null,null,null,null,null,null,null,null,null,null,-25.112492,null,null,null,null,3.5640222330933524E-4]
[null,null,null,null,null,null,null,null,null,null,null,null,null,null,null,null,null,null,null,null,null,null,null,null,null,null,null,null,null,null,null,null,null,null,null,null,null,null,null,null,null,null,null,null,null,null,null,null,null,null,null,null,null,null,null,null,null,-22.278883]
[null,null,null,null,null,null,null,null,null,null,null,null,null,null,null,null,null,null,null,null,null,null,null,null,null,null,null,null,null,null,null,null,null,null,null,null,null,null,null,null,null,null,null,null,null,null,null,null,null,null,null,null,null,null,null,null,null,-40.932808000000001]
[null,null,null,null,null,null,null,null,null,null,null,null,null,null,null,null,null,null,null,null,null,null,null,null,null,null,null,null,null,null,null,null,null,null,null,null,null,null,null,null,null,null,null,null,null,null,null,null,null,null,null,null,null,null,null,null,null,-14.710725999999999]
[null,null,null,null,null,null,null,null,null,null,null,null,null,null,null,null,null,null,null,null,null,null,null,null,null,null,null,null,null,null,null,null,null,null,null,null,null,null,null,null,null,null,null,null,null,null,null,null,null,null,null,null,null,null,null,null,null,-50.822628000000002]
[null,null,null,null,null,null,null,null,null,null,null,null,null,null,null,null,null,null,null,null,null,null,null,null,null,null,null,null,null,null,null,null,null,null,null,null,null,null,null,null,null,null,null,null,null,null,null,null,null,null,null,null,null,null,null,null,null,-109.723236]
[null,null,null,null,null,null,null,null,null,null,null,null,null,null,null,null,null,null,null,null,null,null,null,null,null,null,null,null,null,null,null,null,null,null,null,null,null,null,null,null,null,null,null,null,null,null,null,null,null,null,null,null,null,null,null,null,null,-159.31510900000001]
[null,null,null,null,null,null,null,null,null,null,null,null,null,null,null,null,null,null,null,null,null,null,null,null,null,null,null,null,null,null,null,null,null,null,null,null,null,null,null,null,null,null,null,null,null,null,null,null,null,null,null,null,null,null,null,null,null,-205.646164]
[null,null,null,null,null,null,null,null,null,null,null,null,null,null,null,null,null,null,null,null,null,null,null,null,null,null,null,null,null,null,null,null,null,null,null,null,null,null,null,null,null,null,null,null,null,null,null,null,null,null,null,null,null,null,null,null,null,-232.461411]
[null,null,null,null,null,null,null,null,null,null,null,null,null,null,null,null,null,null,null,null,null,null,null,null,null,null,null,null,null,null,null,null,null,null,null,null,null,null,null,null,null,null,null,null,null,null,null,null,null,null,null,null,null,null,null,null,null,-256.88439899999997]

{"sheet":"PPF calc","index":5,"n_rows":405,"n_cols":16,"rows_kept":405,"cut":false,"hidden":true,"merged":[]}
["Wavelength \n(nm)","Wrel","Vlam","Vlam*wrel*deltalam","philam","lam*philam*deltalam"]
[{"$f":"A3-1","v":380},{"$f":"VLOOKUP(A2,'25C SPD'!$A$1:$BL$402,MATCH('PPF calc'!$I$5,'25C SPD'!$A$1:$BL$1,0),FALSE)","v":-1.4754250588045807E-4},3.9599999999999998E-4,{"$f":"B2*C2","v":-5.8426832328661393E-8},{"$f":"B2/683/$D$405","v":-2.991044990810767E-9},{"$f":"A2*E2","v":-1.1365970965080915E-6}]
[381,{"$f":"VLOOKUP(A3,'25C SPD'!$A$1:$BL$402,MATCH('PPF calc'!$I$5,'25C SPD'!$A$1:$BL$1,0),FALSE)","v":3.7498223182249116E-3},3.9599999999999998E-4,1.4849296380170649E-6,7.6018007112095399E-8,2.8962860709708348E-5,null,null,{"$f":"VLOOKUP(Simulator!I6,CCT_CRI32354[],2,FALSE)","v":"30E"},null,null,null,null,null,null,"unit"]
[382,{"$f":"VLOOKUP(A4,'25C SPD'!$A$1:$BL$402,MATCH('PPF calc'!$I$5,'25C SPD'!$A$1:$BL$1,0),FALSE)","v":4.5111317078238263E-3},3.9599999999999998E-4,1.7864081562982351E-6,9.14515977416459E-8,3.4934510337308736E-5,null,null,{"$f":"Simulator!I8","v":25},null,null,null,"Avogadro’s number","NA",6.0220000000000003E+23," photons /mole"]
[383,{"$f":"VLOOKUP(A5,'25C SPD'!$A$1:$BL$402,MATCH('PPF calc'!$I$5,'25C SPD'!$A$1:$BL$1,0),FALSE)","v":3.7912796599974784E-3},3.9599999999999998E-4,1.5013467453590013E-6,7.6858448134166931E-8,2.9436785635385934E-5,null,null,{"$f":"CONCATENATE(I3,\"-\",I4)","v":"30E-25"},null,null,null,"Planck’s constant","h",6.6259999999999998E-34,"j*s"]
[384,{"$f":"VLOOKUP(A6,'25C SPD'!$A$1:$BL$402,MATCH('PPF calc'!$I$5,'25C SPD'!$A$1:$BL$1,0),FALSE)","v":4.971452379536119E-3},3.9599999999999998E-4,1.968695142296303E-6,1.0078341592566973E-7,3.8700831715457179E-5,null,null,null,null,null,null,"the speed of light","c",299800000,"m/s"]
[385,{"$f":"VLOOKUP(A7,'25C SPD'!$A$1:$BL$402,MATCH('PPF calc'!$I$5,'25C SPD'!$A$1:$BL$1,0),FALSE)","v":5.5494322938085599E-3},3.9599999999999998E-4,2.1975751883481895E-6,1.125004727633413E-7,4.3312682013886401E-5]
[386,{"$f":"VLOOKUP(A8,'25C SPD'!$A$1:$BL$402,MATCH('PPF calc'!$I$5,'25C SPD'!$A$1:$BL$1,0),FALSE)","v":4.6973763666406342E-3},3.9599999999999998E-4,1.8601610411896909E-6,9.5227229384168081E-8,3.675771054228888E-5,null,null,"PPF",{"$f":"0.008359*$F$405","v":1.4265561937857494E-2},"umol/s/lumen",null,null,"Denominator",{"$f":"PRODUCT(O4:O6)*1000","v":119.62551245600001}]
[387,{"$f":"VLOOKUP(A9,'25C SPD'!$A$1:$BL$402,MATCH('PPF calc'!$I$5,'25C SPD'!$A$1:$BL$1,0),FALSE)","v":3.0462033743589791E-3},3.9599999999999998E-4,1.2062965362461557E-6,6.175394195384933E-8,2.3898775536139689E-5]
[388,{"$f":"VLOOKUP(A10,'25C SPD'!$A$1:$BL$402,MATCH('PPF calc'!$I$5,'25C SPD'!$A$1:$BL$1,0),FALSE)","v":2.8424554134831356E-3},3.9599999999999998E-4,1.1256123437393215E-6,5.7623475861187439E-8,2.2357908634140727E-5]
[389,{"$f":"VLOOKUP(A11,'25C SPD'!$A$1:$BL$402,MATCH('PPF calc'!$I$5,'25C SPD'!$A$1:$BL$1,0),FALSE)","v":1.2873334891744268E-3},3.9599999999999998E-4,5.0978406171307296E-7,2.6097376897053971E-8,1.0151879612953994E-5]
[390,{"$f":"VLOOKUP(A12,'25C SPD'!$A$1:$BL$402,MATCH('PPF calc'!$I$5,'25C SPD'!$A$1:$BL$1,0),FALSE)","v":4.2454504520786091E-4},3.9599999999999998E-4,1.681198379023129E-7,8.6065593319348104E-9,3.356558139454576E-6]
[391,{"$f":"VLOOKUP(A13,'25C SPD'!$A$1:$BL$402,MATCH('PPF calc'!$I$5,'25C SPD'!$A$1:$BL$1,0),FALSE)","v":9.8628167955477995E-4},3.9599999999999998E-4,3.9056754510369284E-7,1.9994325428842281E-8,7.817781242677331E-6]
[392,{"$f":"VLOOKUP(A14,'25C SPD'!$A$1:$BL$402,MATCH('PPF calc'!$I$5,'25C SPD'!$A$1:$BL$1,0),FALSE)","v":1.7824737094667023E-3},3.9599999999999998E-4,7.0585958894881405E-7,3.6135071911222135E-8,1.4164948189199076E-5]
[393,{"$f":"VLOOKUP(A15,'25C SPD'!$A$1:$BL$402,MATCH('PPF calc'!$I$5,'25C SPD'!$A$1:$BL$1,0),FALSE)","v":2.2086920290137709E-3},3.9599999999999998E-4,8.7464204348945323E-7,4.4775552578575999E-8,1.7596792163380369E-5]
[394,{"$f":"VLOOKUP(A16,'25C SPD'!$A$1:$BL$402,MATCH('PPF calc'!$I$5,'25C SPD'!$A$1:$BL$1,0),FALSE)","v":2.9950037512069681E-3},3.9599999999999998E-4,1.1860214854779594E-6,6.0716001223167284E-8,2.392210448192791E-5]
[395,{"$f":"VLOOKUP(A17,'25C SPD'!$A$1:$BL$402,MATCH('PPF calc'!$I$5,'25C SPD'!$A$1:$BL$1,0),FALSE)","v":2.3383113931982643E-3},3.9599999999999998E-4,9.2597131170651263E-7,4.7403251949970884E-8,1.8724284520238501E-5]
[396,{"$f":"VLOOKUP(A18,'25C SPD'!$A$1:$BL$402,MATCH('PPF calc'!$I$5,'25C SPD'!$A$1:$BL$1,0),FALSE)","v":7.5891538803621198E-4},3.9599999999999998E-4,3.0053049366233995E-7,1.5385058402587259E-8,6.0924831274245549E-6]
[397,{"$f":"VLOOKUP(A19,'25C SPD'!$A$1:$BL$402,MATCH('PPF calc'!$I$5,'25C SPD'!$A$1:$BL$1,0),FALSE)","v":1.3986585852628861E-4},3.9599999999999998E-4,5.5386879976410284E-8,2.8354207015397627E-9,1.1256620185112858E-6]
[398,{"$f":"VLOOKUP(A20,'25C SPD'!$A$1:$BL$402,MATCH('PPF calc'!$I$5,'25C SPD'!$A$1:$BL$1,0),FALSE)","v":1.0748050772998662E-3},3.9599999999999998E-4,4.2562281061074702E-7,2.1788909733988335E-8,8.6719860741273576E-6]
[{"$f":"A22-1","v":399},{"$f":"VLOOKUP(A21,'25C SPD'!$A$1:$BL$402,MATCH('PPF calc'!$I$5,'25C SPD'!$A$1:$BL$1,0),FALSE)","v":1.716804040005269E-3},3.9599999999999998E-4,6.798543998420865E-7,3.4803788192549472E-8,1.3886711488827239E-5]
[400,{"$f":"VLOOKUP(A22,'25C SPD'!$A$1:$BL$402,MATCH('PPF calc'!$I$5,'25C SPD'!$A$1:$BL$1,0),FALSE)","v":3.3518777914641768E-3},3.9599999999999998E-4,{"$f":"B22*C22","v":1.327343605419814E-6},6.795070490460384E-8,2.7180281961841537E-5]
[401,{"$f":"VLOOKUP(A23,'25C SPD'!$A$1:$BL$402,MATCH('PPF calc'!$I$5,'25C SPD'!$A$1:$BL$1,0),FALSE)","v":3.3089230363004363E-3},4.3371000000000002E-4,1.4351130100738623E-6,6.7079907675715064E-8,2.689904297796174E-5]
[402,{"$f":"VLOOKUP(A24,'25C SPD'!$A$1:$BL$402,MATCH('PPF calc'!$I$5,'25C SPD'!$A$1:$BL$1,0),FALSE)","v":3.2142186188668827E-3},4.7301999999999999E-4,1.5203896910964127E-6,6.5160019087122221E-8,2.6194327673023132E-5]
[403,{"$f":"VLOOKUP(A25,'25C SPD'!$A$1:$BL$402,MATCH('PPF calc'!$I$5,'25C SPD'!$A$1:$BL$1,0),FALSE)","v":4.2540212463127499E-3},5.1787999999999997E-4,2.2030725230404468E-6,8.6239344137855048E-8,3.4754455687555587E-5]
[404,{"$f":"VLOOKUP(A26,'25C SPD'!$A$1:$BL$402,MATCH('PPF calc'!$I$5,'25C SPD'!$A$1:$BL$1,0),FALSE)","v":4.5489085238137831E-3},5.7222000000000002E-4,2.6029764354967231E-6,9.2217425565710982E-8,3.7255839928547234E-5]
[405,{"$f":"VLOOKUP(A27,'25C SPD'!$A$1:$BL$402,MATCH('PPF calc'!$I$5,'25C SPD'!$A$1:$BL$1,0),FALSE)","v":4.0460262595265464E-3},6.4000000000000005E-4,2.5894568060969901E-6,8.2022780513507493E-8,3.3219226107970537E-5]
[406,{"$f":"VLOOKUP(A28,'25C SPD'!$A$1:$BL$402,MATCH('PPF calc'!$I$5,'25C SPD'!$A$1:$BL$1,0),FALSE)","v":2.6134263676156066E-3},7.2455999999999996E-4,1.8935842089195638E-6,5.2980500765269845E-8,2.1510083310699558E-5,null,null,null,null,null,null,null,null,"Reference"]
[407,{"$f":"VLOOKUP(A29,'25C SPD'!$A$1:$BL$402,MATCH('PPF calc'!$I$5,'25C SPD'!$A$1:$BL$1,0),FALSE)","v":3.699802410395961E-3},8.2549999999999995E-4,3.0541868897818657E-6,7.5003982076667191E-8,3.052662070520355E-5]
[408,{"$f":"VLOOKUP(A30,'25C SPD'!$A$1:$BL$402,MATCH('PPF calc'!$I$5,'25C SPD'!$A$1:$BL$1,0),FALSE)","v":5.0726036076992956E-3},9.4116000000000002E-4,4.774131611422269E-6,1.0283399702774858E-7,4.1956270787321422E-5]
[409,{"$f":"VLOOKUP(A31,'25C SPD'!$A$1:$BL$402,MATCH('PPF calc'!$I$5,'25C SPD'!$A$1:$BL$1,0),FALSE)","v":5.2996184676541254E-3},1.0698999999999999E-3,5.6700617985431487E-6,1.0743613968254157E-7,4.3941381130159501E-5]
[410,{"$f":"VLOOKUP(A32,'25C SPD'!$A$1:$BL$402,MATCH('PPF calc'!$I$5,'25C SPD'!$A$1:$BL$1,0),FALSE)","v":5.6032963102315633E-3},1.2099999999999999E-3,6.7799885353801915E-6,1.1359242721772414E-7,4.6572895159266896E-5]
[411,{"$f":"VLOOKUP(A33,'25C SPD'!$A$1:$BL$402,MATCH('PPF calc'!$I$5,'25C SPD'!$A$1:$BL$1,0),FALSE)","v":6.6060357811160431E-3},1.3621E-3,8.9980813374581625E-6,1.339203920545645E-7,5.5041281134426012E-5]
[412,{"$f":"VLOOKUP(A34,'25C SPD'!$A$1:$BL$402,MATCH('PPF calc'!$I$5,'25C SPD'!$A$1:$BL$1,0),FALSE)","v":7.5751756176215086E-3},1.5307999999999999E-3,1.1596078835455005E-5,1.5356721068541693E-7,6.3269690802391778E-5]
[413,{"$f":"VLOOKUP(A35,'25C SPD'!$A$1:$BL$402,MATCH('PPF calc'!$I$5,'25C SPD'!$A$1:$BL$1,0),FALSE)","v":8.7432131194346528E-3},1.7204E-3,1.5041823850675377E-5,1.7724616813587502E-7,7.3202667440116381E-5]
[414,{"$f":"VLOOKUP(A36,'25C SPD'!$A$1:$BL$402,MATCH('PPF calc'!$I$5,'25C SPD'!$A$1:$BL$1,0),FALSE)","v":1.0741451843108735E-2},1.9353E-3,2.0787931751968335E-5,2.1775532100150418E-7,9.0150702894622724E-5]
[415,{"$f":"VLOOKUP(A37,'25C SPD'!$A$1:$BL$402,MATCH('PPF calc'!$I$5,'25C SPD'!$A$1:$BL$1,0),FALSE)","v":1.2546426128525943E-2},2.1800000000000001E-3,2.7351208960186556E-5,2.5434653424356175E-7,1.0555381171107812E-4]
[416,{"$f":"VLOOKUP(A38,'25C SPD'!$A$1:$BL$402,MATCH('PPF calc'!$I$5,'25C SPD'!$A$1:$BL$1,0),FALSE)","v":1.4735732669562558E-2},2.4548E-3,3.6173276557242169E-5,2.9872909589140575E-7,1.2427130389082479E-4]
[417,{"$f":"VLOOKUP(A39,'25C SPD'!$A$1:$BL$402,MATCH('PPF calc'!$I$5,'25C SPD'!$A$1:$BL$1,0),FALSE)","v":1.7792285280220501E-2},2.764E-3,4.9177876514529462E-5,3.6069284200444308E-7,1.5040891511585277E-4]
[418,{"$f":"VLOOKUP(A40,'25C SPD'!$A$1:$BL$402,MATCH('PPF calc'!$I$5,'25C SPD'!$A$1:$BL$1,0),FALSE)","v":2.1059536258584543E-2},3.1178E-3,6.5659422147014884E-5,4.2692795583987713E-7,1.7845588554106864E-4]
[419,{"$f":"VLOOKUP(A41,'25C SPD'!$A$1:$BL$402,MATCH('PPF calc'!$I$5,'25C SPD'!$A$1:$BL$1,0),FALSE)","v":2.3749006934976093E-2},3.5263999999999998E-3,8.3748498055499687E-5,4.8145005946383944E-7,2.0172757491534871E-4]
[420,{"$f":"VLOOKUP(A42,'25C SPD'!$A$1:$BL$402,MATCH('PPF calc'!$I$5,'25C SPD'!$A$1:$BL$1,0),FALSE)","v":2.6489000725460878E-2},4.0000000000000001E-3,1.0595600290184351E-4,5.3699638933654899E-7,2.2553848352135057E-4]
[421,{"$f":"VLOOKUP(A43,'25C SPD'!$A$1:$BL$402,MATCH('PPF calc'!$I$5,'25C SPD'!$A$1:$BL$1,0),FALSE)","v":3.0690947885610952E-2},4.5462000000000002E-3,1.3952718727756452E-4,6.2218006525433123E-7,2.6193780747207343E-4]
[422,{"$f":"VLOOKUP(A44,'25C SPD'!$A$1:$BL$402,MATCH('PPF calc'!$I$5,'25C SPD'!$A$1:$BL$1,0),FALSE)","v":3.6259909339082491E-2},5.1593000000000003E-3,1.8707575025312832E-4,7.3507644152247009E-7,3.1020225832248236E-4]
[423,{"$f":"VLOOKUP(A45,'25C SPD'!$A$1:$BL$402,MATCH('PPF calc'!$I$5,'25C SPD'!$A$1:$BL$1,0),FALSE)","v":4.1082521136372882E-2},5.8292999999999999E-3,2.3948234046025844E-4,8.3284249729623791E-7,3.5229237635630862E-4]
[424,{"$f":"VLOOKUP(A46,'25C SPD'!$A$1:$BL$402,MATCH('PPF calc'!$I$5,'25C SPD'!$A$1:$BL$1,0),FALSE)","v":4.5736681686110857E-2},6.5462000000000003E-3,2.9940146565361888E-4,9.2719363709592234E-7,3.9313010212867108E-4]
[425,{"$f":"VLOOKUP(A47,'25C SPD'!$A$1:$BL$402,MATCH('PPF calc'!$I$5,'25C SPD'!$A$1:$BL$1,0),FALSE)","v":5.111782116137855E-2},7.3000000000000001E-3,3.7316009447806343E-4,1.0362824056260854E-6,4.4042002239108629E-4]
[426,{"$f":"VLOOKUP(A48,'25C SPD'!$A$1:$BL$402,MATCH('PPF calc'!$I$5,'25C SPD'!$A$1:$BL$1,0),FALSE)","v":5.8584792011321399E-2},8.0864999999999999E-3,4.737459205995505E-4,1.1876560428296386E-6,5.0594147424542601E-4]
[427,{"$f":"VLOOKUP(A49,'25C SPD'!$A$1:$BL$402,MATCH('PPF calc'!$I$5,'25C SPD'!$A$1:$BL$1,0),FALSE)","v":6.6307733600687022E-2},8.9087000000000003E-3,5.9071570632844052E-4,1.3442188287017451E-6,5.7398143985564517E-4]
[428,{"$f":"VLOOKUP(A50,'25C SPD'!$A$1:$BL$402,MATCH('PPF calc'!$I$5,'25C SPD'!$A$1:$BL$1,0),FALSE)","v":7.4706225875221258E-2},9.7677000000000007E-3,7.2970800248139869E-4,1.5144766679474843E-6,6.4819601388152329E-4]
[429,{"$f":"VLOOKUP(A51,'25C SPD'!$A$1:$BL$402,MATCH('PPF calc'!$I$5,'25C SPD'!$A$1:$BL$1,0),FALSE)","v":8.4421271206533047E-2},1.0664E-2,9.0026843614646841E-4,1.7114242357030651E-6,7.3420099711661493E-4]
[430,{"$f":"VLOOKUP(A52,'25C SPD'!$A$1:$BL$402,MATCH('PPF calc'!$I$5,'25C SPD'!$A$1:$BL$1,0),FALSE)","v":9.3892209846108396E-2},1.1599999999999999E-2,1.0891496342148573E-3,1.9034231678557419E-6,8.18471962177969E-4]
[431,{"$f":"VLOOKUP(A53,'25C SPD'!$A$1:$BL$402,MATCH('PPF calc'!$I$5,'25C SPD'!$A$1:$BL$1,0),FALSE)","v":0.10352929457801525},1.2573000000000001E-2,1.3016738207293859E-3,2.0987902848867042E-6,9.0457861278616953E-4]
[432,{"$f":"VLOOKUP(A54,'25C SPD'!$A$1:$BL$402,MATCH('PPF calc'!$I$5,'25C SPD'!$A$1:$BL$1,0),FALSE)","v":0.11381915829014187},1.3583E-2,1.5460056270549969E-3,2.3073908175170659E-6,9.9679283316737258E-4]
[433,{"$f":"VLOOKUP(A55,'25C SPD'!$A$1:$BL$402,MATCH('PPF calc'!$I$5,'25C SPD'!$A$1:$BL$1,0),FALSE)","v":0.12558078827481109},1.4630000000000001E-2,1.8372469324604863E-3,2.5458276275704197E-6,1.1023433627379918E-3]
[434,{"$f":"VLOOKUP(A56,'25C SPD'!$A$1:$BL$402,MATCH('PPF calc'!$I$5,'25C SPD'!$A$1:$BL$1,0),FALSE)","v":0.13901536783109752},1.5715E-2,2.1846265054656978E-3,2.8181791892148768E-6,1.2230897681192565E-3]
[435,{"$f":"VLOOKUP(A57,'25C SPD'!$A$1:$BL$402,MATCH('PPF calc'!$I$5,'25C SPD'!$A$1:$BL$1,0),FALSE)","v":0.15307333910644247},1.6840000000000001E-2,2.5777550305524912E-3,3.1031684152901771E-6,1.349878260651227E-3]
[436,{"$f":"VLOOKUP(A58,'25C SPD'!$A$1:$BL$402,MATCH('PPF calc'!$I$5,'25C SPD'!$A$1:$BL$1,0),FALSE)","v":0.16898648337531941},1.8006999999999999E-2,3.0429396061393763E-3,3.4257665043590818E-6,1.4936341959005596E-3]
[437,{"$f":"VLOOKUP(A59,'25C SPD'!$A$1:$BL$402,MATCH('PPF calc'!$I$5,'25C SPD'!$A$1:$BL$1,0),FALSE)","v":0.18596814650900778},1.9213999999999998E-2,3.5731919670240753E-3,3.7700260663649486E-6,1.6475013910014825E-3]
[438,{"$f":"VLOOKUP(A60,'25C SPD'!$A$1:$BL$402,MATCH('PPF calc'!$I$5,'25C SPD'!$A$1:$BL$1,0),FALSE)","v":0.20591566796537855},2.0454E-2,4.2117990725638529E-3,4.1744107809604082E-6,1.8283919220606589E-3]
[439,{"$f":"VLOOKUP(A61,'25C SPD'!$A$1:$BL$402,MATCH('PPF calc'!$I$5,'25C SPD'!$A$1:$BL$1,0),FALSE)","v":0.22791048859183191},2.1718000000000001E-2,4.9497599912374061E-3,4.6202992228432988E-6,2.0283113588282081E-3]
[440,{"$f":"VLOOKUP(A62,'25C SPD'!$A$1:$BL$402,MATCH('PPF calc'!$I$5,'25C SPD'!$A$1:$BL$1,0),FALSE)","v":0.25415998144078256},2.3E-2,5.8456795731379983E-3,5.1524402057325963E-6,2.2670736905223425E-3]
[441,{"$f":"VLOOKUP(A63,'25C SPD'!$A$1:$BL$402,MATCH('PPF calc'!$I$5,'25C SPD'!$A$1:$BL$1,0),FALSE)","v":0.28466315323185964},2.4295000000000001E-2,6.9158913077680302E-3,5.7708135934223988E-6,2.5449287946992779E-3]
[442,{"$f":"VLOOKUP(A64,'25C SPD'!$A$1:$BL$402,MATCH('PPF calc'!$I$5,'25C SPD'!$A$1:$BL$1,0),FALSE)","v":0.31526250185961174},2.5610000000000001E-2,8.0738726726246567E-3,6.3911367192154822E-6,2.8248824298932433E-3]
[443,{"$f":"VLOOKUP(A65,'25C SPD'!$A$1:$BL$402,MATCH('PPF calc'!$I$5,'25C SPD'!$A$1:$BL$1,0),FALSE)","v":0.34589069458419308},2.6959E-2,9.3248672352952613E-3,7.0120445849167081E-6,3.1063357511181017E-3]
[444,{"$f":"VLOOKUP(A66,'25C SPD'!$A$1:$BL$402,MATCH('PPF calc'!$I$5,'25C SPD'!$A$1:$BL$1,0),FALSE)","v":0.38194845594393784},2.8351000000000001E-2,1.0828620674466582E-2,{"$f":"B66/683/$D$405","v":7.7430229958588219E-6},{"$f":"A66*E66","v":3.4379022101613168E-3}]
[445,{"$f":"VLOOKUP(A67,'25C SPD'!$A$1:$BL$402,MATCH('PPF calc'!$I$5,'25C SPD'!$A$1:$BL$1,0),FALSE)","v":0.41940053042386338},2.98E-2,1.2498135806631129E-2,8.5022675206835156E-6,3.7835090467041644E-3]
[446,{"$f":"VLOOKUP(A68,'25C SPD'!$A$1:$BL$402,MATCH('PPF calc'!$I$5,'25C SPD'!$A$1:$BL$1,0),FALSE)","v":0.45412494087931821},3.1310999999999999E-2,1.4219106023872332E-2,9.2062156699429332E-6,4.105972188794548E-3]
[447,{"$f":"VLOOKUP(A69,'25C SPD'!$A$1:$BL$402,MATCH('PPF calc'!$I$5,'25C SPD'!$A$1:$BL$1,0),FALSE)","v":0.4873036035767494},3.2883999999999997E-2,1.6024491700017827E-2,9.8788277573596747E-6,4.4158360075397746E-3]
[448,{"$f":"VLOOKUP(A70,'25C SPD'!$A$1:$BL$402,MATCH('PPF calc'!$I$5,'25C SPD'!$A$1:$BL$1,0),FALSE)","v":0.51192443406312005},3.4521000000000003E-2,1.7672143388292968E-2,1.0377951797963445E-5,4.6493224054876235E-3]
[449,{"$f":"VLOOKUP(A71,'25C SPD'!$A$1:$BL$402,MATCH('PPF calc'!$I$5,'25C SPD'!$A$1:$BL$1,0),FALSE)","v":0.52641268408801067},3.6226000000000001E-2,1.9069825893772277E-2,1.0671663819485393E-5,4.7915770549489412E-3]
[450,{"$f":"VLOOKUP(A72,'25C SPD'!$A$1:$BL$402,MATCH('PPF calc'!$I$5,'25C SPD'!$A$1:$BL$1,0),FALSE)","v":0.53603696486008368},3.7999999999999999E-2,2.0369404664683181E-2,1.0866771369148327E-5,4.8900471161167471E-3]
[451,{"$f":"VLOOKUP(A73,'25C SPD'!$A$1:$BL$402,MATCH('PPF calc'!$I$5,'25C SPD'!$A$1:$BL$1,0),FALSE)","v":0.53473142471280566},3.9847E-2,2.1307443080531167E-2,1.0840304899065583E-5,4.8889775094785775E-3]
[452,{"$f":"VLOOKUP(A74,'25C SPD'!$A$1:$BL$402,MATCH('PPF calc'!$I$5,'25C SPD'!$A$1:$BL$1,0),FALSE)","v":0.52664941717289671},4.1768E-2,2.1997092856477548E-2,1.0676462974166155E-5,4.8257612643231021E-3]
[453,{"$f":"VLOOKUP(A75,'25C SPD'!$A$1:$BL$402,MATCH('PPF calc'!$I$5,'25C SPD'!$A$1:$BL$1,0),FALSE)","v":0.50828019628131382},4.3765999999999999E-2,2.2245391070447981E-2,1.0304074245880751E-5,4.6677456333839807E-3]
[454,{"$f":"VLOOKUP(A76,'25C SPD'!$A$1:$BL$402,MATCH('PPF calc'!$I$5,'25C SPD'!$A$1:$BL$1,0),FALSE)","v":0.48171604081557601},4.5843000000000002E-2,2.2083308459108452E-2,9.7655542873998402E-6,4.4335616464795278E-3]
[455,{"$f":"VLOOKUP(A77,'25C SPD'!$A$1:$BL$402,MATCH('PPF calc'!$I$5,'25C SPD'!$A$1:$BL$1,0),FALSE)","v":0.45065476207288735},4.8000000000000001E-2,2.1631428579498593E-2,9.1358667160990673E-6,4.156819355825076E-3]
[456,{"$f":"VLOOKUP(A78,'25C SPD'!$A$1:$BL$402,MATCH('PPF calc'!$I$5,'25C SPD'!$A$1:$BL$1,0),FALSE)","v":0.41755264799478298},5.0243999999999997E-2,2.0979515245849876E-2,8.4648064551409099E-6,3.8599517435442547E-3]
[457,{"$f":"VLOOKUP(A79,'25C SPD'!$A$1:$BL$402,MATCH('PPF calc'!$I$5,'25C SPD'!$A$1:$BL$1,0),FALSE)","v":0.38555823419431434},5.2573000000000002E-2,2.0269953046297688E-2,7.8162019695335279E-6,3.572004300076822E-3]
[458,{"$f":"VLOOKUP(A80,'25C SPD'!$A$1:$BL$402,MATCH('PPF calc'!$I$5,'25C SPD'!$A$1:$BL$1,0),FALSE)","v":0.35739997675556096},5.4981000000000002E-2,1.9650208121997498E-2,7.2453656918144674E-6,3.318377486851026E-3]
[459,{"$f":"VLOOKUP(A81,'25C SPD'!$A$1:$BL$402,MATCH('PPF calc'!$I$5,'25C SPD'!$A$1:$BL$1,0),FALSE)","v":0.33205559533785489},5.7459000000000003E-2,1.9079582452517806E-2,6.7315735162495022E-6,3.0897922439585214E-3]
[460,{"$f":"VLOOKUP(A82,'25C SPD'!$A$1:$BL$402,MATCH('PPF calc'!$I$5,'25C SPD'!$A$1:$BL$1,0),FALSE)","v":0.31084069584519919},0.06,1.8650441750711951E-2,6.3014959702609981E-6,2.8986881463200593E-3]
[461,{"$f":"VLOOKUP(A83,'25C SPD'!$A$1:$BL$402,MATCH('PPF calc'!$I$5,'25C SPD'!$A$1:$BL$1,0),FALSE)","v":0.29378758556943918},6.2602000000000005E-2,1.8391690431818031E-2,5.9557880011325486E-6,2.7456182685221047E-3]
[462,{"$f":"VLOOKUP(A84,'25C SPD'!$A$1:$BL$402,MATCH('PPF calc'!$I$5,'25C SPD'!$A$1:$BL$1,0),FALSE)","v":0.28131610741753887},6.5278000000000003E-2,1.8363752860002105E-2,5.7029608444318844E-6,2.6347679101275307E-3]
[463,{"$f":"VLOOKUP(A85,'25C SPD'!$A$1:$BL$402,MATCH('PPF calc'!$I$5,'25C SPD'!$A$1:$BL$1,0),FALSE)","v":0.27140992315391643},6.8042000000000005E-2,1.8467273991238785E-2,5.5021384262213438E-6,2.547490091340482E-3]
[464,{"$f":"VLOOKUP(A86,'25C SPD'!$A$1:$BL$402,MATCH('PPF calc'!$I$5,'25C SPD'!$A$1:$BL$1,0),FALSE)","v":0.26313118500519272},7.0911000000000002E-2,{"$f":"B86*C86","v":1.8658895459903221E-2},5.3343082940014346E-6,2.4751190484166657E-3]
[465,{"$f":"VLOOKUP(A87,'25C SPD'!$A$1:$BL$402,MATCH('PPF calc'!$I$5,'25C SPD'!$A$1:$BL$1,0),FALSE)","v":0.25673824899915776},7.3899999999999993E-2,1.8972956601037757E-2,5.2047079520300345E-6,2.4201891976939659E-3]
[466,{"$f":"VLOOKUP(A88,'25C SPD'!$A$1:$BL$402,MATCH('PPF calc'!$I$5,'25C SPD'!$A$1:$BL$1,0),FALSE)","v":0.24845709923553833},7.7016000000000001E-2,1.9135171954724219E-2,5.0368289305181168E-6,2.3471622816214426E-3]
[467,{"$f":"VLOOKUP(A89,'25C SPD'!$A$1:$BL$402,MATCH('PPF calc'!$I$5,'25C SPD'!$A$1:$BL$1,0),FALSE)","v":0.24037708360048954},8.0266000000000004E-2,1.9294106992276894E-2,4.8730273863687547E-6,2.2757037894342086E-3]
[468,{"$f":"VLOOKUP(A90,'25C SPD'!$A$1:$BL$402,MATCH('PPF calc'!$I$5,'25C SPD'!$A$1:$BL$1,0),FALSE)","v":0.23244465675415407},8.3667000000000005E-2,1.944794709664981E-2,4.7122178254756515E-6,2.205317942322605E-3]
[469,{"$f":"VLOOKUP(A91,'25C SPD'!$A$1:$BL$402,MATCH('PPF calc'!$I$5,'25C SPD'!$A$1:$BL$1,0),FALSE)","v":0.22431436961365891},8.7233000000000005E-2,1.9567615404508309E-2,4.547397155795999E-6,2.1327292660683235E-3]
[470,{"$f":"VLOOKUP(A92,'25C SPD'!$A$1:$BL$402,MATCH('PPF calc'!$I$5,'25C SPD'!$A$1:$BL$1,0),FALSE)","v":0.21567967196286572},9.0980000000000005E-2,1.9622536555181525E-2,4.3723508598052297E-6,2.0550049041084578E-3]
[471,{"$f":"VLOOKUP(A93,'25C SPD'!$A$1:$BL$402,MATCH('PPF calc'!$I$5,'25C SPD'!$A$1:$BL$1,0),FALSE)","v":0.20656067608096867},9.4918000000000002E-2,1.9606326252253385E-2,4.1874866622574991E-6,1.9723062179232819E-3]
[472,{"$f":"VLOOKUP(A94,'25C SPD'!$A$1:$BL$402,MATCH('PPF calc'!$I$5,'25C SPD'!$A$1:$BL$1,0),FALSE)","v":0.19875842508650071},9.9045999999999995E-2,1.9686226971117549E-2,4.0293160820928935E-6,1.9018371907478457E-3]
[473,{"$f":"VLOOKUP(A95,'25C SPD'!$A$1:$BL$402,MATCH('PPF calc'!$I$5,'25C SPD'!$A$1:$BL$1,0),FALSE)","v":0.19228956561289706},0.10337,1.9876972397405171E-2,3.898176587007609E-6,1.8438375256545991E-3]
[474,{"$f":"VLOOKUP(A96,'25C SPD'!$A$1:$BL$402,MATCH('PPF calc'!$I$5,'25C SPD'!$A$1:$BL$1,0),FALSE)","v":0.18556039369570346},0.10788,2.001825527189249E-2,3.7617599263638352E-6,1.783074205096458E-3]
[475,{"$f":"VLOOKUP(A97,'25C SPD'!$A$1:$BL$402,MATCH('PPF calc'!$I$5,'25C SPD'!$A$1:$BL$1,0),FALSE)","v":0.18278674662593769},0.11260000000000001,2.0581787670080585E-2,3.7055313627726651E-6,1.7601273973170159E-3]
[476,{"$f":"VLOOKUP(A98,'25C SPD'!$A$1:$BL$402,MATCH('PPF calc'!$I$5,'25C SPD'!$A$1:$BL$1,0),FALSE)","v":0.18222430623034219},0.11753,2.1416822711252118E-2,3.6941293297257377E-6,1.7584055609494512E-3]
[477,{"$f":"VLOOKUP(A99,'25C SPD'!$A$1:$BL$402,MATCH('PPF calc'!$I$5,'25C SPD'!$A$1:$BL$1,0),FALSE)","v":0.18141550865640629},0.12267,2.225424044688136E-2,3.6777330382457702E-6,1.7542786592432324E-3]
[478,{"$f":"VLOOKUP(A100,'25C SPD'!$A$1:$BL$402,MATCH('PPF calc'!$I$5,'25C SPD'!$A$1:$BL$1,0),FALSE)","v":0.182821833250531},0.12798999999999999,2.339936643773546E-2,3.7062426538823566E-6,1.7715839885557665E-3]
[479,{"$f":"VLOOKUP(A101,'25C SPD'!$A$1:$BL$402,MATCH('PPF calc'!$I$5,'25C SPD'!$A$1:$BL$1,0),FALSE)","v":0.18520552582137617},0.13345000000000001,2.4715677420862652E-2,3.7545658925389907E-6,1.7984370625261765E-3]
[480,{"$f":"VLOOKUP(A102,'25C SPD'!$A$1:$BL$402,MATCH('PPF calc'!$I$5,'25C SPD'!$A$1:$BL$1,0),FALSE)","v":0.18773075321422897},0.13902,2.6098329311842111E-2,3.8057583858410239E-6,1.8267640252036914E-3]
[481,{"$f":"VLOOKUP(A103,'25C SPD'!$A$1:$BL$402,MATCH('PPF calc'!$I$5,'25C SPD'!$A$1:$BL$1,0),FALSE)","v":0.19351823778903132},0.14468,2.7998218643317051E-2,3.9230847565947009E-6,1.8870037679220512E-3]
[482,{"$f":"VLOOKUP(A104,'25C SPD'!$A$1:$BL$402,MATCH('PPF calc'!$I$5,'25C SPD'!$A$1:$BL$1,0),FALSE)","v":0.20071399268223489},0.15046999999999999,3.0201434478895881E-2,4.068960187542423E-6,1.9612388103954479E-3]
[483,{"$f":"VLOOKUP(A105,'25C SPD'!$A$1:$BL$402,MATCH('PPF calc'!$I$5,'25C SPD'!$A$1:$BL$1,0),FALSE)","v":0.20626673724441219},0.15645999999999999,3.2272493709260726E-2,4.1815278080314535E-6,2.0196779312791919E-3]
[484,{"$f":"VLOOKUP(A106,'25C SPD'!$A$1:$BL$402,MATCH('PPF calc'!$I$5,'25C SPD'!$A$1:$BL$1,0),FALSE)","v":0.21304053572423992},0.16272,3.4665955973048321E-2,4.3188491575025408E-6,2.0903229922312298E-3]
[485,{"$f":"VLOOKUP(A107,'25C SPD'!$A$1:$BL$402,MATCH('PPF calc'!$I$5,'25C SPD'!$A$1:$BL$1,0),FALSE)","v":0.22227602993412751},0.16930000000000001,3.7631331867847791E-2,4.5060750591456077E-6,2.1854464036856198E-3]
[486,{"$f":"VLOOKUP(A108,'25C SPD'!$A$1:$BL$402,MATCH('PPF calc'!$I$5,'25C SPD'!$A$1:$BL$1,0),FALSE)","v":0.23108234567211816},0.17624000000000001,4.0725952601254105E-2,4.6846004706426594E-6,2.2767158287323327E-3]
[487,{"$f":"VLOOKUP(A109,'25C SPD'!$A$1:$BL$402,MATCH('PPF calc'!$I$5,'25C SPD'!$A$1:$BL$1,0),FALSE)","v":0.23800317384449149},0.18356,4.3687862590894855E-2,4.8249024691325807E-6,2.3497275024675669E-3]
[488,{"$f":"VLOOKUP(A110,'25C SPD'!$A$1:$BL$402,MATCH('PPF calc'!$I$5,'25C SPD'!$A$1:$BL$1,0),FALSE)","v":0.24535236400578708},0.19127,4.6928546663386896E-2,4.9738884056752954E-6,2.4272575419695443E-3]
[489,{"$f":"VLOOKUP(A111,'25C SPD'!$A$1:$BL$402,MATCH('PPF calc'!$I$5,'25C SPD'!$A$1:$BL$1,0),FALSE)","v":0.25403652008562094},0.19941999999999999,5.0659962835474526E-2,5.1499373441625613E-6,2.5183193612954924E-3]
[490,{"$f":"VLOOKUP(A112,'25C SPD'!$A$1:$BL$402,MATCH('PPF calc'!$I$5,'25C SPD'!$A$1:$BL$1,0),FALSE)","v":0.26348915001777701},0.20802000000000001,5.4811012986697973E-2,5.3415651143420303E-6,2.6173669060275948E-3]
[491,{"$f":"VLOOKUP(A113,'25C SPD'!$A$1:$BL$402,MATCH('PPF calc'!$I$5,'25C SPD'!$A$1:$BL$1,0),FALSE)","v":0.27302651754058116},0.21712000000000001,5.9279517488410982E-2,5.5349107213206557E-6,2.7176411641684421E-3]
[492,{"$f":"VLOOKUP(A114,'25C SPD'!$A$1:$BL$402,MATCH('PPF calc'!$I$5,'25C SPD'!$A$1:$BL$1,0),FALSE)","v":0.28145389070783244},0.22672999999999999,6.381404064018685E-2,5.7057540464165641E-6,2.8072309908369493E-3]
[493,{"$f":"VLOOKUP(A115,'25C SPD'!$A$1:$BL$402,MATCH('PPF calc'!$I$5,'25C SPD'!$A$1:$BL$1,0),FALSE)","v":0.29016097294460769},0.23685999999999999,6.872752805165977E-2,5.8822677537951333E-6,2.8999580026210009E-3]
[494,{"$f":"VLOOKUP(A116,'25C SPD'!$A$1:$BL$402,MATCH('PPF calc'!$I$5,'25C SPD'!$A$1:$BL$1,0),FALSE)","v":0.30003834010968511},0.24748000000000001,7.4253488410344876E-2,6.0825059794183339E-6,3.0047579538326568E-3]
[495,{"$f":"VLOOKUP(A117,'25C SPD'!$A$1:$BL$402,MATCH('PPF calc'!$I$5,'25C SPD'!$A$1:$BL$1,0),FALSE)","v":0.31145302932715202},0.2586,8.0541753384001505E-2,6.3139094573640621E-6,3.1253851813952105E-3]
[496,{"$f":"VLOOKUP(A118,'25C SPD'!$A$1:$BL$402,MATCH('PPF calc'!$I$5,'25C SPD'!$A$1:$BL$1,0),FALSE)","v":0.32186475561726968},0.27017999999999998,8.6961419672673915E-2,6.5249804404676092E-6,3.2363902984719342E-3]
[497,{"$f":"VLOOKUP(A119,'25C SPD'!$A$1:$BL$402,MATCH('PPF calc'!$I$5,'25C SPD'!$A$1:$BL$1,0),FALSE)","v":0.33264980544759426},0.28228999999999999,9.3903713579801373E-2,6.7436195985741785E-6,3.3515789404913667E-3]
[498,{"$f":"VLOOKUP(A120,'25C SPD'!$A$1:$BL$402,MATCH('PPF calc'!$I$5,'25C SPD'!$A$1:$BL$1,0),FALSE)","v":0.3428891945226088},0.29504999999999998,0.10116945684389572,6.9511968877019564E-6,3.4616960500755741E-3]
[499,{"$f":"VLOOKUP(A121,'25C SPD'!$A$1:$BL$402,MATCH('PPF calc'!$I$5,'25C SPD'!$A$1:$BL$1,0),FALSE)","v":0.35130054006803357},0.30858000000000002,0.10840432065419381,7.1217152939706246E-6,3.5537359316913418E-3]
[500,{"$f":"VLOOKUP(A122,'25C SPD'!$A$1:$BL$402,MATCH('PPF calc'!$I$5,'25C SPD'!$A$1:$BL$1,0),FALSE)","v":0.35940018460195877},0.32300000000000001,0.11608625962643268,7.2859147635809167E-6,3.6429573817904582E-3]
[501,{"$f":"VLOOKUP(A123,'25C SPD'!$A$1:$BL$402,MATCH('PPF calc'!$I$5,'25C SPD'!$A$1:$BL$1,0),FALSE)","v":0.3686187348406732},0.33839999999999998,0.1247405798700838,7.4727971697695752E-6,3.743871382054557E-3]
[502,{"$f":"VLOOKUP(A124,'25C SPD'!$A$1:$BL$402,MATCH('PPF calc'!$I$5,'25C SPD'!$A$1:$BL$1,0),FALSE)","v":0.37542403792428064},0.35469000000000001,0.13315915201136311,7.6107571940873481E-6,3.8206001114318489E-3]
[503,{"$f":"VLOOKUP(A125,'25C SPD'!$A$1:$BL$402,MATCH('PPF calc'!$I$5,'25C SPD'!$A$1:$BL$1,0),FALSE)","v":0.38235863407814968},0.37169999999999997,0.14212270428684823,7.7513383030060948E-6,3.8989231664120659E-3]
[504,{"$f":"VLOOKUP(A126,'25C SPD'!$A$1:$BL$402,MATCH('PPF calc'!$I$5,'25C SPD'!$A$1:$BL$1,0),FALSE)","v":0.39088831732402202},0.38929000000000002,0.15216891305106853,7.9242557019178345E-6,3.9938248737665886E-3]
[505,{"$f":"VLOOKUP(A127,'25C SPD'!$A$1:$BL$402,MATCH('PPF calc'!$I$5,'25C SPD'!$A$1:$BL$1,0),FALSE)","v":0.39901873369231267},0.4073,0.16252033023287896,8.0890789913588098E-6,4.0849848906361992E-3]
[506,{"$f":"VLOOKUP(A128,'25C SPD'!$A$1:$BL$402,MATCH('PPF calc'!$I$5,'25C SPD'!$A$1:$BL$1,0),FALSE)","v":0.40477399718843443},0.42563000000000001,0.17228395642331334,8.2057521625791674E-6,4.1521105942650587E-3]
[507,{"$f":"VLOOKUP(A129,'25C SPD'!$A$1:$BL$402,MATCH('PPF calc'!$I$5,'25C SPD'!$A$1:$BL$1,0),FALSE)","v":0.41024906910233488},0.44430999999999998,0.18227776389285841,8.3167451698124107E-6,4.2165898010948924E-3]
[508,{"$f":"VLOOKUP(A130,'25C SPD'!$A$1:$BL$402,MATCH('PPF calc'!$I$5,'25C SPD'!$A$1:$BL$1,0),FALSE)","v":0.41473227389114087},0.46339000000000002,0.19218278839841577,{"$f":"B130/683/$D$405","v":8.407630621068075E-6},{"$f":"A130*E130","v":4.2710763555025818E-3}]
[509,{"$f":"VLOOKUP(A131,'25C SPD'!$A$1:$BL$402,MATCH('PPF calc'!$I$5,'25C SPD'!$A$1:$BL$1,0),FALSE)","v":0.41906018891252117},0.48293999999999998,0.20238092763341298,8.495367971522477E-6,4.3241422975049404E-3]
[510,{"$f":"VLOOKUP(A132,'25C SPD'!$A$1:$BL$402,MATCH('PPF calc'!$I$5,'25C SPD'!$A$1:$BL$1,0),FALSE)","v":0.42294654622658345},0.503,0.21274211275197147,8.5741538746583845E-6,4.3728184760757757E-3]
[511,{"$f":"VLOOKUP(A133,'25C SPD'!$A$1:$BL$402,MATCH('PPF calc'!$I$5,'25C SPD'!$A$1:$BL$1,0),FALSE)","v":0.42850356285884755},0.52356999999999998,0.22435161040600682,8.6868081003853929E-6,4.438958939296936E-3]
[512,{"$f":"VLOOKUP(A134,'25C SPD'!$A$1:$BL$402,MATCH('PPF calc'!$I$5,'25C SPD'!$A$1:$BL$1,0),FALSE)","v":0.43451115478366342},0.54451000000000005,0.23659566889125258,8.8085965817882675E-6,4.510001449875593E-3]
[513,{"$f":"VLOOKUP(A135,'25C SPD'!$A$1:$BL$402,MATCH('PPF calc'!$I$5,'25C SPD'!$A$1:$BL$1,0),FALSE)","v":0.4387809953062346},0.56569000000000003,0.24821402123478387,8.8951566210826044E-6,4.563215346615376E-3]
[514,{"$f":"VLOOKUP(A136,'25C SPD'!$A$1:$BL$402,MATCH('PPF calc'!$I$5,'25C SPD'!$A$1:$BL$1,0),FALSE)","v":0.44201350192185457},0.58696999999999999,0.25944866522307097,8.9606873822874226E-6,4.6057933144957354E-3]
[515,{"$f":"VLOOKUP(A137,'25C SPD'!$A$1:$BL$402,MATCH('PPF calc'!$I$5,'25C SPD'!$A$1:$BL$1,0),FALSE)","v":0.44627390357834662},0.60819999999999996,0.27142378815635038,9.0470560728383145E-6,4.6592338775117322E-3]
[516,{"$f":"VLOOKUP(A138,'25C SPD'!$A$1:$BL$402,MATCH('PPF calc'!$I$5,'25C SPD'!$A$1:$BL$1,0),FALSE)","v":0.45154017323035006},0.62934999999999997,0.28417680802252082,9.1538161510197581E-6,4.7233691339261955E-3]
[517,{"$f":"VLOOKUP(A139,'25C SPD'!$A$1:$BL$402,MATCH('PPF calc'!$I$5,'25C SPD'!$A$1:$BL$1,0),FALSE)","v":0.45422354830541389},0.65031000000000005,0.29538611569849371,9.2082146819979348E-6,4.7606469905929327E-3]
[518,{"$f":"VLOOKUP(A140,'25C SPD'!$A$1:$BL$402,MATCH('PPF calc'!$I$5,'25C SPD'!$A$1:$BL$1,0),FALSE)","v":0.45690935218938722},0.67088000000000003,0.3065313461968161,9.2626624508325472E-6,4.7980591495312593E-3]
[519,{"$f":"VLOOKUP(A141,'25C SPD'!$A$1:$BL$402,MATCH('PPF calc'!$I$5,'25C SPD'!$A$1:$BL$1,0),FALSE)","v":0.46205561031922332},0.69084000000000001,0.31920649783293226,9.366989603938764E-6,4.8614676044442182E-3]
[520,{"$f":"VLOOKUP(A142,'25C SPD'!$A$1:$BL$402,MATCH('PPF calc'!$I$5,'25C SPD'!$A$1:$BL$1,0),FALSE)","v":0.46703953791230757},0.71,0.33159807191773838,9.4680259227466896E-6,4.9233734798282787E-3]
[521,{"$f":"VLOOKUP(A143,'25C SPD'!$A$1:$BL$402,MATCH('PPF calc'!$I$5,'25C SPD'!$A$1:$BL$1,0),FALSE)","v":0.46850534440168479},0.72819,0.34116090673986282,9.4977413808879644E-6,4.9483232594426298E-3]
[522,{"$f":"VLOOKUP(A144,'25C SPD'!$A$1:$BL$402,MATCH('PPF calc'!$I$5,'25C SPD'!$A$1:$BL$1,0),FALSE)","v":0.47134316129121667},0.74546000000000001,0.3513674730161504,9.5552708226011876E-6,4.9878513693978202E-3]
[523,{"$f":"VLOOKUP(A145,'25C SPD'!$A$1:$BL$402,MATCH('PPF calc'!$I$5,'25C SPD'!$A$1:$BL$1,0),FALSE)","v":0.47271480857669612},0.76197000000000004,0.36019450269118514,9.5830774449566226E-6,5.011949503712314E-3]
[524,{"$f":"VLOOKUP(A146,'25C SPD'!$A$1:$BL$402,MATCH('PPF calc'!$I$5,'25C SPD'!$A$1:$BL$1,0),FALSE)","v":0.47658140918196862},0.77783999999999998,0.37070408331810245,9.6614628316141896E-6,5.0626065237658353E-3]
[525,{"$f":"VLOOKUP(A147,'25C SPD'!$A$1:$BL$402,MATCH('PPF calc'!$I$5,'25C SPD'!$A$1:$BL$1,0),FALSE)","v":0.48087460687165973},0.79320000000000002,0.3814297381706005,9.7484963774231182E-6,5.1179605981471372E-3]
[526,{"$f":"VLOOKUP(A148,'25C SPD'!$A$1:$BL$402,MATCH('PPF calc'!$I$5,'25C SPD'!$A$1:$BL$1,0),FALSE)","v":0.48476515678777043},0.80810999999999999,0.39174357085176514,9.827367274786829E-6,5.1691951865378716E-3]
[527,{"$f":"VLOOKUP(A149,'25C SPD'!$A$1:$BL$402,MATCH('PPF calc'!$I$5,'25C SPD'!$A$1:$BL$1,0),FALSE)","v":0.48766294562217005},0.82250000000000001,0.40110277277423489,9.8861124935008239E-6,5.2099812840749344E-3]
[528,{"$f":"VLOOKUP(A150,'25C SPD'!$A$1:$BL$402,MATCH('PPF calc'!$I$5,'25C SPD'!$A$1:$BL$1,0),FALSE)","v":0.49302287902436348},0.83631,{"$f":"B150*C150","v":0.41231996395686543},9.9947713634179396E-6,5.2772392798846723E-3]
[529,{"$f":"VLOOKUP(A151,'25C SPD'!$A$1:$BL$402,MATCH('PPF calc'!$I$5,'25C SPD'!$A$1:$BL$1,0),FALSE)","v":0.49779911491465667},0.84948999999999997,0.42287537012885168,1.0091597266904808E-5,5.3384549541926436E-3]
[530,{"$f":"VLOOKUP(A152,'25C SPD'!$A$1:$BL$402,MATCH('PPF calc'!$I$5,'25C SPD'!$A$1:$BL$1,0),FALSE)","v":0.50276226557235448},0.86199999999999999,0.43338107292336958,1.0192212386763041E-5,5.401872564984412E-3]
[531,{"$f":"VLOOKUP(A153,'25C SPD'!$A$1:$BL$402,MATCH('PPF calc'!$I$5,'25C SPD'!$A$1:$BL$1,0),FALSE)","v":0.50911417222760902},0.87380999999999998,0.44486905483420702,1.0320980964129416E-5,5.4804408919527205E-3]
[532,{"$f":"VLOOKUP(A154,'25C SPD'!$A$1:$BL$402,MATCH('PPF calc'!$I$5,'25C SPD'!$A$1:$BL$1,0),FALSE)","v":0.51318805175686699},0.88495999999999997,0.45415089828275701,1.0403568398078967E-5,5.5346983877780104E-3]
[533,{"$f":"VLOOKUP(A155,'25C SPD'!$A$1:$BL$402,MATCH('PPF calc'!$I$5,'25C SPD'!$A$1:$BL$1,0),FALSE)","v":0.51745550528143658},0.89549000000000001,0.46337623042447362,1.0490080047125537E-5,5.5912126651179112E-3]
[534,{"$f":"VLOOKUP(A156,'25C SPD'!$A$1:$BL$402,MATCH('PPF calc'!$I$5,'25C SPD'!$A$1:$BL$1,0),FALSE)","v":0.52165856465071248},0.90544000000000002,0.47233053077734111,1.0575286270223975E-5,5.6472028682996028E-3]
[535,{"$f":"VLOOKUP(A157,'25C SPD'!$A$1:$BL$402,MATCH('PPF calc'!$I$5,'25C SPD'!$A$1:$BL$1,0),FALSE)","v":0.52645879661435946},0.91485000000000005,0.48163083008264679,1.0672598632406768E-5,5.7098402683376211E-3]
[536,{"$f":"VLOOKUP(A158,'25C SPD'!$A$1:$BL$402,MATCH('PPF calc'!$I$5,'25C SPD'!$A$1:$BL$1,0),FALSE)","v":0.53306467591796181},0.92373000000000005,0.49240783308569891,1.0806515852282029E-5,5.7922924968231678E-3]
[537,{"$f":"VLOOKUP(A159,'25C SPD'!$A$1:$BL$402,MATCH('PPF calc'!$I$5,'25C SPD'!$A$1:$BL$1,0),FALSE)","v":0.53873332606871127},0.93208999999999997,0.50214794589538503,1.0921433160598559E-5,5.8648096072414259E-3]
[538,{"$f":"VLOOKUP(A160,'25C SPD'!$A$1:$BL$402,MATCH('PPF calc'!$I$5,'25C SPD'!$A$1:$BL$1,0),FALSE)","v":0.54535745176770278},0.93991999999999998,0.51259237606549923,1.1055720279230814E-5,5.9479775102261783E-3]
[539,{"$f":"VLOOKUP(A161,'25C SPD'!$A$1:$BL$402,MATCH('PPF calc'!$I$5,'25C SPD'!$A$1:$BL$1,0),FALSE)","v":0.55149739766154604},0.94723000000000002,0.52239487998694623,1.1180191897087899E-5,6.0261234325303774E-3]
[540,{"$f":"VLOOKUP(A162,'25C SPD'!$A$1:$BL$402,MATCH('PPF calc'!$I$5,'25C SPD'!$A$1:$BL$1,0),FALSE)","v":0.55628559830806401},0.95399999999999996,0.53069646078589305,1.1277260355247124E-5,6.0897205918334467E-3]
[541,{"$f":"VLOOKUP(A163,'25C SPD'!$A$1:$BL$402,MATCH('PPF calc'!$I$5,'25C SPD'!$A$1:$BL$1,0),FALSE)","v":0.5615326952276174},0.96026,0.53921738591927193,1.1383631755569175E-5,6.1585447797629237E-3]
[542,{"$f":"VLOOKUP(A164,'25C SPD'!$A$1:$BL$402,MATCH('PPF calc'!$I$5,'25C SPD'!$A$1:$BL$1,0),FALSE)","v":0.56632980865823923},0.96601000000000004,0.54708025846194575,1.1480880897512295E-5,6.2226374464516634E-3]
[543,{"$f":"VLOOKUP(A165,'25C SPD'!$A$1:$BL$402,MATCH('PPF calc'!$I$5,'25C SPD'!$A$1:$BL$1,0),FALSE)","v":0.57377805883777766},0.97126000000000001,0.55728767742677998,1.1631875021252231E-5,6.3161081365399616E-3]
[544,{"$f":"VLOOKUP(A166,'25C SPD'!$A$1:$BL$402,MATCH('PPF calc'!$I$5,'25C SPD'!$A$1:$BL$1,0),FALSE)","v":0.5808753317491685},0.97602,0.56694594129382347,1.1775753983205282E-5,6.4060101668636732E-3]
[545,{"$f":"VLOOKUP(A167,'25C SPD'!$A$1:$BL$402,MATCH('PPF calc'!$I$5,'25C SPD'!$A$1:$BL$1,0),FALSE)","v":0.58772892876071414},0.98029999999999995,0.57615066886412802,1.1914693042753507E-5,6.4935077083006611E-3]
[546,{"$f":"VLOOKUP(A168,'25C SPD'!$A$1:$BL$402,MATCH('PPF calc'!$I$5,'25C SPD'!$A$1:$BL$1,0),FALSE)","v":0.59435818422190745},0.98409000000000002,0.58490194551093688,1.2049084154126338E-5,6.5787999481529804E-3]
[547,{"$f":"VLOOKUP(A169,'25C SPD'!$A$1:$BL$402,MATCH('PPF calc'!$I$5,'25C SPD'!$A$1:$BL$1,0),FALSE)","v":0.59947798291023757},0.98741999999999996,0.59193654988522681,1.21528749100804E-5,6.6476225758139787E-3]
[548,{"$f":"VLOOKUP(A170,'25C SPD'!$A$1:$BL$402,MATCH('PPF calc'!$I$5,'25C SPD'!$A$1:$BL$1,0),FALSE)","v":0.60600448585664723},0.99031000000000002,0.6001323023886963,1.2285182978381657E-5,6.7322802721531474E-3]
[549,{"$f":"VLOOKUP(A171,'25C SPD'!$A$1:$BL$402,MATCH('PPF calc'!$I$5,'25C SPD'!$A$1:$BL$1,0),FALSE)","v":0.61507451262386303},0.99280999999999997,0.61065212687809745,1.2469054453023552E-5,6.8455108947099302E-3]
[550,{"$f":"VLOOKUP(A172,'25C SPD'!$A$1:$BL$402,MATCH('PPF calc'!$I$5,'25C SPD'!$A$1:$BL$1,0),FALSE)","v":0.62244884557660618},0.99495,0.61930547890644427,1.2618550095023452E-5,6.940202552262899E-3]
[551,{"$f":"VLOOKUP(A173,'25C SPD'!$A$1:$BL$402,MATCH('PPF calc'!$I$5,'25C SPD'!$A$1:$BL$1,0),FALSE)","v":0.62807212114286226},0.99670999999999998,0.62600576386430229,1.2732547550292556E-5,7.0156337002111983E-3]
[552,{"$f":"VLOOKUP(A174,'25C SPD'!$A$1:$BL$402,MATCH('PPF calc'!$I$5,'25C SPD'!$A$1:$BL$1,0),FALSE)","v":0.63469680926064453},0.99809999999999999,0.63349088532304931,1.2866846070519878E-5,7.1024990309269728E-3]
[553,{"$f":"VLOOKUP(A175,'25C SPD'!$A$1:$BL$402,MATCH('PPF calc'!$I$5,'25C SPD'!$A$1:$BL$1,0),FALSE)","v":0.64198238811514008},0.99911000000000005,0.64141102378971759,1.3014542451355049E-5,7.1970419755993421E-3]
[554,{"$f":"VLOOKUP(A176,'25C SPD'!$A$1:$BL$402,MATCH('PPF calc'!$I$5,'25C SPD'!$A$1:$BL$1,0),FALSE)","v":0.64985419856166082},0.99975000000000003,0.64969173501202038,1.3174123170580153E-5,7.2984642365014046E-3]
[555,{"$f":"VLOOKUP(A177,'25C SPD'!$A$1:$BL$402,MATCH('PPF calc'!$I$5,'25C SPD'!$A$1:$BL$1,0),FALSE)","v":0.65633741852202188},1,0.65633741852202188,1.3305553787615177E-5,7.3845823521264233E-3]
[556,{"$f":"VLOOKUP(A178,'25C SPD'!$A$1:$BL$402,MATCH('PPF calc'!$I$5,'25C SPD'!$A$1:$BL$1,0),FALSE)","v":0.6620013348428635},0.99985999999999997,0.66190865465598547,1.3420375129700493E-5,7.4617285721134737E-3]
[557,{"$f":"VLOOKUP(A179,'25C SPD'!$A$1:$BL$402,MATCH('PPF calc'!$I$5,'25C SPD'!$A$1:$BL$1,0),FALSE)","v":0.66775007812024367},0.99929999999999997,0.66728265306555945,1.3536916120248642E-5,7.5400622789784941E-3]
[558,{"$f":"VLOOKUP(A180,'25C SPD'!$A$1:$BL$402,MATCH('PPF calc'!$I$5,'25C SPD'!$A$1:$BL$1,0),FALSE)","v":0.67615541115172551},0.99833000000000005,0.67502623161510211,1.3707312638254645E-5,7.648680452146092E-3]
[559,{"$f":"VLOOKUP(A181,'25C SPD'!$A$1:$BL$402,MATCH('PPF calc'!$I$5,'25C SPD'!$A$1:$BL$1,0),FALSE)","v":0.68339165645046429},0.99690000000000001,0.68127314231546787,1.3854008908078115E-5,7.7443909796156667E-3]
[560,{"$f":"VLOOKUP(A182,'25C SPD'!$A$1:$BL$402,MATCH('PPF calc'!$I$5,'25C SPD'!$A$1:$BL$1,0),FALSE)","v":0.69108728327632873},0.995,0.68763184685994705,1.4010017957343557E-5,7.8456100561123919E-3]
[561,{"$f":"VLOOKUP(A183,'25C SPD'!$A$1:$BL$402,MATCH('PPF calc'!$I$5,'25C SPD'!$A$1:$BL$1,0),FALSE)","v":0.70094544819703308},0.99260000000000004,0.69575845188037511,1.4209866906828999E-5,7.9717353347310681E-3]
[562,{"$f":"VLOOKUP(A184,'25C SPD'!$A$1:$BL$402,MATCH('PPF calc'!$I$5,'25C SPD'!$A$1:$BL$1,0),FALSE)","v":0.70877174924823128},0.98973999999999995,0.70149975110094442,1.4368525040063698E-5,8.0751110725157983E-3]
[563,{"$f":"VLOOKUP(A185,'25C SPD'!$A$1:$BL$402,MATCH('PPF calc'!$I$5,'25C SPD'!$A$1:$BL$1,0),FALSE)","v":0.71586626655370722},0.98643999999999998,0.70615911997923897,1.4512348139191194E-5,8.1704520023646431E-3]
[564,{"$f":"VLOOKUP(A186,'25C SPD'!$A$1:$BL$402,MATCH('PPF calc'!$I$5,'25C SPD'!$A$1:$BL$1,0),FALSE)","v":0.72434516345020783},0.98272000000000004,0.71182847902578827,1.4684235975435663E-5,8.2819090901457143E-3]
[565,{"$f":"VLOOKUP(A187,'25C SPD'!$A$1:$BL$402,MATCH('PPF calc'!$I$5,'25C SPD'!$A$1:$BL$1,0),FALSE)","v":0.7340070141619216},0.97860000000000003,0.71829926405885647,1.4880105159036542E-5,8.4072594148556466E-3]
[566,{"$f":"VLOOKUP(A188,'25C SPD'!$A$1:$BL$402,MATCH('PPF calc'!$I$5,'25C SPD'!$A$1:$BL$1,0),FALSE)","v":0.74352090062150211},0.97407999999999995,0.72424883887739278,1.5072974747825596E-5,8.531303707269287E-3]
[567,{"$f":"VLOOKUP(A189,'25C SPD'!$A$1:$BL$402,MATCH('PPF calc'!$I$5,'25C SPD'!$A$1:$BL$1,0),FALSE)","v":0.75052226719089532},0.96916999999999998,0.72738366569339996,1.5214909455259538E-5,8.626853661132158E-3]
[568,{"$f":"VLOOKUP(A190,'25C SPD'!$A$1:$BL$402,MATCH('PPF calc'!$I$5,'25C SPD'!$A$1:$BL$1,0),FALSE)","v":0.75570232694180017},0.96386000000000005,0.7283912448461235,1.531992184933259E-5,8.7017156104209122E-3]
[569,{"$f":"VLOOKUP(A191,'25C SPD'!$A$1:$BL$402,MATCH('PPF calc'!$I$5,'25C SPD'!$A$1:$BL$1,0),FALSE)","v":0.76303838547971248},0.95813000000000004,0.73108996827967698,1.5468641575971201E-5,8.8016570567276131E-3]
[570,{"$f":"VLOOKUP(A192,'25C SPD'!$A$1:$BL$402,MATCH('PPF calc'!$I$5,'25C SPD'!$A$1:$BL$1,0),FALSE)","v":0.77268011227858202},0.95199999999999996,0.73559146688921007,1.5664102798975578E-5,8.928538595416079E-3]
[571,{"$f":"VLOOKUP(A193,'25C SPD'!$A$1:$BL$402,MATCH('PPF calc'!$I$5,'25C SPD'!$A$1:$BL$1,0),FALSE)","v":0.78174999364037256},0.94545000000000001,0.7391055314872903,1.5847971325896298E-5,9.0491916270867868E-3]
[572,{"$f":"VLOOKUP(A194,'25C SPD'!$A$1:$BL$402,MATCH('PPF calc'!$I$5,'25C SPD'!$A$1:$BL$1,0),FALSE)","v":0.7912129282303989},0.9385,0.74255333314422933,{"$f":"B194/683/$D$405","v":1.603980799652192E-5},{"$f":"A194*E194","v":9.1747701740105391E-3}]
[573,{"$f":"VLOOKUP(A195,'25C SPD'!$A$1:$BL$402,MATCH('PPF calc'!$I$5,'25C SPD'!$A$1:$BL$1,0),FALSE)","v":0.79876261219357425},0.93115999999999999,0.74377579397016857,1.619285842944974E-5,9.2785078800747007E-3]
[574,{"$f":"VLOOKUP(A196,'25C SPD'!$A$1:$BL$402,MATCH('PPF calc'!$I$5,'25C SPD'!$A$1:$BL$1,0),FALSE)","v":0.80700131044781764},0.92345999999999995,0.74523343014614163,1.6359876855747324E-5,9.3905693151989638E-3]
[575,{"$f":"VLOOKUP(A197,'25C SPD'!$A$1:$BL$402,MATCH('PPF calc'!$I$5,'25C SPD'!$A$1:$BL$1,0),FALSE)","v":0.81584374992476405},0.91539999999999999,0.74682336868112897,1.6539134583181458E-5,9.5100023853293379E-3]
[576,{"$f":"VLOOKUP(A198,'25C SPD'!$A$1:$BL$402,MATCH('PPF calc'!$I$5,'25C SPD'!$A$1:$BL$1,0),FALSE)","v":0.82584967553033706},0.90700999999999998,0.74905391420277101,1.6741979000675779E-5,9.6433799043892481E-3]
[577,{"$f":"VLOOKUP(A199,'25C SPD'!$A$1:$BL$402,MATCH('PPF calc'!$I$5,'25C SPD'!$A$1:$BL$1,0),FALSE)","v":0.83477474446974753},0.89827999999999997,0.74986145746228483,1.6922911828029909E-5,9.7645201247732582E-3]
[578,{"$f":"VLOOKUP(A200,'25C SPD'!$A$1:$BL$402,MATCH('PPF calc'!$I$5,'25C SPD'!$A$1:$BL$1,0),FALSE)","v":0.84169379863847282},0.88919999999999999,0.74843412574932999,1.7063177863156639E-5,9.8625168049045371E-3]
[579,{"$f":"VLOOKUP(A201,'25C SPD'!$A$1:$BL$402,MATCH('PPF calc'!$I$5,'25C SPD'!$A$1:$BL$1,0),FALSE)","v":0.85184364867200169},0.87978000000000001,0.74943500522865369,1.7268939978413541E-5,9.9987162475014407E-3]
[580,{"$f":"VLOOKUP(A202,'25C SPD'!$A$1:$BL$402,MATCH('PPF calc'!$I$5,'25C SPD'!$A$1:$BL$1,0),FALSE)","v":0.8623245156892787},0.87,0.75022232864967242,1.7481412612006872E-5,1.0139219314963987E-2]
[581,{"$f":"VLOOKUP(A203,'25C SPD'!$A$1:$BL$402,MATCH('PPF calc'!$I$5,'25C SPD'!$A$1:$BL$1,0),FALSE)","v":0.87102852029193223},0.85985999999999996,0.74896258345822075,1.7657863928265888E-5,1.0259218942322481E-2]
[582,{"$f":"VLOOKUP(A204,'25C SPD'!$A$1:$BL$402,MATCH('PPF calc'!$I$5,'25C SPD'!$A$1:$BL$1,0),FALSE)","v":0.87846684226384597},0.84938999999999998,0.74616095115048808,1.7808656783120585E-5,1.036463824777618E-2]
[583,{"$f":"VLOOKUP(A205,'25C SPD'!$A$1:$BL$402,MATCH('PPF calc'!$I$5,'25C SPD'!$A$1:$BL$1,0),FALSE)","v":0.88441280490112772},0.83862000000000003,0.74168626644618374,1.7929195889160979E-5,1.045272120338085E-2]
[584,{"$f":"VLOOKUP(A206,'25C SPD'!$A$1:$BL$402,MATCH('PPF calc'!$I$5,'25C SPD'!$A$1:$BL$1,0),FALSE)","v":0.89200622264285656},0.82757999999999998,0.7382065097347752,1.8083132912014134E-5,1.0560549620616254E-2]
[585,{"$f":"VLOOKUP(A207,'25C SPD'!$A$1:$BL$402,MATCH('PPF calc'!$I$5,'25C SPD'!$A$1:$BL$1,0),FALSE)","v":0.90062828631858904},0.81630000000000003,0.73518287012186423,1.8257923086641136E-5,1.0680885005685065E-2]
[586,{"$f":"VLOOKUP(A208,'25C SPD'!$A$1:$BL$402,MATCH('PPF calc'!$I$5,'25C SPD'!$A$1:$BL$1,0),FALSE)","v":0.9094210365407015},0.80479000000000001,0.73189295599759119,1.8436173492179242E-5,1.0803597666417036E-2]
[587,{"$f":"VLOOKUP(A209,'25C SPD'!$A$1:$BL$402,MATCH('PPF calc'!$I$5,'25C SPD'!$A$1:$BL$1,0),FALSE)","v":0.91794919443020528},0.79308000000000001,0.72800714711870718,1.8609059968412137E-5,1.0923518201457925E-2]
[588,{"$f":"VLOOKUP(A210,'25C SPD'!$A$1:$BL$402,MATCH('PPF calc'!$I$5,'25C SPD'!$A$1:$BL$1,0),FALSE)","v":0.92461415197729779},0.78119000000000005,0.72229932938314534,1.8744174847790349E-5,1.1021574810500725E-2]
[589,{"$f":"VLOOKUP(A211,'25C SPD'!$A$1:$BL$402,MATCH('PPF calc'!$I$5,'25C SPD'!$A$1:$BL$1,0),FALSE)","v":0.93195779754576491},0.76915,0.71681533998232505,1.8893048381968018E-5,1.1128005496979163E-2]
[590,{"$f":"VLOOKUP(A212,'25C SPD'!$A$1:$BL$402,MATCH('PPF calc'!$I$5,'25C SPD'!$A$1:$BL$1,0),FALSE)","v":0.93927458684392029},0.75700000000000001,0.71103086224084766,1.90413774743097E-5,1.1234412709842722E-2]
[591,{"$f":"VLOOKUP(A213,'25C SPD'!$A$1:$BL$402,MATCH('PPF calc'!$I$5,'25C SPD'!$A$1:$BL$1,0),FALSE)","v":0.94708445904863514},0.74475000000000002,0.70534115087647109,1.9199702554918749E-5,1.134702420995698E-2]
[592,{"$f":"VLOOKUP(A214,'25C SPD'!$A$1:$BL$402,MATCH('PPF calc'!$I$5,'25C SPD'!$A$1:$BL$1,0),FALSE)","v":0.95358403605863307},0.73241999999999996,{"$f":"B214*C214","v":0.69842401969006396},1.9331464769082942E-5,1.1444227143297101E-2]
[593,{"$f":"VLOOKUP(A215,'25C SPD'!$A$1:$BL$402,MATCH('PPF calc'!$I$5,'25C SPD'!$A$1:$BL$1,0),FALSE)","v":0.95961840508548413},0.72,0.6909252516615485,1.9453796087388534E-5,1.1536101079821401E-2]
[594,{"$f":"VLOOKUP(A216,'25C SPD'!$A$1:$BL$402,MATCH('PPF calc'!$I$5,'25C SPD'!$A$1:$BL$1,0),FALSE)","v":0.96502363067688524},0.70750000000000002,0.6827542187038963,1.9563373140000488E-5,1.162064364516029E-2]
[595,{"$f":"VLOOKUP(A217,'25C SPD'!$A$1:$BL$402,MATCH('PPF calc'!$I$5,'25C SPD'!$A$1:$BL$1,0),FALSE)","v":0.96994569466147407},0.69489999999999996,0.67401526322025829,1.9663155333190854E-5,1.1699577423248559E-2]
[596,{"$f":"VLOOKUP(A218,'25C SPD'!$A$1:$BL$402,MATCH('PPF calc'!$I$5,'25C SPD'!$A$1:$BL$1,0),FALSE)","v":0.9747351292188412},0.68222000000000005,0.6649837998556779,1.976024880572029E-5,1.1777108288209293E-2]
[597,{"$f":"VLOOKUP(A219,'25C SPD'!$A$1:$BL$402,MATCH('PPF calc'!$I$5,'25C SPD'!$A$1:$BL$1,0),FALSE)","v":0.97974642842636372},0.66947000000000001,0.65591084143859768,1.9861840013641475E-5,1.185751848814396E-2]
[598,{"$f":"VLOOKUP(A220,'25C SPD'!$A$1:$BL$402,MATCH('PPF calc'!$I$5,'25C SPD'!$A$1:$BL$1,0),FALSE)","v":0.98391359822420776},0.65666999999999998,0.64610654254589051,1.9946318667947365E-5,1.1927898563432524E-2]
[599,{"$f":"VLOOKUP(A221,'25C SPD'!$A$1:$BL$402,MATCH('PPF calc'!$I$5,'25C SPD'!$A$1:$BL$1,0),FALSE)","v":0.98617852113520055},0.64383999999999997,0.63494117904768754,1.9992234157094513E-5,1.1975348260099614E-2]
[600,{"$f":"VLOOKUP(A222,'25C SPD'!$A$1:$BL$402,MATCH('PPF calc'!$I$5,'25C SPD'!$A$1:$BL$1,0),FALSE)","v":0.99019642926164986},0.63100000000000001,0.62481394686410108,2.0073686914748575E-5,1.2044212148849145E-2]
[601,{"$f":"VLOOKUP(A223,'25C SPD'!$A$1:$BL$402,MATCH('PPF calc'!$I$5,'25C SPD'!$A$1:$BL$1,0),FALSE)","v":0.99367950453539555},0.61816000000000004,0.6142529225236002,2.014429731131182E-5,1.2106722684098403E-2]
[602,{"$f":"VLOOKUP(A224,'25C SPD'!$A$1:$BL$402,MATCH('PPF calc'!$I$5,'25C SPD'!$A$1:$BL$1,0),FALSE)","v":0.99723302012233306},0.60531000000000001,0.60363511941024939,2.0216335704130558E-5,1.2170234093886597E-2]
[603,{"$f":"VLOOKUP(A225,'25C SPD'!$A$1:$BL$402,MATCH('PPF calc'!$I$5,'25C SPD'!$A$1:$BL$1,0),FALSE)","v":1},0.59248000000000001,0.59248000000000001,2.0272429107542558E-5,1.2224274751848162E-2]
[604,{"$f":"VLOOKUP(A226,'25C SPD'!$A$1:$BL$402,MATCH('PPF calc'!$I$5,'25C SPD'!$A$1:$BL$1,0),FALSE)","v":0.99891268237854913},0.57964000000000004,0.5790097472139023,2.0250386538144311E-5,1.2231233469039164E-2]
[605,{"$f":"VLOOKUP(A227,'25C SPD'!$A$1:$BL$402,MATCH('PPF calc'!$I$5,'25C SPD'!$A$1:$BL$1,0),FALSE)","v":0.99886800674917831},0.56679999999999997,0.56615838622543424,2.0249480854615059E-5,1.2250935917042112E-2]
[606,{"$f":"VLOOKUP(A228,'25C SPD'!$A$1:$BL$402,MATCH('PPF calc'!$I$5,'25C SPD'!$A$1:$BL$1,0),FALSE)","v":0.9994985982600022},0.55396000000000001,0.55368224349211081,2.0262264476314052E-5,1.2278932272646316E-2]
[607,{"$f":"VLOOKUP(A229,'25C SPD'!$A$1:$BL$402,MATCH('PPF calc'!$I$5,'25C SPD'!$A$1:$BL$1,0),FALSE)","v":0.99835189462928009},0.54113999999999995,0.54024814425968859,2.0239018008252876E-5,1.2285083931009496E-2]
[608,{"$f":"VLOOKUP(A230,'25C SPD'!$A$1:$BL$402,MATCH('PPF calc'!$I$5,'25C SPD'!$A$1:$BL$1,0),FALSE)","v":0.99742782093850313},0.52834999999999999,0.52699098919285814,2.0220284789866456E-5,1.2293933152238805E-2]
[609,{"$f":"VLOOKUP(A231,'25C SPD'!$A$1:$BL$402,MATCH('PPF calc'!$I$5,'25C SPD'!$A$1:$BL$1,0),FALSE)","v":0.99721046051606232},0.51563000000000003,0.51419162975589727,2.021587836611174E-5,1.231146992496205E-2]
[610,{"$f":"VLOOKUP(A232,'25C SPD'!$A$1:$BL$402,MATCH('PPF calc'!$I$5,'25C SPD'!$A$1:$BL$1,0),FALSE)","v":0.99483928612816275},0.503,0.50040416092246587,2.0167808901431425E-5,1.2302363429873168E-2]
[611,{"$f":"VLOOKUP(A233,'25C SPD'!$A$1:$BL$402,MATCH('PPF calc'!$I$5,'25C SPD'!$A$1:$BL$1,0),FALSE)","v":0.9894413886406267},0.49047000000000002,0.48529131788656821,2.005838040728557E-5,1.2255670428851484E-2]
[612,{"$f":"VLOOKUP(A234,'25C SPD'!$A$1:$BL$402,MATCH('PPF calc'!$I$5,'25C SPD'!$A$1:$BL$1,0),FALSE)","v":0.98681920798745659},0.47803000000000001,0.4717291859942439,2.000522243588701E-5,1.224319613076285E-2]
[613,{"$f":"VLOOKUP(A235,'25C SPD'!$A$1:$BL$402,MATCH('PPF calc'!$I$5,'25C SPD'!$A$1:$BL$1,0),FALSE)","v":0.98580995978161734},0.46567999999999998,0.45907198207110356,1.9984762523182217E-5,1.2250659426710699E-2]
[614,{"$f":"VLOOKUP(A236,'25C SPD'!$A$1:$BL$402,MATCH('PPF calc'!$I$5,'25C SPD'!$A$1:$BL$1,0),FALSE)","v":0.98182957084178002},0.45340000000000003,0.44516152741966308,1.990407037057892E-5,1.2221099207535457E-2]
[615,{"$f":"VLOOKUP(A237,'25C SPD'!$A$1:$BL$402,MATCH('PPF calc'!$I$5,'25C SPD'!$A$1:$BL$1,0),FALSE)","v":0.97883469809880397},0.44119999999999998,0.43186186880119232,1.9843357025210824E-5,1.2203664570504657E-2]
[616,{"$f":"VLOOKUP(A238,'25C SPD'!$A$1:$BL$402,MATCH('PPF calc'!$I$5,'25C SPD'!$A$1:$BL$1,0),FALSE)","v":0.97213536713310822},0.42908000000000002,0.41712384332947411,1.9707545313140793E-5,1.2139847912894729E-2]
[617,{"$f":"VLOOKUP(A239,'25C SPD'!$A$1:$BL$402,MATCH('PPF calc'!$I$5,'25C SPD'!$A$1:$BL$1,0),FALSE)","v":0.96425224993007042},0.41704000000000002,0.40213175831083658,1.9547735378495759E-5,1.2060952728531884E-2]
[618,{"$f":"VLOOKUP(A240,'25C SPD'!$A$1:$BL$402,MATCH('PPF calc'!$I$5,'25C SPD'!$A$1:$BL$1,0),FALSE)","v":0.95996661727075516},0.40503,0.38881527899317397,1.9460855194228824E-5,1.2026808510033413E-2]
[619,{"$f":"VLOOKUP(A241,'25C SPD'!$A$1:$BL$402,MATCH('PPF calc'!$I$5,'25C SPD'!$A$1:$BL$1,0),FALSE)","v":0.95410075059208732},0.39302999999999999,0.3749902180052081,1.9341939827831231E-5,1.1972660753427532E-2]
[620,{"$f":"VLOOKUP(A242,'25C SPD'!$A$1:$BL$402,MATCH('PPF calc'!$I$5,'25C SPD'!$A$1:$BL$1,0),FALSE)","v":0.94473603264437922},0.38100000000000001,0.35994442843750851,1.9152094247124186E-5,1.1874298433216995E-2]
[621,{"$f":"VLOOKUP(A243,'25C SPD'!$A$1:$BL$402,MATCH('PPF calc'!$I$5,'25C SPD'!$A$1:$BL$1,0),FALSE)","v":0.9359927441500675},0.36892000000000003,0.34530644317184295,1.8974846550956462E-5,1.1783379708143964E-2]
[622,{"$f":"VLOOKUP(A244,'25C SPD'!$A$1:$BL$402,MATCH('PPF calc'!$I$5,'25C SPD'!$A$1:$BL$1,0),FALSE)","v":0.92799397830797992},0.35682999999999998,0.33113609127963645,1.8812692137474909E-5,1.1701494509509393E-2]
[623,{"$f":"VLOOKUP(A245,'25C SPD'!$A$1:$BL$402,MATCH('PPF calc'!$I$5,'25C SPD'!$A$1:$BL$1,0),FALSE)","v":0.92205320808096891},0.34477999999999998,0.31790550508215643,1.8692258294203629E-5,1.1645276917288861E-2]
[624,{"$f":"VLOOKUP(A246,'25C SPD'!$A$1:$BL$402,MATCH('PPF calc'!$I$5,'25C SPD'!$A$1:$BL$1,0),FALSE)","v":0.90991773491173034},0.33282,0.30283882053332212,1.8446242774693753E-5,1.1510455491408902E-2]
[625,{"$f":"VLOOKUP(A247,'25C SPD'!$A$1:$BL$402,MATCH('PPF calc'!$I$5,'25C SPD'!$A$1:$BL$1,0),FALSE)","v":0.90172354390046949},0.32100000000000001,0.28945325759205071,1.8280126618324306E-5,1.1425079136452692E-2]
[626,{"$f":"VLOOKUP(A248,'25C SPD'!$A$1:$BL$402,MATCH('PPF calc'!$I$5,'25C SPD'!$A$1:$BL$1,0),FALSE)","v":0.89257904200017335},0.30934,0.27611040085233363,1.8094745351826764E-5,1.1327310590243554E-2]
[627,{"$f":"VLOOKUP(A249,'25C SPD'!$A$1:$BL$402,MATCH('PPF calc'!$I$5,'25C SPD'!$A$1:$BL$1,0),FALSE)","v":0.88256875451506289},0.29785,0.26287310353231147,1.7891812508438743E-5,1.1218166442791092E-2]
[628,{"$f":"VLOOKUP(A250,'25C SPD'!$A$1:$BL$402,MATCH('PPF calc'!$I$5,'25C SPD'!$A$1:$BL$1,0),FALSE)","v":0.87378923383805884},0.28659000000000001,0.25041925652564928,1.7713830297915974E-5,1.1124285427091232E-2]
[629,{"$f":"VLOOKUP(A251,'25C SPD'!$A$1:$BL$402,MATCH('PPF calc'!$I$5,'25C SPD'!$A$1:$BL$1,0),FALSE)","v":0.86384403656237907},0.27561999999999998,0.23809269335732289,1.7512216991184231E-5,1.1015184487454881E-2]
[630,{"$f":"VLOOKUP(A252,'25C SPD'!$A$1:$BL$402,MATCH('PPF calc'!$I$5,'25C SPD'!$A$1:$BL$1,0),FALSE)","v":0.85118518491054451},0.26500000000000001,0.2255640740012943,1.7255591318489518E-5,1.0871022530648396E-2]
[631,{"$f":"VLOOKUP(A253,'25C SPD'!$A$1:$BL$402,MATCH('PPF calc'!$I$5,'25C SPD'!$A$1:$BL$1,0),FALSE)","v":0.83826092973609001},0.25475999999999999,0.21355535445956628,1.6993585271697597E-5,1.0722952306441184E-2]
[632,{"$f":"VLOOKUP(A254,'25C SPD'!$A$1:$BL$402,MATCH('PPF calc'!$I$5,'25C SPD'!$A$1:$BL$1,0),FALSE)","v":0.82644673608137531},0.24489,0.20238854119896799,1.6754082868369616E-5,1.0588580372809598E-2]
[633,{"$f":"VLOOKUP(A255,'25C SPD'!$A$1:$BL$402,MATCH('PPF calc'!$I$5,'25C SPD'!$A$1:$BL$1,0),FALSE)","v":0.81528657452315956},0.23533000000000001,0.19186138958253515,1.6527839284351964E-5,1.0462122266994793E-2]
[634,{"$f":"VLOOKUP(A256,'25C SPD'!$A$1:$BL$402,MATCH('PPF calc'!$I$5,'25C SPD'!$A$1:$BL$1,0),FALSE)","v":0.80469539020217418},0.22605,0.18190139295520147,1.6313130251039871E-5,1.0342524579159278E-2]
[635,{"$f":"VLOOKUP(A257,'25C SPD'!$A$1:$BL$402,MATCH('PPF calc'!$I$5,'25C SPD'!$A$1:$BL$1,0),FALSE)","v":0.79223212042097624},0.217,0.17191437013135183,1.6060469497952359E-5,1.0198398131199748E-2]
[636,{"$f":"VLOOKUP(A258,'25C SPD'!$A$1:$BL$402,MATCH('PPF calc'!$I$5,'25C SPD'!$A$1:$BL$1,0),FALSE)","v":0.78017795285994262},0.20816000000000001,0.16240184266732566,{"$f":"B258/683/$D$405","v":1.5816102240620866E-5},{"$f":"A258*E258","v":1.0059041025034871E-2}]
[637,{"$f":"VLOOKUP(A259,'25C SPD'!$A$1:$BL$402,MATCH('PPF calc'!$I$5,'25C SPD'!$A$1:$BL$1,0),FALSE)","v":0.76771298524096021},0.19955000000000001,0.15319712620483361,1.5563407068237232E-5,9.9138903024671172E-3]
[638,{"$f":"VLOOKUP(A260,'25C SPD'!$A$1:$BL$402,MATCH('PPF calc'!$I$5,'25C SPD'!$A$1:$BL$1,0),FALSE)","v":0.75406968884380032},0.19116,0.14414796171938088,1.528682430923262E-5,9.7529939092904118E-3]
[639,{"$f":"VLOOKUP(A261,'25C SPD'!$A$1:$BL$402,MATCH('PPF calc'!$I$5,'25C SPD'!$A$1:$BL$1,0),FALSE)","v":0.74127999864846583},0.18296999999999999,0.13563200135270978,1.5027546221440264E-5,9.6026020355003284E-3]
[640,{"$f":"VLOOKUP(A262,'25C SPD'!$A$1:$BL$402,MATCH('PPF calc'!$I$5,'25C SPD'!$A$1:$BL$1,0),FALSE)","v":0.72720805778319764},0.17499999999999999,0.12726141011205958,1.4742273797843585E-5,9.4350552306198942E-3]
[641,{"$f":"VLOOKUP(A263,'25C SPD'!$A$1:$BL$402,MATCH('PPF calc'!$I$5,'25C SPD'!$A$1:$BL$1,0),FALSE)","v":0.7147656048487282},0.16722000000000001,0.11952310444280434,1.4490035052805619E-5,9.2881124688484022E-3]
[642,{"$f":"VLOOKUP(A264,'25C SPD'!$A$1:$BL$402,MATCH('PPF calc'!$I$5,'25C SPD'!$A$1:$BL$1,0),FALSE)","v":0.70372852454798263},0.15964999999999999,0.11235025894408542,1.4266286624854502E-5,9.1589560131565897E-3]
[643,{"$f":"VLOOKUP(A265,'25C SPD'!$A$1:$BL$402,MATCH('PPF calc'!$I$5,'25C SPD'!$A$1:$BL$1,0),FALSE)","v":0.69081597503170322},0.15228,0.10519745667782776,1.4004517880188091E-5,9.004904996960942E-3]
[644,{"$f":"VLOOKUP(A266,'25C SPD'!$A$1:$BL$402,MATCH('PPF calc'!$I$5,'25C SPD'!$A$1:$BL$1,0),FALSE)","v":0.67695801586887372},0.14513000000000001,9.8246916843049648E-2,1.372358338548441E-5,8.8379877002519609E-3]
[645,{"$f":"VLOOKUP(A267,'25C SPD'!$A$1:$BL$402,MATCH('PPF calc'!$I$5,'25C SPD'!$A$1:$BL$1,0),FALSE)","v":0.66426351387343041},0.13819999999999999,9.180121761730807E-2,1.3466234993726229E-5,8.6857215709534186E-3]
[646,{"$f":"VLOOKUP(A268,'25C SPD'!$A$1:$BL$402,MATCH('PPF calc'!$I$5,'25C SPD'!$A$1:$BL$1,0),FALSE)","v":0.65042524876014862},0.13150000000000001,8.5530920211959544E-2,1.3185699745245845E-5,8.5179620354288166E-3]
[647,{"$f":"VLOOKUP(A269,'25C SPD'!$A$1:$BL$402,MATCH('PPF calc'!$I$5,'25C SPD'!$A$1:$BL$1,0),FALSE)","v":0.63625381362370803},0.12501999999999999,7.954445177923597E-2,1.2898410331090216E-5,8.3452714842153705E-3]
[648,{"$f":"VLOOKUP(A270,'25C SPD'!$A$1:$BL$402,MATCH('PPF calc'!$I$5,'25C SPD'!$A$1:$BL$1,0),FALSE)","v":0.6227986237226415},0.11878,7.3976020525775357E-2,1.2625640947692323E-5,8.1814153341046251E-3]
[649,{"$f":"VLOOKUP(A271,'25C SPD'!$A$1:$BL$402,MATCH('PPF calc'!$I$5,'25C SPD'!$A$1:$BL$1,0),FALSE)","v":0.61078044853917801},0.11277,6.8877711181763099E-2,1.2382003343283532E-5,8.0359201697910113E-3]
[650,{"$f":"VLOOKUP(A272,'25C SPD'!$A$1:$BL$402,MATCH('PPF calc'!$I$5,'25C SPD'!$A$1:$BL$1,0),FALSE)","v":0.59801757204484274},0.107,6.398788020879817E-2,1.2123268834343798E-5,7.8801247423234688E-3]
[651,{"$f":"VLOOKUP(A273,'25C SPD'!$A$1:$BL$402,MATCH('PPF calc'!$I$5,'25C SPD'!$A$1:$BL$1,0),FALSE)","v":0.58539239989699277},0.10148,5.9405620741546823E-2,1.1867325927005989E-5,7.7256291784808988E-3]
[652,{"$f":"VLOOKUP(A274,'25C SPD'!$A$1:$BL$402,MATCH('PPF calc'!$I$5,'25C SPD'!$A$1:$BL$1,0),FALSE)","v":0.57238983470684124},9.6188999999999997E-2,5.5057605810616347E-2,1.1603732345972442E-5,7.5656334895740319E-3]
[653,{"$f":"VLOOKUP(A275,'25C SPD'!$A$1:$BL$402,MATCH('PPF calc'!$I$5,'25C SPD'!$A$1:$BL$1,0),FALSE)","v":0.55835797640252127},9.1122999999999996E-2,5.0879253883726945E-2,1.1319272493251033E-5,7.3914849380929248E-3]
[654,{"$f":"VLOOKUP(A276,'25C SPD'!$A$1:$BL$402,MATCH('PPF calc'!$I$5,'25C SPD'!$A$1:$BL$1,0),FALSE)","v":0.54563294198607648},8.6264999999999994E-2,4.7069025740428885E-2,1.1061305135152617E-5,7.2340935583898114E-3]
[655,{"$f":"VLOOKUP(A277,'25C SPD'!$A$1:$BL$402,MATCH('PPF calc'!$I$5,'25C SPD'!$A$1:$BL$1,0),FALSE)","v":0.53375962607974081},8.1600000000000006E-2,4.3554785488106852E-2,1.082060418016997E-5,7.0874957380113301E-3]
[656,{"$f":"VLOOKUP(A278,'25C SPD'!$A$1:$BL$402,MATCH('PPF calc'!$I$5,'25C SPD'!$A$1:$BL$1,0),FALSE)","v":0.52176931898284595},7.7120999999999995E-2,{"$f":"B278*C278","v":4.0239371649276059E-2},1.0577531529570504E-5,6.938860683398251E-3]
[657,{"$f":"VLOOKUP(A279,'25C SPD'!$A$1:$BL$402,MATCH('PPF calc'!$I$5,'25C SPD'!$A$1:$BL$1,0),FALSE)","v":0.50853292378071147},7.2826000000000002E-2,3.7034418707254095E-2,1.0309197646195816E-5,6.7731428535506514E-3]
[658,{"$f":"VLOOKUP(A280,'25C SPD'!$A$1:$BL$402,MATCH('PPF calc'!$I$5,'25C SPD'!$A$1:$BL$1,0),FALSE)","v":0.49694805743843268},6.8709999999999993E-2,3.4145301026594709E-2,1.0074344264551613E-5,6.6289185260749615E-3]
[659,{"$f":"VLOOKUP(A281,'25C SPD'!$A$1:$BL$402,MATCH('PPF calc'!$I$5,'25C SPD'!$A$1:$BL$1,0),FALSE)","v":0.48309472996822528},6.4769999999999994E-2,3.1290045660041947E-2,9.7935036655082608E-6,6.453918915569944E-3]
[660,{"$f":"VLOOKUP(A282,'25C SPD'!$A$1:$BL$402,MATCH('PPF calc'!$I$5,'25C SPD'!$A$1:$BL$1,0),FALSE)","v":0.46997583487727568},6.0999999999999999E-2,2.8668525927513816E-2,9.5275517948076987E-6,6.2881841845730813E-3]
[661,{"$f":"VLOOKUP(A283,'25C SPD'!$A$1:$BL$402,MATCH('PPF calc'!$I$5,'25C SPD'!$A$1:$BL$1,0),FALSE)","v":0.45934110629543734},5.7396000000000003E-2,2.6364342136932922E-2,9.3119600135544234E-6,6.1552055689594737E-3]
[662,{"$f":"VLOOKUP(A284,'25C SPD'!$A$1:$BL$402,MATCH('PPF calc'!$I$5,'25C SPD'!$A$1:$BL$1,0),FALSE)","v":0.44749131000706249},5.3955000000000003E-2,2.4144393631431057E-2,9.0717358583595233E-6,6.0054891382340042E-3]
[663,{"$f":"VLOOKUP(A285,'25C SPD'!$A$1:$BL$402,MATCH('PPF calc'!$I$5,'25C SPD'!$A$1:$BL$1,0),FALSE)","v":0.43558572944420243},5.0673999999999997E-2,2.2072871253855514E-2,8.8303808204148061E-6,5.8545424839350161E-3]
[664,{"$f":"VLOOKUP(A286,'25C SPD'!$A$1:$BL$402,MATCH('PPF calc'!$I$5,'25C SPD'!$A$1:$BL$1,0),FALSE)","v":0.42505601787648561},4.7550000000000002E-2,2.0211413650026891E-2,8.6169179891353961E-6,5.7216335447859033E-3]
[665,{"$f":"VLOOKUP(A287,'25C SPD'!$A$1:$BL$402,MATCH('PPF calc'!$I$5,'25C SPD'!$A$1:$BL$1,0),FALSE)","v":0.41493383246746657},4.4580000000000002E-2,1.8497750251399662E-2,8.411716703017656E-6,5.593791607506741E-3]
[666,{"$f":"VLOOKUP(A288,'25C SPD'!$A$1:$BL$402,MATCH('PPF calc'!$I$5,'25C SPD'!$A$1:$BL$1,0),FALSE)","v":0.40439134894267037},4.1758999999999998E-2,1.6886978340496971E-2,8.1979949531437888E-6,5.4598646387937636E-3]
[667,{"$f":"VLOOKUP(A289,'25C SPD'!$A$1:$BL$402,MATCH('PPF calc'!$I$5,'25C SPD'!$A$1:$BL$1,0),FALSE)","v":0.39252779604204119},3.9085000000000002E-2,1.534194890830318E-2,7.9574919180022041E-6,5.3076471093074697E-3]
[668,{"$f":"VLOOKUP(A290,'25C SPD'!$A$1:$BL$402,MATCH('PPF calc'!$I$5,'25C SPD'!$A$1:$BL$1,0),FALSE)","v":0.38144898374893355},3.6563999999999999E-2,1.3947300641796006E-2,7.7328974811944082E-6,5.1655755174378646E-3]
[669,{"$f":"VLOOKUP(A291,'25C SPD'!$A$1:$BL$402,MATCH('PPF calc'!$I$5,'25C SPD'!$A$1:$BL$1,0),FALSE)","v":0.37240431278728997},3.4200000000000001E-2,1.2736227497325317E-2,7.5495400303234404E-6,5.0506422802863819E-3]
[670,{"$f":"VLOOKUP(A292,'25C SPD'!$A$1:$BL$402,MATCH('PPF calc'!$I$5,'25C SPD'!$A$1:$BL$1,0),FALSE)","v":0.36364973907884901},3.2000000000000001E-2,1.1636791650523169E-2,7.3720635554523149E-6,4.9392825821530512E-3]
[671,{"$f":"VLOOKUP(A293,'25C SPD'!$A$1:$BL$402,MATCH('PPF calc'!$I$5,'25C SPD'!$A$1:$BL$1,0),FALSE)","v":0.35302330289483375},2.9963E-2,1.0577637224637903E-2,7.1566398812460397E-6,4.802105360316093E-3]
[672,{"$f":"VLOOKUP(A294,'25C SPD'!$A$1:$BL$402,MATCH('PPF calc'!$I$5,'25C SPD'!$A$1:$BL$1,0),FALSE)","v":0.34318376904239972},2.8077000000000001E-2,9.6355706834034566E-3,6.9571686287713067E-6,4.6752173185343185E-3]
[673,{"$f":"VLOOKUP(A295,'25C SPD'!$A$1:$BL$402,MATCH('PPF calc'!$I$5,'25C SPD'!$A$1:$BL$1,0),FALSE)","v":0.33401300083677438},2.6329000000000002E-2,8.7942282990314327E-3,6.7712548804610609E-6,4.5570545345502943E-3]
[674,{"$f":"VLOOKUP(A296,'25C SPD'!$A$1:$BL$402,MATCH('PPF calc'!$I$5,'25C SPD'!$A$1:$BL$1,0),FALSE)","v":0.32341405534765},2.4708000000000001E-2,7.9909144795297371E-3,6.5563885094180795E-6,4.4190058553477858E-3]
[675,{"$f":"VLOOKUP(A297,'25C SPD'!$A$1:$BL$402,MATCH('PPF calc'!$I$5,'25C SPD'!$A$1:$BL$1,0),FALSE)","v":0.31374658408750761},2.3199999999999998E-2,7.2789207508301762E-3,6.3604053836476379E-6,4.2932736339621556E-3]
[676,{"$f":"VLOOKUP(A298,'25C SPD'!$A$1:$BL$402,MATCH('PPF calc'!$I$5,'25C SPD'!$A$1:$BL$1,0),FALSE)","v":0.30567003662165027},2.1801000000000001E-2,6.663912468388598E-3,6.1966741477123427E-6,4.1889517238535437E-3]
[677,{"$f":"VLOOKUP(A299,'25C SPD'!$A$1:$BL$402,MATCH('PPF calc'!$I$5,'25C SPD'!$A$1:$BL$1,0),FALSE)","v":0.29833986934175138},2.0500999999999998E-2,6.1162656613752446E-3,6.0480738511841643E-6,4.0945459972516795E-3]
[678,{"$f":"VLOOKUP(A300,'25C SPD'!$A$1:$BL$402,MATCH('PPF calc'!$I$5,'25C SPD'!$A$1:$BL$1,0),FALSE)","v":0.29130163700025064},1.9281E-2,5.6165868630018321E-3,5.9053917849986773E-6,4.003855630229103E-3]
[679,{"$f":"VLOOKUP(A301,'25C SPD'!$A$1:$BL$402,MATCH('PPF calc'!$I$5,'25C SPD'!$A$1:$BL$1,0),FALSE)","v":0.2832527669131617},1.8121000000000002E-2,5.1328233892334041E-3,5.7422216367623466E-6,3.8989684913616333E-3]
[680,{"$f":"VLOOKUP(A302,'25C SPD'!$A$1:$BL$402,MATCH('PPF calc'!$I$5,'25C SPD'!$A$1:$BL$1,0),FALSE)","v":0.27426705238928456},1.7000000000000001E-2,4.6625398906178376E-3,5.5600593760964317E-6,3.7808403757455737E-3]
[681,{"$f":"VLOOKUP(A303,'25C SPD'!$A$1:$BL$402,MATCH('PPF calc'!$I$5,'25C SPD'!$A$1:$BL$1,0),FALSE)","v":0.26571078441908147},1.5904000000000001E-2,4.2258643154010718E-3,5.3866030402453527E-6,3.6682766704070851E-3]
[682,{"$f":"VLOOKUP(A304,'25C SPD'!$A$1:$BL$402,MATCH('PPF calc'!$I$5,'25C SPD'!$A$1:$BL$1,0),FALSE)","v":0.25801760341178448},1.4836999999999999E-2,3.8282071818206464E-3,5.2306435736634317E-6,3.5672989172384605E-3]
[683,{"$f":"VLOOKUP(A305,'25C SPD'!$A$1:$BL$402,MATCH('PPF calc'!$I$5,'25C SPD'!$A$1:$BL$1,0),FALSE)","v":0.25027445696276968},1.3811E-2,3.4565405251128119E-3,5.0736711862064589E-6,3.4653174201790113E-3]
[684,{"$f":"VLOOKUP(A306,'25C SPD'!$A$1:$BL$402,MATCH('PPF calc'!$I$5,'25C SPD'!$A$1:$BL$1,0),FALSE)","v":0.24366378378488343},1.2834999999999999E-2,3.1274246648789784E-3,4.9396567828546271E-6,3.378725239472565E-3]
[685,{"$f":"VLOOKUP(A307,'25C SPD'!$A$1:$BL$402,MATCH('PPF calc'!$I$5,'25C SPD'!$A$1:$BL$1,0),FALSE)","v":0.23666794108849448},1.192E-2,2.8210818577748542E-3,4.7978340577445625E-6,3.2865163295550254E-3]
[686,{"$f":"VLOOKUP(A308,'25C SPD'!$A$1:$BL$402,MATCH('PPF calc'!$I$5,'25C SPD'!$A$1:$BL$1,0),FALSE)","v":0.22832042127247795},1.1068E-2,2.5270504226437857E-3,4.6286095540505608E-6,3.1752261540786849E-3]
[687,{"$f":"VLOOKUP(A309,'25C SPD'!$A$1:$BL$402,MATCH('PPF calc'!$I$5,'25C SPD'!$A$1:$BL$1,0),FALSE)","v":0.22160688887481178},1.0272999999999999E-2,2.2765675694109413E-3,4.4925099444576835E-6,3.0863543318424285E-3]
[688,{"$f":"VLOOKUP(A310,'25C SPD'!$A$1:$BL$402,MATCH('PPF calc'!$I$5,'25C SPD'!$A$1:$BL$1,0),FALSE)","v":0.2158920640495455},9.5332999999999998E-3,2.0581638142035319E-3,4.3766565633254479E-6,3.0111397155679082E-3]
[689,{"$f":"VLOOKUP(A311,'25C SPD'!$A$1:$BL$402,MATCH('PPF calc'!$I$5,'25C SPD'!$A$1:$BL$1,0),FALSE)","v":0.20998241320211131},8.8462000000000002E-3,1.857546423668517E-3,4.2568535854705102E-6,2.9329721203891815E-3]
[690,{"$f":"VLOOKUP(A312,'25C SPD'!$A$1:$BL$402,MATCH('PPF calc'!$I$5,'25C SPD'!$A$1:$BL$1,0),FALSE)","v":0.20475007453907706},8.2100000000000003E-3,1.6809981119658229E-3,4.1507813708574939E-6,2.8640391458916708E-3]
[691,{"$f":"VLOOKUP(A313,'25C SPD'!$A$1:$BL$402,MATCH('PPF calc'!$I$5,'25C SPD'!$A$1:$BL$1,0),FALSE)","v":0.19806785689909578},7.6238E-3,1.5100297274273265E-3,4.0153165874698031E-6,2.7745837619416341E-3]
[692,{"$f":"VLOOKUP(A314,'25C SPD'!$A$1:$BL$402,MATCH('PPF calc'!$I$5,'25C SPD'!$A$1:$BL$1,0),FALSE)","v":0.19188951071525656},7.0854000000000004E-3,1.3596139392218788E-3,3.8900665024560663E-6,2.6919260196995977E-3]
[693,{"$f":"VLOOKUP(A315,'25C SPD'!$A$1:$BL$402,MATCH('PPF calc'!$I$5,'25C SPD'!$A$1:$BL$1,0),FALSE)","v":0.18599645873575676},6.5915000000000001E-3,1.2259956577567407E-3,3.7706000239745937E-6,2.6130258166143935E-3]
[694,{"$f":"VLOOKUP(A316,'25C SPD'!$A$1:$BL$402,MATCH('PPF calc'!$I$5,'25C SPD'!$A$1:$BL$1,0),FALSE)","v":0.18070401646384859},6.1384999999999999E-3,1.1092516050633346E-3,3.6633093632115735E-6,2.542336698068832E-3]
[695,{"$f":"VLOOKUP(A317,'25C SPD'!$A$1:$BL$402,MATCH('PPF calc'!$I$5,'25C SPD'!$A$1:$BL$1,0),FALSE)","v":0.17477253456821973},5.7229999999999998E-3,1.0002232153339214E-3,3.5430638169797652E-6,2.4624293528009368E-3]
[696,{"$f":"VLOOKUP(A318,'25C SPD'!$A$1:$BL$402,MATCH('PPF calc'!$I$5,'25C SPD'!$A$1:$BL$1,0),FALSE)","v":0.16897478644992475},5.3430999999999999E-3,9.0284918148059298E-4,3.4255293792682422E-6,2.3841684479706964E-3]
[697,{"$f":"VLOOKUP(A319,'25C SPD'!$A$1:$BL$402,MATCH('PPF calc'!$I$5,'25C SPD'!$A$1:$BL$1,0),FALSE)","v":0.16406678799810623},4.9957999999999999E-3,8.1964485948093913E-4,3.3260323285938226E-6,2.3182445330298942E-3]
[698,{"$f":"VLOOKUP(A320,'25C SPD'!$A$1:$BL$402,MATCH('PPF calc'!$I$5,'25C SPD'!$A$1:$BL$1,0),FALSE)","v":0.1595530491085492},4.6763999999999998E-3,7.461338788512194E-4,3.2345278769453197E-6,2.257700458107833E-3]
[699,{"$f":"VLOOKUP(A321,'25C SPD'!$A$1:$BL$402,MATCH('PPF calc'!$I$5,'25C SPD'!$A$1:$BL$1,0),FALSE)","v":0.15514924991860951},4.3800999999999996E-3,6.7956922956850145E-4,3.1452521700634141E-6,2.1985312668743266E-3]
[700,{"$f":"VLOOKUP(A322,'25C SPD'!$A$1:$BL$402,MATCH('PPF calc'!$I$5,'25C SPD'!$A$1:$BL$1,0),FALSE)","v":0.15034983547196304},4.1019999999999997E-3,6.1673502510599235E-4,{"$f":"B322/683/$D$405","v":3.0479563809360583E-6},{"$f":"A322*E322","v":2.1335694666552406E-3}]
[701,{"$f":"VLOOKUP(A323,'25C SPD'!$A$1:$BL$402,MATCH('PPF calc'!$I$5,'25C SPD'!$A$1:$BL$1,0),FALSE)","v":0.14533868019352808},4.1019999999999997E-3,{"$f":"B323*C323","v":5.9617926615385217E-4},2.9463680908070978E-6,2.0654040316557755E-3]
[702,{"$f":"VLOOKUP(A324,'25C SPD'!$A$1:$BL$402,MATCH('PPF calc'!$I$5,'25C SPD'!$A$1:$BL$1,0),FALSE)","v":0.14028720054473534},4.1019999999999997E-3,5.7545809663450437E-4,2.8439623277387529E-6,1.9964615540726044E-3]
[703,{"$f":"VLOOKUP(A325,'25C SPD'!$A$1:$BL$402,MATCH('PPF calc'!$I$5,'25C SPD'!$A$1:$BL$1,0),FALSE)","v":0.13614674467418525},4.1019999999999997E-3,5.5847394665350784E-4,2.7600252296301173E-6,1.9402977364299725E-3]
[704,{"$f":"VLOOKUP(A326,'25C SPD'!$A$1:$BL$402,MATCH('PPF calc'!$I$5,'25C SPD'!$A$1:$BL$1,0),FALSE)","v":0.13170740355996152},4.1019999999999997E-3,5.4026376940296216E-4,2.670029001607818E-6,1.8797004171319039E-3]
[705,{"$f":"VLOOKUP(A327,'25C SPD'!$A$1:$BL$402,MATCH('PPF calc'!$I$5,'25C SPD'!$A$1:$BL$1,0),FALSE)","v":0.12705940990133127},4.1019999999999997E-3,5.2119769941526089E-4,2.5758028796709292E-6,1.8159410301680052E-3]
[706,{"$f":"VLOOKUP(A328,'25C SPD'!$A$1:$BL$402,MATCH('PPF calc'!$I$5,'25C SPD'!$A$1:$BL$1,0),FALSE)","v":0.1232900620068568},4.1019999999999997E-3,5.0573583435212655E-4,2.4993890416985304E-6,1.7645686634391625E-3]
[707,{"$f":"VLOOKUP(A329,'25C SPD'!$A$1:$BL$402,MATCH('PPF calc'!$I$5,'25C SPD'!$A$1:$BL$1,0),FALSE)","v":0.11920231126131083},4.1019999999999997E-3,4.88967880793897E-4,2.4165204045001454E-6,1.7084799259816028E-3]
[708,{"$f":"VLOOKUP(A330,'25C SPD'!$A$1:$BL$402,MATCH('PPF calc'!$I$5,'25C SPD'!$A$1:$BL$1,0),FALSE)","v":0.11473820286194855},4.1019999999999997E-3,4.7065610813971291E-4,2.3260220834456884E-6,1.6468236350795475E-3]
[709,{"$f":"VLOOKUP(A331,'25C SPD'!$A$1:$BL$402,MATCH('PPF calc'!$I$5,'25C SPD'!$A$1:$BL$1,0),FALSE)","v":0.11083221014077398},4.1019999999999997E-3,4.5463372599745483E-4,2.2468381229110998E-6,1.5930082291439698E-3]
[710,{"$f":"VLOOKUP(A332,'25C SPD'!$A$1:$BL$402,MATCH('PPF calc'!$I$5,'25C SPD'!$A$1:$BL$1,0),FALSE)","v":0.10748444126869965},4.1019999999999997E-3,4.4090117808420591E-4,2.1789707157835351E-6,1.5470692082063099E-3]
[711,{"$f":"VLOOKUP(A333,'25C SPD'!$A$1:$BL$402,MATCH('PPF calc'!$I$5,'25C SPD'!$A$1:$BL$1,0),FALSE)","v":0.10417221640225027},4.1019999999999997E-3,4.273144316820306E-4,2.1118238719902003E-6,1.5015067729850324E-3]
[712,{"$f":"VLOOKUP(A334,'25C SPD'!$A$1:$BL$402,MATCH('PPF calc'!$I$5,'25C SPD'!$A$1:$BL$1,0),FALSE)","v":0.10113190602280069},4.1019999999999997E-3,4.1484307850552838E-4,2.0501893953578829E-6,1.4597348494948127E-3]
[713,{"$f":"VLOOKUP(A335,'25C SPD'!$A$1:$BL$402,MATCH('PPF calc'!$I$5,'25C SPD'!$A$1:$BL$1,0),FALSE)","v":9.7545644167128936E-2},4.1019999999999997E-3,4.0013223237356287E-4,1.9774871561276937E-6,1.4099483423190456E-3]
[714,{"$f":"VLOOKUP(A336,'25C SPD'!$A$1:$BL$402,MATCH('PPF calc'!$I$5,'25C SPD'!$A$1:$BL$1,0),FALSE)","v":9.4876653434211547E-2},4.1019999999999997E-3,3.8918403238713572E-4,1.9233802307059377E-6,1.3732934847240396E-3]
[715,{"$f":"VLOOKUP(A337,'25C SPD'!$A$1:$BL$402,MATCH('PPF calc'!$I$5,'25C SPD'!$A$1:$BL$1,0),FALSE)","v":9.2649723995937877E-2},4.1019999999999997E-3,3.8004916783133713E-4,1.878234961541035E-6,1.34293799750184E-3]
[716,{"$f":"VLOOKUP(A338,'25C SPD'!$A$1:$BL$402,MATCH('PPF calc'!$I$5,'25C SPD'!$A$1:$BL$1,0),FALSE)","v":8.9237698191084749E-2},4.1019999999999997E-3,3.660530379798296E-4,1.8090649102990443E-6,1.2952904757741158E-3]
[717,{"$f":"VLOOKUP(A339,'25C SPD'!$A$1:$BL$402,MATCH('PPF calc'!$I$5,'25C SPD'!$A$1:$BL$1,0),FALSE)","v":8.583818876529313E-2},4.1019999999999997E-3,3.5210825031523242E-4,1.7401485964642611E-6,1.2476865436648751E-3]
[718,{"$f":"VLOOKUP(A340,'25C SPD'!$A$1:$BL$402,MATCH('PPF calc'!$I$5,'25C SPD'!$A$1:$BL$1,0),FALSE)","v":8.2777996023113656E-2},4.1019999999999997E-3,3.3955533968681222E-4,1.6781110560430112E-6,1.204883738238882E-3]
[719,{"$f":"VLOOKUP(A341,'25C SPD'!$A$1:$BL$402,MATCH('PPF calc'!$I$5,'25C SPD'!$A$1:$BL$1,0),FALSE)","v":7.9935038836571395E-2},4.1019999999999997E-3,3.2789352930761586E-4,1.6204774080230547E-6,1.1651232563685764E-3]
[720,{"$f":"VLOOKUP(A342,'25C SPD'!$A$1:$BL$402,MATCH('PPF calc'!$I$5,'25C SPD'!$A$1:$BL$1,0),FALSE)","v":7.7626198852872308E-2},4.1019999999999997E-3,3.1842266769448218E-4,1.5736716131328553E-6,1.1330435614556559E-3]
[721,{"$f":"VLOOKUP(A343,'25C SPD'!$A$1:$BL$402,MATCH('PPF calc'!$I$5,'25C SPD'!$A$1:$BL$1,0),FALSE)","v":7.5521662068802481E-2},4.1019999999999997E-3,{"$f":"B343*C343","v":3.0978985780622778E-4},1.5310075403735842E-6,1.1038564366093542E-3]
[722,{"$f":"VLOOKUP(A344,'25C SPD'!$A$1:$BL$402,MATCH('PPF calc'!$I$5,'25C SPD'!$A$1:$BL$1,0),FALSE)","v":7.2999095050160404E-2},4.1019999999999997E-3,2.9944228789575793E-4,1.4798689793191377E-6,1.0684654030684174E-3]
[723,{"$f":"VLOOKUP(A345,'25C SPD'!$A$1:$BL$402,MATCH('PPF calc'!$I$5,'25C SPD'!$A$1:$BL$1,0),FALSE)","v":7.1142368370553169E-2},4.1019999999999997E-3,2.9182599505600906E-4,1.442228619334717E-6,1.0427312917790003E-3]
[724,{"$f":"VLOOKUP(A346,'25C SPD'!$A$1:$BL$402,MATCH('PPF calc'!$I$5,'25C SPD'!$A$1:$BL$1,0),FALSE)","v":6.9067207028262481E-2},4.1019999999999997E-3,2.8331368322993269E-4,1.400160058136416E-6,1.0137158820907651E-3]
[725,{"$f":"VLOOKUP(A347,'25C SPD'!$A$1:$BL$402,MATCH('PPF calc'!$I$5,'25C SPD'!$A$1:$BL$1,0),FALSE)","v":6.6515568020510091E-2},4.1019999999999997E-3,2.7284686002013235E-4,1.3484321372437156E-6,9.7761329950169385E-4]
[726,{"$f":"VLOOKUP(A348,'25C SPD'!$A$1:$BL$402,MATCH('PPF calc'!$I$5,'25C SPD'!$A$1:$BL$1,0),FALSE)","v":6.4221829336440633E-2},4.1019999999999997E-3,2.6343794393807944E-4,1.3019324823796896E-6,9.4520298220765464E-4]
[727,{"$f":"VLOOKUP(A349,'25C SPD'!$A$1:$BL$402,MATCH('PPF calc'!$I$5,'25C SPD'!$A$1:$BL$1,0),FALSE)","v":6.2140989549479372E-2},4.1019999999999997E-3,2.5490233913196437E-4,1.2597488053143635E-6,9.1583738146354225E-4]
[728,{"$f":"VLOOKUP(A350,'25C SPD'!$A$1:$BL$402,MATCH('PPF calc'!$I$5,'25C SPD'!$A$1:$BL$1,0),FALSE)","v":6.041181832808052E-2},4.1019999999999997E-3,2.4780927878178627E-4,1.2246943043137524E-6,8.9157745354041178E-4]
[729,{"$f":"VLOOKUP(A351,'25C SPD'!$A$1:$BL$402,MATCH('PPF calc'!$I$5,'25C SPD'!$A$1:$BL$1,0),FALSE)","v":5.8727243068297325E-2},4.1019999999999997E-3,2.4089915106615561E-4,1.1905438717834776E-6,8.6790648253015515E-4]
[730,{"$f":"VLOOKUP(A352,'25C SPD'!$A$1:$BL$402,MATCH('PPF calc'!$I$5,'25C SPD'!$A$1:$BL$1,0),FALSE)","v":5.6654563396945405E-2},4.1019999999999997E-3,2.3239701905427003E-4,1.1485256200833513E-6,8.3842370266084642E-4]
[731,{"$f":"VLOOKUP(A353,'25C SPD'!$A$1:$BL$402,MATCH('PPF calc'!$I$5,'25C SPD'!$A$1:$BL$1,0),FALSE)","v":5.4529762827227393E-2},4.1019999999999997E-3,2.2368108711728676E-4,1.1054507511660767E-6,8.0808449910240202E-4]
[732,{"$f":"VLOOKUP(A354,'25C SPD'!$A$1:$BL$402,MATCH('PPF calc'!$I$5,'25C SPD'!$A$1:$BL$1,0),FALSE)","v":5.2469559673136511E-2},4.1019999999999997E-3,2.1523013377920596E-4,1.0636854287776336E-6,7.7861773386522781E-4]
[733,{"$f":"VLOOKUP(A355,'25C SPD'!$A$1:$BL$402,MATCH('PPF calc'!$I$5,'25C SPD'!$A$1:$BL$1,0),FALSE)","v":5.0621336944281906E-2},4.1019999999999997E-3,2.0764872414544437E-4,1.0262174645319799E-6,7.522174015019413E-4]
[734,{"$f":"VLOOKUP(A356,'25C SPD'!$A$1:$BL$402,MATCH('PPF calc'!$I$5,'25C SPD'!$A$1:$BL$1,0),FALSE)","v":4.9768628815810151E-2},4.1019999999999997E-3,2.0415091540245322E-4,1.0089309994481108E-6,7.4055535359491339E-4]
[735,{"$f":"VLOOKUP(A357,'25C SPD'!$A$1:$BL$402,MATCH('PPF calc'!$I$5,'25C SPD'!$A$1:$BL$1,0),FALSE)","v":4.7990327049377418E-2},4.1019999999999997E-3,1.9685632155654615E-4,9.7288050295628583E-7,7.1506716967287005E-4]
[736,{"$f":"VLOOKUP(A358,'25C SPD'!$A$1:$BL$402,MATCH('PPF calc'!$I$5,'25C SPD'!$A$1:$BL$1,0),FALSE)","v":4.6341189612019877E-2},4.1019999999999997E-3,1.9009155978850551E-4,9.3944848116886052E-7,6.9143408214028133E-4]
[737,{"$f":"VLOOKUP(A359,'25C SPD'!$A$1:$BL$402,MATCH('PPF calc'!$I$5,'25C SPD'!$A$1:$BL$1,0),FALSE)","v":4.4824776898145506E-2},4.1019999999999997E-3,1.8387123483619287E-4,9.0870711192906601E-7,6.6971714149172167E-4]
[738,{"$f":"VLOOKUP(A360,'25C SPD'!$A$1:$BL$402,MATCH('PPF calc'!$I$5,'25C SPD'!$A$1:$BL$1,0),FALSE)","v":4.3055763215506124E-2},4.1019999999999997E-3,1.7661474071000612E-4,8.728449074574865E-7,6.4415954170362504E-4]
[739,{"$f":"VLOOKUP(A361,'25C SPD'!$A$1:$BL$402,MATCH('PPF calc'!$I$5,'25C SPD'!$A$1:$BL$1,0),FALSE)","v":4.1737183212432451E-2},4.1019999999999997E-3,1.712059255373979E-4,8.4611408782255211E-7,6.2527831090086598E-4]
[740,{"$f":"VLOOKUP(A362,'25C SPD'!$A$1:$BL$402,MATCH('PPF calc'!$I$5,'25C SPD'!$A$1:$BL$1,0),FALSE)","v":4.0524976480781565E-2},4.1019999999999997E-3,1.6623345352416595E-4,8.2153971279147378E-7,6.0793938746569055E-4]
[741,{"$f":"VLOOKUP(A363,'25C SPD'!$A$1:$BL$402,MATCH('PPF calc'!$I$5,'25C SPD'!$A$1:$BL$1,0),FALSE)","v":3.9013609333019311E-2},4.1019999999999997E-3,1.600338254840452E-4,7.9090062943299464E-7,5.8605736640984904E-4]
[742,{"$f":"VLOOKUP(A364,'25C SPD'!$A$1:$BL$402,MATCH('PPF calc'!$I$5,'25C SPD'!$A$1:$BL$1,0),FALSE)","v":3.7893482046353247E-2},4.1019999999999997E-3,1.55439063354141E-4,7.6819292842263289E-7,5.6999915288959363E-4]
[743,{"$f":"VLOOKUP(A365,'25C SPD'!$A$1:$BL$402,MATCH('PPF calc'!$I$5,'25C SPD'!$A$1:$BL$1,0),FALSE)","v":3.6635902770624007E-2},4.1019999999999997E-3,1.5028047316509966E-4,7.4269874170829719E-7,5.5182516508926478E-4]
[744,{"$f":"VLOOKUP(A366,'25C SPD'!$A$1:$BL$402,MATCH('PPF calc'!$I$5,'25C SPD'!$A$1:$BL$1,0),FALSE)","v":3.5069866517336921E-2},4.1019999999999997E-3,1.4385659245411605E-4,7.1095138278369307E-7,5.2894782879106767E-4]
[745,{"$f":"VLOOKUP(A367,'25C SPD'!$A$1:$BL$402,MATCH('PPF calc'!$I$5,'25C SPD'!$A$1:$BL$1,0),FALSE)","v":3.4116993180441417E-2},4.1019999999999997E-3,1.3994790602617069E-4,6.9163432561301148E-7,5.1526757258169356E-4]
[746,{"$f":"VLOOKUP(A368,'25C SPD'!$A$1:$BL$402,MATCH('PPF calc'!$I$5,'25C SPD'!$A$1:$BL$1,0),FALSE)","v":3.3464407376622742E-2},4.1019999999999997E-3,1.3727099905890648E-4,6.784048261685087E-7,5.0609000032170745E-4]
[747,{"$f":"VLOOKUP(A369,'25C SPD'!$A$1:$BL$402,MATCH('PPF calc'!$I$5,'25C SPD'!$A$1:$BL$1,0),FALSE)","v":3.259218679088606E-2},4.1019999999999997E-3,1.336931502162146E-4,6.6072279617802259E-7,4.9355992874498291E-4]
[748,{"$f":"VLOOKUP(A370,'25C SPD'!$A$1:$BL$402,MATCH('PPF calc'!$I$5,'25C SPD'!$A$1:$BL$1,0),FALSE)","v":3.120145891352669E-2},4.1019999999999997E-3,1.2798838446328648E-4,6.3252936387637161E-7,4.7313196417952594E-4]
[749,{"$f":"VLOOKUP(A371,'25C SPD'!$A$1:$BL$402,MATCH('PPF calc'!$I$5,'25C SPD'!$A$1:$BL$1,0),FALSE)","v":3.0195998477922384E-2},4.1019999999999997E-3,1.2386398575643762E-4,6.1214623847514456E-7,4.5849753261788327E-4]
[750,{"$f":"VLOOKUP(A372,'25C SPD'!$A$1:$BL$402,MATCH('PPF calc'!$I$5,'25C SPD'!$A$1:$BL$1,0),FALSE)","v":2.9748390965329299E-2},4.1019999999999997E-3,1.2202789973978077E-4,6.0307214690809774E-7,4.523041101810733E-4]
[751,{"$f":"VLOOKUP(A373,'25C SPD'!$A$1:$BL$402,MATCH('PPF calc'!$I$5,'25C SPD'!$A$1:$BL$1,0),FALSE)","v":2.8866987220077123E-2},4.1019999999999997E-3,1.1841238157675635E-4,5.8520395196735044E-7,4.3948816792748017E-4]
[752,{"$f":"VLOOKUP(A374,'25C SPD'!$A$1:$BL$402,MATCH('PPF calc'!$I$5,'25C SPD'!$A$1:$BL$1,0),FALSE)","v":2.7793065505687723E-2},4.1019999999999997E-3,1.1400715470433103E-4,5.6343295014534076E-7,4.2370157850929625E-4]
[753,{"$f":"VLOOKUP(A375,'25C SPD'!$A$1:$BL$402,MATCH('PPF calc'!$I$5,'25C SPD'!$A$1:$BL$1,0),FALSE)","v":2.6810414470399287E-2},4.1019999999999997E-3,1.0997632015757786E-4,5.4351222669500266E-7,4.0926470670133699E-4]
[754,{"$f":"VLOOKUP(A376,'25C SPD'!$A$1:$BL$402,MATCH('PPF calc'!$I$5,'25C SPD'!$A$1:$BL$1,0),FALSE)","v":2.5905951308311286E-2},4.1019999999999997E-3,1.0626621226669289E-4,5.2517656136118984E-7,3.9598312726633715E-4]
[755,{"$f":"VLOOKUP(A377,'25C SPD'!$A$1:$BL$402,MATCH('PPF calc'!$I$5,'25C SPD'!$A$1:$BL$1,0),FALSE)","v":2.4979473742464866E-2},4.1019999999999997E-3,1.0246580129159088E-4,5.0639461058783977E-7,3.8232793099381905E-4]
[756,{"$f":"VLOOKUP(A378,'25C SPD'!$A$1:$BL$402,MATCH('PPF calc'!$I$5,'25C SPD'!$A$1:$BL$1,0),FALSE)","v":2.3973801995923361E-2},4.1019999999999997E-3,9.8340535787277619E-5,4.8600720140061859E-7,3.6742144425886764E-4]
[757,{"$f":"VLOOKUP(A379,'25C SPD'!$A$1:$BL$402,MATCH('PPF calc'!$I$5,'25C SPD'!$A$1:$BL$1,0),FALSE)","v":2.2967279323438606E-2},4.1019999999999997E-3,9.4211779784745154E-5,4.6560254187753708E-7,3.5246112420129556E-4]
[758,{"$f":"VLOOKUP(A380,'25C SPD'!$A$1:$BL$402,MATCH('PPF calc'!$I$5,'25C SPD'!$A$1:$BL$1,0),FALSE)","v":2.2525531887246902E-2},4.1019999999999997E-3,9.2399731801486794E-5,4.5664724829390209E-7,3.4613861420677779E-4]
[759,{"$f":"VLOOKUP(A381,'25C SPD'!$A$1:$BL$402,MATCH('PPF calc'!$I$5,'25C SPD'!$A$1:$BL$1,0),FALSE)","v":2.2042512818074352E-2},4.1019999999999997E-3,9.041838757974098E-5,4.4685527845651036E-7,3.3916315634849136E-4]
[760,{"$f":"VLOOKUP(A382,'25C SPD'!$A$1:$BL$402,MATCH('PPF calc'!$I$5,'25C SPD'!$A$1:$BL$1,0),FALSE)","v":2.1112539099992944E-2},4.1019999999999997E-3,8.6603635388171057E-5,4.2800245218482732E-7,3.2528186366046879E-4]
[761,{"$f":"VLOOKUP(A383,'25C SPD'!$A$1:$BL$402,MATCH('PPF calc'!$I$5,'25C SPD'!$A$1:$BL$1,0),FALSE)","v":2.0684978196401232E-2},4.1019999999999997E-3,8.4849780561637841E-5,4.1933475407760746E-7,3.1911374785305926E-4]
[762,{"$f":"VLOOKUP(A384,'25C SPD'!$A$1:$BL$402,MATCH('PPF calc'!$I$5,'25C SPD'!$A$1:$BL$1,0),FALSE)","v":2.0195305008982777E-2},4.1019999999999997E-3,8.2841141146847345E-5,4.0940788909980243E-7,3.1196881149404945E-4]
[763,{"$f":"VLOOKUP(A385,'25C SPD'!$A$1:$BL$402,MATCH('PPF calc'!$I$5,'25C SPD'!$A$1:$BL$1,0),FALSE)","v":1.9241723976823166E-2},4.1019999999999997E-3,7.8929551752928627E-5,3.9007648522704948E-7,2.9762835822823877E-4]
[764,{"$f":"VLOOKUP(A386,'25C SPD'!$A$1:$BL$402,MATCH('PPF calc'!$I$5,'25C SPD'!$A$1:$BL$1,0),FALSE)","v":1.8097451825738735E-2},4.1019999999999997E-3,7.4235747389180285E-5,{"$f":"B386/683/$D$405","v":3.6687930916445515E-7},{"$f":"A386*E386","v":2.8029579220164371E-4}]
[765,{"$f":"VLOOKUP(A387,'25C SPD'!$A$1:$BL$402,MATCH('PPF calc'!$I$5,'25C SPD'!$A$1:$BL$1,0),FALSE)","v":1.792300858049416E-2},4.1019999999999997E-3,7.3520181197187043E-5,3.6334292084194479E-7,2.7795733444408778E-4]
[766,{"$f":"VLOOKUP(A388,'25C SPD'!$A$1:$BL$402,MATCH('PPF calc'!$I$5,'25C SPD'!$A$1:$BL$1,0),FALSE)","v":1.7764107103304567E-2},4.1019999999999997E-3,7.2868367337755328E-5,3.6012160191053502E-7,2.758531470634698E-4]
[767,{"$f":"VLOOKUP(A389,'25C SPD'!$A$1:$BL$402,MATCH('PPF calc'!$I$5,'25C SPD'!$A$1:$BL$1,0),FALSE)","v":1.7081240000369792E-2},4.1019999999999997E-3,7.0067246481516883E-5,3.4627822697641683E-7,2.6559540009091172E-4]
[768,{"$f":"VLOOKUP(A390,'25C SPD'!$A$1:$BL$402,MATCH('PPF calc'!$I$5,'25C SPD'!$A$1:$BL$1,0),FALSE)","v":1.6236827163667551E-2},4.1019999999999997E-3,6.6603465025364284E-5,3.291599276068717E-7,2.5279482440207745E-4]
[769,{"$f":"VLOOKUP(A391,'25C SPD'!$A$1:$BL$402,MATCH('PPF calc'!$I$5,'25C SPD'!$A$1:$BL$1,0),FALSE)","v":1.6117954969830515E-2},4.1019999999999997E-3,6.611585128624477E-5,3.2675009948445231E-7,2.5127082650354383E-4]
[770,{"$f":"VLOOKUP(A392,'25C SPD'!$A$1:$BL$402,MATCH('PPF calc'!$I$5,'25C SPD'!$A$1:$BL$1,0),FALSE)","v":1.5676048390777721E-2},4.1019999999999997E-3,6.4303150498970204E-5,3.1779157968844794E-7,2.4469951636010493E-4]
[771,{"$f":"VLOOKUP(A393,'25C SPD'!$A$1:$BL$402,MATCH('PPF calc'!$I$5,'25C SPD'!$A$1:$BL$1,0),FALSE)","v":1.5061567282534471E-2},4.1019999999999997E-3,6.17825489929564E-5,3.0533455498366243E-7,2.3541294189240373E-4]
[772,{"$f":"VLOOKUP(A394,'25C SPD'!$A$1:$BL$402,MATCH('PPF calc'!$I$5,'25C SPD'!$A$1:$BL$1,0),FALSE)","v":1.4473750441837239E-2},4.1019999999999997E-3,5.937132431241635E-5,2.9341807975240821E-7,2.2651875756885914E-4]
[773,{"$f":"VLOOKUP(A395,'25C SPD'!$A$1:$BL$402,MATCH('PPF calc'!$I$5,'25C SPD'!$A$1:$BL$1,0),FALSE)","v":1.4009655027403622E-2},4.1019999999999997E-3,5.7467604922409653E-5,2.8400973836416711E-7,2.1953952775550118E-4]
[774,{"$f":"VLOOKUP(A396,'25C SPD'!$A$1:$BL$402,MATCH('PPF calc'!$I$5,'25C SPD'!$A$1:$BL$1,0),FALSE)","v":1.4232354780107688E-2},4.1019999999999997E-3,5.8381119308001733E-5,2.8852440331312752E-7,2.2331788816436069E-4]
[775,{"$f":"VLOOKUP(A397,'25C SPD'!$A$1:$BL$402,MATCH('PPF calc'!$I$5,'25C SPD'!$A$1:$BL$1,0),FALSE)","v":1.3821955983234104E-2},4.1019999999999997E-3,5.669766344322629E-5,2.8020462279768705E-7,2.1715858266820748E-4]
[776,{"$f":"VLOOKUP(A398,'25C SPD'!$A$1:$BL$402,MATCH('PPF calc'!$I$5,'25C SPD'!$A$1:$BL$1,0),FALSE)","v":1.3191265757718226E-2},4.1019999999999997E-3,5.4110572138160161E-5,2.6741899991209642E-7,2.0751714393178682E-4]
[777,{"$f":"VLOOKUP(A399,'25C SPD'!$A$1:$BL$402,MATCH('PPF calc'!$I$5,'25C SPD'!$A$1:$BL$1,0),FALSE)","v":1.3132445692508822E-2},4.1019999999999997E-3,5.3869292230671189E-5,2.662265743100377E-7,2.0685804823889929E-4]
[778,{"$f":"VLOOKUP(A400,'25C SPD'!$A$1:$BL$402,MATCH('PPF calc'!$I$5,'25C SPD'!$A$1:$BL$1,0),FALSE)","v":1.2563827569481456E-2},4.1019999999999997E-3,5.1536820690012933E-5,2.5469930372170154E-7,1.9815605829548379E-4]
[779,{"$f":"VLOOKUP(A401,'25C SPD'!$A$1:$BL$402,MATCH('PPF calc'!$I$5,'25C SPD'!$A$1:$BL$1,0),FALSE)","v":1.2269676205570169E-2},4.1019999999999997E-3,5.0330211795248827E-5,2.4873614104992298E-7,1.9376545387789001E-4]
[780,{"$f":"VLOOKUP(A402,'25C SPD'!$A$1:$BL$402,MATCH('PPF calc'!$I$5,'25C SPD'!$A$1:$BL$1,0),FALSE)","v":1.2071758303624532E-2},4.1019999999999997E-3,4.9518352561467829E-5,2.4472386441361654E-7,1.908846142426209E-4]
[]
[]
[null,null,null,{"$f":"SUM(D22:D322)","v":72.222664367018069},null,{"$f":"SUM(F22:F322)","v":1.7066110704459259}]

{"sheet":"Sheet1","index":6,"n_rows":0,"n_cols":0,"rows_kept":0,"cut":false,"hidden":true,"merged":[]}